{"text_format":"1","workbook":"xlsx","n_sheets":10,"sheets":["How to & Rules","Protocol Help Guide","Staff Capacity","Studies - Summary","StudyTeamList","Overview","RecruitTemp","ProtocolTemp","EXAMPLE-Rec","EXAMPLE-Pro"],"not_rendered":{"charts":0,"images":7,"macros":1,"external_links":0,"defined_names":9,"comments":0,"pivot_tables":1},"unopened":[],"bounds":{"document_bytes":16777216,"sheet_cells":100000,"rows_first":2000,"rows_last":500,"rows_between":2000,"halvings":0,"cell_chars":16384,"cell_head_chars":4096},"cells_cut":0,"cells_raw":0,"read":"whole","date_system":"1900"}

{"sheet":"How to & Rules","index":0,"n_rows":17,"n_cols":17,"rows_kept":17,"cut":false,"hidden":false,"merged":[[4,16,4,17],[3,1,3,6],[3,7,3,9],[4,1,4,15],[14,2,14,17],[15,2,15,17],[16,1,16,12],[1,1,1,4],[11,2,11,10],[12,2,12,10],[13,2,13,10],[11,13,11,20],[10,2,10,10],[10,13,10,20],[12,13,12,20],[5,1,5,15],[6,1,6,16],[7,1,7,7],[8,1,8,12],[8,13,8,14]]}
[]
[null,"Capacity Tool - How To"]
[]
[null,"1. Enter staff numbers and hours on Staff Capacity tab",null,null,null,null,null,"Staff Capacity"]
[null,"2. Add basic study details to Studies - Summary sheet (name, target etc.). NB Only studies with \"active\" status will be shown on the overview",null,null,null,null,null,null,null,null,null,null,null,null,null,null,"Studies - Summary"]
[null,"3. Click on the study Protocol link to populate protocol details with visit durations etc. Once complete, press the confirm & return button\nNB start date must be after 01/04/2016 - if the study started prior to this, please use 01/04/2016 so the calculations can start from then. ",null,null,null,null,null,null,null,null,null,null,null,null,null,null,"Please refer to the Protocol Help Guide"]
[null,"4. Click on the study Recruitment link to populate expected screening & recruitment fugures per week.  Once complete, press the confirm & return button"]
[null,"5. Add further study protocols and recruitment, as required"]
[null,"6. Overview page will now show time burden for active studies and highlight if any weeks may be over capacity",null,null,null,null,null,null,null,null,null,null,null,"Overview"]
[]
[null,null,"The Rules!",null,null,null,null,null,null,null,null,null,null,"Help"]
[null,"X","Do not copy a sheet to create a new protocol or recruitment sheet - please use the appropriate link on the Studies - Summary tab",null,null,null,null,null,null,null,null,null,"?","If a study isn't showing on the Overview, check it is active on the Studies - Summary and that you've entered all protocol and recruitment information; both are needed for the calculations"]
[null,"X","Do not rename any of the sheets - sheet names are referenced within the coding of the tool so it won't work if sheet names are changed",null,null,null,null,null,null,null,null,null,"?","The study team filter on the Overview page will correctly display staff time for the study team once the team name has been entered onto the Studies - Summary and Staff Capacity tabs"]
[null,"!","Please be careful when editing details, deleted information on the protocol/recruitment tabs will be lost"]
[]
[null,"?","If staff capacity per week is not showing, check staff grading has been entered on the protocol pages"]
[null,"If you have any queries or feedback on this tool, let us know with this feedback form "]

{"sheet":"Protocol Help Guide","index":1,"n_rows":15,"n_cols":6,"rows_kept":15,"cut":false,"hidden":false,"merged":[[9,2,9,13],[10,2,10,13],[14,2,14,13],[1,1,1,4],[5,2,5,13],[6,2,6,13],[7,2,7,13]]}
[]
[null,"Protocol Schedule - Help Guide"]
[]
[]
[null,"Visit Number","Screening",1,2,3]
["Enter in hrs & mins, e.g. 2 hrs as 2:00, 15 mins as 0:15","Visit Duration for Below Staff Grade","Please include time per visit on a per patient basis:\nSo if it will take 2 hours (120 mins) to recruit 5 patients (visit 1), this means the duration for the visit 1 column would be 120 mins/5 = 24 minutes. (type as 0:24)\n\nTravel should also be included per patient, so if you are travelling once for 1 hour (60 mins) but would see 10 patients on the study then the travel inclusion would be 60 mins/10 = 6 minutes. (type as 0:06)"]
["Enter 1 number","Week No. Start","Week start number must be completed where durations have been entered, but the sequence can have gaps:\nSo the first visit may be week 1 but the second visit may not happen until week 4 - enter the number only (4)"]
[null,"Staff Grade","Adding staff grades per duration/visit allows a greater breakdown of time on the Overview page. These grades must also be added to the staff capacity tab, otherwise any time added here will show as over capacity on the Overview page"]
[]
["Enter in hrs & mins, e.g. 2 hrs as 2:00, 15 mins as 0:15","Visit Duration for Below Staff Grade","Where more than one staff member will see a patient per visit, use these additional row sets to add the time for each separate grade (per patient per visit, as above) - total row below will show the overall visit duration."]
[null,"Staff Grade"]
[]
["Enter in hrs & mins, e.g. 2 hrs as 2:00, 15 mins as 0:15","Visit Duration for Below Staff Grade"]
[null,"Staff Grade"]
[null,"TOTAL Duration","This row will show the overall visit duration, including each separate staff grade's specified time (rows 6, 10 & 13)."]

{"sheet":"Staff Capacity","index":2,"n_rows":49,"n_cols":9,"rows_kept":49,"cut":false,"hidden":false,"merged":[[1,1,1,3],[9,2,11,3]]}
[]
[null,"Staff Capacity Calculator"]
[]
[null,null,null,null,"Total no. staff:"]
[]
[null,null,null,null,"Max Capacity",{"$f":"SUBTOTAL(109,F10:F39)","v":0},"hrs per wk"]
[null,null,null,null,"Adj Capacity",{"$f":"F6*F48","v":0},"hrs per wk",{"$f":"IF(Overview!D3<>\"\",SUMIF($H$10:$H$39,Overview!D3,$I$10:$I$39),\"\")","v":""},{"$f":"IF(Overview!$D$3<>\"\",SUMIFS($I$10:$I$39,$G$10:$G$39,4,$H$10:H39,Overview!$D$3),SUMIF($G$10:$G$39,4,$I$10:$I$39))","v":0}]
[]
[null,null,null,null,null,"Weekly hours ","Staff Grade","Study Team / Area \n(for filter on overview)","Adj hours"]
[null,null,"Enter in hrs & mins, e.g. 18 hrs as 18:00, 37.5 hrs as 37:30.",null,"Staff 1",null,null,null,{"$f":"F10*$F$48","v":0}]
[null,null,null,null,"Staff 2",null,null,null,0]
[null,null,null,null,"Staff 3",null,null,null,0]
[null,null,null,null,"Staff 4",null,null,null,0]
[null,null,null,null,"Staff 5",null,null,null,0]
[null,null,null,null,"Staff 6",null,null,null,0]
[null,null,null,null,"Staff 7",null,null,null,0]
[null,null,null,null,"Staff 8",null,null,null,0]
[null,null,null,null,"Staff 9",null,null,null,0]
[null,null,null,null,"Staff 10",null,null,null,0]
[null,null,null,null,"Staff 11",null,null,null,0]
[null,null,null,null,"Staff 12",null,null,null,0]
[null,null,null,null,"Staff 13",null,null,null,0]
[null,null,null,null,"Staff 14",null,null,null,0]
[null,null,null,null,"Staff 15",null,null,null,0]
[null,null,null,null,"Staff 16",null,null,null,0]
[null,null,null,null,"Staff 17",null,null,null,0]
[null,null,null,null,"Staff 18",null,null,null,0]
[null,null,null,null,"Staff 19",null,null,null,0]
[null,null,null,null,"Staff 20",null,null,null,0]
[null,null,null,null,"Staff 21",null,null,null,0]
[null,null,null,null,"Staff 22",null,null,null,0]
[null,null,null,null,"Staff 23",null,null,null,0]
[null,null,null,null,"Staff 24",null,null,null,0]
[null,null,null,null,"Staff 25",null,null,null,0]
[null,null,null,null,"Staff 26",null,null,null,0]
[null,null,null,null,"Staff 27",null,null,null,0]
[null,null,null,null,"Staff 28",null,null,null,0]
[null,null,null,null,"Staff 29",null,null,null,0]
[null,null,null,null,"Staff 30",null,null,null,0]
[null,null,null,null,null,null,null,"Cornwall"]
[null,null,null,null,"Working days per year",260,null,"Cornwall"]
[null,null,null,null,"Less bank holidays",252,null,"Cornwall"]
[null,null,null,null,"Less sickness",249,null,"Cornwall"]
[null,null,null,null,"Less training",244,null,"Cornwall"]
[null,null,null,null,"Less A/L",214,null,"Cornwall"]
[null,null,null,null,"Less Admin",209,null,"Cornwall"]
[null,null,null,null,"Capacity per 5 day week",{"$f":"F46/52","v":4.0192307692307692},null,"Cornwall","days"]
[null,null,null,null,"% working capacity per week",{"$f":"F47/5","v":0.80384615384615388},null,"Cornwall"]
[null,null,null,null,null,null,null,"Cornwall"]

{"sheet":"Studies - Summary","index":3,"n_rows":999,"n_cols":8,"rows_kept":999,"cut":false,"hidden":false,"merged":[[1,1,1,4]]}
[]
[null,"Studies Summary"]
[]
[null,"Study ID","Study Acronym / Short Title \n(Max 25 Characters)","Study Team / Area","Status: Active / Complete","Rec Target","Add / Change Protocol","Enter Screening / Recruitment"]
[null,null,"EXAMPLE",null,"Active",null,"Protocol","Recruitment"]
[null,null,null,null,null,null,"Protocol","Recruitment"]
[null,null,null,null,null,null,"Protocol","Recruitment"]
[null,null,null,null,null,null,"Protocol","Recruitment"]
[null,null,null,null,null,null,"Protocol","Recruitment"]
[null,null,null,null,null,null,"Protocol","Recruitment"]
[null,null,null,null,null,null,"Protocol","Recruitment"]
[null,null,null,null,null,null,"Protocol","Recruitment"]
[null,null,null,null,null,null,"Protocol","Recruitment"]
[null,null,null,null,null,null,"Protocol","Recruitment"]
[null,null,null,null,null,null,"Protocol","Recruitment"]
[null,null,null,null,null,null,"Protocol","Recruitment"]
[null,null,null,null,null,null,"Protocol","Recruitment"]
[null,null,null,null,null,null,"Protocol","Recruitment"]
[null,null,null,null,null,null,"Protocol","Recruitment"]
[null,null,null,null,null,null,"Protocol","Recruitment"]
[null,null,null,null,null,null,"Protocol","Recruitment"]
[null,null,null,null,null,null,"Protocol","Recruitment"]
[null,null,null,null,null,null,"Protocol","Recruitment"]
[null,null,null,null,null,null,"Protocol","Recruitment"]
[null,null,null,null,null,null,"Protocol","Recruitment"]
[null,null,null,null,null,null,"Protocol","Recruitment"]
[null,null,null,null,null,null,"Protocol","Recruitment"]
[null,null,null,null,null,null,"Protocol","Recruitment"]
[null,null,null,null,null,null,"Protocol","Recruitment"]
[null,null,null,null,null,null,"Protocol","Recruitment"]
[null,null,null,null,null,null,"Protocol","Recruitment"]
[null,null,null,null,null,null,"Protocol","Recruitment"]
[null,null,null,null,null,null,"Protocol","Recruitment"]
[null,null,null,null,null,null,"Protocol","Recruitment"]
[null,null,null,null,null,null,"Protocol","Recruitment"]
[null,null,null,null,null,null,"Protocol","Recruitment"]
[null,null,null,null,null,null,"Protocol","Recruitment"]
[null,null,null,null,null,null,"Protocol","Recruitment"]
[null,null,null,null,null,null,"Protocol","Recruitment"]
[null,null,null,null,null,null,"Protocol","Recruitment"]
[null,null,null,null,null,null,"Protocol","Recruitment"]
[null,null,null,null,null,null,"Protocol","Recruitment"]
[null,null,null,null,null,null,"Protocol","Recruitment"]
[null,null,null,null,null,null,"Protocol","Recruitment"]
[null,null,null,null,null,null,"Protocol","Recruitment"]
[null,null,null,null,null,null,"Protocol","Recruitment"]
[null,null,null,null,null,null,"Protocol","Recruitment"]
[null,null,null,null,null,null,"Protocol","Recruitment"]
[null,null,null,null,null,null,"Protocol","Recruitment"]
[null,null,null,null,null,null,"Protocol","Recruitment"]
[null,null,null,null,null,null,"Protocol","Recruitment"]
[null,null,null,null,null,null,"Protocol","Recruitment"]
[null,null,null,null,null,null,"Protocol","Recruitment"]
[null,null,null,null,null,null,"Protocol","Recruitment"]
[null,null,null,null,null,null,"Protocol","Recruitment"]
[null,null,null,null,null,null,"Protocol","Recruitment"]
[null,null,null,null,null,null,"Protocol","Recruitment"]
[null,null,null,null,null,null,"Protocol","Recruitment"]
[null,null,null,null,null,null,"Protocol","Recruitment"]
[null,null,null,null,null,null,"Protocol","Recruitment"]
[null,null,null,null,null,null,"Protocol","Recruitment"]
[null,null,null,null,null,null,"Protocol","Recruitment"]
[null,null,null,null,null,null,"Protocol","Recruitment"]
[null,null,null,null,null,null,"Protocol","Recruitment"]
[null,null,null,null,null,null,"Protocol","Recruitment"]
[null,null,null,null,null,null,"Protocol","Recruitment"]
[null,null,null,null,null,null,"Protocol","Recruitment"]
[null,null,null,null,null,null,"Protocol","Recruitment"]
[null,null,null,null,null,null,"Protocol","Recruitment"]
[null,null,null,null,null,null,"Protocol","Recruitment"]
[null,null,null,null,null,null,"Protocol","Recruitment"]
[null,null,null,null,null,null,"Protocol","Recruitment"]
[null,null,null,null,null,null,"Protocol","Recruitment"]
[null,null,null,null,null,null,"Protocol","Recruitment"]
[null,null,null,null,null,null,"Protocol","Recruitment"]
[null,null,null,null,null,null,"Protocol","Recruitment"]
[null,null,null,null,null,null,"Protocol","Recruitment"]
[null,null,null,null,null,null,"Protocol","Recruitment"]
[null,null,null,null,null,null,"Protocol","Recruitment"]
[null,null,null,null,null,null,"Protocol","Recruitment"]
[null,null,null,null,null,null,"Protocol","Recruitment"]
[null,null,null,null,null,null,"Protocol","Recruitment"]
[null,null,null,null,null,null,"Protocol","Recruitment"]
[null,null,null,null,null,null,"Protocol","Recruitment"]
[null,null,null,null,null,null,"Protocol","Recruitment"]
[null,null,null,null,null,null,"Protocol","Recruitment"]
[null,null,null,null,null,null,"Protocol","Recruitment"]
[null,null,null,null,null,null,"Protocol","Recruitment"]
[null,null,null,null,null,null,"Protocol","Recruitment"]
[null,null,null,null,null,null,"Protocol","Recruitment"]
[null,null,null,null,null,null,"Protocol","Recruitment"]
[null,null,null,null,null,null,"Protocol","Recruitment"]
[null,null,null,null,null,null,"Protocol","Recruitment"]
[null,null,null,null,null,null,"Protocol","Recruitment"]
[null,null,null,null,null,null,"Protocol","Recruitment"]
[null,null,null,null,null,null,"Protocol","Recruitment"]
[null,null,null,null,null,null,"Protocol","Recruitment"]
[null,null,null,null,null,null,"Protocol","Recruitment"]
[null,null,null,null,null,null,"Protocol","Recruitment"]
[null,null,null,null,null,null,"Protocol","Recruitment"]
[null,null,null,null,null,null,"Protocol","Recruitment"]
[null,null,null,null,null,null,"Protocol","Recruitment"]
[null,null,null,null,null,null,"Protocol","Recruitment"]
[null,null,null,null,null,null,"Protocol","Recruitment"]
[null,null,null,null,null,null,"Protocol","Recruitment"]
[null,null,null,null,null,null,"Protocol","Recruitment"]
[null,null,null,null,null,null,"Protocol","Recruitment"]
[null,null,null,null,null,null,"Protocol","Recruitment"]
[null,null,null,null,null,null,"Protocol","Recruitment"]
[null,null,null,null,null,null,"Protocol","Recruitment"]
[null,null,null,null,null,null,"Protocol","Recruitment"]
[null,null,null,null,null,null,"Protocol","Recruitment"]
[null,null,null,null,null,null,"Protocol","Recruitment"]
[null,null,null,null,null,null,"Protocol","Recruitment"]
[null,null,null,null,null,null,"Protocol","Recruitment"]
[null,null,null,null,null,null,"Protocol","Recruitment"]
[null,null,null,null,null,null,"Protocol","Recruitment"]
[null,null,null,null,null,null,"Protocol","Recruitment"]
[null,null,null,null,null,null,"Protocol","Recruitment"]
[null,null,null,null,null,null,"Protocol","Recruitment"]
[null,null,null,null,null,null,"Protocol","Recruitment"]
[null,null,null,null,null,null,"Protocol","Recruitment"]
[null,null,null,null,null,null,"Protocol","Recruitment"]
[null,null,null,null,null,null,"Protocol","Recruitment"]
[null,null,null,null,null,null,"Protocol","Recruitment"]
[null,null,null,null,null,null,"Protocol","Recruitment"]
[null,null,null,null,null,null,"Protocol","Recruitment"]
[null,null,null,null,null,null,"Protocol","Recruitment"]
[null,null,null,null,null,null,"Protocol","Recruitment"]
[null,null,null,null,null,null,"Protocol","Recruitment"]
[null,null,null,null,null,null,"Protocol","Recruitment"]
[null,null,null,null,null,null,"Protocol","Recruitment"]
[null,null,null,null,null,null,"Protocol","Recruitment"]
[null,null,null,null,null,null,"Protocol","Recruitment"]
[null,null,null,null,null,null,"Protocol","Recruitment"]
[null,null,null,null,null,null,"Protocol","Recruitment"]
[null,null,null,null,null,null,"Protocol","Recruitment"]
[null,null,null,null,null,null,"Protocol","Recruitment"]
[null,null,null,null,null,null,"Protocol","Recruitment"]
[null,null,null,null,null,null,"Protocol","Recruitment"]
[null,null,null,null,null,null,"Protocol","Recruitment"]
[null,null,null,null,null,null,"Protocol","Recruitment"]
[null,null,null,null,null,null,"Protocol","Recruitment"]
[null,null,null,null,null,null,"Protocol","Recruitment"]
[null,null,null,null,null,null,"Protocol","Recruitment"]
[null,null,null,null,null,null,"Protocol","Recruitment"]
[null,null,null,null,null,null,"Protocol","Recruitment"]
[null,null,null,null,null,null,"Protocol","Recruitment"]
[null,null,null,null,null,null,"Protocol","Recruitment"]
[null,null,null,null,null,null,"Protocol","Recruitment"]
[null,null,null,null,null,null,"Protocol","Recruitment"]
[null,null,null,null,null,null,"Protocol","Recruitment"]
[null,null,null,null,null,null,"Protocol","Recruitment"]
[null,null,null,null,null,null,"Protocol","Recruitment"]
[null,null,null,null,null,null,"Protocol","Recruitment"]
[null,null,null,null,null,null,"Protocol","Recruitment"]
[null,null,null,null,null,null,"Protocol","Recruitment"]
[null,null,null,null,null,null,"Protocol","Recruitment"]
[null,null,null,null,null,null,"Protocol","Recruitment"]
[null,null,null,null,null,null,"Protocol","Recruitment"]
[null,null,null,null,null,null,"Protocol","Recruitment"]
[null,null,null,null,null,null,"Protocol","Recruitment"]
[null,null,null,null,null,null,"Protocol","Recruitment"]
[null,null,null,null,null,null,"Protocol","Recruitment"]
[null,null,null,null,null,null,"Protocol","Recruitment"]
[null,null,null,null,null,null,"Protocol","Recruitment"]
[null,null,null,null,null,null,"Protocol","Recruitment"]
[null,null,null,null,null,null,"Protocol","Recruitment"]
[null,null,null,null,null,null,"Protocol","Recruitment"]
[null,null,null,null,null,null,"Protocol","Recruitment"]
[null,null,null,null,null,null,"Protocol","Recruitment"]
[null,null,null,null,null,null,"Protocol","Recruitment"]
[null,null,null,null,null,null,"Protocol","Recruitment"]
[null,null,null,null,null,null,"Protocol","Recruitment"]
[null,null,null,null,null,null,"Protocol","Recruitment"]
[null,null,null,null,null,null,"Protocol","Recruitment"]
[null,null,null,null,null,null,"Protocol","Recruitment"]
[null,null,null,null,null,null,"Protocol","Recruitment"]
[null,null,null,null,null,null,"Protocol","Recruitment"]
[null,null,null,null,null,null,"Protocol","Recruitment"]
[null,null,null,null,null,null,"Protocol","Recruitment"]
[null,null,null,null,null,null,"Protocol","Recruitment"]
[null,null,null,null,null,null,"Protocol","Recruitment"]
[null,null,null,null,null,null,"Protocol","Recruitment"]
[null,null,null,null,null,null,"Protocol","Recruitment"]
[null,null,null,null,null,null,"Protocol","Recruitment"]
[null,null,null,null,null,null,"Protocol","Recruitment"]
[null,null,null,null,null,null,"Protocol","Recruitment"]
[null,null,null,null,null,null,"Protocol","Recruitment"]
[null,null,null,null,null,null,"Protocol","Recruitment"]
[null,null,null,null,null,null,"Protocol","Recruitment"]
[null,null,null,null,null,null,"Protocol","Recruitment"]
[null,null,null,null,null,null,"Protocol","Recruitment"]
[null,null,null,null,null,null,"Protocol","Recruitment"]
[null,null,null,null,null,null,"Protocol","Recruitment"]
[null,null,null,null,null,null,"Protocol","Recruitment"]
[null,null,null,null,null,null,"Protocol","Recruitment"]
[null,null,null,null,null,null,"Protocol","Recruitment"]
[null,null,null,null,null,null,"Protocol","Recruitment"]
[null,null,null,null,null,null,"Protocol","Recruitment"]
[null,null,null,null,null,null,"Protocol","Recruitment"]
[null,null,null,null,null,null,"Protocol","Recruitment"]
[null,null,null,null,null,null,"Protocol","Recruitment"]
[null,null,null,null,null,null,"Protocol","Recruitment"]
[null,null,null,null,null,null,"Protocol","Recruitment"]
[null,null,null,null,null,null,"Protocol","Recruitment"]
[null,null,null,null,null,null,"Protocol","Recruitment"]
[null,null,null,null,null,null,"Protocol","Recruitment"]
[null,null,null,null,null,null,"Protocol","Recruitment"]
[null,null,null,null,null,null,"Protocol","Recruitment"]
[null,null,null,null,null,null,"Protocol","Recruitment"]
[null,null,null,null,null,null,"Protocol","Recruitment"]
[null,null,null,null,null,null,"Protocol","Recruitment"]
[null,null,null,null,null,null,"Protocol","Recruitment"]
[null,null,null,null,null,null,"Protocol","Recruitment"]
[null,null,null,null,null,null,"Protocol","Recruitment"]
[null,null,null,null,null,null,"Protocol","Recruitment"]
[null,null,null,null,null,null,"Protocol","Recruitment"]
[null,null,null,null,null,null,"Protocol","Recruitment"]
[null,null,null,null,null,null,"Protocol","Recruitment"]
[null,null,null,null,null,null,"Protocol","Recruitment"]
[null,null,null,null,null,null,"Protocol","Recruitment"]
[null,null,null,null,null,null,"Protocol","Recruitment"]
[null,null,null,null,null,null,"Protocol","Recruitment"]
[null,null,null,null,null,null,"Protocol","Recruitment"]
[null,null,null,null,null,null,"Protocol","Recruitment"]
[null,null,null,null,null,null,"Protocol","Recruitment"]
[null,null,null,null,null,null,"Protocol","Recruitment"]
[null,null,null,null,null,null,"Protocol","Recruitment"]
[null,null,null,null,null,null,"Protocol","Recruitment"]
[null,null,null,null,null,null,"Protocol","Recruitment"]
[null,null,null,null,null,null,"Protocol","Recruitment"]
[null,null,null,null,null,null,"Protocol","Recruitment"]
[null,null,null,null,null,null,"Protocol","Recruitment"]
[null,null,null,null,null,null,"Protocol","Recruitment"]
[null,null,null,null,null,null,"Protocol","Recruitment"]
[null,null,null,null,null,null,"Protocol","Recruitment"]
[null,null,null,null,null,null,"Protocol","Recruitment"]
[null,null,null,null,null,null,"Protocol","Recruitment"]
[null,null,null,null,null,null,"Protocol","Recruitment"]
[null,null,null,null,null,null,"Protocol","Recruitment"]
[null,null,null,null,null,null,"Protocol","Recruitment"]
[null,null,null,null,null,null,"Protocol","Recruitment"]
[null,null,null,null,null,null,"Protocol","Recruitment"]
[null,null,null,null,null,null,"Protocol","Recruitment"]
[null,null,null,null,null,null,"Protocol","Recruitment"]
[null,null,null,null,null,null,"Protocol","Recruitment"]
[null,null,null,null,null,null,"Protocol","Recruitment"]
[null,null,null,null,null,null,"Protocol","Recruitment"]
[null,null,null,null,null,null,"Protocol","Recruitment"]
[null,null,null,null,null,null,"Protocol","Recruitment"]
[null,null,null,null,null,null,"Protocol","Recruitment"]
[null,null,null,null,null,null,"Protocol","Recruitment"]
[null,null,null,null,null,null,"Protocol","Recruitment"]
[null,null,null,null,null,null,"Protocol","Recruitment"]
[null,null,null,null,null,null,"Protocol","Recruitment"]
[null,null,null,null,null,null,"Protocol","Recruitment"]
[null,null,null,null,null,null,"Protocol","Recruitment"]
[null,null,null,null,null,null,"Protocol","Recruitment"]
[null,null,null,null,null,null,"Protocol","Recruitment"]
[null,null,null,null,null,null,"Protocol","Recruitment"]
[null,null,null,null,null,null,"Protocol","Recruitment"]
[null,null,null,null,null,null,"Protocol","Recruitment"]
[null,null,null,null,null,null,"Protocol","Recruitment"]
[null,null,null,null,null,null,"Protocol","Recruitment"]
[null,null,null,null,null,null,"Protocol","Recruitment"]
[null,null,null,null,null,null,"Protocol","Recruitment"]
[null,null,null,null,null,null,"Protocol","Recruitment"]
[null,null,null,null,null,null,"Protocol","Recruitment"]
[null,null,null,null,null,null,"Protocol","Recruitment"]
[null,null,null,null,null,null,"Protocol","Recruitment"]
[null,null,null,null,null,null,"Protocol","Recruitment"]
[null,null,null,null,null,null,"Protocol","Recruitment"]
[null,null,null,null,null,null,"Protocol","Recruitment"]
[null,null,null,null,null,null,"Protocol","Recruitment"]
[null,null,null,null,null,null,"Protocol","Recruitment"]
[null,null,null,null,null,null,"Protocol","Recruitment"]
[null,null,null,null,null,null,"Protocol","Recruitment"]
[null,null,null,null,null,null,"Protocol","Recruitment"]
[null,null,null,null,null,null,"Protocol","Recruitment"]
[null,null,null,null,null,null,"Protocol","Recruitment"]
[null,null,null,null,null,null,"Protocol","Recruitment"]
[null,null,null,null,null,null,"Protocol","Recruitment"]
[null,null,null,null,null,null,"Protocol","Recruitment"]
[null,null,null,null,null,null,"Protocol","Recruitment"]
[null,null,null,null,null,null,"Protocol","Recruitment"]
[null,null,null,null,null,null,"Protocol","Recruitment"]
[null,null,null,null,null,null,"Protocol","Recruitment"]
[null,null,null,null,null,null,"Protocol","Recruitment"]
[null,null,null,null,null,null,"Protocol","Recruitment"]
[null,null,null,null,null,null,"Protocol","Recruitment"]
[null,null,null,null,null,null,"Protocol","Recruitment"]
[null,null,null,null,null,null,"Protocol","Recruitment"]
[null,null,null,null,null,null,"Protocol","Recruitment"]
[null,null,null,null,null,null,"Protocol","Recruitment"]
[null,null,null,null,null,null,"Protocol","Recruitment"]
[null,null,null,null,null,null,"Protocol","Recruitment"]
[null,null,null,null,null,null,"Protocol","Recruitment"]
[null,null,null,null,null,null,"Protocol","Recruitment"]
[null,null,null,null,null,null,"Protocol","Recruitment"]
[null,null,null,null,null,null,"Protocol","Recruitment"]
[null,null,null,null,null,null,"Protocol","Recruitment"]
[null,null,null,null,null,null,"Protocol","Recruitment"]
[null,null,null,null,null,null,"Protocol","Recruitment"]
[null,null,null,null,null,null,"Protocol","Recruitment"]
[null,null,null,null,null,null,"Protocol","Recruitment"]
[null,null,null,null,null,null,"Protocol","Recruitment"]
[null,null,null,null,null,null,"Protocol","Recruitment"]
[null,null,null,null,null,null,"Protocol","Recruitment"]
[null,null,null,null,null,null,"Protocol","Recruitment"]
[null,null,null,null,null,null,"Protocol","Recruitment"]
[null,null,null,null,null,null,"Protocol","Recruitment"]
[null,null,null,null,null,null,"Protocol","Recruitment"]
[null,null,null,null,null,null,"Protocol","Recruitment"]
[null,null,null,null,null,null,"Protocol","Recruitment"]
[null,null,null,null,null,null,"Protocol","Recruitment"]
[null,null,null,null,null,null,"Protocol","Recruitment"]
[null,null,null,null,null,null,"Protocol","Recruitment"]
[null,null,null,null,null,null,"Protocol","Recruitment"]
[null,null,null,null,null,null,"Protocol","Recruitment"]
[null,null,null,null,null,null,"Protocol","Recruitment"]
[null,null,null,null,null,null,"Protocol","Recruitment"]
[null,null,null,null,null,null,"Protocol","Recruitment"]
[null,null,null,null,null,null,"Protocol","Recruitment"]
[null,null,null,null,null,null,"Protocol","Recruitment"]
[null,null,null,null,null,null,"Protocol","Recruitment"]
[null,null,null,null,null,null,"Protocol","Recruitment"]
[null,null,null,null,null,null,"Protocol","Recruitment"]
[null,null,null,null,null,null,"Protocol","Recruitment"]
[null,null,null,null,null,null,"Protocol","Recruitment"]
[null,null,null,null,null,null,"Protocol","Recruitment"]
[null,null,null,null,null,null,"Protocol","Recruitment"]
[null,null,null,null,null,null,"Protocol","Recruitment"]
[null,null,null,null,null,null,"Protocol","Recruitment"]
[null,null,null,null,null,null,"Protocol","Recruitment"]
[null,null,null,null,null,null,"Protocol","Recruitment"]
[null,null,null,null,null,null,"Protocol","Recruitment"]
[null,null,null,null,null,null,"Protocol","Recruitment"]
[null,null,null,null,null,null,"Protocol","Recruitment"]
[null,null,null,null,null,null,"Protocol","Recruitment"]
[null,null,null,null,null,null,"Protocol","Recruitment"]
[null,null,null,null,null,null,"Protocol","Recruitment"]
[null,null,null,null,null,null,"Protocol","Recruitment"]
[null,null,null,null,null,null,"Protocol","Recruitment"]
[null,null,null,null,null,null,"Protocol","Recruitment"]
[null,null,null,null,null,null,"Protocol","Recruitment"]
[null,null,null,null,null,null,"Protocol","Recruitment"]
[null,null,null,null,null,null,"Protocol","Recruitment"]
[null,null,null,null,null,null,"Protocol","Recruitment"]
[null,null,null,null,null,null,"Protocol","Recruitment"]
[null,null,null,null,null,null,"Protocol","Recruitment"]
[null,null,null,null,null,null,"Protocol","Recruitment"]
[null,null,null,null,null,null,"Protocol","Recruitment"]
[null,null,null,null,null,null,"Protocol","Recruitment"]
[null,null,null,null,null,null,"Protocol","Recruitment"]
[null,null,null,null,null,null,"Protocol","Recruitment"]
[null,null,null,null,null,null,"Protocol","Recruitment"]
[null,null,null,null,null,null,"Protocol","Recruitment"]
[null,null,null,null,null,null,"Protocol","Recruitment"]
[null,null,null,null,null,null,"Protocol","Recruitment"]
[null,null,null,null,null,null,"Protocol","Recruitment"]
[null,null,null,null,null,null,"Protocol","Recruitment"]
[null,null,null,null,null,null,"Protocol","Recruitment"]
[null,null,null,null,null,null,"Protocol","Recruitment"]
[null,null,null,null,null,null,"Protocol","Recruitment"]
[null,null,null,null,null,null,"Protocol","Recruitment"]
[null,null,null,null,null,null,"Protocol","Recruitment"]
[null,null,null,null,null,null,"Protocol","Recruitment"]
[null,null,null,null,null,null,"Protocol","Recruitment"]
[null,null,null,null,null,null,"Protocol","Recruitment"]
[null,null,null,null,null,null,"Protocol","Recruitment"]
[null,null,null,null,null,null,"Protocol","Recruitment"]
[null,null,null,null,null,null,"Protocol","Recruitment"]
[null,null,null,null,null,null,"Protocol","Recruitment"]
[null,null,null,null,null,null,"Protocol","Recruitment"]
[null,null,null,null,null,null,"Protocol","Recruitment"]
[null,null,null,null,null,null,"Protocol","Recruitment"]
[null,null,null,null,null,null,"Protocol","Recruitment"]
[null,null,null,null,null,null,"Protocol","Recruitment"]
[null,null,null,null,null,null,"Protocol","Recruitment"]
[null,null,null,null,null,null,"Protocol","Recruitment"]
[null,null,null,null,null,null,"Protocol","Recruitment"]
[null,null,null,null,null,null,"Protocol","Recruitment"]
[null,null,null,null,null,null,"Protocol","Recruitment"]
[null,null,null,null,null,null,"Protocol","Recruitment"]
[null,null,null,null,null,null,"Protocol","Recruitment"]
[null,null,null,null,null,null,"Protocol","Recruitment"]
[null,null,null,null,null,null,"Protocol","Recruitment"]
[null,null,null,null,null,null,"Protocol","Recruitment"]
[null,null,null,null,null,null,"Protocol","Recruitment"]
[null,null,null,null,null,null,"Protocol","Recruitment"]
[null,null,null,null,null,null,"Protocol","Recruitment"]
[null,null,null,null,null,null,"Protocol","Recruitment"]
[null,null,null,null,null,null,"Protocol","Recruitment"]
[null,null,null,null,null,null,"Protocol","Recruitment"]
[null,null,null,null,null,null,"Protocol","Recruitment"]
[null,null,null,null,null,null,"Protocol","Recruitment"]
[null,null,null,null,null,null,"Protocol","Recruitment"]
[null,null,null,null,null,null,"Protocol","Recruitment"]
[null,null,null,null,null,null,"Protocol","Recruitment"]
[null,null,null,null,null,null,"Protocol","Recruitment"]
[null,null,null,null,null,null,"Protocol","Recruitment"]
[null,null,null,null,null,null,"Protocol","Recruitment"]
[null,null,null,null,null,null,"Protocol","Recruitment"]
[null,null,null,null,null,null,"Protocol","Recruitment"]
[null,null,null,null,null,null,"Protocol","Recruitment"]
[null,null,null,null,null,null,"Protocol","Recruitment"]
[null,null,null,null,null,null,"Protocol","Recruitment"]
[null,null,null,null,null,null,"Protocol","Recruitment"]
[null,null,null,null,null,null,"Protocol","Recruitment"]
[null,null,null,null,null,null,"Protocol","Recruitment"]
[null,null,null,null,null,null,"Protocol","Recruitment"]
[null,null,null,null,null,null,"Protocol","Recruitment"]
[null,null,null,null,null,null,"Protocol","Recruitment"]
[null,null,null,null,null,null,"Protocol","Recruitment"]
[null,null,null,null,null,null,"Protocol","Recruitment"]
[null,null,null,null,null,null,"Protocol","Recruitment"]
[null,null,null,null,null,null,"Protocol","Recruitment"]
[null,null,null,null,null,null,"Protocol","Recruitment"]
[null,null,null,null,null,null,"Protocol","Recruitment"]
[null,null,null,null,null,null,"Protocol","Recruitment"]
[null,null,null,null,null,null,"Protocol","Recruitment"]
[null,null,null,null,null,null,"Protocol","Recruitment"]
[null,null,null,null,null,null,"Protocol","Recruitment"]
[null,null,null,null,null,null,"Protocol","Recruitment"]
[null,null,null,null,null,null,"Protocol","Recruitment"]
[null,null,null,null,null,null,"Protocol","Recruitment"]
[null,null,null,null,null,null,"Protocol","Recruitment"]
[null,null,null,null,null,null,"Protocol","Recruitment"]
[null,null,null,null,null,null,"Protocol","Recruitment"]
[null,null,null,null,null,null,"Protocol","Recruitment"]
[null,null,null,null,null,null,"Protocol","Recruitment"]
[null,null,null,null,null,null,"Protocol","Recruitment"]
[null,null,null,null,null,null,"Protocol","Recruitment"]
[null,null,null,null,null,null,"Protocol","Recruitment"]
[null,null,null,null,null,null,"Protocol","Recruitment"]
[null,null,null,null,null,null,"Protocol","Recruitment"]
[null,null,null,null,null,null,"Protocol","Recruitment"]
[null,null,null,null,null,null,"Protocol","Recruitment"]
[null,null,null,null,null,null,"Protocol","Recruitment"]
[null,null,null,null,null,null,"Protocol","Recruitment"]
[null,null,null,null,null,null,"Protocol","Recruitment"]
[null,null,null,null,null,null,"Protocol","Recruitment"]
[null,null,null,null,null,null,"Protocol","Recruitment"]
[null,null,null,null,null,null,"Protocol","Recruitment"]
[null,null,null,null,null,null,"Protocol","Recruitment"]
[null,null,null,null,null,null,"Protocol","Recruitment"]
[null,null,null,null,null,null,"Protocol","Recruitment"]
[null,null,null,null,null,null,"Protocol","Recruitment"]
[null,null,null,null,null,null,"Protocol","Recruitment"]
[null,null,null,null,null,null,"Protocol","Recruitment"]
[null,null,null,null,null,null,"Protocol","Recruitment"]
[null,null,null,null,null,null,"Protocol","Recruitment"]
[null,null,null,null,null,null,"Protocol","Recruitment"]
[null,null,null,null,null,null,"Protocol","Recruitment"]
[null,null,null,null,null,null,"Protocol","Recruitment"]
[null,null,null,null,null,null,"Protocol","Recruitment"]
[null,null,null,null,null,null,"Protocol","Recruitment"]
[null,null,null,null,null,null,"Protocol","Recruitment"]
[null,null,null,null,null,null,"Protocol","Recruitment"]
[null,null,null,null,null,null,"Protocol","Recruitment"]
[null,null,null,null,null,null,"Protocol","Recruitment"]
[null,null,null,null,null,null,"Protocol","Recruitment"]
[null,null,null,null,null,null,"Protocol","Recruitment"]
[null,null,null,null,null,null,"Protocol","Recruitment"]
[null,null,null,null,null,null,"Protocol","Recruitment"]
[null,null,null,null,null,null,"Protocol","Recruitment"]
[null,null,null,null,null,null,"Protocol","Recruitment"]
[null,null,null,null,null,null,"Protocol","Recruitment"]
[null,null,null,null,null,null,"Protocol","Recruitment"]
[null,null,null,null,null,null,"Protocol","Recruitment"]
[null,null,null,null,null,null,"Protocol","Recruitment"]
[null,null,null,null,null,null,"Protocol","Recruitment"]
[null,null,null,null,null,null,"Protocol","Recruitment"]
[null,null,null,null,null,null,"Protocol","Recruitment"]
[null,null,null,null,null,null,"Protocol","Recruitment"]
[null,null,null,null,null,null,"Protocol","Recruitment"]
[null,null,null,null,null,null,"Protocol","Recruitment"]
[null,null,null,null,null,null,"Protocol","Recruitment"]
[null,null,null,null,null,null,"Protocol","Recruitment"]
[null,null,null,null,null,null,"Protocol","Recruitment"]
[null,null,null,null,null,null,"Protocol","Recruitment"]
[null,null,null,null,null,null,"Protocol","Recruitment"]
[null,null,null,null,null,null,"Protocol","Recruitment"]
[null,null,null,null,null,null,"Protocol","Recruitment"]
[null,null,null,null,null,null,"Protocol","Recruitment"]
[null,null,null,null,null,null,"Protocol","Recruitment"]
[null,null,null,null,null,null,"Protocol","Recruitment"]
[null,null,null,null,null,null,"Protocol","Recruitment"]
[null,null,null,null,null,null,"Protocol","Recruitment"]
[null,null,null,null,null,null,"Protocol","Recruitment"]
[null,null,null,null,null,null,"Protocol","Recruitment"]
[null,null,null,null,null,null,"Protocol","Recruitment"]
[null,null,null,null,null,null,"Protocol","Recruitment"]
[null,null,null,null,null,null,"Protocol","Recruitment"]
[null,null,null,null,null,null,"Protocol","Recruitment"]
[null,null,null,null,null,null,"Protocol","Recruitment"]
[null,null,null,null,null,null,"Protocol","Recruitment"]
[null,null,null,null,null,null,"Protocol","Recruitment"]
[null,null,null,null,null,null,"Protocol","Recruitment"]
[null,null,null,null,null,null,"Protocol","Recruitment"]
[null,null,null,null,null,null,"Protocol","Recruitment"]
[null,null,null,null,null,null,"Protocol","Recruitment"]
[null,null,null,null,null,null,"Protocol","Recruitment"]
[null,null,null,null,null,null,"Protocol","Recruitment"]
[null,null,null,null,null,null,"Protocol","Recruitment"]
[null,null,null,null,null,null,"Protocol","Recruitment"]
[null,null,null,null,null,null,"Protocol","Recruitment"]
[null,null,null,null,null,null,"Protocol","Recruitment"]
[null,null,null,null,null,null,"Protocol","Recruitment"]
[null,null,null,null,null,null,"Protocol","Recruitment"]
[null,null,null,null,null,null,"Protocol","Recruitment"]
[null,null,null,null,null,null,"Protocol","Recruitment"]
[null,null,null,null,null,null,"Protocol","Recruitment"]
[null,null,null,null,null,null,"Protocol","Recruitment"]
[null,null,null,null,null,null,"Protocol","Recruitment"]
[null,null,null,null,null,null,"Protocol","Recruitment"]
[null,null,null,null,null,null,"Protocol","Recruitment"]
[null,null,null,null,null,null,"Protocol","Recruitment"]
[null,null,null,null,null,null,"Protocol","Recruitment"]
[null,null,null,null,null,null,"Protocol","Recruitment"]
[null,null,null,null,null,null,"Protocol","Recruitment"]
[null,null,null,null,null,null,"Protocol","Recruitment"]
[null,null,null,null,null,null,"Protocol","Recruitment"]
[null,null,null,null,null,null,"Protocol","Recruitment"]
[null,null,null,null,null,null,"Protocol","Recruitment"]
[null,null,null,null,null,null,"Protocol","Recruitment"]
[null,null,null,null,null,null,"Protocol","Recruitment"]
[null,null,null,null,null,null,"Protocol","Recruitment"]
[null,null,null,null,null,null,"Protocol","Recruitment"]
[null,null,null,null,null,null,"Protocol","Recruitment"]
[null,null,null,null,null,null,"Protocol","Recruitment"]
[null,null,null,null,null,null,"Protocol","Recruitment"]
[null,null,null,null,null,null,"Protocol","Recruitment"]
[null,null,null,null,null,null,"Protocol","Recruitment"]
[null,null,null,null,null,null,"Protocol","Recruitment"]
[null,null,null,null,null,null,"Protocol","Recruitment"]
[null,null,null,null,null,null,"Protocol","Recruitment"]
[null,null,null,null,null,null,"Protocol","Recruitment"]
[null,null,null,null,null,null,"Protocol","Recruitment"]
[null,null,null,null,null,null,"Protocol","Recruitment"]
[null,null,null,null,null,null,"Protocol","Recruitment"]
[null,null,null,null,null,null,"Protocol","Recruitment"]
[null,null,null,null,null,null,"Protocol","Recruitment"]
[null,null,null,null,null,null,"Protocol","Recruitment"]
[null,null,null,null,null,null,"Protocol","Recruitment"]
[null,null,null,null,null,null,"Protocol","Recruitment"]
[null,null,null,null,null,null,"Protocol","Recruitment"]
[null,null,null,null,null,null,"Protocol","Recruitment"]
[null,null,null,null,null,null,"Protocol","Recruitment"]
[null,null,null,null,null,null,"Protocol","Recruitment"]
[null,null,null,null,null,null,"Protocol","Recruitment"]
[null,null,null,null,null,null,"Protocol","Recruitment"]
[null,null,null,null,null,null,"Protocol","Recruitment"]
[null,null,null,null,null,null,"Protocol","Recruitment"]
[null,null,null,null,null,null,"Protocol","Recruitment"]
[null,null,null,null,null,null,"Protocol","Recruitment"]
[null,null,null,null,null,null,"Protocol","Recruitment"]
[null,null,null,null,null,null,"Protocol","Recruitment"]
[null,null,null,null,null,null,"Protocol","Recruitment"]
[null,null,null,null,null,null,"Protocol","Recruitment"]
[null,null,null,null,null,null,"Protocol","Recruitment"]
[null,null,null,null,null,null,"Protocol","Recruitment"]
[null,null,null,null,null,null,"Protocol","Recruitment"]
[null,null,null,null,null,null,"Protocol","Recruitment"]
[null,null,null,null,null,null,"Protocol","Recruitment"]
[null,null,null,null,null,null,"Protocol","Recruitment"]
[null,null,null,null,null,null,"Protocol","Recruitment"]
[null,null,null,null,null,null,"Protocol","Recruitment"]
[null,null,null,null,null,null,"Protocol","Recruitment"]
[null,null,null,null,null,null,"Protocol","Recruitment"]
[null,null,null,null,null,null,"Protocol","Recruitment"]
[null,null,null,null,null,null,"Protocol","Recruitment"]
[null,null,null,null,null,null,"Protocol","Recruitment"]
[null,null,null,null,null,null,"Protocol","Recruitment"]
[null,null,null,null,null,null,"Protocol","Recruitment"]
[null,null,null,null,null,null,"Protocol","Recruitment"]
[null,null,null,null,null,null,"Protocol","Recruitment"]
[null,null,null,null,null,null,"Protocol","Recruitment"]
[null,null,null,null,null,null,"Protocol","Recruitment"]
[null,null,null,null,null,null,"Protocol","Recruitment"]
[null,null,null,null,null,null,"Protocol","Recruitment"]
[null,null,null,null,null,null,"Protocol","Recruitment"]
[null,null,null,null,null,null,"Protocol","Recruitment"]
[null,null,null,null,null,null,"Protocol","Recruitment"]
[null,null,null,null,null,null,"Protocol","Recruitment"]
[null,null,null,null,null,null,"Protocol","Recruitment"]
[null,null,null,null,null,null,"Protocol","Recruitment"]
[null,null,null,null,null,null,"Protocol","Recruitment"]
[null,null,null,null,null,null,"Protocol","Recruitment"]
[null,null,null,null,null,null,"Protocol","Recruitment"]
[null,null,null,null,null,null,"Protocol","Recruitment"]
[null,null,null,null,null,null,"Protocol","Recruitment"]
[null,null,null,null,null,null,"Protocol","Recruitment"]
[null,null,null,null,null,null,"Protocol","Recruitment"]
[null,null,null,null,null,null,"Protocol","Recruitment"]
[null,null,null,null,null,null,"Protocol","Recruitment"]
[null,null,null,null,null,null,"Protocol","Recruitment"]
[null,null,null,null,null,null,"Protocol","Recruitment"]
[null,null,null,null,null,null,"Protocol","Recruitment"]
[null,null,null,null,null,null,"Protocol","Recruitment"]
[null,null,null,null,null,null,"Protocol","Recruitment"]
[null,null,null,null,null,null,"Protocol","Recruitment"]
[null,null,null,null,null,null,"Protocol","Recruitment"]
[null,null,null,null,null,null,"Protocol","Recruitment"]
[null,null,null,null,null,null,"Protocol","Recruitment"]
[null,null,null,null,null,null,"Protocol","Recruitment"]
[null,null,null,null,null,null,"Protocol","Recruitment"]
[null,null,null,null,null,null,"Protocol","Recruitment"]
[null,null,null,null,null,null,"Protocol","Recruitment"]
[null,null,null,null,null,null,"Protocol","Recruitment"]
[null,null,null,null,null,null,"Protocol","Recruitment"]
[null,null,null,null,null,null,"Protocol","Recruitment"]
[null,null,null,null,null,null,"Protocol","Recruitment"]
[null,null,null,null,null,null,"Protocol","Recruitment"]
[null,null,null,null,null,null,"Protocol","Recruitment"]
[null,null,null,null,null,null,"Protocol","Recruitment"]
[null,null,null,null,null,null,"Protocol","Recruitment"]
[null,null,null,null,null,null,"Protocol","Recruitment"]
[null,null,null,null,null,null,"Protocol","Recruitment"]
[null,null,null,null,null,null,"Protocol","Recruitment"]
[null,null,null,null,null,null,"Protocol","Recruitment"]
[null,null,null,null,null,null,"Protocol","Recruitment"]
[null,null,null,null,null,null,"Protocol","Recruitment"]
[null,null,null,null,null,null,"Protocol","Recruitment"]
[null,null,null,null,null,null,"Protocol","Recruitment"]
[null,null,null,null,null,null,"Protocol","Recruitment"]
[null,null,null,null,null,null,"Protocol","Recruitment"]
[null,null,null,null,null,null,"Protocol","Recruitment"]
[null,null,null,null,null,null,"Protocol","Recruitment"]
[null,null,null,null,null,null,"Protocol","Recruitment"]
[null,null,null,null,null,null,"Protocol","Recruitment"]
[null,null,null,null,null,null,"Protocol","Recruitment"]
[null,null,null,null,null,null,"Protocol","Recruitment"]
[null,null,null,null,null,null,"Protocol","Recruitment"]
[null,null,null,null,null,null,"Protocol","Recruitment"]
[null,null,null,null,null,null,"Protocol","Recruitment"]
[null,null,null,null,null,null,"Protocol","Recruitment"]
[null,null,null,null,null,null,"Protocol","Recruitment"]
[null,null,null,null,null,null,"Protocol","Recruitment"]
[null,null,null,null,null,null,"Protocol","Recruitment"]
[null,null,null,null,null,null,"Protocol","Recruitment"]
[null,null,null,null,null,null,"Protocol","Recruitment"]
[null,null,null,null,null,null,"Protocol","Recruitment"]
[null,null,null,null,null,null,"Protocol","Recruitment"]
[null,null,null,null,null,null,"Protocol","Recruitment"]
[null,null,null,null,null,null,"Protocol","Recruitment"]
[null,null,null,null,null,null,"Protocol","Recruitment"]
[null,null,null,null,null,null,"Protocol","Recruitment"]
[null,null,null,null,null,null,"Protocol","Recruitment"]
[null,null,null,null,null,null,"Protocol","Recruitment"]
[null,null,null,null,null,null,"Protocol","Recruitment"]
[null,null,null,null,null,null,"Protocol","Recruitment"]
[null,null,null,null,null,null,"Protocol","Recruitment"]
[null,null,null,null,null,null,"Protocol","Recruitment"]
[null,null,null,null,null,null,"Protocol","Recruitment"]
[null,null,null,null,null,null,"Protocol","Recruitment"]
[null,null,null,null,null,null,"Protocol","Recruitment"]
[null,null,null,null,null,null,"Protocol","Recruitment"]
[null,null,null,null,null,null,"Protocol","Recruitment"]
[null,null,null,null,null,null,"Protocol","Recruitment"]
[null,null,null,null,null,null,"Protocol","Recruitment"]
[null,null,null,null,null,null,"Protocol","Recruitment"]
[null,null,null,null,null,null,"Protocol","Recruitment"]
[null,null,null,null,null,null,"Protocol","Recruitment"]
[null,null,null,null,null,null,"Protocol","Recruitment"]
[null,null,null,null,null,null,"Protocol","Recruitment"]
[null,null,null,null,null,null,"Protocol","Recruitment"]
[null,null,null,null,null,null,"Protocol","Recruitment"]
[null,null,null,null,null,null,"Protocol","Recruitment"]
[null,null,null,null,null,null,"Protocol","Recruitment"]
[null,null,null,null,null,null,"Protocol","Recruitment"]
[null,null,null,null,null,null,"Protocol","Recruitment"]
[null,null,null,null,null,null,"Protocol","Recruitment"]
[null,null,null,null,null,null,"Protocol","Recruitment"]
[null,null,null,null,null,null,"Protocol","Recruitment"]
[null,null,null,null,null,null,"Protocol","Recruitment"]
[null,null,null,null,null,null,"Protocol","Recruitment"]
[null,null,null,null,null,null,"Protocol","Recruitment"]
[null,null,null,null,null,null,"Protocol","Recruitment"]
[null,null,null,null,null,null,"Protocol","Recruitment"]
[null,null,null,null,null,null,"Protocol","Recruitment"]
[null,null,null,null,null,null,"Protocol","Recruitment"]
[null,null,null,null,null,null,"Protocol","Recruitment"]
[null,null,null,null,null,null,"Protocol","Recruitment"]
[null,null,null,null,null,null,"Protocol","Recruitment"]
[null,null,null,null,null,null,"Protocol","Recruitment"]
[null,null,null,null,null,null,"Protocol","Recruitment"]
[null,null,null,null,null,null,"Protocol","Recruitment"]
[null,null,null,null,null,null,"Protocol","Recruitment"]
[null,null,null,null,null,null,"Protocol","Recruitment"]
[null,null,null,null,null,null,"Protocol","Recruitment"]
[null,null,null,null,null,null,"Protocol","Recruitment"]
[null,null,null,null,null,null,"Protocol","Recruitment"]
[null,null,null,null,null,null,"Protocol","Recruitment"]
[null,null,null,null,null,null,"Protocol","Recruitment"]
[null,null,null,null,null,null,"Protocol","Recruitment"]
[null,null,null,null,null,null,"Protocol","Recruitment"]
[null,null,null,null,null,null,"Protocol","Recruitment"]
[null,null,null,null,null,null,"Protocol","Recruitment"]
[null,null,null,null,null,null,"Protocol","Recruitment"]
[null,null,null,null,null,null,"Protocol","Recruitment"]
[null,null,null,null,null,null,"Protocol","Recruitment"]
[null,null,null,null,null,null,"Protocol","Recruitment"]
[null,null,null,null,null,null,"Protocol","Recruitment"]
[null,null,null,null,null,null,"Protocol","Recruitment"]
[null,null,null,null,null,null,"Protocol","Recruitment"]
[null,null,null,null,null,null,"Protocol","Recruitment"]
[null,null,null,null,null,null,"Protocol","Recruitment"]
[null,null,null,null,null,null,"Protocol","Recruitment"]
[null,null,null,null,null,null,"Protocol","Recruitment"]
[null,null,null,null,null,null,"Protocol","Recruitment"]
[null,null,null,null,null,null,"Protocol","Recruitment"]
[null,null,null,null,null,null,"Protocol","Recruitment"]
[null,null,null,null,null,null,"Protocol","Recruitment"]
[null,null,null,null,null,null,"Protocol","Recruitment"]
[null,null,null,null,null,null,"Protocol","Recruitment"]
[null,null,null,null,null,null,"Protocol","Recruitment"]
[null,null,null,null,null,null,"Protocol","Recruitment"]
[null,null,null,null,null,null,"Protocol","Recruitment"]
[null,null,null,null,null,null,"Protocol","Recruitment"]
[null,null,null,null,null,null,"Protocol","Recruitment"]
[null,null,null,null,null,null,"Protocol","Recruitment"]
[null,null,null,null,null,null,"Protocol","Recruitment"]
[null,null,null,null,null,null,"Protocol","Recruitment"]
[null,null,null,null,null,null,"Protocol","Recruitment"]
[null,null,null,null,null,null,"Protocol","Recruitment"]
[null,null,null,null,null,null,"Protocol","Recruitment"]
[null,null,null,null,null,null,"Protocol","Recruitment"]
[null,null,null,null,null,null,"Protocol","Recruitment"]
[null,null,null,null,null,null,"Protocol","Recruitment"]
[null,null,null,null,null,null,"Protocol","Recruitment"]
[null,null,null,null,null,null,"Protocol","Recruitment"]
[null,null,null,null,null,null,"Protocol","Recruitment"]
[null,null,null,null,null,null,"Protocol","Recruitment"]
[null,null,null,null,null,null,"Protocol","Recruitment"]
[null,null,null,null,null,null,"Protocol","Recruitment"]
[null,null,null,null,null,null,"Protocol","Recruitment"]
[null,null,null,null,null,null,"Protocol","Recruitment"]
[null,null,null,null,null,null,"Protocol","Recruitment"]
[null,null,null,null,null,null,"Protocol","Recruitment"]
[null,null,null,null,null,null,"Protocol","Recruitment"]
[null,null,null,null,null,null,"Protocol","Recruitment"]
[null,null,null,null,null,null,"Protocol","Recruitment"]
[null,null,null,null,null,null,"Protocol","Recruitment"]
[null,null,null,null,null,null,"Protocol","Recruitment"]
[null,null,null,null,null,null,"Protocol","Recruitment"]
[null,null,null,null,null,null,"Protocol","Recruitment"]
[null,null,null,null,null,null,"Protocol","Recruitment"]
[null,null,null,null,null,null,"Protocol","Recruitment"]
[null,null,null,null,null,null,"Protocol","Recruitment"]
[null,null,null,null,null,null,"Protocol","Recruitment"]
[null,null,null,null,null,null,"Protocol","Recruitment"]
[null,null,null,null,null,null,"Protocol","Recruitment"]
[null,null,null,null,null,null,"Protocol","Recruitment"]
[null,null,null,null,null,null,"Protocol","Recruitment"]
[null,null,null,null,null,null,"Protocol","Recruitment"]
[null,null,null,null,null,null,"Protocol","Recruitment"]
[null,null,null,null,null,null,"Protocol","Recruitment"]
[null,null,null,null,null,null,"Protocol","Recruitment"]
[null,null,null,null,null,null,"Protocol","Recruitment"]
[null,null,null,null,null,null,"Protocol","Recruitment"]
[null,null,null,null,null,null,"Protocol","Recruitment"]
[null,null,null,null,null,null,"Protocol","Recruitment"]
[null,null,null,null,null,null,"Protocol","Recruitment"]
[null,null,null,null,null,null,"Protocol","Recruitment"]
[null,null,null,null,null,null,"Protocol","Recruitment"]
[null,null,null,null,null,null,"Protocol","Recruitment"]
[null,null,null,null,null,null,"Protocol","Recruitment"]
[null,null,null,null,null,null,"Protocol","Recruitment"]
[null,null,null,null,null,null,"Protocol","Recruitment"]
[null,null,null,null,null,null,"Protocol","Recruitment"]
[null,null,null,null,null,null,"Protocol","Recruitment"]
[null,null,null,null,null,null,"Protocol","Recruitment"]
[null,null,null,null,null,null,"Protocol","Recruitment"]
[null,null,null,null,null,null,"Protocol","Recruitment"]
[null,null,null,null,null,null,"Protocol","Recruitment"]
[null,null,null,null,null,null,"Protocol","Recruitment"]
[null,null,null,null,null,null,"Protocol","Recruitment"]
[null,null,null,null,null,null,"Protocol","Recruitment"]
[null,null,null,null,null,null,"Protocol","Recruitment"]
[null,null,null,null,null,null,"Protocol","Recruitment"]
[null,null,null,null,null,null,"Protocol","Recruitment"]
[null,null,null,null,null,null,"Protocol","Recruitment"]
[null,null,null,null,null,null,"Protocol","Recruitment"]
[null,null,null,null,null,null,"Protocol","Recruitment"]
[null,null,null,null,null,null,"Protocol","Recruitment"]
[null,null,null,null,null,null,"Protocol","Recruitment"]
[null,null,null,null,null,null,"Protocol","Recruitment"]
[null,null,null,null,null,null,"Protocol","Recruitment"]
[null,null,null,null,null,null,"Protocol","Recruitment"]
[null,null,null,null,null,null,"Protocol","Recruitment"]
[null,null,null,null,null,null,"Protocol","Recruitment"]
[null,null,null,null,null,null,"Protocol","Recruitment"]
[null,null,null,null,null,null,"Protocol","Recruitment"]
[null,null,null,null,null,null,"Protocol","Recruitment"]
[null,null,null,null,null,null,"Protocol","Recruitment"]
[null,null,null,null,null,null,"Protocol","Recruitment"]
[null,null,null,null,null,null,"Protocol","Recruitment"]
[null,null,null,null,null,null,"Protocol","Recruitment"]
[null,null,null,null,null,null,"Protocol","Recruitment"]
[null,null,null,null,null,null,"Protocol","Recruitment"]
[null,null,null,null,null,null,"Protocol","Recruitment"]
[null,null,null,null,null,null,"Protocol","Recruitment"]
[null,null,null,null,null,null,"Protocol","Recruitment"]
[null,null,null,null,null,null,"Protocol","Recruitment"]
[null,null,null,null,null,null,"Protocol","Recruitment"]
[null,null,null,null,null,null,"Protocol","Recruitment"]
[null,null,null,null,null,null,"Protocol","Recruitment"]
[null,null,null,null,null,null,"Protocol","Recruitment"]
[null,null,null,null,null,null,"Protocol","Recruitment"]
[null,null,null,null,null,null,"Protocol","Recruitment"]
[null,null,null,null,null,null,"Protocol","Recruitment"]
[null,null,null,null,null,null,"Protocol","Recruitment"]
[null,null,null,null,null,null,"Protocol","Recruitment"]
[null,null,null,null,null,null,"Protocol","Recruitment"]
[null,null,null,null,null,null,"Protocol","Recruitment"]
[null,null,null,null,null,null,"Protocol","Recruitment"]
[null,null,null,null,null,null,"Protocol","Recruitment"]
[null,null,null,null,null,null,"Protocol","Recruitment"]
[null,null,null,null,null,null,"Protocol","Recruitment"]
[null,null,null,null,null,null,"Protocol","Recruitment"]
[null,null,null,null,null,null,"Protocol","Recruitment"]
[null,null,null,null,null,null,"Protocol","Recruitment"]
[null,null,null,null,null,null,"Protocol","Recruitment"]
[null,null,null,null,null,null,"Protocol","Recruitment"]
[null,null,null,null,null,null,"Protocol","Recruitment"]
[null,null,null,null,null,null,"Protocol","Recruitment"]
[null,null,null,null,null,null,"Protocol","Recruitment"]
[null,null,null,null,null,null,"Protocol","Recruitment"]
[null,null,null,null,null,null,"Protocol","Recruitment"]
[null,null,null,null,null,null,"Protocol","Recruitment"]
[null,null,null,null,null,null,"Protocol","Recruitment"]
[null,null,null,null,null,null,"Protocol","Recruitment"]
[null,null,null,null,null,null,"Protocol","Recruitment"]
[null,null,null,null,null,null,"Protocol","Recruitment"]
[null,null,null,null,null,null,"Protocol","Recruitment"]
[null,null,null,null,null,null,"Protocol","Recruitment"]
[null,null,null,null,null,null,"Protocol","Recruitment"]
[null,null,null,null,null,null,"Protocol","Recruitment"]
[null,null,null,null,null,null,"Protocol","Recruitment"]
[null,null,null,null,null,null,"Protocol","Recruitment"]
[null,null,null,null,null,null,"Protocol","Recruitment"]
[null,null,null,null,null,null,"Protocol","Recruitment"]
[null,null,null,null,null,null,"Protocol","Recruitment"]
[null,null,null,null,null,null,"Protocol","Recruitment"]
[null,null,null,null,null,null,"Protocol","Recruitment"]
[null,null,null,null,null,null,"Protocol","Recruitment"]
[null,null,null,null,null,null,"Protocol","Recruitment"]
[null,null,null,null,null,null,"Protocol","Recruitment"]
[null,null,null,null,null,null,"Protocol","Recruitment"]
[null,null,null,null,null,null,"Protocol","Recruitment"]
[null,null,null,null,null,null,"Protocol","Recruitment"]
[null,null,null,null,null,null,"Protocol","Recruitment"]
[null,null,null,null,null,null,"Protocol","Recruitment"]
[null,null,null,null,null,null,"Protocol","Recruitment"]
[null,null,null,null,null,null,"Protocol","Recruitment"]
[null,null,null,null,null,null,"Protocol","Recruitment"]
[null,null,null,null,null,null,"Protocol","Recruitment"]
[null,null,null,null,null,null,"Protocol","Recruitment"]
[null,null,null,null,null,null,"Protocol","Recruitment"]
[null,null,null,null,null,null,"Protocol","Recruitment"]
[null,null,null,null,null,null,"Protocol","Recruitment"]
[null,null,null,null,null,null,"Protocol","Recruitment"]
[null,null,null,null,null,null,"Protocol","Recruitment"]
[null,null,null,null,null,null,"Protocol","Recruitment"]
[null,null,null,null,null,null,"Protocol","Recruitment"]
[null,null,null,null,null,null,"Protocol","Recruitment"]
[null,null,null,null,null,null,"Protocol","Recruitment"]
[null,null,null,null,null,null,"Protocol","Recruitment"]
[null,null,null,null,null,null,"Protocol","Recruitment"]
[null,null,null,null,null,null,"Protocol","Recruitment"]
[null,null,null,null,null,null,"Protocol","Recruitment"]
[null,null,null,null,null,null,"Protocol","Recruitment"]
[null,null,null,null,null,null,"Protocol","Recruitment"]
[null,null,null,null,null,null,"Protocol","Recruitment"]
[null,null,null,null,null,null,"Protocol","Recruitment"]
[null,null,null,null,null,null,"Protocol","Recruitment"]
[null,null,null,null,null,null,"Protocol","Recruitment"]
[null,null,null,null,null,null,"Protocol","Recruitment"]
[null,null,null,null,null,null,"Protocol","Recruitment"]
[null,null,null,null,null,null,"Protocol","Recruitment"]
[null,null,null,null,null,null,"Protocol","Recruitment"]
[null,null,null,null,null,null,"Protocol","Recruitment"]
[null,null,null,null,null,null,"Protocol","Recruitment"]
[null,null,null,null,null,null,"Protocol","Recruitment"]
[null,null,null,null,null,null,"Protocol","Recruitment"]
[null,null,null,null,null,null,"Protocol","Recruitment"]
[null,null,null,null,null,null,"Protocol","Recruitment"]
[null,null,null,null,null,null,"Protocol","Recruitment"]
[null,null,null,null,null,null,"Protocol","Recruitment"]
[null,null,null,null,null,null,"Protocol","Recruitment"]
[null,null,null,null,null,null,"Protocol","Recruitment"]
[null,null,null,null,null,null,"Protocol","Recruitment"]
[null,null,null,null,null,null,"Protocol","Recruitment"]
[null,null,null,null,null,null,"Protocol","Recruitment"]
[null,null,null,null,null,null,"Protocol","Recruitment"]
[null,null,null,null,null,null,"Protocol","Recruitment"]
[null,null,null,null,null,null,"Protocol","Recruitment"]
[null,null,null,null,null,null,"Protocol","Recruitment"]
[null,null,null,null,null,null,"Protocol","Recruitment"]
[null,null,null,null,null,null,"Protocol","Recruitment"]
[null,null,null,null,null,null,"Protocol","Recruitment"]
[null,null,null,null,null,null,"Protocol","Recruitment"]
[null,null,null,null,null,null,"Protocol","Recruitment"]
[null,null,null,null,null,null,"Protocol","Recruitment"]
[null,null,null,null,null,null,"Protocol","Recruitment"]
[null,null,null,null,null,null,"Protocol","Recruitment"]
[null,null,null,null,null,null,"Protocol","Recruitment"]
[null,null,null,null,null,null,"Protocol","Recruitment"]
[null,null,null,null,null,null,"Protocol","Recruitment"]
[null,null,null,null,null,null,"Protocol","Recruitment"]
[null,null,null,null,null,null,"Protocol","Recruitment"]
[null,null,null,null,null,null,"Protocol","Recruitment"]
[null,null,null,null,null,null,"Protocol","Recruitment"]
[null,null,null,null,null,null,"Protocol","Recruitment"]
[null,null,null,null,null,null,"Protocol","Recruitment"]
[null,null,null,null,null,null,"Protocol","Recruitment"]
[null,null,null,null,null,null,"Protocol","Recruitment"]
[null,null,null,null,null,null,"Protocol","Recruitment"]
[null,null,null,null,null,null,"Protocol","Recruitment"]
[null,null,null,null,null,null,"Protocol","Recruitment"]
[null,null,null,null,null,null,"Protocol","Recruitment"]
[null,null,null,null,null,null,"Protocol","Recruitment"]
[null,null,null,null,null,null,"Protocol","Recruitment"]
[null,null,null,null,null,null,"Protocol","Recruitment"]
[null,null,null,null,null,null,"Protocol","Recruitment"]
[null,null,null,null,null,null,"Protocol","Recruitment"]
[null,null,null,null,null,null,"Protocol","Recruitment"]
[null,null,null,null,null,null,"Protocol","Recruitment"]
[null,null,null,null,null,null,"Protocol","Recruitment"]
[null,null,null,null,null,null,"Protocol","Recruitment"]
[null,null,null,null,null,null,"Protocol","Recruitment"]
[null,null,null,null,null,null,"Protocol","Recruitment"]
[null,null,null,null,null,null,"Protocol","Recruitment"]
[null,null,null,null,null,null,"Protocol","Recruitment"]
[null,null,null,null,null,null,"Protocol","Recruitment"]
[null,null,null,null,null,null,"Protocol","Recruitment"]
[null,null,null,null,null,null,"Protocol","Recruitment"]
[null,null,null,null,null,null,"Protocol","Recruitment"]
[null,null,null,null,null,null,"Protocol","Recruitment"]
[null,null,null,null,null,null,"Protocol","Recruitment"]
[null,null,null,null,null,null,"Protocol","Recruitment"]
[null,null,null,null,null,null,"Protocol","Recruitment"]
[null,null,null,null,null,null,"Protocol","Recruitment"]
[null,null,null,null,null,null,"Protocol","Recruitment"]
[null,null,null,null,null,null,"Protocol","Recruitment"]
[null,null,null,null,null,null,"Protocol","Recruitment"]
[null,null,null,null,null,null,"Protocol","Recruitment"]
[null,null,null,null,null,null,"Protocol","Recruitment"]
[null,null,null,null,null,null,"Protocol","Recruitment"]
[null,null,null,null,null,null,"Protocol","Recruitment"]
[null,null,null,null,null,null,"Protocol","Recruitment"]
[null,null,null,null,null,null,"Protocol","Recruitment"]
[null,null,null,null,null,null,"Protocol","Recruitment"]
[null,null,null,null,null,null,"Protocol","Recruitment"]
[null,null,null,null,null,null,"Protocol","Recruitment"]
[null,null,null,null,null,null,"Protocol","Recruitment"]
[null,null,null,null,null,null,"Protocol","Recruitment"]
[null,null,null,null,null,null,"Protocol","Recruitment"]
[null,null,null,null,null,null,"Protocol","Recruitment"]
[null,null,null,null,null,null,"Protocol","Recruitment"]
[null,null,null,null,null,null,"Protocol","Recruitment"]
[null,null,null,null,null,null,"Protocol","Recruitment"]
[null,null,null,null,null,null,"Protocol","Recruitment"]
[null,null,null,null,null,null,"Protocol","Recruitment"]
[null,null,null,null,null,null,"Protocol","Recruitment"]
[null,null,null,null,null,null,"Protocol","Recruitment"]
[null,null,null,null,null,null,"Protocol","Recruitment"]
[null,null,null,null,null,null,"Protocol","Recruitment"]
[null,null,null,null,null,null,"Protocol","Recruitment"]
[null,null,null,null,null,null,"Protocol","Recruitment"]
[null,null,null,null,null,null,"Protocol","Recruitment"]
[null,null,null,null,null,null,"Protocol","Recruitment"]
[null,null,null,null,null,null,"Protocol","Recruitment"]
[null,null,null,null,null,null,"Protocol","Recruitment"]
[null,null,null,null,null,null,"Protocol","Recruitment"]
[null,null,null,null,null,null,"Protocol","Recruitment"]
[null,null,null,null,null,null,"Protocol","Recruitment"]
[null,null,null,null,null,null,"Protocol","Recruitment"]
[null,null,null,null,null,null,"Protocol","Recruitment"]
[null,null,null,null,null,null,"Protocol","Recruitment"]
[null,null,null,null,null,null,"Protocol","Recruitment"]
[null,null,null,null,null,null,"Protocol","Recruitment"]
[null,null,null,null,null,null,"Protocol","Recruitment"]
[null,null,null,null,null,null,"Protocol","Recruitment"]
[null,null,null,null,null,null,"Protocol","Recruitment"]
[null,null,null,null,null,null,"Protocol","Recruitment"]
[null,null,null,null,null,null,"Protocol","Recruitment"]
[null,null,null,null,null,null,"Protocol","Recruitment"]
[null,null,null,null,null,null,"Protocol","Recruitment"]
[null,null,null,null,null,null,"Protocol","Recruitment"]
[null,null,null,null,null,null,"Protocol","Recruitment"]
[null,null,null,null,null,null,"Protocol","Recruitment"]
[null,null,null,null,null,null,"Protocol","Recruitment"]
[null,null,null,null,null,null,"Protocol","Recruitment"]
[null,null,null,null,null,null,"Protocol","Recruitment"]
[null,null,null,null,null,null,"Protocol","Recruitment"]
[null,null,null,null,null,null,"Protocol","Recruitment"]

{"sheet":"StudyTeamList","index":4,"n_rows":28,"n_cols":2,"rows_kept":28,"cut":false,"hidden":true,"merged":[]}
[]
[]
[]
[]
[]
[]
[]
[]
[]
[]
[null,{"$f":"IFERROR(INDEX('Studies - Summary'!$D:$D,SMALL(IF('Studies - Summary'!$D:$D<>\"\",ROW('Studies - Summary'!$D:$D)),9)),\"\")","v":""}]
[null,{"$f":"IFERROR(INDEX('Studies - Summary'!$D:$D,SMALL(IF('Studies - Summary'!$D:$D<>\"\",ROW('Studies - Summary'!$D:$D)),10)),\"\")","v":""}]
[null,{"$f":"IFERROR(INDEX('Studies - Summary'!$D:$D,SMALL(IF('Studies - Summary'!$D:$D<>\"\",ROW('Studies - Summary'!$D:$D)),11)),\"\")","v":""}]
[null,{"$f":"IFERROR(INDEX('Studies - Summary'!$D:$D,SMALL(IF('Studies - Summary'!$D:$D<>\"\",ROW('Studies - Summary'!$D:$D)),12)),\"\")","v":""}]
[null,{"$f":"IFERROR(INDEX('Studies - Summary'!$D:$D,SMALL(IF('Studies - Summary'!$D:$D<>\"\",ROW('Studies - Summary'!$D:$D)),13)),\"\")","v":""}]
[null,{"$f":"IFERROR(INDEX('Studies - Summary'!$D:$D,SMALL(IF('Studies - Summary'!$D:$D<>\"\",ROW('Studies - Summary'!$D:$D)),14)),\"\")","v":""}]
[null,{"$f":"IFERROR(INDEX('Studies - Summary'!$D:$D,SMALL(IF('Studies - Summary'!$D:$D<>\"\",ROW('Studies - Summary'!$D:$D)),15)),\"\")","v":""}]
[null,{"$f":"IFERROR(INDEX('Studies - Summary'!$D:$D,SMALL(IF('Studies - Summary'!$D:$D<>\"\",ROW('Studies - Summary'!$D:$D)),16)),\"\")","v":""}]
[null,{"$f":"IFERROR(INDEX('Studies - Summary'!$D:$D,SMALL(IF('Studies - Summary'!$D:$D<>\"\",ROW('Studies - Summary'!$D:$D)),17)),\"\")","v":""}]
[null,{"$f":"IFERROR(INDEX('Studies - Summary'!$D:$D,SMALL(IF('Studies - Summary'!$D:$D<>\"\",ROW('Studies - Summary'!$D:$D)),18)),\"\")","v":""}]
[null,{"$f":"IFERROR(INDEX('Studies - Summary'!$D:$D,SMALL(IF('Studies - Summary'!$D:$D<>\"\",ROW('Studies - Summary'!$D:$D)),19)),\"\")","v":""}]
[null,{"$f":"IFERROR(INDEX('Studies - Summary'!$D:$D,SMALL(IF('Studies - Summary'!$D:$D<>\"\",ROW('Studies - Summary'!$D:$D)),20)),\"\")","v":""}]
[null,{"$f":"IFERROR(INDEX('Studies - Summary'!$D:$D,SMALL(IF('Studies - Summary'!$D:$D<>\"\",ROW('Studies - Summary'!$D:$D)),21)),\"\")","v":""}]
[null,{"$f":"IFERROR(INDEX('Studies - Summary'!$D:$D,SMALL(IF('Studies - Summary'!$D:$D<>\"\",ROW('Studies - Summary'!$D:$D)),22)),\"\")","v":""}]
[null,{"$f":"IFERROR(INDEX('Studies - Summary'!$D:$D,SMALL(IF('Studies - Summary'!$D:$D<>\"\",ROW('Studies - Summary'!$D:$D)),23)),\"\")","v":""}]
[null,{"$f":"IFERROR(INDEX('Studies - Summary'!$D:$D,SMALL(IF('Studies - Summary'!$D:$D<>\"\",ROW('Studies - Summary'!$D:$D)),24)),\"\")","v":""}]
[null,{"$f":"IFERROR(INDEX('Studies - Summary'!$D:$D,SMALL(IF('Studies - Summary'!$D:$D<>\"\",ROW('Studies - Summary'!$D:$D)),25)),\"\")","v":""}]
[null,{"$f":"IFERROR(INDEX('Studies - Summary'!$D:$D,SMALL(IF('Studies - Summary'!$D:$D<>\"\",ROW('Studies - Summary'!$D:$D)),26)),\"\")","v":""}]

{"sheet":"Overview","index":5,"n_rows":145,"n_cols":266,"rows_kept":145,"cut":false,"hidden":false,"merged":[[73,3,73,4],[74,3,74,4],[68,3,68,4],[70,3,70,4],[71,3,71,4],[69,3,69,4],[147,3,158,3],[77,3,88,3],[105,3,116,3],[119,3,130,3],[133,3,144,3],[2,213,2,264],[2,5,2,56],[2,57,2,108],[2,109,2,160],[2,161,2,212]]}
[null,null,null,null,null,null,0.5,0.625,0.54166666666666663,0.20833333333333331,0.125,0,0,0,0,0,0,0]
[null,null,"Enter a date below:","Choose team / area (if desired):",null,null,null,null,null,8.3333333333333329E-2,0.1875,0.16666666666666666,6.25E-2,0,0,0,0,0]
[null,"View From:","2017-01-09",null,null,"Capacity Overview - 2016-17",null,null,null,null,null,null,null,null,null,null,null,null,null,null,null,null,null,null,null,null,null,null,null,null,null,null,null,null,null,null,null,null,null,null,null,null,null,null,null,null,null,null,null,null,null,null,null,null,null,null,null,"Capacity Overview - 2017-18",null,null,null,null,null,null,null,null,null,null,null,null,null,null,null,null,null,null,null,null,null,null,null,null,null,null,null,null,null,null,null,null,null,null,null,null,null,null,null,null,null,null,null,null,null,null,null,null,null,null,null,"Capacity Overview - 2018-19",null,null,null,null,null,null,null,null,null,null,null,null,null,null,null,null,null,null,null,null,null,null,null,null,null,null,null,null,null,null,null,null,null,null,null,null,null,null,null,null,null,null,null,null,null,null,null,null,null,null,null,"Capacity Overview - 2019-20",null,null,null,null,null,null,null,null,null,null,null,null,null,null,null,null,null,null,null,null,null,null,null,null,null,null,null,null,null,null,null,null,null,null,null,null,null,null,null,null,null,null,null,null,null,null,null,null,null,null,null,"Capacity Overview - 2020-21"]
[null,{"$f":"IFERROR(INDEX(F4:JE4, MATCH(C3,F6:JE6, 1)),\"\")","v":41},null,null,null,1,2,3,4,5,6,7,8,9,10,11,12,13,14,15,16,17,18,19,20,21,22,23,24,25,26,27,28,29,30,31,32,33,34,35,36,37,38,39,40,41,42,43,44,45,46,47,48,49,50,51,52,53,54,55,56,57,58,59,60,61,62,63,64,65,66,67,68,69,70,71,72,73,74,75,76,77,78,79,80,81,82,83,84,85,86,87,88,89,90,91,92,93,94,95,96,97,98,99,100,101,102,103,104,105,106,107,108,109,110,111,112,113,114,115,116,117,118,119,120,121,122,123,124,125,126,127,128,129,130,131,132,133,134,135,136,137,138,139,140,141,142,143,144,145,146,147,148,149,150,151,152,153,154,155,156,157,158,159,160,161,162,163,164,165,166,167,168,169,170,171,172,173,174,175,176,177,178,179,180,181,182,183,184,185,186,187,188,189,190,191,192,193,194,195,196,197,198,199,200,201,202,203,204,205,206,207,208,209,210,211,212,213,214,215,216,217,218,219,220,221,222,223,224,225,226,227,228,229,230,231,232,233,234,235,236,237,238,239,240,241,242,243,244,245,246,247,248,249,250,251,252,253,254,255,256,257,258,259,260]
[null,null,null,null,"Wk no.",1,2,3,4,5,6,7,8,9,10,11,12,13,14,15,16,17,18,19,20,21,22,23,24,25,26,27,28,29,30,31,32,33,34,35,36,37,38,39,40,41,42,43,44,45,46,47,48,49,50,51,52,1,2,3,4,5,6,7,8,9,10,11,12,13,14,15,16,17,18,19,20,21,22,23,24,25,26,27,28,29,30,31,32,33,34,35,36,37,38,39,40,41,42,43,44,45,46,47,48,49,50,51,52,1,2,3,4,5,6,7,8,9,10,11,12,13,14,15,16,17,18,19,20,21,22,23,24,25,26,27,28,29,30,31,32,33,34,35,36,37,38,39,40,41,42,43,44,45,46,47,48,49,50,51,52,1,2,3,4,5,6,7,8,9,10,11,12,13,14,15,16,17,18,19,20,21,22,23,24,25,26,27,28,29,30,31,32,33,34,35,36,37,38,39,40,41,42,43,44,45,46,47,48,49,50,51,52,1,2,3,4,5,6,7,8,9,10,11,12,13,14,15,16,17,18,19,20,21,22,23,24,25,26,27,28,29,30,31,32,33,34,35,36,37,38,39,40,41,42,43,44,45,46,47,48,49,50,51,52]
[null,null,null,null,"W/C","2016-04-04",{"$f":"F6+7","v":"2016-04-11"},{"$f":"G6+7","v":"2016-04-18"},"2016-04-25","2016-05-02","2016-05-09","2016-05-16","2016-05-23","2016-05-30","2016-06-06","2016-06-13","2016-06-20","2016-06-27","2016-07-04","2016-07-11","2016-07-18","2016-07-25","2016-08-01","2016-08-08","2016-08-15","2016-08-22","2016-08-29","2016-09-05","2016-09-12","2016-09-19","2016-09-26","2016-10-03","2016-10-10","2016-10-17","2016-10-24","2016-10-31","2016-11-07","2016-11-14","2016-11-21","2016-11-28","2016-12-05","2016-12-12","2016-12-19","2016-12-26","2017-01-02","2017-01-09","2017-01-16","2017-01-23","2017-01-30","2017-02-06","2017-02-13","2017-02-20","2017-02-27","2017-03-06","2017-03-13","2017-03-20","2017-03-27",{"$f":"BE6+7","v":"2017-04-03"},"2017-04-10","2017-04-17","2017-04-24","2017-05-01","2017-05-08","2017-05-15","2017-05-22","2017-05-29","2017-06-05","2017-06-12","2017-06-19","2017-06-26","2017-07-03","2017-07-10","2017-07-17","2017-07-24","2017-07-31","2017-08-07","2017-08-14","2017-08-21","2017-08-28","2017-09-04","2017-09-11","2017-09-18","2017-09-25","2017-10-02","2017-10-09","2017-10-16","2017-10-23","2017-10-30","2017-11-06","2017-11-13","2017-11-20","2017-11-27","2017-12-04","2017-12-11","2017-12-18","2017-12-25","2018-01-01","2018-01-08","2018-01-15","2018-01-22","2018-01-29","2018-02-05","2018-02-12","2018-02-19","2018-02-26","2018-03-05","2018-03-12","2018-03-19","2018-03-26","2018-04-02","2018-04-09","2018-04-16","2018-04-23","2018-04-30","2018-05-07","2018-05-14","2018-05-21","2018-05-28","2018-06-04","2018-06-11","2018-06-18",{"$f":"DQ6+7","v":"2018-06-25"},"2018-07-02","2018-07-09","2018-07-16","2018-07-23","2018-07-30","2018-08-06","2018-08-13","2018-08-20","2018-08-27","2018-09-03","2018-09-10","2018-09-17","2018-09-24","2018-10-01","2018-10-08","2018-10-15","2018-10-22","2018-10-29","2018-11-05","2018-11-12","2018-11-19","2018-11-26","2018-12-03","2018-12-10","2018-12-17","2018-12-24","2018-12-31","2019-01-07","2019-01-14","2019-01-21","2019-01-28","2019-02-04","2019-02-11","2019-02-18","2019-02-25","2019-03-04","2019-03-11","2019-03-18","2019-03-25","2019-04-01","2019-04-08","2019-04-15","2019-04-22","2019-04-29","2019-05-06","2019-05-13","2019-05-20","2019-05-27","2019-06-03","2019-06-10","2019-06-17","2019-06-24","2019-07-01","2019-07-08","2019-07-15","2019-07-22","2019-07-29","2019-08-05","2019-08-12","2019-08-19","2019-08-26","2019-09-02","2019-09-09",{"$f":"GC6+7","v":"2019-09-16"},"2019-09-23","2019-09-30","2019-10-07","2019-10-14","2019-10-21","2019-10-28","2019-11-04","2019-11-11","2019-11-18","2019-11-25","2019-12-02","2019-12-09","2019-12-16","2019-12-23","2019-12-30","2020-01-06","2020-01-13","2020-01-20","2020-01-27","2020-02-03","2020-02-10","2020-02-17","2020-02-24","2020-03-02","2020-03-09","2020-03-16","2020-03-23","2020-03-30","2020-04-06","2020-04-13","2020-04-20","2020-04-27","2020-05-04","2020-05-11","2020-05-18","2020-05-25","2020-06-01","2020-06-08","2020-06-15","2020-06-22","2020-06-29","2020-07-06","2020-07-13","2020-07-20","2020-07-27","2020-08-03","2020-08-10","2020-08-17","2020-08-24","2020-08-31","2020-09-07","2020-09-14","2020-09-21","2020-09-28","2020-10-05","2020-10-12","2020-10-19","2020-10-26","2020-11-02","2020-11-09","2020-11-16","2020-11-23","2020-11-30",{"$f":"IO6+7","v":"2020-12-07"},"2020-12-14","2020-12-21","2020-12-28","2021-01-04","2021-01-11","2021-01-18","2021-01-25","2021-02-01","2021-02-08","2021-02-15","2021-02-22","2021-03-01","2021-03-08","2021-03-15","2021-03-22"]
[null,null,null,{"$f":"IFERROR(IF($D$3=\"\",INDEX('Studies - Summary'!$C:$C,SMALL(IF('Studies - Summary'!$E:$E=\"Active\",ROW('Studies - Summary'!$E:$E)),1)),INDEX('Studies - Summary'!$C:$C,SMALL(IF(('Studies - Summary'!$E:$E=\"Active\")*('Studies - Summary'!$D:$D=\"\"&$D$3&\"\"),ROW('Studies - Summary'!$E:$E)),1))),\"\")","v":"EXAMPLE"},"Screening",5.2083333333333329E-2,5.2083333333333329E-2,5.2083333333333329E-2,5.2083333333333329E-2,5.2083333333333329E-2,5.2083333333333329E-2,5.2083333333333329E-2,5.2083333333333329E-2,5.2083333333333329E-2,5.2083333333333329E-2,5.2083333333333329E-2,5.2083333333333329E-2,5.2083333333333329E-2,5.2083333333333329E-2,5.2083333333333329E-2,5.2083333333333329E-2,5.2083333333333329E-2,5.2083333333333329E-2,5.2083333333333329E-2,5.2083333333333329E-2,5.2083333333333329E-2,5.2083333333333329E-2,5.2083333333333329E-2,5.2083333333333329E-2,5.2083333333333329E-2,5.2083333333333329E-2,5.2083333333333329E-2,5.2083333333333329E-2,5.2083333333333329E-2,5.2083333333333329E-2,5.2083333333333329E-2,5.2083333333333329E-2,5.2083333333333329E-2,5.2083333333333329E-2,5.2083333333333329E-2,5.2083333333333329E-2,5.2083333333333329E-2,5.2083333333333329E-2,5.2083333333333329E-2,5.2083333333333329E-2,5.2083333333333329E-2,5.2083333333333329E-2,5.2083333333333329E-2,5.2083333333333329E-2,5.2083333333333329E-2,5.2083333333333329E-2,5.2083333333333329E-2,5.2083333333333329E-2,5.2083333333333329E-2,5.2083333333333329E-2,5.2083333333333329E-2,5.2083333333333329E-2,5.2083333333333329E-2,5.2083333333333329E-2,5.2083333333333329E-2,5.2083333333333329E-2,0,0,0,0,0,0,0,0,0,0,0,0,0,0,0,0,0,0,0,0,0,0,0,0,0,0,0,0,0,0,0,0,0,0,0,0,0,0,0,0,0,0,0,0,0,0,0,0,0,0,0,0,0,0,0,0,0,0,0,0,0,0,0,0,0,0,0,0,0,0,0,0,0,0,0,0,0,0,0,0,0,0,0,0,0,0,0,0,0,0,0,0,0,0,0,0,0,0,0,0,0,0,0,0,0,0,0,0,0,0,0,0,0,0,0,0,0,0,0,0,0,0,0,0,0,0,0,0,0,0,0,0,0,0,0,0,0,0,0,0,0,0,0,0,0,0,0,0,0,0,0,0,0,0,0,0,0,0,0,0,0,0,0,0,0,0,0,0,0,0,0,0,0,0,0,0,0,0,0,0,0,0,0,0,0,0,0,0,0,0,0,0,0,0,0,0,0,0,0,0,0,0,0,0]
[null,null,null,{"$f":"IFERROR(IF($D$3=\"\",INDEX('Studies - Summary'!$C:$C,SMALL(IF('Studies - Summary'!$E:$E=\"Active\",ROW('Studies - Summary'!$E:$E)),1)),INDEX('Studies - Summary'!$C:$C,SMALL(IF(('Studies - Summary'!$E:$E=\"Active\")*('Studies - Summary'!$D:$D=\"\"&$D$3&\"\"),ROW('Studies - Summary'!$E:$E)),1))),\"\")","v":"EXAMPLE"},"Recruitment",0.41666666666666663,0.41666666666666663,0.41666666666666663,0.41666666666666663,0.41666666666666663,0.41666666666666663,0.41666666666666663,0.41666666666666663,0.41666666666666663,0.41666666666666663,0.41666666666666663,0.41666666666666663,0.41666666666666663,0.41666666666666663,0.41666666666666663,0.41666666666666663,0.41666666666666663,0.41666666666666663,0.41666666666666663,0.41666666666666663,0.41666666666666663,0.41666666666666663,0.41666666666666663,0.41666666666666663,0.41666666666666663,0.41666666666666663,0.41666666666666663,0.41666666666666663,0.41666666666666663,0.41666666666666663,0.41666666666666663,0.41666666666666663,0.41666666666666663,0.41666666666666663,0.41666666666666663,0.41666666666666663,0.41666666666666663,0.41666666666666663,0.41666666666666663,0.41666666666666663,0.41666666666666663,0.41666666666666663,0.41666666666666663,0.41666666666666663,0.41666666666666663,0.41666666666666663,0.41666666666666663,0.41666666666666663,0.41666666666666663,0.41666666666666663,0.41666666666666663,0.41666666666666663,0.41666666666666663,0.41666666666666663,0.41666666666666663,0.41666666666666663,0,0,0,0,0,0,0,0,0,0,0,0,0,0,0,0,0,0,0,0,0,0,0,0,0,0,0,0,0,0,0,0,0,0,0,0,0,0,0,0,0,0,0,0,0,0,0,0,0,0,0,0,0,0,0,0,0,0,0,0,0,0,0,0,0,0,0,0,0,0,0,0,0,0,0,0,0,0,0,0,0,0,0,0,0,0,0,0,0,0,0,0,0,0,0,0,0,0,0,0,0,0,0,0,0,0,0,0,0,0,0,0,0,0,0,0,0,0,0,0,0,0,0,0,0,0,0,0,0,0,0,0,0,0,0,0,0,0,0,0,0,0,0,0,0,0,0,0,0,0,0,0,0,0,0,0,0,0,0,0,0,0,0,0,0,0,0,0,0,0,0,0,0,0,0,0,0,0,0,0,0,0,0,0,0,0,0,0,0,0,0,0,0,0,0,0,0,0,0,0,0,0,0,0]
[null,null,null,{"$f":"IFERROR(IF($D$3=\"\",INDEX('Studies - Summary'!$C:$C,SMALL(IF('Studies - Summary'!$E:$E=\"Active\",ROW('Studies - Summary'!$E:$E)),1)),INDEX('Studies - Summary'!$C:$C,SMALL(IF(('Studies - Summary'!$E:$E=\"Active\")*('Studies - Summary'!$D:$D=\"\"&$D$3&\"\"),ROW('Studies - Summary'!$E:$E)),1))),\"\")","v":"EXAMPLE"},"Follow Up",null,5.2083333333333329E-2,5.2083333333333329E-2,5.2083333333333329E-2,5.2083333333333329E-2,5.2083333333333329E-2,5.2083333333333329E-2,5.2083333333333329E-2,5.2083333333333329E-2,5.2083333333333329E-2,5.2083333333333329E-2,5.2083333333333329E-2,5.2083333333333329E-2,5.2083333333333329E-2,5.2083333333333329E-2,5.2083333333333329E-2,5.2083333333333329E-2,5.2083333333333329E-2,5.2083333333333329E-2,5.2083333333333329E-2,5.2083333333333329E-2,5.2083333333333329E-2,5.2083333333333329E-2,5.2083333333333329E-2,5.2083333333333329E-2,5.2083333333333329E-2,5.2083333333333329E-2,5.2083333333333329E-2,5.2083333333333329E-2,5.2083333333333329E-2,5.2083333333333329E-2,5.2083333333333329E-2,5.2083333333333329E-2,5.2083333333333329E-2,5.2083333333333329E-2,5.2083333333333329E-2,5.2083333333333329E-2,5.2083333333333329E-2,5.2083333333333329E-2,5.2083333333333329E-2,5.2083333333333329E-2,5.2083333333333329E-2,5.2083333333333329E-2,5.2083333333333329E-2,5.2083333333333329E-2,5.2083333333333329E-2,5.2083333333333329E-2,5.2083333333333329E-2,5.2083333333333329E-2,5.2083333333333329E-2,5.2083333333333329E-2,5.2083333333333329E-2,5.2083333333333329E-2,0.10416666666666666,0.10416666666666666,0.10416666666666666,0.10416666666666666,5.2083333333333329E-2,5.2083333333333329E-2,5.2083333333333329E-2,5.2083333333333329E-2,5.2083333333333329E-2,5.2083333333333329E-2,5.2083333333333329E-2,5.2083333333333329E-2,5.2083333333333329E-2,5.2083333333333329E-2,5.2083333333333329E-2,5.2083333333333329E-2,5.2083333333333329E-2,5.2083333333333329E-2,5.2083333333333329E-2,5.2083333333333329E-2,5.2083333333333329E-2,5.2083333333333329E-2,5.2083333333333329E-2,5.2083333333333329E-2,5.2083333333333329E-2,5.2083333333333329E-2,5.2083333333333329E-2,5.2083333333333329E-2,5.2083333333333329E-2,5.2083333333333329E-2,5.2083333333333329E-2,5.2083333333333329E-2,5.2083333333333329E-2,5.2083333333333329E-2,5.2083333333333329E-2,5.2083333333333329E-2,5.2083333333333329E-2,5.2083333333333329E-2,5.2083333333333329E-2,5.2083333333333329E-2,5.2083333333333329E-2,5.2083333333333329E-2,5.2083333333333329E-2,5.2083333333333329E-2,5.2083333333333329E-2,5.2083333333333329E-2,5.2083333333333329E-2,5.2083333333333329E-2,5.2083333333333329E-2,5.2083333333333329E-2,5.2083333333333329E-2,5.2083333333333329E-2,5.2083333333333329E-2,5.2083333333333329E-2,5.2083333333333329E-2,5.2083333333333329E-2,0,0,0,0,0,0,0,0,0,0,0,0,0,0,0,0,0,0,0,0,0,0,0,0,0,0,0,0,0,0,0,0,0,0,0,0,0,0,0,0,0,0,0,0,0,0,0,0,0,0,0,0,0,0,0,0,0,0,0,0,0,0,0,0,0,0,0,0,0,0,0,0,0,0,0,0,0,0,0,0,0,0,0,0,0,0,0,0,0,0,0,0,0,0,0,0,0,0,0,0,0,0,0,0,0,0,0,0,0,0,0,0,0,0,0,0,0,0,0,0,0,0,0,0,0,0,0,0,0,0,0,0,0,0,0,0,0,0,0,0,0,0,0,0,0,0,0,0,0,0,0]
[null,null,null,{"$f":"IFERROR(IF($D$3=\"\",INDEX('Studies - Summary'!$C:$C,SMALL(IF('Studies - Summary'!$E:$E=\"Active\",ROW('Studies - Summary'!$E:$E)),2)),INDEX('Studies - Summary'!$C:$C,SMALL(IF(('Studies - Summary'!$E:$E=\"Active\")*('Studies - Summary'!$D:$D=\"\"&$D$3&\"\"),ROW('Studies - Summary'!$E:$E)),2))),\"\")","v":""},"Screening",null,null,null,null,null,null,null,null,null,null,null,null,null,null,null,null,null,null,null,null,null,null,null,null,null,null,null,null,null,null,null,null,null,null,null,null,null,null,null,null,null,null,null,null,null,null,null,null,null,null,null,null,null,null,null,null,null,null,null,null,null,null,null,null,null,null,null,null,null,null,null,null,null,null,0,0,0,0,0,0,0,0,0,0,0,0,0,0,0,0,0,0,0,0,0,0,0,0,0,0,0,0,0,0,0,0,0,0,0,0,0,0,0,0,0,0,0,0,0,0,0,0,0,0,0,0,0,0,0,0,0,0,0,0,0,0,0,0,0,0,0,0,0,0,0,0,0,0,0,0,0,0,0,0,0,0,0,0,0,0,0,0,0,0,0,0,0,0,0,0,0,0,0,0,0,0,0,0,0,0,0,0,0,0,0,0,0,0,0,0,0,0,0,0,0,0,0,0,0,0,0,0,0,0,0,0,0,0,0,0,0,0,0,0,0,0,0,0,0,0,0,0,0,0,0,0,0,0,0,0,0,0,0,0,0,0,0,0,0,0,0,0,0,0,0,0,0,0,0,0,0,0,0,0,0,0,0,0,0,0]
[null,null,null,{"$f":"IFERROR(IF($D$3=\"\",INDEX('Studies - Summary'!$C:$C,SMALL(IF('Studies - Summary'!$E:$E=\"Active\",ROW('Studies - Summary'!$E:$E)),2)),INDEX('Studies - Summary'!$C:$C,SMALL(IF(('Studies - Summary'!$E:$E=\"Active\")*('Studies - Summary'!$D:$D=\"\"&$D$3&\"\"),ROW('Studies - Summary'!$E:$E)),2))),\"\")","v":""},"Recruitment",null,null,null,null,null,null,null,null,null,null,null,null,null,null,null,null,null,null,null,null,null,null,null,null,null,null,null,null,null,null,null,null,null,null,null,null,null,null,null,null,null,null,null,null,null,null,null,null,null,null,null,null,null,null,null,null,null,null,null,null,null,null,null,null,null,null,null,null,null,null,null,null,null,null,0,0,0,0,0,0,0,0,0,0,0,0,0,0,0,0,0,0,0,0,0,0,0,0,0,0,0,0,0,0,0,0,0,0,0,0,0,0,0,0,0,0,0,0,0,0,0,0,0,0,0,0,0,0,0,0,0,0,0,0,0,0,0,0,0,0,0,0,0,0,0,0,0,0,0,0,0,0,0,0,0,0,0,0,0,0,0,0,0,0,0,0,0,0,0,0,0,0,0,0,0,0,0,0,0,0,0,0,0,0,0,0,0,0,0,0,0,0,0,0,0,0,0,0,0,0,0,0,0,0,0,0,0,0,0,0,0,0,0,0,0,0,0,0,0,0,0,0,0,0,0,0,0,0,0,0,0,0,0,0,0,0,0,0,0,0,0,0,0,0,0,0,0,0,0,0,0,0,0,0,0,0,0,0,0,0]
[null,null,null,{"$f":"IFERROR(IF($D$3=\"\",INDEX('Studies - Summary'!$C:$C,SMALL(IF('Studies - Summary'!$E:$E=\"Active\",ROW('Studies - Summary'!$E:$E)),2)),INDEX('Studies - Summary'!$C:$C,SMALL(IF(('Studies - Summary'!$E:$E=\"Active\")*('Studies - Summary'!$D:$D=\"\"&$D$3&\"\"),ROW('Studies - Summary'!$E:$E)),2))),\"\")","v":""},"Follow Up",null,null,null,null,null,null,null,null,null,null,null,null,null,null,null,null,null,null,null,null,null,null,null,null,null,null,null,null,null,null,null,null,null,null,null,null,null,null,null,null,null,null,null,null,null,null,null,null,null,null,null,null,null,null,null,null,null,null,null,null,null,null,null,null,null,null,null,null,null,null,null,null,null,null,null,null,null,null,null,null,0,0,0,0,0,0,0,0,0,0,0,0,0,0,0,0,0,0,0,0,0,0,0,0,0,0,0,0,0,0,0,0,0,0,0,0,0,0,0,0,0,0,0,0,0,0,0,0,0,0,0,0,0,0,0,0,0,0,0,0,0,0,0,0,0,0,0,0,0,0,0,0,0,0,0,0,0,0,0,0,0,0,0,0,0,0,0,0,0,0,0,0,0,0,0,0,0,0,0,0,0,0,0,0,0,0,0,0,0,0,0,0,0,0,0,0,0,0,0,0,0,0,0,0,0,0,0,0,0,0,0,0,0,0,0,0,0,0,0,0,0,0,0,0,0,0,0,0,0,0,0,0,0,0,0,0,0,0,0,0,0,0,0,0,0,0,0,0,0,0,0,0,0,0,0,0,0,0,0,0]
[null,null,null,{"$f":"IFERROR(IF($D$3=\"\",INDEX('Studies - Summary'!$C:$C,SMALL(IF('Studies - Summary'!$E:$E=\"Active\",ROW('Studies - Summary'!$E:$E)),3)),INDEX('Studies - Summary'!$C:$C,SMALL(IF(('Studies - Summary'!$E:$E=\"Active\")*('Studies - Summary'!$D:$D=\"\"&$D$3&\"\"),ROW('Studies - Summary'!$E:$E)),3))),\"\")","v":""},"Screening",null,null,4.1666666666666664E-2,4.1666666666666664E-2,4.1666666666666664E-2,0,0]
[null,null,null,{"$f":"IFERROR(IF($D$3=\"\",INDEX('Studies - Summary'!$C:$C,SMALL(IF('Studies - Summary'!$E:$E=\"Active\",ROW('Studies - Summary'!$E:$E)),3)),INDEX('Studies - Summary'!$C:$C,SMALL(IF(('Studies - Summary'!$E:$E=\"Active\")*('Studies - Summary'!$D:$D=\"\"&$D$3&\"\"),ROW('Studies - Summary'!$E:$E)),3))),\"\")","v":""},"Recruitment",null,null,4.1666666666666664E-2,0.10416666666666666,0.125,0.10416666666666666,4.1666666666666664E-2]
[null,null,null,{"$f":"IFERROR(IF($D$3=\"\",INDEX('Studies - Summary'!$C:$C,SMALL(IF('Studies - Summary'!$E:$E=\"Active\",ROW('Studies - Summary'!$E:$E)),3)),INDEX('Studies - Summary'!$C:$C,SMALL(IF(('Studies - Summary'!$E:$E=\"Active\")*('Studies - Summary'!$D:$D=\"\"&$D$3&\"\"),ROW('Studies - Summary'!$E:$E)),3))),\"\")","v":""},"Follow Up",null,null,null,null,null,0,0]
[null,null,null,{"$f":"IFERROR(IF($D$3=\"\",INDEX('Studies - Summary'!$C:$C,SMALL(IF('Studies - Summary'!$E:$E=\"Active\",ROW('Studies - Summary'!$E:$E)),4)),INDEX('Studies - Summary'!$C:$C,SMALL(IF(('Studies - Summary'!$E:$E=\"Active\")*('Studies - Summary'!$D:$D=\"\"&$D$3&\"\"),ROW('Studies - Summary'!$E:$E)),4))),\"\")","v":""},"Screening"]
[null,null,null,{"$f":"IFERROR(IF($D$3=\"\",INDEX('Studies - Summary'!$C:$C,SMALL(IF('Studies - Summary'!$E:$E=\"Active\",ROW('Studies - Summary'!$E:$E)),4)),INDEX('Studies - Summary'!$C:$C,SMALL(IF(('Studies - Summary'!$E:$E=\"Active\")*('Studies - Summary'!$D:$D=\"\"&$D$3&\"\"),ROW('Studies - Summary'!$E:$E)),4))),\"\")","v":""},"Recruitment"]
[null,null,null,{"$f":"IFERROR(IF($D$3=\"\",INDEX('Studies - Summary'!$C:$C,SMALL(IF('Studies - Summary'!$E:$E=\"Active\",ROW('Studies - Summary'!$E:$E)),4)),INDEX('Studies - Summary'!$C:$C,SMALL(IF(('Studies - Summary'!$E:$E=\"Active\")*('Studies - Summary'!$D:$D=\"\"&$D$3&\"\"),ROW('Studies - Summary'!$E:$E)),4))),\"\")","v":""},"Follow Up"]
[null,null,null,{"$f":"IFERROR(IF($D$3=\"\",INDEX('Studies - Summary'!$C:$C,SMALL(IF('Studies - Summary'!$E:$E=\"Active\",ROW('Studies - Summary'!$E:$E)),5)),INDEX('Studies - Summary'!$C:$C,SMALL(IF(('Studies - Summary'!$E:$E=\"Active\")*('Studies - Summary'!$D:$D=\"\"&$D$3&\"\"),ROW('Studies - Summary'!$E:$E)),5))),\"\")","v":""},"Screening"]
[null,null,null,{"$f":"IFERROR(IF($D$3=\"\",INDEX('Studies - Summary'!$C:$C,SMALL(IF('Studies - Summary'!$E:$E=\"Active\",ROW('Studies - Summary'!$E:$E)),5)),INDEX('Studies - Summary'!$C:$C,SMALL(IF(('Studies - Summary'!$E:$E=\"Active\")*('Studies - Summary'!$D:$D=\"\"&$D$3&\"\"),ROW('Studies - Summary'!$E:$E)),5))),\"\")","v":""},"Recruitment"]
[null,null,null,{"$f":"IFERROR(IF($D$3=\"\",INDEX('Studies - Summary'!$C:$C,SMALL(IF('Studies - Summary'!$E:$E=\"Active\",ROW('Studies - Summary'!$E:$E)),5)),INDEX('Studies - Summary'!$C:$C,SMALL(IF(('Studies - Summary'!$E:$E=\"Active\")*('Studies - Summary'!$D:$D=\"\"&$D$3&\"\"),ROW('Studies - Summary'!$E:$E)),5))),\"\")","v":""},"Follow Up"]
[null,null,null,{"$f":"IFERROR(IF($D$3=\"\",INDEX('Studies - Summary'!$C:$C,SMALL(IF('Studies - Summary'!$E:$E=\"Active\",ROW('Studies - Summary'!$E:$E)),6)),INDEX('Studies - Summary'!$C:$C,SMALL(IF(('Studies - Summary'!$E:$E=\"Active\")*('Studies - Summary'!$D:$D=\"\"&$D$3&\"\"),ROW('Studies - Summary'!$E:$E)),6))),\"\")","v":""},"Screening"]
[null,null,null,{"$f":"IFERROR(IF($D$3=\"\",INDEX('Studies - Summary'!$C:$C,SMALL(IF('Studies - Summary'!$E:$E=\"Active\",ROW('Studies - Summary'!$E:$E)),6)),INDEX('Studies - Summary'!$C:$C,SMALL(IF(('Studies - Summary'!$E:$E=\"Active\")*('Studies - Summary'!$D:$D=\"\"&$D$3&\"\"),ROW('Studies - Summary'!$E:$E)),6))),\"\")","v":""},"Recruitment"]
[null,null,null,{"$f":"IFERROR(IF($D$3=\"\",INDEX('Studies - Summary'!$C:$C,SMALL(IF('Studies - Summary'!$E:$E=\"Active\",ROW('Studies - Summary'!$E:$E)),6)),INDEX('Studies - Summary'!$C:$C,SMALL(IF(('Studies - Summary'!$E:$E=\"Active\")*('Studies - Summary'!$D:$D=\"\"&$D$3&\"\"),ROW('Studies - Summary'!$E:$E)),6))),\"\")","v":""},"Follow Up"]
[null,null,null,{"$f":"IFERROR(IF($D$3=\"\",INDEX('Studies - Summary'!$C:$C,SMALL(IF('Studies - Summary'!$E:$E=\"Active\",ROW('Studies - Summary'!$E:$E)),7)),INDEX('Studies - Summary'!$C:$C,SMALL(IF(('Studies - Summary'!$E:$E=\"Active\")*('Studies - Summary'!$D:$D=\"\"&$D$3&\"\"),ROW('Studies - Summary'!$E:$E)),7))),\"\")","v":""},"Screening"]
[null,null,null,{"$f":"IFERROR(IF($D$3=\"\",INDEX('Studies - Summary'!$C:$C,SMALL(IF('Studies - Summary'!$E:$E=\"Active\",ROW('Studies - Summary'!$E:$E)),7)),INDEX('Studies - Summary'!$C:$C,SMALL(IF(('Studies - Summary'!$E:$E=\"Active\")*('Studies - Summary'!$D:$D=\"\"&$D$3&\"\"),ROW('Studies - Summary'!$E:$E)),7))),\"\")","v":""},"Recruitment"]
[null,null,null,{"$f":"IFERROR(IF($D$3=\"\",INDEX('Studies - Summary'!$C:$C,SMALL(IF('Studies - Summary'!$E:$E=\"Active\",ROW('Studies - Summary'!$E:$E)),7)),INDEX('Studies - Summary'!$C:$C,SMALL(IF(('Studies - Summary'!$E:$E=\"Active\")*('Studies - Summary'!$D:$D=\"\"&$D$3&\"\"),ROW('Studies - Summary'!$E:$E)),7))),\"\")","v":""},"Follow Up"]
[null,null,null,{"$f":"IFERROR(IF($D$3=\"\",INDEX('Studies - Summary'!$C:$C,SMALL(IF('Studies - Summary'!$E:$E=\"Active\",ROW('Studies - Summary'!$E:$E)),8)),INDEX('Studies - Summary'!$C:$C,SMALL(IF(('Studies - Summary'!$E:$E=\"Active\")*('Studies - Summary'!$D:$D=\"\"&$D$3&\"\"),ROW('Studies - Summary'!$E:$E)),8))),\"\")","v":""},"Screening"]
[null,null,null,{"$f":"IFERROR(IF($D$3=\"\",INDEX('Studies - Summary'!$C:$C,SMALL(IF('Studies - Summary'!$E:$E=\"Active\",ROW('Studies - Summary'!$E:$E)),8)),INDEX('Studies - Summary'!$C:$C,SMALL(IF(('Studies - Summary'!$E:$E=\"Active\")*('Studies - Summary'!$D:$D=\"\"&$D$3&\"\"),ROW('Studies - Summary'!$E:$E)),8))),\"\")","v":""},"Recruitment"]
[null,null,null,{"$f":"IFERROR(IF($D$3=\"\",INDEX('Studies - Summary'!$C:$C,SMALL(IF('Studies - Summary'!$E:$E=\"Active\",ROW('Studies - Summary'!$E:$E)),8)),INDEX('Studies - Summary'!$C:$C,SMALL(IF(('Studies - Summary'!$E:$E=\"Active\")*('Studies - Summary'!$D:$D=\"\"&$D$3&\"\"),ROW('Studies - Summary'!$E:$E)),8))),\"\")","v":""},"Follow Up"]
[null,null,null,{"$f":"IFERROR(IF($D$3=\"\",INDEX('Studies - Summary'!$C:$C,SMALL(IF('Studies - Summary'!$E:$E=\"Active\",ROW('Studies - Summary'!$E:$E)),9)),INDEX('Studies - Summary'!$C:$C,SMALL(IF(('Studies - Summary'!$E:$E=\"Active\")*('Studies - Summary'!$D:$D=\"\"&$D$3&\"\"),ROW('Studies - Summary'!$E:$E)),9))),\"\")","v":""},"Screening"]
[null,null,null,{"$f":"IFERROR(IF($D$3=\"\",INDEX('Studies - Summary'!$C:$C,SMALL(IF('Studies - Summary'!$E:$E=\"Active\",ROW('Studies - Summary'!$E:$E)),9)),INDEX('Studies - Summary'!$C:$C,SMALL(IF(('Studies - Summary'!$E:$E=\"Active\")*('Studies - Summary'!$D:$D=\"\"&$D$3&\"\"),ROW('Studies - Summary'!$E:$E)),9))),\"\")","v":""},"Recruitment"]
[null,null,null,{"$f":"IFERROR(IF($D$3=\"\",INDEX('Studies - Summary'!$C:$C,SMALL(IF('Studies - Summary'!$E:$E=\"Active\",ROW('Studies - Summary'!$E:$E)),9)),INDEX('Studies - Summary'!$C:$C,SMALL(IF(('Studies - Summary'!$E:$E=\"Active\")*('Studies - Summary'!$D:$D=\"\"&$D$3&\"\"),ROW('Studies - Summary'!$E:$E)),9))),\"\")","v":""},"Follow Up"]
[null,null,null,{"$f":"IFERROR(IF($D$3=\"\",INDEX('Studies - Summary'!$C:$C,SMALL(IF('Studies - Summary'!$E:$E=\"Active\",ROW('Studies - Summary'!$E:$E)),10)),INDEX('Studies - Summary'!$C:$C,SMALL(IF(('Studies - Summary'!$E:$E=\"Active\")*('Studies - Summary'!$D:$D=\"\"&$D$3&\"\"),ROW('Studies - Summary'!$E:$E)),10))),\"\")","v":""},"Screening"]
[null,null,null,{"$f":"IFERROR(IF($D$3=\"\",INDEX('Studies - Summary'!$C:$C,SMALL(IF('Studies - Summary'!$E:$E=\"Active\",ROW('Studies - Summary'!$E:$E)),10)),INDEX('Studies - Summary'!$C:$C,SMALL(IF(('Studies - Summary'!$E:$E=\"Active\")*('Studies - Summary'!$D:$D=\"\"&$D$3&\"\"),ROW('Studies - Summary'!$E:$E)),10))),\"\")","v":""},"Recruitment"]
[null,null,null,{"$f":"IFERROR(IF($D$3=\"\",INDEX('Studies - Summary'!$C:$C,SMALL(IF('Studies - Summary'!$E:$E=\"Active\",ROW('Studies - Summary'!$E:$E)),10)),INDEX('Studies - Summary'!$C:$C,SMALL(IF(('Studies - Summary'!$E:$E=\"Active\")*('Studies - Summary'!$D:$D=\"\"&$D$3&\"\"),ROW('Studies - Summary'!$E:$E)),10))),\"\")","v":""},"Follow Up"]
[null,null,null,{"$f":"IFERROR(IF($D$3=\"\",INDEX('Studies - Summary'!$C:$C,SMALL(IF('Studies - Summary'!$E:$E=\"Active\",ROW('Studies - Summary'!$E:$E)),11)),INDEX('Studies - Summary'!$C:$C,SMALL(IF(('Studies - Summary'!$E:$E=\"Active\")*('Studies - Summary'!$D:$D=\"\"&$D$3&\"\"),ROW('Studies - Summary'!$E:$E)),11))),\"\")","v":""},"Screening"]
[null,null,null,{"$f":"IFERROR(IF($D$3=\"\",INDEX('Studies - Summary'!$C:$C,SMALL(IF('Studies - Summary'!$E:$E=\"Active\",ROW('Studies - Summary'!$E:$E)),11)),INDEX('Studies - Summary'!$C:$C,SMALL(IF(('Studies - Summary'!$E:$E=\"Active\")*('Studies - Summary'!$D:$D=\"\"&$D$3&\"\"),ROW('Studies - Summary'!$E:$E)),11))),\"\")","v":""},"Recruitment"]
[null,null,null,{"$f":"IFERROR(IF($D$3=\"\",INDEX('Studies - Summary'!$C:$C,SMALL(IF('Studies - Summary'!$E:$E=\"Active\",ROW('Studies - Summary'!$E:$E)),11)),INDEX('Studies - Summary'!$C:$C,SMALL(IF(('Studies - Summary'!$E:$E=\"Active\")*('Studies - Summary'!$D:$D=\"\"&$D$3&\"\"),ROW('Studies - Summary'!$E:$E)),11))),\"\")","v":""},"Follow Up"]
[null,null,null,{"$f":"IFERROR(IF($D$3=\"\",INDEX('Studies - Summary'!$C:$C,SMALL(IF('Studies - Summary'!$E:$E=\"Active\",ROW('Studies - Summary'!$E:$E)),12)),INDEX('Studies - Summary'!$C:$C,SMALL(IF(('Studies - Summary'!$E:$E=\"Active\")*('Studies - Summary'!$D:$D=\"\"&$D$3&\"\"),ROW('Studies - Summary'!$E:$E)),12))),\"\")","v":""},"Screening"]
[null,null,null,{"$f":"IFERROR(IF($D$3=\"\",INDEX('Studies - Summary'!$C:$C,SMALL(IF('Studies - Summary'!$E:$E=\"Active\",ROW('Studies - Summary'!$E:$E)),12)),INDEX('Studies - Summary'!$C:$C,SMALL(IF(('Studies - Summary'!$E:$E=\"Active\")*('Studies - Summary'!$D:$D=\"\"&$D$3&\"\"),ROW('Studies - Summary'!$E:$E)),12))),\"\")","v":""},"Recruitment"]
[null,null,null,{"$f":"IFERROR(IF($D$3=\"\",INDEX('Studies - Summary'!$C:$C,SMALL(IF('Studies - Summary'!$E:$E=\"Active\",ROW('Studies - Summary'!$E:$E)),12)),INDEX('Studies - Summary'!$C:$C,SMALL(IF(('Studies - Summary'!$E:$E=\"Active\")*('Studies - Summary'!$D:$D=\"\"&$D$3&\"\"),ROW('Studies - Summary'!$E:$E)),12))),\"\")","v":""},"Follow Up"]
[null,null,null,{"$f":"IFERROR(IF($D$3=\"\",INDEX('Studies - Summary'!$C:$C,SMALL(IF('Studies - Summary'!$E:$E=\"Active\",ROW('Studies - Summary'!$E:$E)),13)),INDEX('Studies - Summary'!$C:$C,SMALL(IF(('Studies - Summary'!$E:$E=\"Active\")*('Studies - Summary'!$D:$D=\"\"&$D$3&\"\"),ROW('Studies - Summary'!$E:$E)),13))),\"\")","v":""},"Screening"]
[null,null,null,{"$f":"IFERROR(IF($D$3=\"\",INDEX('Studies - Summary'!$C:$C,SMALL(IF('Studies - Summary'!$E:$E=\"Active\",ROW('Studies - Summary'!$E:$E)),13)),INDEX('Studies - Summary'!$C:$C,SMALL(IF(('Studies - Summary'!$E:$E=\"Active\")*('Studies - Summary'!$D:$D=\"\"&$D$3&\"\"),ROW('Studies - Summary'!$E:$E)),13))),\"\")","v":""},"Recruitment"]
[null,null,null,{"$f":"IFERROR(IF($D$3=\"\",INDEX('Studies - Summary'!$C:$C,SMALL(IF('Studies - Summary'!$E:$E=\"Active\",ROW('Studies - Summary'!$E:$E)),13)),INDEX('Studies - Summary'!$C:$C,SMALL(IF(('Studies - Summary'!$E:$E=\"Active\")*('Studies - Summary'!$D:$D=\"\"&$D$3&\"\"),ROW('Studies - Summary'!$E:$E)),13))),\"\")","v":""},"Follow Up"]
[null,null,null,{"$f":"IFERROR(IF($D$3=\"\",INDEX('Studies - Summary'!$C:$C,SMALL(IF('Studies - Summary'!$E:$E=\"Active\",ROW('Studies - Summary'!$E:$E)),14)),INDEX('Studies - Summary'!$C:$C,SMALL(IF(('Studies - Summary'!$E:$E=\"Active\")*('Studies - Summary'!$D:$D=\"\"&$D$3&\"\"),ROW('Studies - Summary'!$E:$E)),14))),\"\")","v":""},"Screening"]
[null,null,null,{"$f":"IFERROR(IF($D$3=\"\",INDEX('Studies - Summary'!$C:$C,SMALL(IF('Studies - Summary'!$E:$E=\"Active\",ROW('Studies - Summary'!$E:$E)),14)),INDEX('Studies - Summary'!$C:$C,SMALL(IF(('Studies - Summary'!$E:$E=\"Active\")*('Studies - Summary'!$D:$D=\"\"&$D$3&\"\"),ROW('Studies - Summary'!$E:$E)),14))),\"\")","v":""},"Recruitment"]
[null,null,null,{"$f":"IFERROR(IF($D$3=\"\",INDEX('Studies - Summary'!$C:$C,SMALL(IF('Studies - Summary'!$E:$E=\"Active\",ROW('Studies - Summary'!$E:$E)),14)),INDEX('Studies - Summary'!$C:$C,SMALL(IF(('Studies - Summary'!$E:$E=\"Active\")*('Studies - Summary'!$D:$D=\"\"&$D$3&\"\"),ROW('Studies - Summary'!$E:$E)),14))),\"\")","v":""},"Follow Up"]
[null,null,null,{"$f":"IFERROR(IF($D$3=\"\",INDEX('Studies - Summary'!$C:$C,SMALL(IF('Studies - Summary'!$E:$E=\"Active\",ROW('Studies - Summary'!$E:$E)),15)),INDEX('Studies - Summary'!$C:$C,SMALL(IF(('Studies - Summary'!$E:$E=\"Active\")*('Studies - Summary'!$D:$D=\"\"&$D$3&\"\"),ROW('Studies - Summary'!$E:$E)),15))),\"\")","v":""},"Screening"]
[null,null,null,{"$f":"IFERROR(IF($D$3=\"\",INDEX('Studies - Summary'!$C:$C,SMALL(IF('Studies - Summary'!$E:$E=\"Active\",ROW('Studies - Summary'!$E:$E)),15)),INDEX('Studies - Summary'!$C:$C,SMALL(IF(('Studies - Summary'!$E:$E=\"Active\")*('Studies - Summary'!$D:$D=\"\"&$D$3&\"\"),ROW('Studies - Summary'!$E:$E)),15))),\"\")","v":""},"Recruitment"]
[null,null,null,{"$f":"IFERROR(IF($D$3=\"\",INDEX('Studies - Summary'!$C:$C,SMALL(IF('Studies - Summary'!$E:$E=\"Active\",ROW('Studies - Summary'!$E:$E)),15)),INDEX('Studies - Summary'!$C:$C,SMALL(IF(('Studies - Summary'!$E:$E=\"Active\")*('Studies - Summary'!$D:$D=\"\"&$D$3&\"\"),ROW('Studies - Summary'!$E:$E)),15))),\"\")","v":""},"Follow Up"]
[null,null,null,{"$f":"IFERROR(IF($D$3=\"\",INDEX('Studies - Summary'!$C:$C,SMALL(IF('Studies - Summary'!$E:$E=\"Active\",ROW('Studies - Summary'!$E:$E)),16)),INDEX('Studies - Summary'!$C:$C,SMALL(IF(('Studies - Summary'!$E:$E=\"Active\")*('Studies - Summary'!$D:$D=\"\"&$D$3&\"\"),ROW('Studies - Summary'!$E:$E)),16))),\"\")","v":""},"Screening"]
[null,null,null,{"$f":"IFERROR(IF($D$3=\"\",INDEX('Studies - Summary'!$C:$C,SMALL(IF('Studies - Summary'!$E:$E=\"Active\",ROW('Studies - Summary'!$E:$E)),16)),INDEX('Studies - Summary'!$C:$C,SMALL(IF(('Studies - Summary'!$E:$E=\"Active\")*('Studies - Summary'!$D:$D=\"\"&$D$3&\"\"),ROW('Studies - Summary'!$E:$E)),16))),\"\")","v":""},"Recruitment"]
[null,null,null,{"$f":"IFERROR(IF($D$3=\"\",INDEX('Studies - Summary'!$C:$C,SMALL(IF('Studies - Summary'!$E:$E=\"Active\",ROW('Studies - Summary'!$E:$E)),16)),INDEX('Studies - Summary'!$C:$C,SMALL(IF(('Studies - Summary'!$E:$E=\"Active\")*('Studies - Summary'!$D:$D=\"\"&$D$3&\"\"),ROW('Studies - Summary'!$E:$E)),16))),\"\")","v":""},"Follow Up"]
[null,null,null,{"$f":"IFERROR(IF($D$3=\"\",INDEX('Studies - Summary'!$C:$C,SMALL(IF('Studies - Summary'!$E:$E=\"Active\",ROW('Studies - Summary'!$E:$E)),17)),INDEX('Studies - Summary'!$C:$C,SMALL(IF(('Studies - Summary'!$E:$E=\"Active\")*('Studies - Summary'!$D:$D=\"\"&$D$3&\"\"),ROW('Studies - Summary'!$E:$E)),17))),\"\")","v":""},"Screening"]
[null,null,null,{"$f":"IFERROR(IF($D$3=\"\",INDEX('Studies - Summary'!$C:$C,SMALL(IF('Studies - Summary'!$E:$E=\"Active\",ROW('Studies - Summary'!$E:$E)),17)),INDEX('Studies - Summary'!$C:$C,SMALL(IF(('Studies - Summary'!$E:$E=\"Active\")*('Studies - Summary'!$D:$D=\"\"&$D$3&\"\"),ROW('Studies - Summary'!$E:$E)),17))),\"\")","v":""},"Recruitment"]
[null,null,null,{"$f":"IFERROR(IF($D$3=\"\",INDEX('Studies - Summary'!$C:$C,SMALL(IF('Studies - Summary'!$E:$E=\"Active\",ROW('Studies - Summary'!$E:$E)),17)),INDEX('Studies - Summary'!$C:$C,SMALL(IF(('Studies - Summary'!$E:$E=\"Active\")*('Studies - Summary'!$D:$D=\"\"&$D$3&\"\"),ROW('Studies - Summary'!$E:$E)),17))),\"\")","v":""},"Follow Up"]
[null,null,null,{"$f":"IFERROR(IF($D$3=\"\",INDEX('Studies - Summary'!$C:$C,SMALL(IF('Studies - Summary'!$E:$E=\"Active\",ROW('Studies - Summary'!$E:$E)),18)),INDEX('Studies - Summary'!$C:$C,SMALL(IF(('Studies - Summary'!$E:$E=\"Active\")*('Studies - Summary'!$D:$D=\"\"&$D$3&\"\"),ROW('Studies - Summary'!$E:$E)),18))),\"\")","v":""},"Screening"]
[null,null,null,{"$f":"IFERROR(IF($D$3=\"\",INDEX('Studies - Summary'!$C:$C,SMALL(IF('Studies - Summary'!$E:$E=\"Active\",ROW('Studies - Summary'!$E:$E)),18)),INDEX('Studies - Summary'!$C:$C,SMALL(IF(('Studies - Summary'!$E:$E=\"Active\")*('Studies - Summary'!$D:$D=\"\"&$D$3&\"\"),ROW('Studies - Summary'!$E:$E)),18))),\"\")","v":""},"Recruitment"]
[null,null,null,{"$f":"IFERROR(IF($D$3=\"\",INDEX('Studies - Summary'!$C:$C,SMALL(IF('Studies - Summary'!$E:$E=\"Active\",ROW('Studies - Summary'!$E:$E)),18)),INDEX('Studies - Summary'!$C:$C,SMALL(IF(('Studies - Summary'!$E:$E=\"Active\")*('Studies - Summary'!$D:$D=\"\"&$D$3&\"\"),ROW('Studies - Summary'!$E:$E)),18))),\"\")","v":""},"Follow Up"]
[null,null,null,{"$f":"IFERROR(IF($D$3=\"\",INDEX('Studies - Summary'!$C:$C,SMALL(IF('Studies - Summary'!$E:$E=\"Active\",ROW('Studies - Summary'!$E:$E)),19)),INDEX('Studies - Summary'!$C:$C,SMALL(IF(('Studies - Summary'!$E:$E=\"Active\")*('Studies - Summary'!$D:$D=\"\"&$D$3&\"\"),ROW('Studies - Summary'!$E:$E)),19))),\"\")","v":""},"Screening"]
[null,null,null,{"$f":"IFERROR(IF($D$3=\"\",INDEX('Studies - Summary'!$C:$C,SMALL(IF('Studies - Summary'!$E:$E=\"Active\",ROW('Studies - Summary'!$E:$E)),19)),INDEX('Studies - Summary'!$C:$C,SMALL(IF(('Studies - Summary'!$E:$E=\"Active\")*('Studies - Summary'!$D:$D=\"\"&$D$3&\"\"),ROW('Studies - Summary'!$E:$E)),19))),\"\")","v":""},"Recruitment"]
[null,null,null,{"$f":"IFERROR(IF($D$3=\"\",INDEX('Studies - Summary'!$C:$C,SMALL(IF('Studies - Summary'!$E:$E=\"Active\",ROW('Studies - Summary'!$E:$E)),19)),INDEX('Studies - Summary'!$C:$C,SMALL(IF(('Studies - Summary'!$E:$E=\"Active\")*('Studies - Summary'!$D:$D=\"\"&$D$3&\"\"),ROW('Studies - Summary'!$E:$E)),19))),\"\")","v":""},"Follow Up"]
[null,null,null,{"$f":"IFERROR(IF($D$3=\"\",INDEX('Studies - Summary'!$C:$C,SMALL(IF('Studies - Summary'!$E:$E=\"Active\",ROW('Studies - Summary'!$E:$E)),20)),INDEX('Studies - Summary'!$C:$C,SMALL(IF(('Studies - Summary'!$E:$E=\"Active\")*('Studies - Summary'!$D:$D=\"\"&$D$3&\"\"),ROW('Studies - Summary'!$E:$E)),20))),\"\")","v":""},"Screening"]
[null,null,null,{"$f":"IFERROR(IF($D$3=\"\",INDEX('Studies - Summary'!$C:$C,SMALL(IF('Studies - Summary'!$E:$E=\"Active\",ROW('Studies - Summary'!$E:$E)),20)),INDEX('Studies - Summary'!$C:$C,SMALL(IF(('Studies - Summary'!$E:$E=\"Active\")*('Studies - Summary'!$D:$D=\"\"&$D$3&\"\"),ROW('Studies - Summary'!$E:$E)),20))),\"\")","v":""},"Recruitment"]
[null,null,null,{"$f":"IFERROR(IF($D$3=\"\",INDEX('Studies - Summary'!$C:$C,SMALL(IF('Studies - Summary'!$E:$E=\"Active\",ROW('Studies - Summary'!$E:$E)),20)),INDEX('Studies - Summary'!$C:$C,SMALL(IF(('Studies - Summary'!$E:$E=\"Active\")*('Studies - Summary'!$D:$D=\"\"&$D$3&\"\"),ROW('Studies - Summary'!$E:$E)),20))),\"\")","v":""},"Follow Up"]
[]
[]
[null,null,null,"Total Hours\n(Per Week)",null,{"$f":"SUBTOTAL(109,F7:F66)","v":0.46874999999999994},{"$f":"SUBTOTAL(109,G7:G66)","v":0.52083333333333326},0.52083333333333326,0.52083333333333326,0.52083333333333326,0.52083333333333326,0.52083333333333326,0.52083333333333326,0.52083333333333326,0.52083333333333326,0.52083333333333326,0.52083333333333326,0.52083333333333326,0.52083333333333326,0.52083333333333326,0.52083333333333326,0.52083333333333326,0.52083333333333326,0.52083333333333326,0.52083333333333326,0.52083333333333326,0.52083333333333326,0.52083333333333326,0.52083333333333326,0.52083333333333326,0.52083333333333326,0.52083333333333326,0.52083333333333326,0.52083333333333326,0.52083333333333326,0.52083333333333326,0.52083333333333326,0.52083333333333326,0.52083333333333326,0.52083333333333326,0.52083333333333326,0.52083333333333326,0.52083333333333326,0.52083333333333326,0.52083333333333326,0.52083333333333326,0.52083333333333326,0.52083333333333326,0.52083333333333326,0.52083333333333326,0.52083333333333326,0.52083333333333326,0.52083333333333326,0.52083333333333326,0.52083333333333326,0.52083333333333326,0.52083333333333326,{"$f":"SUBTOTAL(109,BF7:BF66)","v":0.52083333333333326},0.57291666666666663,0.57291666666666663,0.57291666666666663,0.10416666666666666,5.2083333333333329E-2,5.2083333333333329E-2,5.2083333333333329E-2,5.2083333333333329E-2,5.2083333333333329E-2,5.2083333333333329E-2,5.2083333333333329E-2,5.2083333333333329E-2,5.2083333333333329E-2,5.2083333333333329E-2,5.2083333333333329E-2,5.2083333333333329E-2,5.2083333333333329E-2,5.2083333333333329E-2,5.2083333333333329E-2,5.2083333333333329E-2,5.2083333333333329E-2,5.2083333333333329E-2,5.2083333333333329E-2,5.2083333333333329E-2,5.2083333333333329E-2,5.2083333333333329E-2,5.2083333333333329E-2,5.2083333333333329E-2,5.2083333333333329E-2,5.2083333333333329E-2,5.2083333333333329E-2,5.2083333333333329E-2,5.2083333333333329E-2,5.2083333333333329E-2,5.2083333333333329E-2,5.2083333333333329E-2,5.2083333333333329E-2,5.2083333333333329E-2,5.2083333333333329E-2,5.2083333333333329E-2,5.2083333333333329E-2,5.2083333333333329E-2,5.2083333333333329E-2,5.2083333333333329E-2,5.2083333333333329E-2,5.2083333333333329E-2,5.2083333333333329E-2,5.2083333333333329E-2,5.2083333333333329E-2,5.2083333333333329E-2,5.2083333333333329E-2,{"$f":"SUBTOTAL(109,DF7:DF66)","v":5.2083333333333329E-2},5.2083333333333329E-2,5.2083333333333329E-2,5.2083333333333329E-2,5.2083333333333329E-2,0,0,0,0,0,0,0,0,0,0,0,0,0,0,0,0,0,0,0,0,0,0,0,0,0,0,0,0,0,0,0,0,0,0,0,0,0,0,0,0,0,0,0,0,0,0,0,0,0,0,0,0,0,0,0,0,0,0,0,{"$f":"SUBTOTAL(109,FR7:FR66)","v":0},0,0,0,0,0,0,0,0,0,0,0,0,0,0,0,0,0,0,0,0,0,0,0,0,0,0,0,0,0,0,0,0,0,0,0,0,0,0,0,0,0,0,0,0,0,0,0,0,0,0,0,0,0,0,0,0,0,0,0,0,0,0,0,{"$f":"SUBTOTAL(109,ID7:ID66)","v":0},0,0,0,0,0,0,0,0,0,0,0,0,0,0,0,0,0,0,0,0,0,0,0,0,0,0,0]
[null,null,null,"Screening Hrs",null,{"$f":"SUBTOTAL(109,F7,F10,F13,F16,F19,F22,F25,F28,F31,F34,F37,F40,F43,F46,F49,F52,F55,F58,F61,F64)","v":5.2083333333333329E-2},{"$f":"SUBTOTAL(109,G7,G10,G13,G16,G19,G22,G25,G28,G31,G34,G37,G40,G43,G46,G49,G52,G55,G58,G61,G64)","v":5.2083333333333329E-2},{"$f":"SUBTOTAL(109,H7,H10,H13,H16,H19,H22,H25,H28,H31,H34,H37,H40,H43,H46,H49,H52,H55,H58,H61,H64)","v":5.2083333333333329E-2},5.2083333333333329E-2,5.2083333333333329E-2,5.2083333333333329E-2,5.2083333333333329E-2,5.2083333333333329E-2,5.2083333333333329E-2,5.2083333333333329E-2,5.2083333333333329E-2,5.2083333333333329E-2,5.2083333333333329E-2,5.2083333333333329E-2,5.2083333333333329E-2,5.2083333333333329E-2,5.2083333333333329E-2,5.2083333333333329E-2,5.2083333333333329E-2,5.2083333333333329E-2,5.2083333333333329E-2,5.2083333333333329E-2,5.2083333333333329E-2,5.2083333333333329E-2,5.2083333333333329E-2,5.2083333333333329E-2,5.2083333333333329E-2,5.2083333333333329E-2,5.2083333333333329E-2,5.2083333333333329E-2,5.2083333333333329E-2,5.2083333333333329E-2,5.2083333333333329E-2,5.2083333333333329E-2,5.2083333333333329E-2,5.2083333333333329E-2,5.2083333333333329E-2,5.2083333333333329E-2,5.2083333333333329E-2,5.2083333333333329E-2,5.2083333333333329E-2,5.2083333333333329E-2,5.2083333333333329E-2,5.2083333333333329E-2,5.2083333333333329E-2,5.2083333333333329E-2,5.2083333333333329E-2,5.2083333333333329E-2,5.2083333333333329E-2,5.2083333333333329E-2,5.2083333333333329E-2,5.2083333333333329E-2,{"$f":"SUBTOTAL(109,BF7,BF10,BF13,BF16,BF19,BF22,BF25,BF28,BF31,BF34,BF37,BF40,BF43,BF46,BF49,BF52,BF55,BF58,BF61,BF64)","v":5.2083333333333329E-2},5.2083333333333329E-2,5.2083333333333329E-2,5.2083333333333329E-2,0,0,0,0,0,0,0,0,0,0,0,0,0,0,0,0,0,0,0,0,0,0,0,0,0,0,0,0,0,0,0,0,0,0,0,0,0,0,0,0,0,0,0,0,0,0,0,0,{"$f":"SUBTOTAL(109,DF7,DF10,DF13,DF16,DF19,DF22,DF25,DF28,DF31,DF34,DF37,DF40,DF43,DF46,DF49,DF52,DF55,DF58,DF61,DF64)","v":0},0,0,0,0,0,0,0,0,0,0,0,0,0,0,0,0,0,0,0,0,0,0,0,0,0,0,0,0,0,0,0,0,0,0,0,0,0,0,0,0,0,0,0,0,0,0,0,0,0,0,0,0,0,0,0,0,0,0,0,0,0,0,0,{"$f":"SUBTOTAL(109,FR7,FR10,FR13,FR16,FR19,FR22,FR25,FR28,FR31,FR34,FR37,FR40,FR43,FR46,FR49,FR52,FR55,FR58,FR61,FR64)","v":0},0,0,0,0,0,0,0,0,0,0,0,0,0,0,0,0,0,0,0,0,0,0,0,0,0,0,0,0,0,0,0,0,0,0,0,0,0,0,0,0,0,0,0,0,0,0,0,0,0,0,0,0,0,0,0,0,0,0,0,0,0,0,0,{"$f":"SUBTOTAL(109,ID7,ID10,ID13,ID16,ID19,ID22,ID25,ID28,ID31,ID34,ID37,ID40,ID43,ID46,ID49,ID52,ID55,ID58,ID61,ID64)","v":0},0,0,0,0,0,0,0,0,0,0,0,0,0,0,0,0,0,0,0,0,0,0,0,0,0,0,0]
[null,null,null,"Recruitment Hrs",null,0.41666666666666663,0.41666666666666663,{"$f":"SUBTOTAL(109,H8,H11,H14,H17,H20,H23,H26,H29,H32,H35,H38,H41,H44,H47,H50,H53,H56,H59,H62,H65)","v":0.41666666666666663},0.41666666666666663,0.41666666666666663,0.41666666666666663,0.41666666666666663,0.41666666666666663,0.41666666666666663,0.41666666666666663,0.41666666666666663,0.41666666666666663,0.41666666666666663,0.41666666666666663,0.41666666666666663,0.41666666666666663,0.41666666666666663,0.41666666666666663,0.41666666666666663,0.41666666666666663,0.41666666666666663,0.41666666666666663,0.41666666666666663,0.41666666666666663,0.41666666666666663,0.41666666666666663,0.41666666666666663,0.41666666666666663,0.41666666666666663,0.41666666666666663,0.41666666666666663,0.41666666666666663,0.41666666666666663,0.41666666666666663,0.41666666666666663,0.41666666666666663,0.41666666666666663,0.41666666666666663,0.41666666666666663,0.41666666666666663,0.41666666666666663,0.41666666666666663,0.41666666666666663,0.41666666666666663,0.41666666666666663,0.41666666666666663,0.41666666666666663,0.41666666666666663,0.41666666666666663,0.41666666666666663,0.41666666666666663,0.41666666666666663,{"$f":"SUBTOTAL(109,BF8,BF11,BF14,BF17,BF20,BF23,BF26,BF29,BF32,BF35,BF38,BF41,BF44,BF47,BF50,BF53,BF56,BF59,BF62,BF65)","v":0.41666666666666663},0.41666666666666663,0.41666666666666663,0.41666666666666663,0,0,0,0,0,0,0,0,0,0,0,0,0,0,0,0,0,0,0,0,0,0,0,0,0,0,0,0,0,0,0,0,0,0,0,0,0,0,0,0,0,0,0,0,0,0,0,0,{"$f":"SUBTOTAL(109,DF8,DF11,DF14,DF17,DF20,DF23,DF26,DF29,DF32,DF35,DF38,DF41,DF44,DF47,DF50,DF53,DF56,DF59,DF62,DF65)","v":0},0,0,0,0,0,0,0,0,0,0,0,0,0,0,0,0,0,0,0,0,0,0,0,0,0,0,0,0,0,0,0,0,0,0,0,0,0,0,0,0,0,0,0,0,0,0,0,0,0,0,0,0,0,0,0,0,0,0,0,0,0,0,0,{"$f":"SUBTOTAL(109,FR8,FR11,FR14,FR17,FR20,FR23,FR26,FR29,FR32,FR35,FR38,FR41,FR44,FR47,FR50,FR53,FR56,FR59,FR62,FR65)","v":0},0,0,0,0,0,0,0,0,0,0,0,0,0,0,0,0,0,0,0,0,0,0,0,0,0,0,0,0,0,0,0,0,0,0,0,0,0,0,0,0,0,0,0,0,0,0,0,0,0,0,0,0,0,0,0,0,0,0,0,0,0,0,0,{"$f":"SUBTOTAL(109,ID8,ID11,ID14,ID17,ID20,ID23,ID26,ID29,ID32,ID35,ID38,ID41,ID44,ID47,ID50,ID53,ID56,ID59,ID62,ID65)","v":0},0,0,0,0,0,0,0,0,0,0,0,0,0,0,0,0,0,0,0,0,0,0,0,0,0,0,0]
[null,null,null,"Follow Up Hrs",null,0,5.2083333333333329E-2,{"$f":"SUBTOTAL(109,H9,H12,H15,H18,H21,H24,H27,H30,H33,H36,H39,H42,H45,H48,H51,H54,H57,H60,H63,H66)","v":5.2083333333333329E-2},5.2083333333333329E-2,5.2083333333333329E-2,5.2083333333333329E-2,5.2083333333333329E-2,5.2083333333333329E-2,5.2083333333333329E-2,5.2083333333333329E-2,5.2083333333333329E-2,5.2083333333333329E-2,5.2083333333333329E-2,5.2083333333333329E-2,5.2083333333333329E-2,5.2083333333333329E-2,5.2083333333333329E-2,5.2083333333333329E-2,5.2083333333333329E-2,5.2083333333333329E-2,5.2083333333333329E-2,5.2083333333333329E-2,5.2083333333333329E-2,5.2083333333333329E-2,5.2083333333333329E-2,5.2083333333333329E-2,5.2083333333333329E-2,5.2083333333333329E-2,5.2083333333333329E-2,5.2083333333333329E-2,5.2083333333333329E-2,5.2083333333333329E-2,5.2083333333333329E-2,5.2083333333333329E-2,5.2083333333333329E-2,5.2083333333333329E-2,5.2083333333333329E-2,5.2083333333333329E-2,5.2083333333333329E-2,5.2083333333333329E-2,5.2083333333333329E-2,5.2083333333333329E-2,5.2083333333333329E-2,5.2083333333333329E-2,5.2083333333333329E-2,5.2083333333333329E-2,5.2083333333333329E-2,5.2083333333333329E-2,5.2083333333333329E-2,5.2083333333333329E-2,5.2083333333333329E-2,5.2083333333333329E-2,{"$f":"SUBTOTAL(109,BF9,BF12,BF15,BF18,BF21,BF24,BF27,BF30,BF33,BF36,BF39,BF42,BF45,BF48,BF51,BF54,BF57,BF60,BF63,BF66)","v":5.2083333333333329E-2},0.10416666666666666,0.10416666666666666,0.10416666666666666,0.10416666666666666,5.2083333333333329E-2,5.2083333333333329E-2,5.2083333333333329E-2,5.2083333333333329E-2,5.2083333333333329E-2,5.2083333333333329E-2,5.2083333333333329E-2,5.2083333333333329E-2,5.2083333333333329E-2,5.2083333333333329E-2,5.2083333333333329E-2,5.2083333333333329E-2,5.2083333333333329E-2,5.2083333333333329E-2,5.2083333333333329E-2,5.2083333333333329E-2,5.2083333333333329E-2,5.2083333333333329E-2,5.2083333333333329E-2,5.2083333333333329E-2,5.2083333333333329E-2,5.2083333333333329E-2,5.2083333333333329E-2,5.2083333333333329E-2,5.2083333333333329E-2,5.2083333333333329E-2,5.2083333333333329E-2,5.2083333333333329E-2,5.2083333333333329E-2,5.2083333333333329E-2,5.2083333333333329E-2,5.2083333333333329E-2,5.2083333333333329E-2,5.2083333333333329E-2,5.2083333333333329E-2,5.2083333333333329E-2,5.2083333333333329E-2,5.2083333333333329E-2,5.2083333333333329E-2,5.2083333333333329E-2,5.2083333333333329E-2,5.2083333333333329E-2,5.2083333333333329E-2,5.2083333333333329E-2,5.2083333333333329E-2,5.2083333333333329E-2,5.2083333333333329E-2,{"$f":"SUBTOTAL(109,DF9,DF12,DF15,DF18,DF21,DF24,DF27,DF30,DF33,DF36,DF39,DF42,DF45,DF48,DF51,DF54,DF57,DF60,DF63,DF66)","v":5.2083333333333329E-2},5.2083333333333329E-2,5.2083333333333329E-2,5.2083333333333329E-2,5.2083333333333329E-2,0,0,0,0,0,0,0,0,0,0,0,0,0,0,0,0,0,0,0,0,0,0,0,0,0,0,0,0,0,0,0,0,0,0,0,0,0,0,0,0,0,0,0,0,0,0,0,0,0,0,0,0,0,0,0,0,0,0,0,{"$f":"SUBTOTAL(109,FR9,FR12,FR15,FR18,FR21,FR24,FR27,FR30,FR33,FR36,FR39,FR42,FR45,FR48,FR51,FR54,FR57,FR60,FR63,FR66)","v":0},0,0,0,0,0,0,0,0,0,0,0,0,0,0,0,0,0,0,0,0,0,0,0,0,0,0,0,0,0,0,0,0,0,0,0,0,0,0,0,0,0,0,0,0,0,0,0,0,0,0,0,0,0,0,0,0,0,0,0,0,0,0,0,{"$f":"SUBTOTAL(109,ID9,ID12,ID15,ID18,ID21,ID24,ID27,ID30,ID33,ID36,ID39,ID42,ID45,ID48,ID51,ID54,ID57,ID60,ID63,ID66)","v":0},0,0,0,0,0,0,0,0,0,0,0,0,0,0,0,0,0,0,0,0,0,0,0,0,0,0,0]
[]
[null,null,null,"Max (Adj) Capacity \n(Per Week)",null,{"$f":"IF($D$3<>\"\",'Staff Capacity'!$H$7,'Staff Capacity'!$F$7)","v":0},{"$f":"IF($D$3<>\"\",'Staff Capacity'!$H$7,'Staff Capacity'!$F$7)","v":0},{"$f":"IF($D$3<>\"\",'Staff Capacity'!$H$7,'Staff Capacity'!$F$7)","v":0},{"$f":"IF($D$3<>\"\",'Staff Capacity'!$H$7,'Staff Capacity'!$F$7)","v":0},{"$f":"IF($D$3<>\"\",'Staff Capacity'!$H$7,'Staff Capacity'!$F$7)","v":0},{"$f":"IF($D$3<>\"\",'Staff Capacity'!$H$7,'Staff Capacity'!$F$7)","v":0},{"$f":"IF($D$3<>\"\",'Staff Capacity'!$H$7,'Staff Capacity'!$F$7)","v":0},{"$f":"IF($D$3<>\"\",'Staff Capacity'!$H$7,'Staff Capacity'!$F$7)","v":0},{"$f":"IF($D$3<>\"\",'Staff Capacity'!$H$7,'Staff Capacity'!$F$7)","v":0},{"$f":"IF($D$3<>\"\",'Staff Capacity'!$H$7,'Staff Capacity'!$F$7)","v":0},{"$f":"IF($D$3<>\"\",'Staff Capacity'!$H$7,'Staff Capacity'!$F$7)","v":0},{"$f":"IF($D$3<>\"\",'Staff Capacity'!$H$7,'Staff Capacity'!$F$7)","v":0},{"$f":"IF($D$3<>\"\",'Staff Capacity'!$H$7,'Staff Capacity'!$F$7)","v":0},{"$f":"IF($D$3<>\"\",'Staff Capacity'!$H$7,'Staff Capacity'!$F$7)","v":0},{"$f":"IF($D$3<>\"\",'Staff Capacity'!$H$7,'Staff Capacity'!$F$7)","v":0},{"$f":"IF($D$3<>\"\",'Staff Capacity'!$H$7,'Staff Capacity'!$F$7)","v":0},{"$f":"IF($D$3<>\"\",'Staff Capacity'!$H$7,'Staff Capacity'!$F$7)","v":0},{"$f":"IF($D$3<>\"\",'Staff Capacity'!$H$7,'Staff Capacity'!$F$7)","v":0},{"$f":"IF($D$3<>\"\",'Staff Capacity'!$H$7,'Staff Capacity'!$F$7)","v":0},{"$f":"IF($D$3<>\"\",'Staff Capacity'!$H$7,'Staff Capacity'!$F$7)","v":0},{"$f":"IF($D$3<>\"\",'Staff Capacity'!$H$7,'Staff Capacity'!$F$7)","v":0},{"$f":"IF($D$3<>\"\",'Staff Capacity'!$H$7,'Staff Capacity'!$F$7)","v":0},{"$f":"IF($D$3<>\"\",'Staff Capacity'!$H$7,'Staff Capacity'!$F$7)","v":0},{"$f":"IF($D$3<>\"\",'Staff Capacity'!$H$7,'Staff Capacity'!$F$7)","v":0},{"$f":"IF($D$3<>\"\",'Staff Capacity'!$H$7,'Staff Capacity'!$F$7)","v":0},{"$f":"IF($D$3<>\"\",'Staff Capacity'!$H$7,'Staff Capacity'!$F$7)","v":0},{"$f":"IF($D$3<>\"\",'Staff Capacity'!$H$7,'Staff Capacity'!$F$7)","v":0},{"$f":"IF($D$3<>\"\",'Staff Capacity'!$H$7,'Staff Capacity'!$F$7)","v":0},{"$f":"IF($D$3<>\"\",'Staff Capacity'!$H$7,'Staff Capacity'!$F$7)","v":0},{"$f":"IF($D$3<>\"\",'Staff Capacity'!$H$7,'Staff Capacity'!$F$7)","v":0},{"$f":"IF($D$3<>\"\",'Staff Capacity'!$H$7,'Staff Capacity'!$F$7)","v":0},{"$f":"IF($D$3<>\"\",'Staff Capacity'!$H$7,'Staff Capacity'!$F$7)","v":0},{"$f":"IF($D$3<>\"\",'Staff Capacity'!$H$7,'Staff Capacity'!$F$7)","v":0},{"$f":"IF($D$3<>\"\",'Staff Capacity'!$H$7,'Staff Capacity'!$F$7)","v":0},{"$f":"IF($D$3<>\"\",'Staff Capacity'!$H$7,'Staff Capacity'!$F$7)","v":0},{"$f":"IF($D$3<>\"\",'Staff Capacity'!$H$7,'Staff Capacity'!$F$7)","v":0},{"$f":"IF($D$3<>\"\",'Staff Capacity'!$H$7,'Staff Capacity'!$F$7)","v":0},{"$f":"IF($D$3<>\"\",'Staff Capacity'!$H$7,'Staff Capacity'!$F$7)","v":0},{"$f":"IF($D$3<>\"\",'Staff Capacity'!$H$7,'Staff Capacity'!$F$7)","v":0},{"$f":"IF($D$3<>\"\",'Staff Capacity'!$H$7,'Staff Capacity'!$F$7)","v":0},{"$f":"IF($D$3<>\"\",'Staff Capacity'!$H$7,'Staff Capacity'!$F$7)","v":0},{"$f":"IF($D$3<>\"\",'Staff Capacity'!$H$7,'Staff Capacity'!$F$7)","v":0},{"$f":"IF($D$3<>\"\",'Staff Capacity'!$H$7,'Staff Capacity'!$F$7)","v":0},{"$f":"IF($D$3<>\"\",'Staff Capacity'!$H$7,'Staff Capacity'!$F$7)","v":0},{"$f":"IF($D$3<>\"\",'Staff Capacity'!$H$7,'Staff Capacity'!$F$7)","v":0},{"$f":"IF($D$3<>\"\",'Staff Capacity'!$H$7,'Staff Capacity'!$F$7)","v":0},{"$f":"IF($D$3<>\"\",'Staff Capacity'!$H$7,'Staff Capacity'!$F$7)","v":0},{"$f":"IF($D$3<>\"\",'Staff Capacity'!$H$7,'Staff Capacity'!$F$7)","v":0},{"$f":"IF($D$3<>\"\",'Staff Capacity'!$H$7,'Staff Capacity'!$F$7)","v":0},{"$f":"IF($D$3<>\"\",'Staff Capacity'!$H$7,'Staff Capacity'!$F$7)","v":0},{"$f":"IF($D$3<>\"\",'Staff Capacity'!$H$7,'Staff Capacity'!$F$7)","v":0},{"$f":"IF($D$3<>\"\",'Staff Capacity'!$H$7,'Staff Capacity'!$F$7)","v":0},{"$f":"IF($D$3<>\"\",'Staff Capacity'!$H$7,'Staff Capacity'!$F$7)","v":0},{"$f":"IF($D$3<>\"\",'Staff Capacity'!$H$7,'Staff Capacity'!$F$7)","v":0},{"$f":"IF($D$3<>\"\",'Staff Capacity'!$H$7,'Staff Capacity'!$F$7)","v":0},{"$f":"IF($D$3<>\"\",'Staff Capacity'!$H$7,'Staff Capacity'!$F$7)","v":0},{"$f":"IF($D$3<>\"\",'Staff Capacity'!$H$7,'Staff Capacity'!$F$7)","v":0},{"$f":"IF($D$3<>\"\",'Staff Capacity'!$H$7,'Staff Capacity'!$F$7)","v":0},{"$f":"IF($D$3<>\"\",'Staff Capacity'!$H$7,'Staff Capacity'!$F$7)","v":0},{"$f":"IF($D$3<>\"\",'Staff Capacity'!$H$7,'Staff Capacity'!$F$7)","v":0},{"$f":"IF($D$3<>\"\",'Staff Capacity'!$H$7,'Staff Capacity'!$F$7)","v":0},{"$f":"IF($D$3<>\"\",'Staff Capacity'!$H$7,'Staff Capacity'!$F$7)","v":0},{"$f":"IF($D$3<>\"\",'Staff Capacity'!$H$7,'Staff Capacity'!$F$7)","v":0},{"$f":"IF($D$3<>\"\",'Staff Capacity'!$H$7,'Staff Capacity'!$F$7)","v":0},{"$f":"IF($D$3<>\"\",'Staff Capacity'!$H$7,'Staff Capacity'!$F$7)","v":0},{"$f":"IF($D$3<>\"\",'Staff Capacity'!$H$7,'Staff Capacity'!$F$7)","v":0},{"$f":"IF($D$3<>\"\",'Staff Capacity'!$H$7,'Staff Capacity'!$F$7)","v":0},{"$f":"IF($D$3<>\"\",'Staff Capacity'!$H$7,'Staff Capacity'!$F$7)","v":0},{"$f":"IF($D$3<>\"\",'Staff Capacity'!$H$7,'Staff Capacity'!$F$7)","v":0},{"$f":"IF($D$3<>\"\",'Staff Capacity'!$H$7,'Staff Capacity'!$F$7)","v":0},{"$f":"IF($D$3<>\"\",'Staff Capacity'!$H$7,'Staff Capacity'!$F$7)","v":0},{"$f":"IF($D$3<>\"\",'Staff Capacity'!$H$7,'Staff Capacity'!$F$7)","v":0},{"$f":"IF($D$3<>\"\",'Staff Capacity'!$H$7,'Staff Capacity'!$F$7)","v":0},{"$f":"IF($D$3<>\"\",'Staff Capacity'!$H$7,'Staff Capacity'!$F$7)","v":0},{"$f":"IF($D$3<>\"\",'Staff Capacity'!$H$7,'Staff Capacity'!$F$7)","v":0},{"$f":"IF($D$3<>\"\",'Staff Capacity'!$H$7,'Staff Capacity'!$F$7)","v":0},{"$f":"IF($D$3<>\"\",'Staff Capacity'!$H$7,'Staff Capacity'!$F$7)","v":0},{"$f":"IF($D$3<>\"\",'Staff Capacity'!$H$7,'Staff Capacity'!$F$7)","v":0},{"$f":"IF($D$3<>\"\",'Staff Capacity'!$H$7,'Staff Capacity'!$F$7)","v":0},{"$f":"IF($D$3<>\"\",'Staff Capacity'!$H$7,'Staff Capacity'!$F$7)","v":0},{"$f":"IF($D$3<>\"\",'Staff Capacity'!$H$7,'Staff Capacity'!$F$7)","v":0},{"$f":"IF($D$3<>\"\",'Staff Capacity'!$H$7,'Staff Capacity'!$F$7)","v":0},{"$f":"IF($D$3<>\"\",'Staff Capacity'!$H$7,'Staff Capacity'!$F$7)","v":0},{"$f":"IF($D$3<>\"\",'Staff Capacity'!$H$7,'Staff Capacity'!$F$7)","v":0},{"$f":"IF($D$3<>\"\",'Staff Capacity'!$H$7,'Staff Capacity'!$F$7)","v":0},{"$f":"IF($D$3<>\"\",'Staff Capacity'!$H$7,'Staff Capacity'!$F$7)","v":0},{"$f":"IF($D$3<>\"\",'Staff Capacity'!$H$7,'Staff Capacity'!$F$7)","v":0},{"$f":"IF($D$3<>\"\",'Staff Capacity'!$H$7,'Staff Capacity'!$F$7)","v":0},{"$f":"IF($D$3<>\"\",'Staff Capacity'!$H$7,'Staff Capacity'!$F$7)","v":0},{"$f":"IF($D$3<>\"\",'Staff Capacity'!$H$7,'Staff Capacity'!$F$7)","v":0},{"$f":"IF($D$3<>\"\",'Staff Capacity'!$H$7,'Staff Capacity'!$F$7)","v":0},{"$f":"IF($D$3<>\"\",'Staff Capacity'!$H$7,'Staff Capacity'!$F$7)","v":0},{"$f":"IF($D$3<>\"\",'Staff Capacity'!$H$7,'Staff Capacity'!$F$7)","v":0},{"$f":"IF($D$3<>\"\",'Staff Capacity'!$H$7,'Staff Capacity'!$F$7)","v":0},{"$f":"IF($D$3<>\"\",'Staff Capacity'!$H$7,'Staff Capacity'!$F$7)","v":0},{"$f":"IF($D$3<>\"\",'Staff Capacity'!$H$7,'Staff Capacity'!$F$7)","v":0},{"$f":"IF($D$3<>\"\",'Staff Capacity'!$H$7,'Staff Capacity'!$F$7)","v":0},{"$f":"IF($D$3<>\"\",'Staff Capacity'!$H$7,'Staff Capacity'!$F$7)","v":0},{"$f":"IF($D$3<>\"\",'Staff Capacity'!$H$7,'Staff Capacity'!$F$7)","v":0},{"$f":"IF($D$3<>\"\",'Staff Capacity'!$H$7,'Staff Capacity'!$F$7)","v":0},{"$f":"IF($D$3<>\"\",'Staff Capacity'!$H$7,'Staff Capacity'!$F$7)","v":0},{"$f":"IF($D$3<>\"\",'Staff Capacity'!$H$7,'Staff Capacity'!$F$7)","v":0},{"$f":"IF($D$3<>\"\",'Staff Capacity'!$H$7,'Staff Capacity'!$F$7)","v":0},{"$f":"IF($D$3<>\"\",'Staff Capacity'!$H$7,'Staff Capacity'!$F$7)","v":0},{"$f":"IF($D$3<>\"\",'Staff Capacity'!$H$7,'Staff Capacity'!$F$7)","v":0},{"$f":"IF($D$3<>\"\",'Staff Capacity'!$H$7,'Staff Capacity'!$F$7)","v":0},{"$f":"IF($D$3<>\"\",'Staff Capacity'!$H$7,'Staff Capacity'!$F$7)","v":0},{"$f":"IF($D$3<>\"\",'Staff Capacity'!$H$7,'Staff Capacity'!$F$7)","v":0},{"$f":"IF($D$3<>\"\",'Staff Capacity'!$H$7,'Staff Capacity'!$F$7)","v":0},{"$f":"IF($D$3<>\"\",'Staff Capacity'!$H$7,'Staff Capacity'!$F$7)","v":0},{"$f":"IF($D$3<>\"\",'Staff Capacity'!$H$7,'Staff Capacity'!$F$7)","v":0},{"$f":"IF($D$3<>\"\",'Staff Capacity'!$H$7,'Staff Capacity'!$F$7)","v":0},{"$f":"IF($D$3<>\"\",'Staff Capacity'!$H$7,'Staff Capacity'!$F$7)","v":0},{"$f":"IF($D$3<>\"\",'Staff Capacity'!$H$7,'Staff Capacity'!$F$7)","v":0},{"$f":"IF($D$3<>\"\",'Staff Capacity'!$H$7,'Staff Capacity'!$F$7)","v":0},{"$f":"IF($D$3<>\"\",'Staff Capacity'!$H$7,'Staff Capacity'!$F$7)","v":0},{"$f":"IF($D$3<>\"\",'Staff Capacity'!$H$7,'Staff Capacity'!$F$7)","v":0},{"$f":"IF($D$3<>\"\",'Staff Capacity'!$H$7,'Staff Capacity'!$F$7)","v":0},{"$f":"IF($D$3<>\"\",'Staff Capacity'!$H$7,'Staff Capacity'!$F$7)","v":0},{"$f":"IF($D$3<>\"\",'Staff Capacity'!$H$7,'Staff Capacity'!$F$7)","v":0},{"$f":"IF($D$3<>\"\",'Staff Capacity'!$H$7,'Staff Capacity'!$F$7)","v":0},{"$f":"IF($D$3<>\"\",'Staff Capacity'!$H$7,'Staff Capacity'!$F$7)","v":0},{"$f":"IF($D$3<>\"\",'Staff Capacity'!$H$7,'Staff Capacity'!$F$7)","v":0},{"$f":"IF($D$3<>\"\",'Staff Capacity'!$H$7,'Staff Capacity'!$F$7)","v":0},{"$f":"IF($D$3<>\"\",'Staff Capacity'!$H$7,'Staff Capacity'!$F$7)","v":0},{"$f":"IF($D$3<>\"\",'Staff Capacity'!$H$7,'Staff Capacity'!$F$7)","v":0},{"$f":"IF($D$3<>\"\",'Staff Capacity'!$H$7,'Staff Capacity'!$F$7)","v":0},{"$f":"IF($D$3<>\"\",'Staff Capacity'!$H$7,'Staff Capacity'!$F$7)","v":0},{"$f":"IF($D$3<>\"\",'Staff Capacity'!$H$7,'Staff Capacity'!$F$7)","v":0},{"$f":"IF($D$3<>\"\",'Staff Capacity'!$H$7,'Staff Capacity'!$F$7)","v":0},{"$f":"IF($D$3<>\"\",'Staff Capacity'!$H$7,'Staff Capacity'!$F$7)","v":0},{"$f":"IF($D$3<>\"\",'Staff Capacity'!$H$7,'Staff Capacity'!$F$7)","v":0},{"$f":"IF($D$3<>\"\",'Staff Capacity'!$H$7,'Staff Capacity'!$F$7)","v":0},{"$f":"IF($D$3<>\"\",'Staff Capacity'!$H$7,'Staff Capacity'!$F$7)","v":0},{"$f":"IF($D$3<>\"\",'Staff Capacity'!$H$7,'Staff Capacity'!$F$7)","v":0},{"$f":"IF($D$3<>\"\",'Staff Capacity'!$H$7,'Staff Capacity'!$F$7)","v":0},{"$f":"IF($D$3<>\"\",'Staff Capacity'!$H$7,'Staff Capacity'!$F$7)","v":0},{"$f":"IF($D$3<>\"\",'Staff Capacity'!$H$7,'Staff Capacity'!$F$7)","v":0},{"$f":"IF($D$3<>\"\",'Staff Capacity'!$H$7,'Staff Capacity'!$F$7)","v":0},{"$f":"IF($D$3<>\"\",'Staff Capacity'!$H$7,'Staff Capacity'!$F$7)","v":0},{"$f":"IF($D$3<>\"\",'Staff Capacity'!$H$7,'Staff Capacity'!$F$7)","v":0},{"$f":"IF($D$3<>\"\",'Staff Capacity'!$H$7,'Staff Capacity'!$F$7)","v":0},{"$f":"IF($D$3<>\"\",'Staff Capacity'!$H$7,'Staff Capacity'!$F$7)","v":0},{"$f":"IF($D$3<>\"\",'Staff Capacity'!$H$7,'Staff Capacity'!$F$7)","v":0},{"$f":"IF($D$3<>\"\",'Staff Capacity'!$H$7,'Staff Capacity'!$F$7)","v":0},{"$f":"IF($D$3<>\"\",'Staff Capacity'!$H$7,'Staff Capacity'!$F$7)","v":0},{"$f":"IF($D$3<>\"\",'Staff Capacity'!$H$7,'Staff Capacity'!$F$7)","v":0},{"$f":"IF($D$3<>\"\",'Staff Capacity'!$H$7,'Staff Capacity'!$F$7)","v":0},{"$f":"IF($D$3<>\"\",'Staff Capacity'!$H$7,'Staff Capacity'!$F$7)","v":0},{"$f":"IF($D$3<>\"\",'Staff Capacity'!$H$7,'Staff Capacity'!$F$7)","v":0},{"$f":"IF($D$3<>\"\",'Staff Capacity'!$H$7,'Staff Capacity'!$F$7)","v":0},{"$f":"IF($D$3<>\"\",'Staff Capacity'!$H$7,'Staff Capacity'!$F$7)","v":0},{"$f":"IF($D$3<>\"\",'Staff Capacity'!$H$7,'Staff Capacity'!$F$7)","v":0},{"$f":"IF($D$3<>\"\",'Staff Capacity'!$H$7,'Staff Capacity'!$F$7)","v":0},{"$f":"IF($D$3<>\"\",'Staff Capacity'!$H$7,'Staff Capacity'!$F$7)","v":0},{"$f":"IF($D$3<>\"\",'Staff Capacity'!$H$7,'Staff Capacity'!$F$7)","v":0},{"$f":"IF($D$3<>\"\",'Staff Capacity'!$H$7,'Staff Capacity'!$F$7)","v":0},{"$f":"IF($D$3<>\"\",'Staff Capacity'!$H$7,'Staff Capacity'!$F$7)","v":0},{"$f":"IF($D$3<>\"\",'Staff Capacity'!$H$7,'Staff Capacity'!$F$7)","v":0},{"$f":"IF($D$3<>\"\",'Staff Capacity'!$H$7,'Staff Capacity'!$F$7)","v":0},{"$f":"IF($D$3<>\"\",'Staff Capacity'!$H$7,'Staff Capacity'!$F$7)","v":0},{"$f":"IF($D$3<>\"\",'Staff Capacity'!$H$7,'Staff Capacity'!$F$7)","v":0},{"$f":"IF($D$3<>\"\",'Staff Capacity'!$H$7,'Staff Capacity'!$F$7)","v":0},{"$f":"IF($D$3<>\"\",'Staff Capacity'!$H$7,'Staff Capacity'!$F$7)","v":0},{"$f":"IF($D$3<>\"\",'Staff Capacity'!$H$7,'Staff Capacity'!$F$7)","v":0},{"$f":"IF($D$3<>\"\",'Staff Capacity'!$H$7,'Staff Capacity'!$F$7)","v":0},{"$f":"IF($D$3<>\"\",'Staff Capacity'!$H$7,'Staff Capacity'!$F$7)","v":0},{"$f":"IF($D$3<>\"\",'Staff Capacity'!$H$7,'Staff Capacity'!$F$7)","v":0},{"$f":"IF($D$3<>\"\",'Staff Capacity'!$H$7,'Staff Capacity'!$F$7)","v":0},{"$f":"IF($D$3<>\"\",'Staff Capacity'!$H$7,'Staff Capacity'!$F$7)","v":0},{"$f":"IF($D$3<>\"\",'Staff Capacity'!$H$7,'Staff Capacity'!$F$7)","v":0},{"$f":"IF($D$3<>\"\",'Staff Capacity'!$H$7,'Staff Capacity'!$F$7)","v":0},{"$f":"IF($D$3<>\"\",'Staff Capacity'!$H$7,'Staff Capacity'!$F$7)","v":0},{"$f":"IF($D$3<>\"\",'Staff Capacity'!$H$7,'Staff Capacity'!$F$7)","v":0},{"$f":"IF($D$3<>\"\",'Staff Capacity'!$H$7,'Staff Capacity'!$F$7)","v":0},{"$f":"IF($D$3<>\"\",'Staff Capacity'!$H$7,'Staff Capacity'!$F$7)","v":0},{"$f":"IF($D$3<>\"\",'Staff Capacity'!$H$7,'Staff Capacity'!$F$7)","v":0},{"$f":"IF($D$3<>\"\",'Staff Capacity'!$H$7,'Staff Capacity'!$F$7)","v":0},{"$f":"IF($D$3<>\"\",'Staff Capacity'!$H$7,'Staff Capacity'!$F$7)","v":0},{"$f":"IF($D$3<>\"\",'Staff Capacity'!$H$7,'Staff Capacity'!$F$7)","v":0},{"$f":"IF($D$3<>\"\",'Staff Capacity'!$H$7,'Staff Capacity'!$F$7)","v":0},{"$f":"IF($D$3<>\"\",'Staff Capacity'!$H$7,'Staff Capacity'!$F$7)","v":0},{"$f":"IF($D$3<>\"\",'Staff Capacity'!$H$7,'Staff Capacity'!$F$7)","v":0},{"$f":"IF($D$3<>\"\",'Staff Capacity'!$H$7,'Staff Capacity'!$F$7)","v":0},{"$f":"IF($D$3<>\"\",'Staff Capacity'!$H$7,'Staff Capacity'!$F$7)","v":0},{"$f":"IF($D$3<>\"\",'Staff Capacity'!$H$7,'Staff Capacity'!$F$7)","v":0},{"$f":"IF($D$3<>\"\",'Staff Capacity'!$H$7,'Staff Capacity'!$F$7)","v":0},{"$f":"IF($D$3<>\"\",'Staff Capacity'!$H$7,'Staff Capacity'!$F$7)","v":0},{"$f":"IF($D$3<>\"\",'Staff Capacity'!$H$7,'Staff Capacity'!$F$7)","v":0},{"$f":"IF($D$3<>\"\",'Staff Capacity'!$H$7,'Staff Capacity'!$F$7)","v":0},{"$f":"IF($D$3<>\"\",'Staff Capacity'!$H$7,'Staff Capacity'!$F$7)","v":0},{"$f":"IF($D$3<>\"\",'Staff Capacity'!$H$7,'Staff Capacity'!$F$7)","v":0},{"$f":"IF($D$3<>\"\",'Staff Capacity'!$H$7,'Staff Capacity'!$F$7)","v":0},{"$f":"IF($D$3<>\"\",'Staff Capacity'!$H$7,'Staff Capacity'!$F$7)","v":0},{"$f":"IF($D$3<>\"\",'Staff Capacity'!$H$7,'Staff Capacity'!$F$7)","v":0},{"$f":"IF($D$3<>\"\",'Staff Capacity'!$H$7,'Staff Capacity'!$F$7)","v":0},{"$f":"IF($D$3<>\"\",'Staff Capacity'!$H$7,'Staff Capacity'!$F$7)","v":0},{"$f":"IF($D$3<>\"\",'Staff Capacity'!$H$7,'Staff Capacity'!$F$7)","v":0},{"$f":"IF($D$3<>\"\",'Staff Capacity'!$H$7,'Staff Capacity'!$F$7)","v":0},{"$f":"IF($D$3<>\"\",'Staff Capacity'!$H$7,'Staff Capacity'!$F$7)","v":0},{"$f":"IF($D$3<>\"\",'Staff Capacity'!$H$7,'Staff Capacity'!$F$7)","v":0},{"$f":"IF($D$3<>\"\",'Staff Capacity'!$H$7,'Staff Capacity'!$F$7)","v":0},{"$f":"IF($D$3<>\"\",'Staff Capacity'!$H$7,'Staff Capacity'!$F$7)","v":0},{"$f":"IF($D$3<>\"\",'Staff Capacity'!$H$7,'Staff Capacity'!$F$7)","v":0},{"$f":"IF($D$3<>\"\",'Staff Capacity'!$H$7,'Staff Capacity'!$F$7)","v":0},{"$f":"IF($D$3<>\"\",'Staff Capacity'!$H$7,'Staff Capacity'!$F$7)","v":0},{"$f":"IF($D$3<>\"\",'Staff Capacity'!$H$7,'Staff Capacity'!$F$7)","v":0},{"$f":"IF($D$3<>\"\",'Staff Capacity'!$H$7,'Staff Capacity'!$F$7)","v":0},{"$f":"IF($D$3<>\"\",'Staff Capacity'!$H$7,'Staff Capacity'!$F$7)","v":0},{"$f":"IF($D$3<>\"\",'Staff Capacity'!$H$7,'Staff Capacity'!$F$7)","v":0},{"$f":"IF($D$3<>\"\",'Staff Capacity'!$H$7,'Staff Capacity'!$F$7)","v":0},{"$f":"IF($D$3<>\"\",'Staff Capacity'!$H$7,'Staff Capacity'!$F$7)","v":0},{"$f":"IF($D$3<>\"\",'Staff Capacity'!$H$7,'Staff Capacity'!$F$7)","v":0},{"$f":"IF($D$3<>\"\",'Staff Capacity'!$H$7,'Staff Capacity'!$F$7)","v":0},{"$f":"IF($D$3<>\"\",'Staff Capacity'!$H$7,'Staff Capacity'!$F$7)","v":0},{"$f":"IF($D$3<>\"\",'Staff Capacity'!$H$7,'Staff Capacity'!$F$7)","v":0},{"$f":"IF($D$3<>\"\",'Staff Capacity'!$H$7,'Staff Capacity'!$F$7)","v":0},{"$f":"IF($D$3<>\"\",'Staff Capacity'!$H$7,'Staff Capacity'!$F$7)","v":0},{"$f":"IF($D$3<>\"\",'Staff Capacity'!$H$7,'Staff Capacity'!$F$7)","v":0},{"$f":"IF($D$3<>\"\",'Staff Capacity'!$H$7,'Staff Capacity'!$F$7)","v":0},{"$f":"IF($D$3<>\"\",'Staff Capacity'!$H$7,'Staff Capacity'!$F$7)","v":0},{"$f":"IF($D$3<>\"\",'Staff Capacity'!$H$7,'Staff Capacity'!$F$7)","v":0},{"$f":"IF($D$3<>\"\",'Staff Capacity'!$H$7,'Staff Capacity'!$F$7)","v":0},{"$f":"IF($D$3<>\"\",'Staff Capacity'!$H$7,'Staff Capacity'!$F$7)","v":0},{"$f":"IF($D$3<>\"\",'Staff Capacity'!$H$7,'Staff Capacity'!$F$7)","v":0},{"$f":"IF($D$3<>\"\",'Staff Capacity'!$H$7,'Staff Capacity'!$F$7)","v":0},{"$f":"IF($D$3<>\"\",'Staff Capacity'!$H$7,'Staff Capacity'!$F$7)","v":0},{"$f":"IF($D$3<>\"\",'Staff Capacity'!$H$7,'Staff Capacity'!$F$7)","v":0},{"$f":"IF($D$3<>\"\",'Staff Capacity'!$H$7,'Staff Capacity'!$F$7)","v":0},{"$f":"IF($D$3<>\"\",'Staff Capacity'!$H$7,'Staff Capacity'!$F$7)","v":0},{"$f":"IF($D$3<>\"\",'Staff Capacity'!$H$7,'Staff Capacity'!$F$7)","v":0},{"$f":"IF($D$3<>\"\",'Staff Capacity'!$H$7,'Staff Capacity'!$F$7)","v":0},{"$f":"IF($D$3<>\"\",'Staff Capacity'!$H$7,'Staff Capacity'!$F$7)","v":0},{"$f":"IF($D$3<>\"\",'Staff Capacity'!$H$7,'Staff Capacity'!$F$7)","v":0},{"$f":"IF($D$3<>\"\",'Staff Capacity'!$H$7,'Staff Capacity'!$F$7)","v":0},{"$f":"IF($D$3<>\"\",'Staff Capacity'!$H$7,'Staff Capacity'!$F$7)","v":0},{"$f":"IF($D$3<>\"\",'Staff Capacity'!$H$7,'Staff Capacity'!$F$7)","v":0},{"$f":"IF($D$3<>\"\",'Staff Capacity'!$H$7,'Staff Capacity'!$F$7)","v":0},{"$f":"IF($D$3<>\"\",'Staff Capacity'!$H$7,'Staff Capacity'!$F$7)","v":0},{"$f":"IF($D$3<>\"\",'Staff Capacity'!$H$7,'Staff Capacity'!$F$7)","v":0},{"$f":"IF($D$3<>\"\",'Staff Capacity'!$H$7,'Staff Capacity'!$F$7)","v":0},{"$f":"IF($D$3<>\"\",'Staff Capacity'!$H$7,'Staff Capacity'!$F$7)","v":0},{"$f":"IF($D$3<>\"\",'Staff Capacity'!$H$7,'Staff Capacity'!$F$7)","v":0},{"$f":"IF($D$3<>\"\",'Staff Capacity'!$H$7,'Staff Capacity'!$F$7)","v":0},{"$f":"IF($D$3<>\"\",'Staff Capacity'!$H$7,'Staff Capacity'!$F$7)","v":0},{"$f":"IF($D$3<>\"\",'Staff Capacity'!$H$7,'Staff Capacity'!$F$7)","v":0},{"$f":"IF($D$3<>\"\",'Staff Capacity'!$H$7,'Staff Capacity'!$F$7)","v":0},{"$f":"IF($D$3<>\"\",'Staff Capacity'!$H$7,'Staff Capacity'!$F$7)","v":0},{"$f":"IF($D$3<>\"\",'Staff Capacity'!$H$7,'Staff Capacity'!$F$7)","v":0},{"$f":"IF($D$3<>\"\",'Staff Capacity'!$H$7,'Staff Capacity'!$F$7)","v":0},{"$f":"IF($D$3<>\"\",'Staff Capacity'!$H$7,'Staff Capacity'!$F$7)","v":0},{"$f":"IF($D$3<>\"\",'Staff Capacity'!$H$7,'Staff Capacity'!$F$7)","v":0},{"$f":"IF($D$3<>\"\",'Staff Capacity'!$H$7,'Staff Capacity'!$F$7)","v":0},{"$f":"IF($D$3<>\"\",'Staff Capacity'!$H$7,'Staff Capacity'!$F$7)","v":0},{"$f":"IF($D$3<>\"\",'Staff Capacity'!$H$7,'Staff Capacity'!$F$7)","v":0},{"$f":"IF($D$3<>\"\",'Staff Capacity'!$H$7,'Staff Capacity'!$F$7)","v":0},{"$f":"IF($D$3<>\"\",'Staff Capacity'!$H$7,'Staff Capacity'!$F$7)","v":0},{"$f":"IF($D$3<>\"\",'Staff Capacity'!$H$7,'Staff Capacity'!$F$7)","v":0},{"$f":"IF($D$3<>\"\",'Staff Capacity'!$H$7,'Staff Capacity'!$F$7)","v":0},{"$f":"IF($D$3<>\"\",'Staff Capacity'!$H$7,'Staff Capacity'!$F$7)","v":0}]
[null,null,null,"Over capacity?",null,{"$f":"IF(F74=0,\"\",IF(F69>F74,\"Yes\",\"No\"))","v":""},{"$f":"IF(G74=0,\"\",IF(G69>G74,\"Yes\",\"No\"))","v":""},{"$f":"IF(H74=0,\"\",IF(H69>H74,\"Yes\",\"No\"))","v":""},"","","","","","","","","","","","","","","","","","","","","","","","","","","","","","","","","","","","","","","","","","","","","","","","","",{"$f":"IF(BF74=0,\"\",IF(BF69>BF74,\"Yes\",\"No\"))","v":""},"","","","","","","","","","","","","","","","","","","","","","","","","","","","","","","","","","","","","","","","","","","","","","","","","","","",{"$f":"IF(DF74=0,\"\",IF(DF69>DF74,\"Yes\",\"No\"))","v":""},"","","","","","","","","","","","","","","","","","","","","","","","","","","","","","","","","","","","","","","","","","","","","","","","","","","","","","","","","","","","","","","",{"$f":"IF(FR74=0,\"\",IF(FR69>FR74,\"Yes\",\"No\"))","v":""},"","","","","","","","","","","","","","","","","","","","","","","","","","","","","","","","","","","","","","","","","","","","","","","","","","","","","","","","","","","","","","","",{"$f":"IF(ID74=0,\"\",IF(ID69>ID74,\"Yes\",\"No\"))","v":""},"","","","","","","","","","","","","","","","","","","","","","","","","","",""]
[]
[null,null,null,null,"Staff - Total Hrs"]
[null,null,null,null,1,{"$f":"SUM(F106,F120,F134)","v":0},{"$f":"SUM(G106,G120,G134)","v":0},{"$f":"SUM(H106,H120,H134)","v":0},0,0,0,0,0,0,0,0,0,0,0,0,0,0,0,0,0,0,0,0,0,0,0,0,0,0,0,0,0,0,0,0,0,0,0,0,0,0,0,0,0,0,0,0,0,0,0,0,0,0,0,0,0,0,0,0,0,0,0,0,0,0,0,{"$f":"SUM(BT106,BT120,BT134)","v":0},0,0,0,0,0,0,0,0,0,0,0,0,0,0,0,0,0,0,0,0,0,0,0,0,0,0,0,0,0,0,0,0,0,0,0,0,0,0,0,0,0,0,0,0,0,0,0,0,0,0,0,0,0,0,0,0,0,0,0,0,0,0,0,{"$f":"SUM(EF106,EF120,EF134)","v":0},0,0,0,0,0,0,0,0,0,0,0,0,0,0,0,0,0,0,0,0,0,0,0,0,0,0,0,0,0,0,0,0,0,0,0,0,0,0,0,0,0,0,0,0,0,0,0,0,0,0,0,0,0,0,0,0,0,0,0,0,0,0,0,{"$f":"SUM(GR106,GR120,GR134)","v":0},0,0,0,0,0,0,0,0,0,0,0,0,0,0,0,0,0,0,0,0,0,0,0,0,0,0,0,0,0,0,0,0,0,0,0,0,0,0,0,0,0,0,0,0,0,0,0,0,0,0,0,0,0,0,0,0,0,0,0,0,0,0,0,{"$f":"SUM(JD106,JD120,JD134)","v":0},0]
[null,null,null,null,2,{"$f":"SUM(F107,F121,F135)","v":0},{"$f":"SUM(G107,G121,G135)","v":0},0,0,0,0,0,0,0,0,0,0,0,0,0,0,0,0,0,0,0,0,0,0,0,0,0,0,0,0,0,0,0,0,0,0,0,0,0,0,0,0,0,0,0,0,0,0,0,0,0,0,0,0,0,0,0,0,0,0,0,0,0,0,0,0,0,0,0,0,0,0,0,0,0,0,0,0,0,0,0,0,0,0,0,0,0,0,0,0,0,0,0,0,0,0,0,0,0,0,0,0,0,0,0,0,0,0,0,0,0,0,0,0,0,0,0,0,0,0,0,0,0,0,0,0,0,0,0,0,0,0,0,0,0,0,0,0,0,0,0,0,0,0,0,0,0,0,0,0,0,0,0,0,0,0,0,0,0,0,0,0,0,0,0,0,0,0,0,0,0,0,0,0,0,0,0,0,0,0,0,0,0,0,0,0,0,0,0,0,0,0,0,0,0,0,0,0,0,0,0,0,0,0,0,0,0,0,0,0,0,0,0,0,0,0,0,0,0,0,0,0,0,0,0,0,0,0,0,0,0,0,0,0,0,0,0,0,0,0,0,0,0,0,0,0,0,0,0,0,0,0,0,0,0,0,0,0,0,0]
[null,null,null,null,3,{"$f":"SUM(F108,F122,F136)","v":0},0,{"$f":"SUM(H108,H122,H136)","v":0},0,0,0,0,0,0,0,0,0,0,0,0,0,0,0,0,0,0,0,0,0,0,0,0,0,0,0,0,0,0,0,0,0,0,0,0,0,0,0,0,0,0,0,0,0,0,0,0,0,0,0,0,0,0,0,0,0,0,0,0,0,0,0,0,0,0,0,0,0,0,0,0,0,0,0,0,0,0,0,0,0,0,0,0,0,0,0,0,0,0,0,0,0,0,0,0,0,0,0,0,0,0,0,0,0,0,0,0,0,0,0,0,0,0,0,0,0,0,0,0,0,0,0,0,0,0,0,0,0,0,0,0,0,0,0,0,0,0,0,0,0,0,0,0,0,0,0,0,0,0,0,0,0,0,0,0,0,0,0,0,0,0,0,0,0,0,0,0,0,0,0,0,0,0,0,0,0,0,0,0,0,0,0,0,0,0,0,0,0,0,0,0,0,0,0,0,0,0,0,0,0,0,0,0,0,0,0,0,0,0,0,0,0,0,0,0,0,0,0,0,0,0,0,0,0,0,0,0,0,0,0,0,0,0,0,0,0,0,0,0,0,0,0,0,0,0,0,0,0,0,0,0,0,0,0,0,0]
[null,null,null,null,4,{"$f":"SUM(F109,F123,F137)","v":5.2083333333333329E-2},5.2083333333333329E-2,5.2083333333333329E-2,5.2083333333333329E-2,5.2083333333333329E-2,5.2083333333333329E-2,5.2083333333333329E-2,5.2083333333333329E-2,5.2083333333333329E-2,5.2083333333333329E-2,5.2083333333333329E-2,5.2083333333333329E-2,5.2083333333333329E-2,5.2083333333333329E-2,5.2083333333333329E-2,5.2083333333333329E-2,5.2083333333333329E-2,5.2083333333333329E-2,5.2083333333333329E-2,5.2083333333333329E-2,5.2083333333333329E-2,5.2083333333333329E-2,5.2083333333333329E-2,5.2083333333333329E-2,5.2083333333333329E-2,5.2083333333333329E-2,5.2083333333333329E-2,5.2083333333333329E-2,5.2083333333333329E-2,5.2083333333333329E-2,5.2083333333333329E-2,5.2083333333333329E-2,5.2083333333333329E-2,5.2083333333333329E-2,5.2083333333333329E-2,5.2083333333333329E-2,5.2083333333333329E-2,5.2083333333333329E-2,5.2083333333333329E-2,5.2083333333333329E-2,5.2083333333333329E-2,5.2083333333333329E-2,5.2083333333333329E-2,5.2083333333333329E-2,5.2083333333333329E-2,5.2083333333333329E-2,5.2083333333333329E-2,5.2083333333333329E-2,5.2083333333333329E-2,5.2083333333333329E-2,5.2083333333333329E-2,5.2083333333333329E-2,5.2083333333333329E-2,5.2083333333333329E-2,5.2083333333333329E-2,5.2083333333333329E-2,0,0,0,0,0,0,0,0,0,0,0,0,0,0,0,0,0,0,0,0,0,0,0,0,0,0,0,0,0,0,0,0,0,0,0,0,0,0,0,0,0,0,0,0,0,0,0,0,0,0,0,0,0,0,0,0,0,0,0,0,0,0,0,0,0,0,0,0,0,0,0,0,0,{"$f":"SUM(EE109,EE123,EE137)","v":0},0,0,0,0,0,0,0,0,0,0,0,0,0,0,0,0,0,0,0,0,0,0,0,0,0,0,0,0,0,0,0,0,0,0,0,0,0,0,0,0,0,0,0,0,0,0,0,0,0,0,0,0,0,0,0,0,0,0,0,0,0,0,0,0,0,0,0,0,0,0,0,0,0,0,0,0,0,0,0,0,0,0,0,0,0,0,0,0,0,0,0,0,0,0,0,0,0,0,0,0,0,0,0,0,0,0,0,0,0,0,0,0,0,0,0,0,0,0,0,0,0,0,0,0,0,0,0,{"$f":"SUM(JC109,JC123,JC137)","v":0},0,0]
[null,null,null,null,5,{"$f":"SUM(F110,F124,F138)","v":0},0,0,0,0,0,0,0,0,0,0,0,0,0,0,0,0,0,0,0,0,0,0,0,0,0,0,0,0,0,0,0,0,0,0,0,0,0,0,0,0,0,0,0,0,0,0,0,0,0,0,0,0,5.2083333333333329E-2,5.2083333333333329E-2,5.2083333333333329E-2,5.2083333333333329E-2,5.2083333333333329E-2,5.2083333333333329E-2,5.2083333333333329E-2,5.2083333333333329E-2,5.2083333333333329E-2,5.2083333333333329E-2,5.2083333333333329E-2,5.2083333333333329E-2,5.2083333333333329E-2,{"$f":"SUM(BT110,BT124,BT138)","v":5.2083333333333329E-2},5.2083333333333329E-2,5.2083333333333329E-2,5.2083333333333329E-2,5.2083333333333329E-2,5.2083333333333329E-2,5.2083333333333329E-2,5.2083333333333329E-2,5.2083333333333329E-2,5.2083333333333329E-2,5.2083333333333329E-2,5.2083333333333329E-2,5.2083333333333329E-2,5.2083333333333329E-2,5.2083333333333329E-2,5.2083333333333329E-2,5.2083333333333329E-2,5.2083333333333329E-2,5.2083333333333329E-2,5.2083333333333329E-2,5.2083333333333329E-2,5.2083333333333329E-2,5.2083333333333329E-2,5.2083333333333329E-2,5.2083333333333329E-2,5.2083333333333329E-2,5.2083333333333329E-2,5.2083333333333329E-2,5.2083333333333329E-2,5.2083333333333329E-2,5.2083333333333329E-2,5.2083333333333329E-2,5.2083333333333329E-2,5.2083333333333329E-2,5.2083333333333329E-2,5.2083333333333329E-2,5.2083333333333329E-2,5.2083333333333329E-2,5.2083333333333329E-2,5.2083333333333329E-2,5.2083333333333329E-2,5.2083333333333329E-2,5.2083333333333329E-2,0,0,0,0,0,0,0,0,0,0,0,0,0,0,0,0,0,0,0,0,0,0,0,0,0,0,0,0,0,0,0,0,0,0,0,0,0,0,0,0,0,0,0,0,0,0,0,0,0,0,0,0,0,0,0,0,0,0,0,0,0,0,0,0,0,0,0,0,0,0,0,0,0,0,0,0,0,0,0,0,0,0,0,0,0,{"$f":"SUM(GR110,GR124,GR138)","v":0},0,0,0,0,0,0,0,0,0,0,0,0,0,0,0,0,0,0,0,0,0,0,0,0,0,0,0,0,0,0,0,0,0,0,0,0,0,0,0,0,0,0,0,0,0,0,0,0,0,0,0,0,0,0,0,0,0,0,0,0,0,0,0,0,0]
[null,null,null,null,6,{"$f":"SUM(F111,F125,F139)","v":0.41666666666666663},0.46874999999999994,0.46874999999999994,0.46874999999999994,0.46874999999999994,0.46874999999999994,0.46874999999999994,0.46874999999999994,0.46874999999999994,0.46874999999999994,0.46874999999999994,0.46874999999999994,0.46874999999999994,0.46874999999999994,0.46874999999999994,0.46874999999999994,0.46874999999999994,0.46874999999999994,0.46874999999999994,0.46874999999999994,0.46874999999999994,0.46874999999999994,0.46874999999999994,0.46874999999999994,0.46874999999999994,0.46874999999999994,0.46874999999999994,0.46874999999999994,0.46874999999999994,0.46874999999999994,0.46874999999999994,0.46874999999999994,0.46874999999999994,0.46874999999999994,0.46874999999999994,0.46874999999999994,0.46874999999999994,0.46874999999999994,0.46874999999999994,0.46874999999999994,0.46874999999999994,0.46874999999999994,0.46874999999999994,0.46874999999999994,0.46874999999999994,0.46874999999999994,0.46874999999999994,0.46874999999999994,0.46874999999999994,0.46874999999999994,0.46874999999999994,0.46874999999999994,0.46874999999999994,0.46874999999999994,0.46874999999999994,0.46874999999999994,5.2083333333333329E-2,0,0,0,0,0,0,0,0,{"$f":"SUM(BS111,BS125,BS139)","v":0},0,0,0,0,0,0,0,0,0,0,0,0,0,0,0,0,0,0,0,0,0,0,0,0,0,0,0,0,0,0,0,0,0,0,0,0,0,0,0,0,0,0,0,0,0,0,0,0,0,0,0,0,0,0,0,0,0,0,0,0,0,0,0,0,0,0,0,0,0,0,0,0,0,0,0,0,0,0,0,0,0,0,0,0,0,0,0,0,0,0,0,0,0,0,0,0,0,0,0,0,0,0,0,0,0,0,0,0,0,0,0,0,0,0,0,0,0,0,0,0,0,0,0,0,0,0,0,0,0,0,0,0,0,0,0,0,0,0,0,0,0,0,0,0,0,0,0,0,0,0,0,0,0,0,0,0,0,0,0,0,0,0,0,0,0,0,0,0,0,0,0,0,0,0,0,0,0,0,0,0,0,0,0,0,0,0,0,0,0,0,0,0,0,0]
[null,null,null,null,7,{"$f":"SUM(F112,F126,F140)","v":0},0,{"$f":"SUM(H112,H126,H140)","v":0},0,0,0,0,0,0,0,0,0,0,0,0,0,0,0,0,0,0,0,0,0,0,0,0,0,0,0,0,0,0,0,0,0,0,0,0,0,0,0,0,0,0,0,0,0,0,0,0,0,0,0,0,0,0,0,0,0,0,0,0,0,0,0,0,0,0,0,0,0,0,0,0,0,0,0,0,0,0,0,0,0,0,0,0,0,0,0,0,0,0,0,0,0,0,0,0,0,0,0,0,0,0,0,0,0,0,0,0,0,0,0,0,0,0,0,0,0,0,0,0,0,0,0,0,0,0,0,0,0,0,0,0,0,0,0,0,0,0,0,0,0,0,0,0,0,0,0,0,0,0,0,0,0,0,0,0,0,0,0,0,0,0,0,0,0,0,0,0,0,0,0,0,0,0,0,0,0,0,0,0,0,0,0,0,0,0,0,0,0,0,0,0,0,0,0,0,0,0,0,0,0,0,0,0,0,0,0,0,0,0,0,0,0,0,0,0,0,0,0,0,0,0,0,0,0,0,0,0,0,0,0,0,0,0,0,0,0,0,0,0,0,0,0,0,0,0,0,0,0,0,0,0,0,0,0,0,0]
[null,null,null,null,"8a",{"$f":"SUM(F113,F127,F141)","v":0},0,0,0,0,0,0,0,0,0,0,0,0,0,0,0,0,0,0,0,0,0,0,0,0,0,0,0,0,0,0,0,0,0,0,0,0,0,0,0,0,0,0,0,0,0,0,0,0,0,0,0,0,0,0,0,0,0,0,0,0,0,0,0,0,0,0,0,0,0,0,0,0,0,0,0,0,0,0,0,0,0,0,0,0,0,0,0,0,0,0,0,0,0,0,0,0,0,0,0,0,0,0,0,0,0,0,0,0,0,0,0,0,0,0,0,0,0,0,0,0,0,0,0,0,0,0,0,0,0,0,0,{"$f":"SUM(EH113,EH127,EH141)","v":0},0,0,0,0,0,0,0,0,0,0,0,0,0,0,0,0,0,0,0,0,0,0,0,0,0,0,0,0,0,0,0,0,0,0,0,0,0,0,0,0,0,0,0,0,0,0,0,0,0,0,0,0,0,0,0,0,0,0,0,0,0,0,0,0,0,0,0,0,0,0,0,0,0,0,0,0,0,0,0,0,0,0,0,0,0,0,0,0,0,0,0,0,0,0,0,0,0,0,0,0,0,0,0,0,0,0,0,0,0,0,0,0,0,0,0,0,0,0,0,0,0,0,0,0,0,0,0]
[null,null,null,null,"8b",{"$f":"SUM(F114,F128,F142)","v":0},0,0,0,0,0,0,0,0,0,0,0,0,0,0,0,0,0,0,0,0,0,0,0,0,0,0,0,0,0,0,0,0,0,0,0,0,0,0,0,0,0,0,0,0,0,0,0,0,0,0,0,0,0,0,0,0,0,0,0,0,0,0,0,0,0,0,0,0,0,0,0,0,0,0,0,0,0,0,0,0,0,0,0,0,0,0,0,0,0,0,0,0,0,0,0,0,0,0,0,0,0,0,0,0,0,0,0,0,0,0,0,0,0,0,0,0,0,0,0,0,0,0,0,0,0,0,0,0,0,{"$f":"SUM(EF114,EF128,EF142)","v":0},0,0,0,0,0,0,0,0,0,0,0,0,0,0,0,0,0,0,0,0,0,0,0,0,0,0,0,0,0,0,0,0,0,0,0,0,0,0,0,0,0,0,0,0,0,0,0,0,0,0,0,0,0,0,0,0,0,0,0,0,0,0,0,0,0,0,{"$f":"SUM(GU114,GU128,GU142)","v":0},0,0,0,0,0,0,0,0,0,0,0,0,0,0,0,0,0,0,0,0,0,0,0,0,0,0,0,0,0,0,0,0,0,0,0,0,0,0,0,0,0,0,0,0,0,0,0,0,0,0,0,0,0,0,0,0,0,0,0,0,0,0]
[null,null,null,null,"8c",{"$f":"SUM(F115,F129,F143)","v":0},0,0,0,0,0,0,0,0,0,0,0,0,0,0,0,0,0,0,0,0,0,0,0,0,0,0,0,0,0,0,0,0,0,0,0,0,0,0,0,0,0,0,0,0,0,0,0,0,0,0,0,0,0,0,0,0,0,0,0,0,0,0,0,0,{"$f":"SUM(BS115,BS129,BS143)","v":0},0,0,0,0,0,0,0,0,0,0,0,0,0,0,0,0,0,0,0,0,0,0,0,0,0,0,0,0,0,0,0,0,0,0,0,0,0,0,0,0,0,0,0,0,0,0,0,0,0,0,0,0,0,0,0,0,0,0,0,0,0,0,0,0,0,0,0,0,0,0,0,0,0,0,0,0,0,0,0,0,0,0,0,0,0,0,0,0,0,0,0,0,0,0,0,0,0,0,0,0,0,0,0,0,0,0,0,0,0,0,0,0,0,0,0,0,0,0,0,0,0,0,0,0,0,0,0,0,0,0,{"$f":"SUM(GT115,GT129,GT143)","v":0},0,0,0,0,0,0,0,0,0,0,0,0,0,0,0,0,0,0,0,0,0,0,0,0,0,0,0,0,0,0,0,0,0,0,0,0,0,0,0,0,0,0,0,0,0,0,0,0,0,0,0,0,0,0,0,0,0,0,0,0,0,0,0]
[null,null,null,null,"8d",{"$f":"SUM(F116,F130,F144)","v":0},0,{"$f":"SUM(H116,H130,H144)","v":0},0,0,0,0,0,0,0,0,0,0,0,0,0,0,0,0,0,0,0,0,0,0,0,0,0,0,0,0,0,0,0,0,0,0,0,0,0,0,0,0,0,0,0,0,0,0,0,0,0,0,0,0,0,0,0,0,0,0,0,0,0,0,0,0,0,0,0,0,0,0,0,0,0,0,0,0,0,0,0,0,0,0,0,0,0,0,0,0,0,0,0,0,0,0,0,0,0,0,0,0,0,0,0,0,0,0,0,0,0,0,0,0,0,0,0,0,0,0,0,0,0,0,0,0,0,0,0,0,0,0,0,0,0,0,0,0,0,0,0,0,0,0,0,0,0,0,0,0,0,0,0,0,0,0,0,0,0,0,0,0,0,0,0,0,0,0,0,0,0,0,0,0,0,0,0,0,0,0,0,0,0,0,0,0,0,0,0,0,0,0,0,0,0,0,0,0,0,0,0,0,0,0,0,0,0,0,0,0,0,0,0,0,0,0,0,0,0,0,0,0,0,0,0,0,0,0,0,0,0,0,0,0,0,0,0,0,0,0,0,0,0,0,0,0,0,0,0,0,0,0,0,0,0,0,0,0,0]
[null,null,null,null,9,{"$f":"SUM(F117,F131,F145)","v":0},0,0,0,0,0,0,0,0,0,0,0,0,0,0,0,0,0,0,0,0,0,0,0,0,0,0,0,0,0,0,0,0,0,0,0,0,0,0,0,0,0,0,0,0,0,0,0,0,0,0,0,0,0,0,0,0,0,0,0,0,0,0,0,0,0,0,0,0,0,0,0,0,0,0,0,0,0,0,0,0,0,0,0,0,0,0,0,0,0,0,0,0,0,0,0,0,0,0,0,0,0,0,0,0,0,0,0,0,0,0,0,0,0,0,0,0,0,0,0,0,0,0,0,0,0,0,0,0,0,0,0,0,0,0,0,0,0,0,0,0,0,0,0,0,0,0,0,0,0,0,0,0,0,0,0,0,0,0,0,0,0,0,0,0,0,0,0,0,0,0,0,0,0,0,0,0,0,0,0,0,0,0,0,0,0,0,0,0,0,0,0,0,{"$f":"SUM(GQ117,GQ131,GQ145)","v":0},0,0,0,0,0,0,0,0,0,0,0,0,0,0,0,0,0,0,0,0,0,0,0,0,0,0,0,0,0,0,0,0,0,0,0,0,0,0,0,0,0,0,0,0,0,0,0,0,0,0,0,0,0,0,0,0,0,0,0,0,0,0,0,0,0,0]
[]
[null,null,null,null,"Staff - Adj Capacity"]
[null,null,null,null,1,{"$f":"IF($D$3<>\"\",SUMIFS('Staff Capacity'!$I$10:$I$39,'Staff Capacity'!$G$10:$G$39,1,'Staff Capacity'!$H$10:$H$39,$D$3),SUMIF('Staff Capacity'!$G$10:$G$39,1,'Staff Capacity'!$I$10:$I$39))","v":0},{"$f":"IF($D$3<>\"\",SUMIFS('Staff Capacity'!$I$10:$I$39,'Staff Capacity'!$G$10:$G$39,1,'Staff Capacity'!$H$10:$H$39,$D$3),SUMIF('Staff Capacity'!$G$10:$G$39,1,'Staff Capacity'!$I$10:$I$39))","v":0},{"$f":"IF($D$3<>\"\",SUMIFS('Staff Capacity'!$I$10:$I$39,'Staff Capacity'!$G$10:$G$39,1,'Staff Capacity'!$H$10:$H$39,$D$3),SUMIF('Staff Capacity'!$G$10:$G$39,1,'Staff Capacity'!$I$10:$I$39))","v":0},{"$f":"IF($D$3<>\"\",SUMIFS('Staff Capacity'!$I$10:$I$39,'Staff Capacity'!$G$10:$G$39,1,'Staff Capacity'!$H$10:$H$39,$D$3),SUMIF('Staff Capacity'!$G$10:$G$39,1,'Staff Capacity'!$I$10:$I$39))","v":0},{"$f":"IF($D$3<>\"\",SUMIFS('Staff Capacity'!$I$10:$I$39,'Staff Capacity'!$G$10:$G$39,1,'Staff Capacity'!$H$10:$H$39,$D$3),SUMIF('Staff Capacity'!$G$10:$G$39,1,'Staff Capacity'!$I$10:$I$39))","v":0},{"$f":"IF($D$3<>\"\",SUMIFS('Staff Capacity'!$I$10:$I$39,'Staff Capacity'!$G$10:$G$39,1,'Staff Capacity'!$H$10:$H$39,$D$3),SUMIF('Staff Capacity'!$G$10:$G$39,1,'Staff Capacity'!$I$10:$I$39))","v":0},{"$f":"IF($D$3<>\"\",SUMIFS('Staff Capacity'!$I$10:$I$39,'Staff Capacity'!$G$10:$G$39,1,'Staff Capacity'!$H$10:$H$39,$D$3),SUMIF('Staff Capacity'!$G$10:$G$39,1,'Staff Capacity'!$I$10:$I$39))","v":0},{"$f":"IF($D$3<>\"\",SUMIFS('Staff Capacity'!$I$10:$I$39,'Staff Capacity'!$G$10:$G$39,1,'Staff Capacity'!$H$10:$H$39,$D$3),SUMIF('Staff Capacity'!$G$10:$G$39,1,'Staff Capacity'!$I$10:$I$39))","v":0},{"$f":"IF($D$3<>\"\",SUMIFS('Staff Capacity'!$I$10:$I$39,'Staff Capacity'!$G$10:$G$39,1,'Staff Capacity'!$H$10:$H$39,$D$3),SUMIF('Staff Capacity'!$G$10:$G$39,1,'Staff Capacity'!$I$10:$I$39))","v":0},{"$f":"IF($D$3<>\"\",SUMIFS('Staff Capacity'!$I$10:$I$39,'Staff Capacity'!$G$10:$G$39,1,'Staff Capacity'!$H$10:$H$39,$D$3),SUMIF('Staff Capacity'!$G$10:$G$39,1,'Staff Capacity'!$I$10:$I$39))","v":0},{"$f":"IF($D$3<>\"\",SUMIFS('Staff Capacity'!$I$10:$I$39,'Staff Capacity'!$G$10:$G$39,1,'Staff Capacity'!$H$10:$H$39,$D$3),SUMIF('Staff Capacity'!$G$10:$G$39,1,'Staff Capacity'!$I$10:$I$39))","v":0},{"$f":"IF($D$3<>\"\",SUMIFS('Staff Capacity'!$I$10:$I$39,'Staff Capacity'!$G$10:$G$39,1,'Staff Capacity'!$H$10:$H$39,$D$3),SUMIF('Staff Capacity'!$G$10:$G$39,1,'Staff Capacity'!$I$10:$I$39))","v":0},{"$f":"IF($D$3<>\"\",SUMIFS('Staff Capacity'!$I$10:$I$39,'Staff Capacity'!$G$10:$G$39,1,'Staff Capacity'!$H$10:$H$39,$D$3),SUMIF('Staff Capacity'!$G$10:$G$39,1,'Staff Capacity'!$I$10:$I$39))","v":0},{"$f":"IF($D$3<>\"\",SUMIFS('Staff Capacity'!$I$10:$I$39,'Staff Capacity'!$G$10:$G$39,1,'Staff Capacity'!$H$10:$H$39,$D$3),SUMIF('Staff Capacity'!$G$10:$G$39,1,'Staff Capacity'!$I$10:$I$39))","v":0},{"$f":"IF($D$3<>\"\",SUMIFS('Staff Capacity'!$I$10:$I$39,'Staff Capacity'!$G$10:$G$39,1,'Staff Capacity'!$H$10:$H$39,$D$3),SUMIF('Staff Capacity'!$G$10:$G$39,1,'Staff Capacity'!$I$10:$I$39))","v":0},{"$f":"IF($D$3<>\"\",SUMIFS('Staff Capacity'!$I$10:$I$39,'Staff Capacity'!$G$10:$G$39,1,'Staff Capacity'!$H$10:$H$39,$D$3),SUMIF('Staff Capacity'!$G$10:$G$39,1,'Staff Capacity'!$I$10:$I$39))","v":0},{"$f":"IF($D$3<>\"\",SUMIFS('Staff Capacity'!$I$10:$I$39,'Staff Capacity'!$G$10:$G$39,1,'Staff Capacity'!$H$10:$H$39,$D$3),SUMIF('Staff Capacity'!$G$10:$G$39,1,'Staff Capacity'!$I$10:$I$39))","v":0},{"$f":"IF($D$3<>\"\",SUMIFS('Staff Capacity'!$I$10:$I$39,'Staff Capacity'!$G$10:$G$39,1,'Staff Capacity'!$H$10:$H$39,$D$3),SUMIF('Staff Capacity'!$G$10:$G$39,1,'Staff Capacity'!$I$10:$I$39))","v":0},{"$f":"IF($D$3<>\"\",SUMIFS('Staff Capacity'!$I$10:$I$39,'Staff Capacity'!$G$10:$G$39,1,'Staff Capacity'!$H$10:$H$39,$D$3),SUMIF('Staff Capacity'!$G$10:$G$39,1,'Staff Capacity'!$I$10:$I$39))","v":0},{"$f":"IF($D$3<>\"\",SUMIFS('Staff Capacity'!$I$10:$I$39,'Staff Capacity'!$G$10:$G$39,1,'Staff Capacity'!$H$10:$H$39,$D$3),SUMIF('Staff Capacity'!$G$10:$G$39,1,'Staff Capacity'!$I$10:$I$39))","v":0},{"$f":"IF($D$3<>\"\",SUMIFS('Staff Capacity'!$I$10:$I$39,'Staff Capacity'!$G$10:$G$39,1,'Staff Capacity'!$H$10:$H$39,$D$3),SUMIF('Staff Capacity'!$G$10:$G$39,1,'Staff Capacity'!$I$10:$I$39))","v":0},{"$f":"IF($D$3<>\"\",SUMIFS('Staff Capacity'!$I$10:$I$39,'Staff Capacity'!$G$10:$G$39,1,'Staff Capacity'!$H$10:$H$39,$D$3),SUMIF('Staff Capacity'!$G$10:$G$39,1,'Staff Capacity'!$I$10:$I$39))","v":0},{"$f":"IF($D$3<>\"\",SUMIFS('Staff Capacity'!$I$10:$I$39,'Staff Capacity'!$G$10:$G$39,1,'Staff Capacity'!$H$10:$H$39,$D$3),SUMIF('Staff Capacity'!$G$10:$G$39,1,'Staff Capacity'!$I$10:$I$39))","v":0},{"$f":"IF($D$3<>\"\",SUMIFS('Staff Capacity'!$I$10:$I$39,'Staff Capacity'!$G$10:$G$39,1,'Staff Capacity'!$H$10:$H$39,$D$3),SUMIF('Staff Capacity'!$G$10:$G$39,1,'Staff Capacity'!$I$10:$I$39))","v":0},{"$f":"IF($D$3<>\"\",SUMIFS('Staff Capacity'!$I$10:$I$39,'Staff Capacity'!$G$10:$G$39,1,'Staff Capacity'!$H$10:$H$39,$D$3),SUMIF('Staff Capacity'!$G$10:$G$39,1,'Staff Capacity'!$I$10:$I$39))","v":0},{"$f":"IF($D$3<>\"\",SUMIFS('Staff Capacity'!$I$10:$I$39,'Staff Capacity'!$G$10:$G$39,1,'Staff Capacity'!$H$10:$H$39,$D$3),SUMIF('Staff Capacity'!$G$10:$G$39,1,'Staff Capacity'!$I$10:$I$39))","v":0},{"$f":"IF($D$3<>\"\",SUMIFS('Staff Capacity'!$I$10:$I$39,'Staff Capacity'!$G$10:$G$39,1,'Staff Capacity'!$H$10:$H$39,$D$3),SUMIF('Staff Capacity'!$G$10:$G$39,1,'Staff Capacity'!$I$10:$I$39))","v":0},{"$f":"IF($D$3<>\"\",SUMIFS('Staff Capacity'!$I$10:$I$39,'Staff Capacity'!$G$10:$G$39,1,'Staff Capacity'!$H$10:$H$39,$D$3),SUMIF('Staff Capacity'!$G$10:$G$39,1,'Staff Capacity'!$I$10:$I$39))","v":0},{"$f":"IF($D$3<>\"\",SUMIFS('Staff Capacity'!$I$10:$I$39,'Staff Capacity'!$G$10:$G$39,1,'Staff Capacity'!$H$10:$H$39,$D$3),SUMIF('Staff Capacity'!$G$10:$G$39,1,'Staff Capacity'!$I$10:$I$39))","v":0},{"$f":"IF($D$3<>\"\",SUMIFS('Staff Capacity'!$I$10:$I$39,'Staff Capacity'!$G$10:$G$39,1,'Staff Capacity'!$H$10:$H$39,$D$3),SUMIF('Staff Capacity'!$G$10:$G$39,1,'Staff Capacity'!$I$10:$I$39))","v":0},{"$f":"IF($D$3<>\"\",SUMIFS('Staff Capacity'!$I$10:$I$39,'Staff Capacity'!$G$10:$G$39,1,'Staff Capacity'!$H$10:$H$39,$D$3),SUMIF('Staff Capacity'!$G$10:$G$39,1,'Staff Capacity'!$I$10:$I$39))","v":0},{"$f":"IF($D$3<>\"\",SUMIFS('Staff Capacity'!$I$10:$I$39,'Staff Capacity'!$G$10:$G$39,1,'Staff Capacity'!$H$10:$H$39,$D$3),SUMIF('Staff Capacity'!$G$10:$G$39,1,'Staff Capacity'!$I$10:$I$39))","v":0},{"$f":"IF($D$3<>\"\",SUMIFS('Staff Capacity'!$I$10:$I$39,'Staff Capacity'!$G$10:$G$39,1,'Staff Capacity'!$H$10:$H$39,$D$3),SUMIF('Staff Capacity'!$G$10:$G$39,1,'Staff Capacity'!$I$10:$I$39))","v":0},{"$f":"IF($D$3<>\"\",SUMIFS('Staff Capacity'!$I$10:$I$39,'Staff Capacity'!$G$10:$G$39,1,'Staff Capacity'!$H$10:$H$39,$D$3),SUMIF('Staff Capacity'!$G$10:$G$39,1,'Staff Capacity'!$I$10:$I$39))","v":0},{"$f":"IF($D$3<>\"\",SUMIFS('Staff Capacity'!$I$10:$I$39,'Staff Capacity'!$G$10:$G$39,1,'Staff Capacity'!$H$10:$H$39,$D$3),SUMIF('Staff Capacity'!$G$10:$G$39,1,'Staff Capacity'!$I$10:$I$39))","v":0},{"$f":"IF($D$3<>\"\",SUMIFS('Staff Capacity'!$I$10:$I$39,'Staff Capacity'!$G$10:$G$39,1,'Staff Capacity'!$H$10:$H$39,$D$3),SUMIF('Staff Capacity'!$G$10:$G$39,1,'Staff Capacity'!$I$10:$I$39))","v":0},{"$f":"IF($D$3<>\"\",SUMIFS('Staff Capacity'!$I$10:$I$39,'Staff Capacity'!$G$10:$G$39,1,'Staff Capacity'!$H$10:$H$39,$D$3),SUMIF('Staff Capacity'!$G$10:$G$39,1,'Staff Capacity'!$I$10:$I$39))","v":0},{"$f":"IF($D$3<>\"\",SUMIFS('Staff Capacity'!$I$10:$I$39,'Staff Capacity'!$G$10:$G$39,1,'Staff Capacity'!$H$10:$H$39,$D$3),SUMIF('Staff Capacity'!$G$10:$G$39,1,'Staff Capacity'!$I$10:$I$39))","v":0},{"$f":"IF($D$3<>\"\",SUMIFS('Staff Capacity'!$I$10:$I$39,'Staff Capacity'!$G$10:$G$39,1,'Staff Capacity'!$H$10:$H$39,$D$3),SUMIF('Staff Capacity'!$G$10:$G$39,1,'Staff Capacity'!$I$10:$I$39))","v":0},{"$f":"IF($D$3<>\"\",SUMIFS('Staff Capacity'!$I$10:$I$39,'Staff Capacity'!$G$10:$G$39,1,'Staff Capacity'!$H$10:$H$39,$D$3),SUMIF('Staff Capacity'!$G$10:$G$39,1,'Staff Capacity'!$I$10:$I$39))","v":0},{"$f":"IF($D$3<>\"\",SUMIFS('Staff Capacity'!$I$10:$I$39,'Staff Capacity'!$G$10:$G$39,1,'Staff Capacity'!$H$10:$H$39,$D$3),SUMIF('Staff Capacity'!$G$10:$G$39,1,'Staff Capacity'!$I$10:$I$39))","v":0},{"$f":"IF($D$3<>\"\",SUMIFS('Staff Capacity'!$I$10:$I$39,'Staff Capacity'!$G$10:$G$39,1,'Staff Capacity'!$H$10:$H$39,$D$3),SUMIF('Staff Capacity'!$G$10:$G$39,1,'Staff Capacity'!$I$10:$I$39))","v":0},{"$f":"IF($D$3<>\"\",SUMIFS('Staff Capacity'!$I$10:$I$39,'Staff Capacity'!$G$10:$G$39,1,'Staff Capacity'!$H$10:$H$39,$D$3),SUMIF('Staff Capacity'!$G$10:$G$39,1,'Staff Capacity'!$I$10:$I$39))","v":0},{"$f":"IF($D$3<>\"\",SUMIFS('Staff Capacity'!$I$10:$I$39,'Staff Capacity'!$G$10:$G$39,1,'Staff Capacity'!$H$10:$H$39,$D$3),SUMIF('Staff Capacity'!$G$10:$G$39,1,'Staff Capacity'!$I$10:$I$39))","v":0},{"$f":"IF($D$3<>\"\",SUMIFS('Staff Capacity'!$I$10:$I$39,'Staff Capacity'!$G$10:$G$39,1,'Staff Capacity'!$H$10:$H$39,$D$3),SUMIF('Staff Capacity'!$G$10:$G$39,1,'Staff Capacity'!$I$10:$I$39))","v":0},{"$f":"IF($D$3<>\"\",SUMIFS('Staff Capacity'!$I$10:$I$39,'Staff Capacity'!$G$10:$G$39,1,'Staff Capacity'!$H$10:$H$39,$D$3),SUMIF('Staff Capacity'!$G$10:$G$39,1,'Staff Capacity'!$I$10:$I$39))","v":0},{"$f":"IF($D$3<>\"\",SUMIFS('Staff Capacity'!$I$10:$I$39,'Staff Capacity'!$G$10:$G$39,1,'Staff Capacity'!$H$10:$H$39,$D$3),SUMIF('Staff Capacity'!$G$10:$G$39,1,'Staff Capacity'!$I$10:$I$39))","v":0},{"$f":"IF($D$3<>\"\",SUMIFS('Staff Capacity'!$I$10:$I$39,'Staff Capacity'!$G$10:$G$39,1,'Staff Capacity'!$H$10:$H$39,$D$3),SUMIF('Staff Capacity'!$G$10:$G$39,1,'Staff Capacity'!$I$10:$I$39))","v":0},{"$f":"IF($D$3<>\"\",SUMIFS('Staff Capacity'!$I$10:$I$39,'Staff Capacity'!$G$10:$G$39,1,'Staff Capacity'!$H$10:$H$39,$D$3),SUMIF('Staff Capacity'!$G$10:$G$39,1,'Staff Capacity'!$I$10:$I$39))","v":0},{"$f":"IF($D$3<>\"\",SUMIFS('Staff Capacity'!$I$10:$I$39,'Staff Capacity'!$G$10:$G$39,1,'Staff Capacity'!$H$10:$H$39,$D$3),SUMIF('Staff Capacity'!$G$10:$G$39,1,'Staff Capacity'!$I$10:$I$39))","v":0},{"$f":"IF($D$3<>\"\",SUMIFS('Staff Capacity'!$I$10:$I$39,'Staff Capacity'!$G$10:$G$39,1,'Staff Capacity'!$H$10:$H$39,$D$3),SUMIF('Staff Capacity'!$G$10:$G$39,1,'Staff Capacity'!$I$10:$I$39))","v":0},{"$f":"IF($D$3<>\"\",SUMIFS('Staff Capacity'!$I$10:$I$39,'Staff Capacity'!$G$10:$G$39,1,'Staff Capacity'!$H$10:$H$39,$D$3),SUMIF('Staff Capacity'!$G$10:$G$39,1,'Staff Capacity'!$I$10:$I$39))","v":0},{"$f":"IF($D$3<>\"\",SUMIFS('Staff Capacity'!$I$10:$I$39,'Staff Capacity'!$G$10:$G$39,1,'Staff Capacity'!$H$10:$H$39,$D$3),SUMIF('Staff Capacity'!$G$10:$G$39,1,'Staff Capacity'!$I$10:$I$39))","v":0},{"$f":"IF($D$3<>\"\",SUMIFS('Staff Capacity'!$I$10:$I$39,'Staff Capacity'!$G$10:$G$39,1,'Staff Capacity'!$H$10:$H$39,$D$3),SUMIF('Staff Capacity'!$G$10:$G$39,1,'Staff Capacity'!$I$10:$I$39))","v":0},{"$f":"IF($D$3<>\"\",SUMIFS('Staff Capacity'!$I$10:$I$39,'Staff Capacity'!$G$10:$G$39,1,'Staff Capacity'!$H$10:$H$39,$D$3),SUMIF('Staff Capacity'!$G$10:$G$39,1,'Staff Capacity'!$I$10:$I$39))","v":0},{"$f":"IF($D$3<>\"\",SUMIFS('Staff Capacity'!$I$10:$I$39,'Staff Capacity'!$G$10:$G$39,1,'Staff Capacity'!$H$10:$H$39,$D$3),SUMIF('Staff Capacity'!$G$10:$G$39,1,'Staff Capacity'!$I$10:$I$39))","v":0},{"$f":"IF($D$3<>\"\",SUMIFS('Staff Capacity'!$I$10:$I$39,'Staff Capacity'!$G$10:$G$39,1,'Staff Capacity'!$H$10:$H$39,$D$3),SUMIF('Staff Capacity'!$G$10:$G$39,1,'Staff Capacity'!$I$10:$I$39))","v":0},{"$f":"IF($D$3<>\"\",SUMIFS('Staff Capacity'!$I$10:$I$39,'Staff Capacity'!$G$10:$G$39,1,'Staff Capacity'!$H$10:$H$39,$D$3),SUMIF('Staff Capacity'!$G$10:$G$39,1,'Staff Capacity'!$I$10:$I$39))","v":0},{"$f":"IF($D$3<>\"\",SUMIFS('Staff Capacity'!$I$10:$I$39,'Staff Capacity'!$G$10:$G$39,1,'Staff Capacity'!$H$10:$H$39,$D$3),SUMIF('Staff Capacity'!$G$10:$G$39,1,'Staff Capacity'!$I$10:$I$39))","v":0},{"$f":"IF($D$3<>\"\",SUMIFS('Staff Capacity'!$I$10:$I$39,'Staff Capacity'!$G$10:$G$39,1,'Staff Capacity'!$H$10:$H$39,$D$3),SUMIF('Staff Capacity'!$G$10:$G$39,1,'Staff Capacity'!$I$10:$I$39))","v":0},{"$f":"IF($D$3<>\"\",SUMIFS('Staff Capacity'!$I$10:$I$39,'Staff Capacity'!$G$10:$G$39,1,'Staff Capacity'!$H$10:$H$39,$D$3),SUMIF('Staff Capacity'!$G$10:$G$39,1,'Staff Capacity'!$I$10:$I$39))","v":0},{"$f":"IF($D$3<>\"\",SUMIFS('Staff Capacity'!$I$10:$I$39,'Staff Capacity'!$G$10:$G$39,1,'Staff Capacity'!$H$10:$H$39,$D$3),SUMIF('Staff Capacity'!$G$10:$G$39,1,'Staff Capacity'!$I$10:$I$39))","v":0},{"$f":"IF($D$3<>\"\",SUMIFS('Staff Capacity'!$I$10:$I$39,'Staff Capacity'!$G$10:$G$39,1,'Staff Capacity'!$H$10:$H$39,$D$3),SUMIF('Staff Capacity'!$G$10:$G$39,1,'Staff Capacity'!$I$10:$I$39))","v":0},{"$f":"IF($D$3<>\"\",SUMIFS('Staff Capacity'!$I$10:$I$39,'Staff Capacity'!$G$10:$G$39,1,'Staff Capacity'!$H$10:$H$39,$D$3),SUMIF('Staff Capacity'!$G$10:$G$39,1,'Staff Capacity'!$I$10:$I$39))","v":0},{"$f":"IF($D$3<>\"\",SUMIFS('Staff Capacity'!$I$10:$I$39,'Staff Capacity'!$G$10:$G$39,1,'Staff Capacity'!$H$10:$H$39,$D$3),SUMIF('Staff Capacity'!$G$10:$G$39,1,'Staff Capacity'!$I$10:$I$39))","v":0},{"$f":"IF($D$3<>\"\",SUMIFS('Staff Capacity'!$I$10:$I$39,'Staff Capacity'!$G$10:$G$39,1,'Staff Capacity'!$H$10:$H$39,$D$3),SUMIF('Staff Capacity'!$G$10:$G$39,1,'Staff Capacity'!$I$10:$I$39))","v":0},{"$f":"IF($D$3<>\"\",SUMIFS('Staff Capacity'!$I$10:$I$39,'Staff Capacity'!$G$10:$G$39,1,'Staff Capacity'!$H$10:$H$39,$D$3),SUMIF('Staff Capacity'!$G$10:$G$39,1,'Staff Capacity'!$I$10:$I$39))","v":0},{"$f":"IF($D$3<>\"\",SUMIFS('Staff Capacity'!$I$10:$I$39,'Staff Capacity'!$G$10:$G$39,1,'Staff Capacity'!$H$10:$H$39,$D$3),SUMIF('Staff Capacity'!$G$10:$G$39,1,'Staff Capacity'!$I$10:$I$39))","v":0},{"$f":"IF($D$3<>\"\",SUMIFS('Staff Capacity'!$I$10:$I$39,'Staff Capacity'!$G$10:$G$39,1,'Staff Capacity'!$H$10:$H$39,$D$3),SUMIF('Staff Capacity'!$G$10:$G$39,1,'Staff Capacity'!$I$10:$I$39))","v":0},{"$f":"IF($D$3<>\"\",SUMIFS('Staff Capacity'!$I$10:$I$39,'Staff Capacity'!$G$10:$G$39,1,'Staff Capacity'!$H$10:$H$39,$D$3),SUMIF('Staff Capacity'!$G$10:$G$39,1,'Staff Capacity'!$I$10:$I$39))","v":0},{"$f":"IF($D$3<>\"\",SUMIFS('Staff Capacity'!$I$10:$I$39,'Staff Capacity'!$G$10:$G$39,1,'Staff Capacity'!$H$10:$H$39,$D$3),SUMIF('Staff Capacity'!$G$10:$G$39,1,'Staff Capacity'!$I$10:$I$39))","v":0},{"$f":"IF($D$3<>\"\",SUMIFS('Staff Capacity'!$I$10:$I$39,'Staff Capacity'!$G$10:$G$39,1,'Staff Capacity'!$H$10:$H$39,$D$3),SUMIF('Staff Capacity'!$G$10:$G$39,1,'Staff Capacity'!$I$10:$I$39))","v":0},{"$f":"IF($D$3<>\"\",SUMIFS('Staff Capacity'!$I$10:$I$39,'Staff Capacity'!$G$10:$G$39,1,'Staff Capacity'!$H$10:$H$39,$D$3),SUMIF('Staff Capacity'!$G$10:$G$39,1,'Staff Capacity'!$I$10:$I$39))","v":0},{"$f":"IF($D$3<>\"\",SUMIFS('Staff Capacity'!$I$10:$I$39,'Staff Capacity'!$G$10:$G$39,1,'Staff Capacity'!$H$10:$H$39,$D$3),SUMIF('Staff Capacity'!$G$10:$G$39,1,'Staff Capacity'!$I$10:$I$39))","v":0},{"$f":"IF($D$3<>\"\",SUMIFS('Staff Capacity'!$I$10:$I$39,'Staff Capacity'!$G$10:$G$39,1,'Staff Capacity'!$H$10:$H$39,$D$3),SUMIF('Staff Capacity'!$G$10:$G$39,1,'Staff Capacity'!$I$10:$I$39))","v":0},{"$f":"IF($D$3<>\"\",SUMIFS('Staff Capacity'!$I$10:$I$39,'Staff Capacity'!$G$10:$G$39,1,'Staff Capacity'!$H$10:$H$39,$D$3),SUMIF('Staff Capacity'!$G$10:$G$39,1,'Staff Capacity'!$I$10:$I$39))","v":0},{"$f":"IF($D$3<>\"\",SUMIFS('Staff Capacity'!$I$10:$I$39,'Staff Capacity'!$G$10:$G$39,1,'Staff Capacity'!$H$10:$H$39,$D$3),SUMIF('Staff Capacity'!$G$10:$G$39,1,'Staff Capacity'!$I$10:$I$39))","v":0},{"$f":"IF($D$3<>\"\",SUMIFS('Staff Capacity'!$I$10:$I$39,'Staff Capacity'!$G$10:$G$39,1,'Staff Capacity'!$H$10:$H$39,$D$3),SUMIF('Staff Capacity'!$G$10:$G$39,1,'Staff Capacity'!$I$10:$I$39))","v":0},{"$f":"IF($D$3<>\"\",SUMIFS('Staff Capacity'!$I$10:$I$39,'Staff Capacity'!$G$10:$G$39,1,'Staff Capacity'!$H$10:$H$39,$D$3),SUMIF('Staff Capacity'!$G$10:$G$39,1,'Staff Capacity'!$I$10:$I$39))","v":0},{"$f":"IF($D$3<>\"\",SUMIFS('Staff Capacity'!$I$10:$I$39,'Staff Capacity'!$G$10:$G$39,1,'Staff Capacity'!$H$10:$H$39,$D$3),SUMIF('Staff Capacity'!$G$10:$G$39,1,'Staff Capacity'!$I$10:$I$39))","v":0},{"$f":"IF($D$3<>\"\",SUMIFS('Staff Capacity'!$I$10:$I$39,'Staff Capacity'!$G$10:$G$39,1,'Staff Capacity'!$H$10:$H$39,$D$3),SUMIF('Staff Capacity'!$G$10:$G$39,1,'Staff Capacity'!$I$10:$I$39))","v":0},{"$f":"IF($D$3<>\"\",SUMIFS('Staff Capacity'!$I$10:$I$39,'Staff Capacity'!$G$10:$G$39,1,'Staff Capacity'!$H$10:$H$39,$D$3),SUMIF('Staff Capacity'!$G$10:$G$39,1,'Staff Capacity'!$I$10:$I$39))","v":0},{"$f":"IF($D$3<>\"\",SUMIFS('Staff Capacity'!$I$10:$I$39,'Staff Capacity'!$G$10:$G$39,1,'Staff Capacity'!$H$10:$H$39,$D$3),SUMIF('Staff Capacity'!$G$10:$G$39,1,'Staff Capacity'!$I$10:$I$39))","v":0},{"$f":"IF($D$3<>\"\",SUMIFS('Staff Capacity'!$I$10:$I$39,'Staff Capacity'!$G$10:$G$39,1,'Staff Capacity'!$H$10:$H$39,$D$3),SUMIF('Staff Capacity'!$G$10:$G$39,1,'Staff Capacity'!$I$10:$I$39))","v":0},{"$f":"IF($D$3<>\"\",SUMIFS('Staff Capacity'!$I$10:$I$39,'Staff Capacity'!$G$10:$G$39,1,'Staff Capacity'!$H$10:$H$39,$D$3),SUMIF('Staff Capacity'!$G$10:$G$39,1,'Staff Capacity'!$I$10:$I$39))","v":0},{"$f":"IF($D$3<>\"\",SUMIFS('Staff Capacity'!$I$10:$I$39,'Staff Capacity'!$G$10:$G$39,1,'Staff Capacity'!$H$10:$H$39,$D$3),SUMIF('Staff Capacity'!$G$10:$G$39,1,'Staff Capacity'!$I$10:$I$39))","v":0},{"$f":"IF($D$3<>\"\",SUMIFS('Staff Capacity'!$I$10:$I$39,'Staff Capacity'!$G$10:$G$39,1,'Staff Capacity'!$H$10:$H$39,$D$3),SUMIF('Staff Capacity'!$G$10:$G$39,1,'Staff Capacity'!$I$10:$I$39))","v":0},{"$f":"IF($D$3<>\"\",SUMIFS('Staff Capacity'!$I$10:$I$39,'Staff Capacity'!$G$10:$G$39,1,'Staff Capacity'!$H$10:$H$39,$D$3),SUMIF('Staff Capacity'!$G$10:$G$39,1,'Staff Capacity'!$I$10:$I$39))","v":0},{"$f":"IF($D$3<>\"\",SUMIFS('Staff Capacity'!$I$10:$I$39,'Staff Capacity'!$G$10:$G$39,1,'Staff Capacity'!$H$10:$H$39,$D$3),SUMIF('Staff Capacity'!$G$10:$G$39,1,'Staff Capacity'!$I$10:$I$39))","v":0},{"$f":"IF($D$3<>\"\",SUMIFS('Staff Capacity'!$I$10:$I$39,'Staff Capacity'!$G$10:$G$39,1,'Staff Capacity'!$H$10:$H$39,$D$3),SUMIF('Staff Capacity'!$G$10:$G$39,1,'Staff Capacity'!$I$10:$I$39))","v":0},{"$f":"IF($D$3<>\"\",SUMIFS('Staff Capacity'!$I$10:$I$39,'Staff Capacity'!$G$10:$G$39,1,'Staff Capacity'!$H$10:$H$39,$D$3),SUMIF('Staff Capacity'!$G$10:$G$39,1,'Staff Capacity'!$I$10:$I$39))","v":0},{"$f":"IF($D$3<>\"\",SUMIFS('Staff Capacity'!$I$10:$I$39,'Staff Capacity'!$G$10:$G$39,1,'Staff Capacity'!$H$10:$H$39,$D$3),SUMIF('Staff Capacity'!$G$10:$G$39,1,'Staff Capacity'!$I$10:$I$39))","v":0},{"$f":"IF($D$3<>\"\",SUMIFS('Staff Capacity'!$I$10:$I$39,'Staff Capacity'!$G$10:$G$39,1,'Staff Capacity'!$H$10:$H$39,$D$3),SUMIF('Staff Capacity'!$G$10:$G$39,1,'Staff Capacity'!$I$10:$I$39))","v":0},{"$f":"IF($D$3<>\"\",SUMIFS('Staff Capacity'!$I$10:$I$39,'Staff Capacity'!$G$10:$G$39,1,'Staff Capacity'!$H$10:$H$39,$D$3),SUMIF('Staff Capacity'!$G$10:$G$39,1,'Staff Capacity'!$I$10:$I$39))","v":0},{"$f":"IF($D$3<>\"\",SUMIFS('Staff Capacity'!$I$10:$I$39,'Staff Capacity'!$G$10:$G$39,1,'Staff Capacity'!$H$10:$H$39,$D$3),SUMIF('Staff Capacity'!$G$10:$G$39,1,'Staff Capacity'!$I$10:$I$39))","v":0},{"$f":"IF($D$3<>\"\",SUMIFS('Staff Capacity'!$I$10:$I$39,'Staff Capacity'!$G$10:$G$39,1,'Staff Capacity'!$H$10:$H$39,$D$3),SUMIF('Staff Capacity'!$G$10:$G$39,1,'Staff Capacity'!$I$10:$I$39))","v":0},{"$f":"IF($D$3<>\"\",SUMIFS('Staff Capacity'!$I$10:$I$39,'Staff Capacity'!$G$10:$G$39,1,'Staff Capacity'!$H$10:$H$39,$D$3),SUMIF('Staff Capacity'!$G$10:$G$39,1,'Staff Capacity'!$I$10:$I$39))","v":0},{"$f":"IF($D$3<>\"\",SUMIFS('Staff Capacity'!$I$10:$I$39,'Staff Capacity'!$G$10:$G$39,1,'Staff Capacity'!$H$10:$H$39,$D$3),SUMIF('Staff Capacity'!$G$10:$G$39,1,'Staff Capacity'!$I$10:$I$39))","v":0},{"$f":"IF($D$3<>\"\",SUMIFS('Staff Capacity'!$I$10:$I$39,'Staff Capacity'!$G$10:$G$39,1,'Staff Capacity'!$H$10:$H$39,$D$3),SUMIF('Staff Capacity'!$G$10:$G$39,1,'Staff Capacity'!$I$10:$I$39))","v":0},{"$f":"IF($D$3<>\"\",SUMIFS('Staff Capacity'!$I$10:$I$39,'Staff Capacity'!$G$10:$G$39,1,'Staff Capacity'!$H$10:$H$39,$D$3),SUMIF('Staff Capacity'!$G$10:$G$39,1,'Staff Capacity'!$I$10:$I$39))","v":0},{"$f":"IF($D$3<>\"\",SUMIFS('Staff Capacity'!$I$10:$I$39,'Staff Capacity'!$G$10:$G$39,1,'Staff Capacity'!$H$10:$H$39,$D$3),SUMIF('Staff Capacity'!$G$10:$G$39,1,'Staff Capacity'!$I$10:$I$39))","v":0},{"$f":"IF($D$3<>\"\",SUMIFS('Staff Capacity'!$I$10:$I$39,'Staff Capacity'!$G$10:$G$39,1,'Staff Capacity'!$H$10:$H$39,$D$3),SUMIF('Staff Capacity'!$G$10:$G$39,1,'Staff Capacity'!$I$10:$I$39))","v":0},{"$f":"IF($D$3<>\"\",SUMIFS('Staff Capacity'!$I$10:$I$39,'Staff Capacity'!$G$10:$G$39,1,'Staff Capacity'!$H$10:$H$39,$D$3),SUMIF('Staff Capacity'!$G$10:$G$39,1,'Staff Capacity'!$I$10:$I$39))","v":0},{"$f":"IF($D$3<>\"\",SUMIFS('Staff Capacity'!$I$10:$I$39,'Staff Capacity'!$G$10:$G$39,1,'Staff Capacity'!$H$10:$H$39,$D$3),SUMIF('Staff Capacity'!$G$10:$G$39,1,'Staff Capacity'!$I$10:$I$39))","v":0},{"$f":"IF($D$3<>\"\",SUMIFS('Staff Capacity'!$I$10:$I$39,'Staff Capacity'!$G$10:$G$39,1,'Staff Capacity'!$H$10:$H$39,$D$3),SUMIF('Staff Capacity'!$G$10:$G$39,1,'Staff Capacity'!$I$10:$I$39))","v":0},{"$f":"IF($D$3<>\"\",SUMIFS('Staff Capacity'!$I$10:$I$39,'Staff Capacity'!$G$10:$G$39,1,'Staff Capacity'!$H$10:$H$39,$D$3),SUMIF('Staff Capacity'!$G$10:$G$39,1,'Staff Capacity'!$I$10:$I$39))","v":0},{"$f":"IF($D$3<>\"\",SUMIFS('Staff Capacity'!$I$10:$I$39,'Staff Capacity'!$G$10:$G$39,1,'Staff Capacity'!$H$10:$H$39,$D$3),SUMIF('Staff Capacity'!$G$10:$G$39,1,'Staff Capacity'!$I$10:$I$39))","v":0},{"$f":"IF($D$3<>\"\",SUMIFS('Staff Capacity'!$I$10:$I$39,'Staff Capacity'!$G$10:$G$39,1,'Staff Capacity'!$H$10:$H$39,$D$3),SUMIF('Staff Capacity'!$G$10:$G$39,1,'Staff Capacity'!$I$10:$I$39))","v":0},{"$f":"IF($D$3<>\"\",SUMIFS('Staff Capacity'!$I$10:$I$39,'Staff Capacity'!$G$10:$G$39,1,'Staff Capacity'!$H$10:$H$39,$D$3),SUMIF('Staff Capacity'!$G$10:$G$39,1,'Staff Capacity'!$I$10:$I$39))","v":0},{"$f":"IF($D$3<>\"\",SUMIFS('Staff Capacity'!$I$10:$I$39,'Staff Capacity'!$G$10:$G$39,1,'Staff Capacity'!$H$10:$H$39,$D$3),SUMIF('Staff Capacity'!$G$10:$G$39,1,'Staff Capacity'!$I$10:$I$39))","v":0},{"$f":"IF($D$3<>\"\",SUMIFS('Staff Capacity'!$I$10:$I$39,'Staff Capacity'!$G$10:$G$39,1,'Staff Capacity'!$H$10:$H$39,$D$3),SUMIF('Staff Capacity'!$G$10:$G$39,1,'Staff Capacity'!$I$10:$I$39))","v":0},{"$f":"IF($D$3<>\"\",SUMIFS('Staff Capacity'!$I$10:$I$39,'Staff Capacity'!$G$10:$G$39,1,'Staff Capacity'!$H$10:$H$39,$D$3),SUMIF('Staff Capacity'!$G$10:$G$39,1,'Staff Capacity'!$I$10:$I$39))","v":0},{"$f":"IF($D$3<>\"\",SUMIFS('Staff Capacity'!$I$10:$I$39,'Staff Capacity'!$G$10:$G$39,1,'Staff Capacity'!$H$10:$H$39,$D$3),SUMIF('Staff Capacity'!$G$10:$G$39,1,'Staff Capacity'!$I$10:$I$39))","v":0},{"$f":"IF($D$3<>\"\",SUMIFS('Staff Capacity'!$I$10:$I$39,'Staff Capacity'!$G$10:$G$39,1,'Staff Capacity'!$H$10:$H$39,$D$3),SUMIF('Staff Capacity'!$G$10:$G$39,1,'Staff Capacity'!$I$10:$I$39))","v":0},{"$f":"IF($D$3<>\"\",SUMIFS('Staff Capacity'!$I$10:$I$39,'Staff Capacity'!$G$10:$G$39,1,'Staff Capacity'!$H$10:$H$39,$D$3),SUMIF('Staff Capacity'!$G$10:$G$39,1,'Staff Capacity'!$I$10:$I$39))","v":0},{"$f":"IF($D$3<>\"\",SUMIFS('Staff Capacity'!$I$10:$I$39,'Staff Capacity'!$G$10:$G$39,1,'Staff Capacity'!$H$10:$H$39,$D$3),SUMIF('Staff Capacity'!$G$10:$G$39,1,'Staff Capacity'!$I$10:$I$39))","v":0},{"$f":"IF($D$3<>\"\",SUMIFS('Staff Capacity'!$I$10:$I$39,'Staff Capacity'!$G$10:$G$39,1,'Staff Capacity'!$H$10:$H$39,$D$3),SUMIF('Staff Capacity'!$G$10:$G$39,1,'Staff Capacity'!$I$10:$I$39))","v":0},{"$f":"IF($D$3<>\"\",SUMIFS('Staff Capacity'!$I$10:$I$39,'Staff Capacity'!$G$10:$G$39,1,'Staff Capacity'!$H$10:$H$39,$D$3),SUMIF('Staff Capacity'!$G$10:$G$39,1,'Staff Capacity'!$I$10:$I$39))","v":0},{"$f":"IF($D$3<>\"\",SUMIFS('Staff Capacity'!$I$10:$I$39,'Staff Capacity'!$G$10:$G$39,1,'Staff Capacity'!$H$10:$H$39,$D$3),SUMIF('Staff Capacity'!$G$10:$G$39,1,'Staff Capacity'!$I$10:$I$39))","v":0},{"$f":"IF($D$3<>\"\",SUMIFS('Staff Capacity'!$I$10:$I$39,'Staff Capacity'!$G$10:$G$39,1,'Staff Capacity'!$H$10:$H$39,$D$3),SUMIF('Staff Capacity'!$G$10:$G$39,1,'Staff Capacity'!$I$10:$I$39))","v":0},{"$f":"IF($D$3<>\"\",SUMIFS('Staff Capacity'!$I$10:$I$39,'Staff Capacity'!$G$10:$G$39,1,'Staff Capacity'!$H$10:$H$39,$D$3),SUMIF('Staff Capacity'!$G$10:$G$39,1,'Staff Capacity'!$I$10:$I$39))","v":0},{"$f":"IF($D$3<>\"\",SUMIFS('Staff Capacity'!$I$10:$I$39,'Staff Capacity'!$G$10:$G$39,1,'Staff Capacity'!$H$10:$H$39,$D$3),SUMIF('Staff Capacity'!$G$10:$G$39,1,'Staff Capacity'!$I$10:$I$39))","v":0},{"$f":"IF($D$3<>\"\",SUMIFS('Staff Capacity'!$I$10:$I$39,'Staff Capacity'!$G$10:$G$39,1,'Staff Capacity'!$H$10:$H$39,$D$3),SUMIF('Staff Capacity'!$G$10:$G$39,1,'Staff Capacity'!$I$10:$I$39))","v":0},{"$f":"IF($D$3<>\"\",SUMIFS('Staff Capacity'!$I$10:$I$39,'Staff Capacity'!$G$10:$G$39,1,'Staff Capacity'!$H$10:$H$39,$D$3),SUMIF('Staff Capacity'!$G$10:$G$39,1,'Staff Capacity'!$I$10:$I$39))","v":0},{"$f":"IF($D$3<>\"\",SUMIFS('Staff Capacity'!$I$10:$I$39,'Staff Capacity'!$G$10:$G$39,1,'Staff Capacity'!$H$10:$H$39,$D$3),SUMIF('Staff Capacity'!$G$10:$G$39,1,'Staff Capacity'!$I$10:$I$39))","v":0},{"$f":"IF($D$3<>\"\",SUMIFS('Staff Capacity'!$I$10:$I$39,'Staff Capacity'!$G$10:$G$39,1,'Staff Capacity'!$H$10:$H$39,$D$3),SUMIF('Staff Capacity'!$G$10:$G$39,1,'Staff Capacity'!$I$10:$I$39))","v":0},{"$f":"IF($D$3<>\"\",SUMIFS('Staff Capacity'!$I$10:$I$39,'Staff Capacity'!$G$10:$G$39,1,'Staff Capacity'!$H$10:$H$39,$D$3),SUMIF('Staff Capacity'!$G$10:$G$39,1,'Staff Capacity'!$I$10:$I$39))","v":0},{"$f":"IF($D$3<>\"\",SUMIFS('Staff Capacity'!$I$10:$I$39,'Staff Capacity'!$G$10:$G$39,1,'Staff Capacity'!$H$10:$H$39,$D$3),SUMIF('Staff Capacity'!$G$10:$G$39,1,'Staff Capacity'!$I$10:$I$39))","v":0},{"$f":"IF($D$3<>\"\",SUMIFS('Staff Capacity'!$I$10:$I$39,'Staff Capacity'!$G$10:$G$39,1,'Staff Capacity'!$H$10:$H$39,$D$3),SUMIF('Staff Capacity'!$G$10:$G$39,1,'Staff Capacity'!$I$10:$I$39))","v":0},{"$f":"IF($D$3<>\"\",SUMIFS('Staff Capacity'!$I$10:$I$39,'Staff Capacity'!$G$10:$G$39,1,'Staff Capacity'!$H$10:$H$39,$D$3),SUMIF('Staff Capacity'!$G$10:$G$39,1,'Staff Capacity'!$I$10:$I$39))","v":0},{"$f":"IF($D$3<>\"\",SUMIFS('Staff Capacity'!$I$10:$I$39,'Staff Capacity'!$G$10:$G$39,1,'Staff Capacity'!$H$10:$H$39,$D$3),SUMIF('Staff Capacity'!$G$10:$G$39,1,'Staff Capacity'!$I$10:$I$39))","v":0},{"$f":"IF($D$3<>\"\",SUMIFS('Staff Capacity'!$I$10:$I$39,'Staff Capacity'!$G$10:$G$39,1,'Staff Capacity'!$H$10:$H$39,$D$3),SUMIF('Staff Capacity'!$G$10:$G$39,1,'Staff Capacity'!$I$10:$I$39))","v":0},{"$f":"IF($D$3<>\"\",SUMIFS('Staff Capacity'!$I$10:$I$39,'Staff Capacity'!$G$10:$G$39,1,'Staff Capacity'!$H$10:$H$39,$D$3),SUMIF('Staff Capacity'!$G$10:$G$39,1,'Staff Capacity'!$I$10:$I$39))","v":0},{"$f":"IF($D$3<>\"\",SUMIFS('Staff Capacity'!$I$10:$I$39,'Staff Capacity'!$G$10:$G$39,1,'Staff Capacity'!$H$10:$H$39,$D$3),SUMIF('Staff Capacity'!$G$10:$G$39,1,'Staff Capacity'!$I$10:$I$39))","v":0},{"$f":"IF($D$3<>\"\",SUMIFS('Staff Capacity'!$I$10:$I$39,'Staff Capacity'!$G$10:$G$39,1,'Staff Capacity'!$H$10:$H$39,$D$3),SUMIF('Staff Capacity'!$G$10:$G$39,1,'Staff Capacity'!$I$10:$I$39))","v":0},{"$f":"IF($D$3<>\"\",SUMIFS('Staff Capacity'!$I$10:$I$39,'Staff Capacity'!$G$10:$G$39,1,'Staff Capacity'!$H$10:$H$39,$D$3),SUMIF('Staff Capacity'!$G$10:$G$39,1,'Staff Capacity'!$I$10:$I$39))","v":0},{"$f":"IF($D$3<>\"\",SUMIFS('Staff Capacity'!$I$10:$I$39,'Staff Capacity'!$G$10:$G$39,1,'Staff Capacity'!$H$10:$H$39,$D$3),SUMIF('Staff Capacity'!$G$10:$G$39,1,'Staff Capacity'!$I$10:$I$39))","v":0},{"$f":"IF($D$3<>\"\",SUMIFS('Staff Capacity'!$I$10:$I$39,'Staff Capacity'!$G$10:$G$39,1,'Staff Capacity'!$H$10:$H$39,$D$3),SUMIF('Staff Capacity'!$G$10:$G$39,1,'Staff Capacity'!$I$10:$I$39))","v":0},{"$f":"IF($D$3<>\"\",SUMIFS('Staff Capacity'!$I$10:$I$39,'Staff Capacity'!$G$10:$G$39,1,'Staff Capacity'!$H$10:$H$39,$D$3),SUMIF('Staff Capacity'!$G$10:$G$39,1,'Staff Capacity'!$I$10:$I$39))","v":0},{"$f":"IF($D$3<>\"\",SUMIFS('Staff Capacity'!$I$10:$I$39,'Staff Capacity'!$G$10:$G$39,1,'Staff Capacity'!$H$10:$H$39,$D$3),SUMIF('Staff Capacity'!$G$10:$G$39,1,'Staff Capacity'!$I$10:$I$39))","v":0},{"$f":"IF($D$3<>\"\",SUMIFS('Staff Capacity'!$I$10:$I$39,'Staff Capacity'!$G$10:$G$39,1,'Staff Capacity'!$H$10:$H$39,$D$3),SUMIF('Staff Capacity'!$G$10:$G$39,1,'Staff Capacity'!$I$10:$I$39))","v":0},{"$f":"IF($D$3<>\"\",SUMIFS('Staff Capacity'!$I$10:$I$39,'Staff Capacity'!$G$10:$G$39,1,'Staff Capacity'!$H$10:$H$39,$D$3),SUMIF('Staff Capacity'!$G$10:$G$39,1,'Staff Capacity'!$I$10:$I$39))","v":0},{"$f":"IF($D$3<>\"\",SUMIFS('Staff Capacity'!$I$10:$I$39,'Staff Capacity'!$G$10:$G$39,1,'Staff Capacity'!$H$10:$H$39,$D$3),SUMIF('Staff Capacity'!$G$10:$G$39,1,'Staff Capacity'!$I$10:$I$39))","v":0},{"$f":"IF($D$3<>\"\",SUMIFS('Staff Capacity'!$I$10:$I$39,'Staff Capacity'!$G$10:$G$39,1,'Staff Capacity'!$H$10:$H$39,$D$3),SUMIF('Staff Capacity'!$G$10:$G$39,1,'Staff Capacity'!$I$10:$I$39))","v":0},{"$f":"IF($D$3<>\"\",SUMIFS('Staff Capacity'!$I$10:$I$39,'Staff Capacity'!$G$10:$G$39,1,'Staff Capacity'!$H$10:$H$39,$D$3),SUMIF('Staff Capacity'!$G$10:$G$39,1,'Staff Capacity'!$I$10:$I$39))","v":0},{"$f":"IF($D$3<>\"\",SUMIFS('Staff Capacity'!$I$10:$I$39,'Staff Capacity'!$G$10:$G$39,1,'Staff Capacity'!$H$10:$H$39,$D$3),SUMIF('Staff Capacity'!$G$10:$G$39,1,'Staff Capacity'!$I$10:$I$39))","v":0},{"$f":"IF($D$3<>\"\",SUMIFS('Staff Capacity'!$I$10:$I$39,'Staff Capacity'!$G$10:$G$39,1,'Staff Capacity'!$H$10:$H$39,$D$3),SUMIF('Staff Capacity'!$G$10:$G$39,1,'Staff Capacity'!$I$10:$I$39))","v":0},{"$f":"IF($D$3<>\"\",SUMIFS('Staff Capacity'!$I$10:$I$39,'Staff Capacity'!$G$10:$G$39,1,'Staff Capacity'!$H$10:$H$39,$D$3),SUMIF('Staff Capacity'!$G$10:$G$39,1,'Staff Capacity'!$I$10:$I$39))","v":0},{"$f":"IF($D$3<>\"\",SUMIFS('Staff Capacity'!$I$10:$I$39,'Staff Capacity'!$G$10:$G$39,1,'Staff Capacity'!$H$10:$H$39,$D$3),SUMIF('Staff Capacity'!$G$10:$G$39,1,'Staff Capacity'!$I$10:$I$39))","v":0},{"$f":"IF($D$3<>\"\",SUMIFS('Staff Capacity'!$I$10:$I$39,'Staff Capacity'!$G$10:$G$39,1,'Staff Capacity'!$H$10:$H$39,$D$3),SUMIF('Staff Capacity'!$G$10:$G$39,1,'Staff Capacity'!$I$10:$I$39))","v":0},{"$f":"IF($D$3<>\"\",SUMIFS('Staff Capacity'!$I$10:$I$39,'Staff Capacity'!$G$10:$G$39,1,'Staff Capacity'!$H$10:$H$39,$D$3),SUMIF('Staff Capacity'!$G$10:$G$39,1,'Staff Capacity'!$I$10:$I$39))","v":0},{"$f":"IF($D$3<>\"\",SUMIFS('Staff Capacity'!$I$10:$I$39,'Staff Capacity'!$G$10:$G$39,1,'Staff Capacity'!$H$10:$H$39,$D$3),SUMIF('Staff Capacity'!$G$10:$G$39,1,'Staff Capacity'!$I$10:$I$39))","v":0},{"$f":"IF($D$3<>\"\",SUMIFS('Staff Capacity'!$I$10:$I$39,'Staff Capacity'!$G$10:$G$39,1,'Staff Capacity'!$H$10:$H$39,$D$3),SUMIF('Staff Capacity'!$G$10:$G$39,1,'Staff Capacity'!$I$10:$I$39))","v":0},{"$f":"IF($D$3<>\"\",SUMIFS('Staff Capacity'!$I$10:$I$39,'Staff Capacity'!$G$10:$G$39,1,'Staff Capacity'!$H$10:$H$39,$D$3),SUMIF('Staff Capacity'!$G$10:$G$39,1,'Staff Capacity'!$I$10:$I$39))","v":0},{"$f":"IF($D$3<>\"\",SUMIFS('Staff Capacity'!$I$10:$I$39,'Staff Capacity'!$G$10:$G$39,1,'Staff Capacity'!$H$10:$H$39,$D$3),SUMIF('Staff Capacity'!$G$10:$G$39,1,'Staff Capacity'!$I$10:$I$39))","v":0},{"$f":"IF($D$3<>\"\",SUMIFS('Staff Capacity'!$I$10:$I$39,'Staff Capacity'!$G$10:$G$39,1,'Staff Capacity'!$H$10:$H$39,$D$3),SUMIF('Staff Capacity'!$G$10:$G$39,1,'Staff Capacity'!$I$10:$I$39))","v":0},{"$f":"IF($D$3<>\"\",SUMIFS('Staff Capacity'!$I$10:$I$39,'Staff Capacity'!$G$10:$G$39,1,'Staff Capacity'!$H$10:$H$39,$D$3),SUMIF('Staff Capacity'!$G$10:$G$39,1,'Staff Capacity'!$I$10:$I$39))","v":0},{"$f":"IF($D$3<>\"\",SUMIFS('Staff Capacity'!$I$10:$I$39,'Staff Capacity'!$G$10:$G$39,1,'Staff Capacity'!$H$10:$H$39,$D$3),SUMIF('Staff Capacity'!$G$10:$G$39,1,'Staff Capacity'!$I$10:$I$39))","v":0},{"$f":"IF($D$3<>\"\",SUMIFS('Staff Capacity'!$I$10:$I$39,'Staff Capacity'!$G$10:$G$39,1,'Staff Capacity'!$H$10:$H$39,$D$3),SUMIF('Staff Capacity'!$G$10:$G$39,1,'Staff Capacity'!$I$10:$I$39))","v":0},{"$f":"IF($D$3<>\"\",SUMIFS('Staff Capacity'!$I$10:$I$39,'Staff Capacity'!$G$10:$G$39,1,'Staff Capacity'!$H$10:$H$39,$D$3),SUMIF('Staff Capacity'!$G$10:$G$39,1,'Staff Capacity'!$I$10:$I$39))","v":0},{"$f":"IF($D$3<>\"\",SUMIFS('Staff Capacity'!$I$10:$I$39,'Staff Capacity'!$G$10:$G$39,1,'Staff Capacity'!$H$10:$H$39,$D$3),SUMIF('Staff Capacity'!$G$10:$G$39,1,'Staff Capacity'!$I$10:$I$39))","v":0},{"$f":"IF($D$3<>\"\",SUMIFS('Staff Capacity'!$I$10:$I$39,'Staff Capacity'!$G$10:$G$39,1,'Staff Capacity'!$H$10:$H$39,$D$3),SUMIF('Staff Capacity'!$G$10:$G$39,1,'Staff Capacity'!$I$10:$I$39))","v":0},{"$f":"IF($D$3<>\"\",SUMIFS('Staff Capacity'!$I$10:$I$39,'Staff Capacity'!$G$10:$G$39,1,'Staff Capacity'!$H$10:$H$39,$D$3),SUMIF('Staff Capacity'!$G$10:$G$39,1,'Staff Capacity'!$I$10:$I$39))","v":0},{"$f":"IF($D$3<>\"\",SUMIFS('Staff Capacity'!$I$10:$I$39,'Staff Capacity'!$G$10:$G$39,1,'Staff Capacity'!$H$10:$H$39,$D$3),SUMIF('Staff Capacity'!$G$10:$G$39,1,'Staff Capacity'!$I$10:$I$39))","v":0},{"$f":"IF($D$3<>\"\",SUMIFS('Staff Capacity'!$I$10:$I$39,'Staff Capacity'!$G$10:$G$39,1,'Staff Capacity'!$H$10:$H$39,$D$3),SUMIF('Staff Capacity'!$G$10:$G$39,1,'Staff Capacity'!$I$10:$I$39))","v":0},{"$f":"IF($D$3<>\"\",SUMIFS('Staff Capacity'!$I$10:$I$39,'Staff Capacity'!$G$10:$G$39,1,'Staff Capacity'!$H$10:$H$39,$D$3),SUMIF('Staff Capacity'!$G$10:$G$39,1,'Staff Capacity'!$I$10:$I$39))","v":0},{"$f":"IF($D$3<>\"\",SUMIFS('Staff Capacity'!$I$10:$I$39,'Staff Capacity'!$G$10:$G$39,1,'Staff Capacity'!$H$10:$H$39,$D$3),SUMIF('Staff Capacity'!$G$10:$G$39,1,'Staff Capacity'!$I$10:$I$39))","v":0},{"$f":"IF($D$3<>\"\",SUMIFS('Staff Capacity'!$I$10:$I$39,'Staff Capacity'!$G$10:$G$39,1,'Staff Capacity'!$H$10:$H$39,$D$3),SUMIF('Staff Capacity'!$G$10:$G$39,1,'Staff Capacity'!$I$10:$I$39))","v":0},{"$f":"IF($D$3<>\"\",SUMIFS('Staff Capacity'!$I$10:$I$39,'Staff Capacity'!$G$10:$G$39,1,'Staff Capacity'!$H$10:$H$39,$D$3),SUMIF('Staff Capacity'!$G$10:$G$39,1,'Staff Capacity'!$I$10:$I$39))","v":0},{"$f":"IF($D$3<>\"\",SUMIFS('Staff Capacity'!$I$10:$I$39,'Staff Capacity'!$G$10:$G$39,1,'Staff Capacity'!$H$10:$H$39,$D$3),SUMIF('Staff Capacity'!$G$10:$G$39,1,'Staff Capacity'!$I$10:$I$39))","v":0},{"$f":"IF($D$3<>\"\",SUMIFS('Staff Capacity'!$I$10:$I$39,'Staff Capacity'!$G$10:$G$39,1,'Staff Capacity'!$H$10:$H$39,$D$3),SUMIF('Staff Capacity'!$G$10:$G$39,1,'Staff Capacity'!$I$10:$I$39))","v":0},{"$f":"IF($D$3<>\"\",SUMIFS('Staff Capacity'!$I$10:$I$39,'Staff Capacity'!$G$10:$G$39,1,'Staff Capacity'!$H$10:$H$39,$D$3),SUMIF('Staff Capacity'!$G$10:$G$39,1,'Staff Capacity'!$I$10:$I$39))","v":0},{"$f":"IF($D$3<>\"\",SUMIFS('Staff Capacity'!$I$10:$I$39,'Staff Capacity'!$G$10:$G$39,1,'Staff Capacity'!$H$10:$H$39,$D$3),SUMIF('Staff Capacity'!$G$10:$G$39,1,'Staff Capacity'!$I$10:$I$39))","v":0},{"$f":"IF($D$3<>\"\",SUMIFS('Staff Capacity'!$I$10:$I$39,'Staff Capacity'!$G$10:$G$39,1,'Staff Capacity'!$H$10:$H$39,$D$3),SUMIF('Staff Capacity'!$G$10:$G$39,1,'Staff Capacity'!$I$10:$I$39))","v":0},{"$f":"IF($D$3<>\"\",SUMIFS('Staff Capacity'!$I$10:$I$39,'Staff Capacity'!$G$10:$G$39,1,'Staff Capacity'!$H$10:$H$39,$D$3),SUMIF('Staff Capacity'!$G$10:$G$39,1,'Staff Capacity'!$I$10:$I$39))","v":0},{"$f":"IF($D$3<>\"\",SUMIFS('Staff Capacity'!$I$10:$I$39,'Staff Capacity'!$G$10:$G$39,1,'Staff Capacity'!$H$10:$H$39,$D$3),SUMIF('Staff Capacity'!$G$10:$G$39,1,'Staff Capacity'!$I$10:$I$39))","v":0},{"$f":"IF($D$3<>\"\",SUMIFS('Staff Capacity'!$I$10:$I$39,'Staff Capacity'!$G$10:$G$39,1,'Staff Capacity'!$H$10:$H$39,$D$3),SUMIF('Staff Capacity'!$G$10:$G$39,1,'Staff Capacity'!$I$10:$I$39))","v":0},{"$f":"IF($D$3<>\"\",SUMIFS('Staff Capacity'!$I$10:$I$39,'Staff Capacity'!$G$10:$G$39,1,'Staff Capacity'!$H$10:$H$39,$D$3),SUMIF('Staff Capacity'!$G$10:$G$39,1,'Staff Capacity'!$I$10:$I$39))","v":0},{"$f":"IF($D$3<>\"\",SUMIFS('Staff Capacity'!$I$10:$I$39,'Staff Capacity'!$G$10:$G$39,1,'Staff Capacity'!$H$10:$H$39,$D$3),SUMIF('Staff Capacity'!$G$10:$G$39,1,'Staff Capacity'!$I$10:$I$39))","v":0},{"$f":"IF($D$3<>\"\",SUMIFS('Staff Capacity'!$I$10:$I$39,'Staff Capacity'!$G$10:$G$39,1,'Staff Capacity'!$H$10:$H$39,$D$3),SUMIF('Staff Capacity'!$G$10:$G$39,1,'Staff Capacity'!$I$10:$I$39))","v":0},{"$f":"IF($D$3<>\"\",SUMIFS('Staff Capacity'!$I$10:$I$39,'Staff Capacity'!$G$10:$G$39,1,'Staff Capacity'!$H$10:$H$39,$D$3),SUMIF('Staff Capacity'!$G$10:$G$39,1,'Staff Capacity'!$I$10:$I$39))","v":0},{"$f":"IF($D$3<>\"\",SUMIFS('Staff Capacity'!$I$10:$I$39,'Staff Capacity'!$G$10:$G$39,1,'Staff Capacity'!$H$10:$H$39,$D$3),SUMIF('Staff Capacity'!$G$10:$G$39,1,'Staff Capacity'!$I$10:$I$39))","v":0},{"$f":"IF($D$3<>\"\",SUMIFS('Staff Capacity'!$I$10:$I$39,'Staff Capacity'!$G$10:$G$39,1,'Staff Capacity'!$H$10:$H$39,$D$3),SUMIF('Staff Capacity'!$G$10:$G$39,1,'Staff Capacity'!$I$10:$I$39))","v":0},{"$f":"IF($D$3<>\"\",SUMIFS('Staff Capacity'!$I$10:$I$39,'Staff Capacity'!$G$10:$G$39,1,'Staff Capacity'!$H$10:$H$39,$D$3),SUMIF('Staff Capacity'!$G$10:$G$39,1,'Staff Capacity'!$I$10:$I$39))","v":0},{"$f":"IF($D$3<>\"\",SUMIFS('Staff Capacity'!$I$10:$I$39,'Staff Capacity'!$G$10:$G$39,1,'Staff Capacity'!$H$10:$H$39,$D$3),SUMIF('Staff Capacity'!$G$10:$G$39,1,'Staff Capacity'!$I$10:$I$39))","v":0},{"$f":"IF($D$3<>\"\",SUMIFS('Staff Capacity'!$I$10:$I$39,'Staff Capacity'!$G$10:$G$39,1,'Staff Capacity'!$H$10:$H$39,$D$3),SUMIF('Staff Capacity'!$G$10:$G$39,1,'Staff Capacity'!$I$10:$I$39))","v":0},{"$f":"IF($D$3<>\"\",SUMIFS('Staff Capacity'!$I$10:$I$39,'Staff Capacity'!$G$10:$G$39,1,'Staff Capacity'!$H$10:$H$39,$D$3),SUMIF('Staff Capacity'!$G$10:$G$39,1,'Staff Capacity'!$I$10:$I$39))","v":0},{"$f":"IF($D$3<>\"\",SUMIFS('Staff Capacity'!$I$10:$I$39,'Staff Capacity'!$G$10:$G$39,1,'Staff Capacity'!$H$10:$H$39,$D$3),SUMIF('Staff Capacity'!$G$10:$G$39,1,'Staff Capacity'!$I$10:$I$39))","v":0},{"$f":"IF($D$3<>\"\",SUMIFS('Staff Capacity'!$I$10:$I$39,'Staff Capacity'!$G$10:$G$39,1,'Staff Capacity'!$H$10:$H$39,$D$3),SUMIF('Staff Capacity'!$G$10:$G$39,1,'Staff Capacity'!$I$10:$I$39))","v":0},{"$f":"IF($D$3<>\"\",SUMIFS('Staff Capacity'!$I$10:$I$39,'Staff Capacity'!$G$10:$G$39,1,'Staff Capacity'!$H$10:$H$39,$D$3),SUMIF('Staff Capacity'!$G$10:$G$39,1,'Staff Capacity'!$I$10:$I$39))","v":0},{"$f":"IF($D$3<>\"\",SUMIFS('Staff Capacity'!$I$10:$I$39,'Staff Capacity'!$G$10:$G$39,1,'Staff Capacity'!$H$10:$H$39,$D$3),SUMIF('Staff Capacity'!$G$10:$G$39,1,'Staff Capacity'!$I$10:$I$39))","v":0},{"$f":"IF($D$3<>\"\",SUMIFS('Staff Capacity'!$I$10:$I$39,'Staff Capacity'!$G$10:$G$39,1,'Staff Capacity'!$H$10:$H$39,$D$3),SUMIF('Staff Capacity'!$G$10:$G$39,1,'Staff Capacity'!$I$10:$I$39))","v":0},{"$f":"IF($D$3<>\"\",SUMIFS('Staff Capacity'!$I$10:$I$39,'Staff Capacity'!$G$10:$G$39,1,'Staff Capacity'!$H$10:$H$39,$D$3),SUMIF('Staff Capacity'!$G$10:$G$39,1,'Staff Capacity'!$I$10:$I$39))","v":0},{"$f":"IF($D$3<>\"\",SUMIFS('Staff Capacity'!$I$10:$I$39,'Staff Capacity'!$G$10:$G$39,1,'Staff Capacity'!$H$10:$H$39,$D$3),SUMIF('Staff Capacity'!$G$10:$G$39,1,'Staff Capacity'!$I$10:$I$39))","v":0},{"$f":"IF($D$3<>\"\",SUMIFS('Staff Capacity'!$I$10:$I$39,'Staff Capacity'!$G$10:$G$39,1,'Staff Capacity'!$H$10:$H$39,$D$3),SUMIF('Staff Capacity'!$G$10:$G$39,1,'Staff Capacity'!$I$10:$I$39))","v":0},{"$f":"IF($D$3<>\"\",SUMIFS('Staff Capacity'!$I$10:$I$39,'Staff Capacity'!$G$10:$G$39,1,'Staff Capacity'!$H$10:$H$39,$D$3),SUMIF('Staff Capacity'!$G$10:$G$39,1,'Staff Capacity'!$I$10:$I$39))","v":0},{"$f":"IF($D$3<>\"\",SUMIFS('Staff Capacity'!$I$10:$I$39,'Staff Capacity'!$G$10:$G$39,1,'Staff Capacity'!$H$10:$H$39,$D$3),SUMIF('Staff Capacity'!$G$10:$G$39,1,'Staff Capacity'!$I$10:$I$39))","v":0},{"$f":"IF($D$3<>\"\",SUMIFS('Staff Capacity'!$I$10:$I$39,'Staff Capacity'!$G$10:$G$39,1,'Staff Capacity'!$H$10:$H$39,$D$3),SUMIF('Staff Capacity'!$G$10:$G$39,1,'Staff Capacity'!$I$10:$I$39))","v":0},{"$f":"IF($D$3<>\"\",SUMIFS('Staff Capacity'!$I$10:$I$39,'Staff Capacity'!$G$10:$G$39,1,'Staff Capacity'!$H$10:$H$39,$D$3),SUMIF('Staff Capacity'!$G$10:$G$39,1,'Staff Capacity'!$I$10:$I$39))","v":0},{"$f":"IF($D$3<>\"\",SUMIFS('Staff Capacity'!$I$10:$I$39,'Staff Capacity'!$G$10:$G$39,1,'Staff Capacity'!$H$10:$H$39,$D$3),SUMIF('Staff Capacity'!$G$10:$G$39,1,'Staff Capacity'!$I$10:$I$39))","v":0},{"$f":"IF($D$3<>\"\",SUMIFS('Staff Capacity'!$I$10:$I$39,'Staff Capacity'!$G$10:$G$39,1,'Staff Capacity'!$H$10:$H$39,$D$3),SUMIF('Staff Capacity'!$G$10:$G$39,1,'Staff Capacity'!$I$10:$I$39))","v":0},{"$f":"IF($D$3<>\"\",SUMIFS('Staff Capacity'!$I$10:$I$39,'Staff Capacity'!$G$10:$G$39,1,'Staff Capacity'!$H$10:$H$39,$D$3),SUMIF('Staff Capacity'!$G$10:$G$39,1,'Staff Capacity'!$I$10:$I$39))","v":0},{"$f":"IF($D$3<>\"\",SUMIFS('Staff Capacity'!$I$10:$I$39,'Staff Capacity'!$G$10:$G$39,1,'Staff Capacity'!$H$10:$H$39,$D$3),SUMIF('Staff Capacity'!$G$10:$G$39,1,'Staff Capacity'!$I$10:$I$39))","v":0},{"$f":"IF($D$3<>\"\",SUMIFS('Staff Capacity'!$I$10:$I$39,'Staff Capacity'!$G$10:$G$39,1,'Staff Capacity'!$H$10:$H$39,$D$3),SUMIF('Staff Capacity'!$G$10:$G$39,1,'Staff Capacity'!$I$10:$I$39))","v":0},{"$f":"IF($D$3<>\"\",SUMIFS('Staff Capacity'!$I$10:$I$39,'Staff Capacity'!$G$10:$G$39,1,'Staff Capacity'!$H$10:$H$39,$D$3),SUMIF('Staff Capacity'!$G$10:$G$39,1,'Staff Capacity'!$I$10:$I$39))","v":0},{"$f":"IF($D$3<>\"\",SUMIFS('Staff Capacity'!$I$10:$I$39,'Staff Capacity'!$G$10:$G$39,1,'Staff Capacity'!$H$10:$H$39,$D$3),SUMIF('Staff Capacity'!$G$10:$G$39,1,'Staff Capacity'!$I$10:$I$39))","v":0},{"$f":"IF($D$3<>\"\",SUMIFS('Staff Capacity'!$I$10:$I$39,'Staff Capacity'!$G$10:$G$39,1,'Staff Capacity'!$H$10:$H$39,$D$3),SUMIF('Staff Capacity'!$G$10:$G$39,1,'Staff Capacity'!$I$10:$I$39))","v":0},{"$f":"IF($D$3<>\"\",SUMIFS('Staff Capacity'!$I$10:$I$39,'Staff Capacity'!$G$10:$G$39,1,'Staff Capacity'!$H$10:$H$39,$D$3),SUMIF('Staff Capacity'!$G$10:$G$39,1,'Staff Capacity'!$I$10:$I$39))","v":0},{"$f":"IF($D$3<>\"\",SUMIFS('Staff Capacity'!$I$10:$I$39,'Staff Capacity'!$G$10:$G$39,1,'Staff Capacity'!$H$10:$H$39,$D$3),SUMIF('Staff Capacity'!$G$10:$G$39,1,'Staff Capacity'!$I$10:$I$39))","v":0},{"$f":"IF($D$3<>\"\",SUMIFS('Staff Capacity'!$I$10:$I$39,'Staff Capacity'!$G$10:$G$39,1,'Staff Capacity'!$H$10:$H$39,$D$3),SUMIF('Staff Capacity'!$G$10:$G$39,1,'Staff Capacity'!$I$10:$I$39))","v":0},{"$f":"IF($D$3<>\"\",SUMIFS('Staff Capacity'!$I$10:$I$39,'Staff Capacity'!$G$10:$G$39,1,'Staff Capacity'!$H$10:$H$39,$D$3),SUMIF('Staff Capacity'!$G$10:$G$39,1,'Staff Capacity'!$I$10:$I$39))","v":0},{"$f":"IF($D$3<>\"\",SUMIFS('Staff Capacity'!$I$10:$I$39,'Staff Capacity'!$G$10:$G$39,1,'Staff Capacity'!$H$10:$H$39,$D$3),SUMIF('Staff Capacity'!$G$10:$G$39,1,'Staff Capacity'!$I$10:$I$39))","v":0},{"$f":"IF($D$3<>\"\",SUMIFS('Staff Capacity'!$I$10:$I$39,'Staff Capacity'!$G$10:$G$39,1,'Staff Capacity'!$H$10:$H$39,$D$3),SUMIF('Staff Capacity'!$G$10:$G$39,1,'Staff Capacity'!$I$10:$I$39))","v":0},{"$f":"IF($D$3<>\"\",SUMIFS('Staff Capacity'!$I$10:$I$39,'Staff Capacity'!$G$10:$G$39,1,'Staff Capacity'!$H$10:$H$39,$D$3),SUMIF('Staff Capacity'!$G$10:$G$39,1,'Staff Capacity'!$I$10:$I$39))","v":0},{"$f":"IF($D$3<>\"\",SUMIFS('Staff Capacity'!$I$10:$I$39,'Staff Capacity'!$G$10:$G$39,1,'Staff Capacity'!$H$10:$H$39,$D$3),SUMIF('Staff Capacity'!$G$10:$G$39,1,'Staff Capacity'!$I$10:$I$39))","v":0},{"$f":"IF($D$3<>\"\",SUMIFS('Staff Capacity'!$I$10:$I$39,'Staff Capacity'!$G$10:$G$39,1,'Staff Capacity'!$H$10:$H$39,$D$3),SUMIF('Staff Capacity'!$G$10:$G$39,1,'Staff Capacity'!$I$10:$I$39))","v":0},{"$f":"IF($D$3<>\"\",SUMIFS('Staff Capacity'!$I$10:$I$39,'Staff Capacity'!$G$10:$G$39,1,'Staff Capacity'!$H$10:$H$39,$D$3),SUMIF('Staff Capacity'!$G$10:$G$39,1,'Staff Capacity'!$I$10:$I$39))","v":0},{"$f":"IF($D$3<>\"\",SUMIFS('Staff Capacity'!$I$10:$I$39,'Staff Capacity'!$G$10:$G$39,1,'Staff Capacity'!$H$10:$H$39,$D$3),SUMIF('Staff Capacity'!$G$10:$G$39,1,'Staff Capacity'!$I$10:$I$39))","v":0},{"$f":"IF($D$3<>\"\",SUMIFS('Staff Capacity'!$I$10:$I$39,'Staff Capacity'!$G$10:$G$39,1,'Staff Capacity'!$H$10:$H$39,$D$3),SUMIF('Staff Capacity'!$G$10:$G$39,1,'Staff Capacity'!$I$10:$I$39))","v":0},{"$f":"IF($D$3<>\"\",SUMIFS('Staff Capacity'!$I$10:$I$39,'Staff Capacity'!$G$10:$G$39,1,'Staff Capacity'!$H$10:$H$39,$D$3),SUMIF('Staff Capacity'!$G$10:$G$39,1,'Staff Capacity'!$I$10:$I$39))","v":0},{"$f":"IF($D$3<>\"\",SUMIFS('Staff Capacity'!$I$10:$I$39,'Staff Capacity'!$G$10:$G$39,1,'Staff Capacity'!$H$10:$H$39,$D$3),SUMIF('Staff Capacity'!$G$10:$G$39,1,'Staff Capacity'!$I$10:$I$39))","v":0},{"$f":"IF($D$3<>\"\",SUMIFS('Staff Capacity'!$I$10:$I$39,'Staff Capacity'!$G$10:$G$39,1,'Staff Capacity'!$H$10:$H$39,$D$3),SUMIF('Staff Capacity'!$G$10:$G$39,1,'Staff Capacity'!$I$10:$I$39))","v":0},{"$f":"IF($D$3<>\"\",SUMIFS('Staff Capacity'!$I$10:$I$39,'Staff Capacity'!$G$10:$G$39,1,'Staff Capacity'!$H$10:$H$39,$D$3),SUMIF('Staff Capacity'!$G$10:$G$39,1,'Staff Capacity'!$I$10:$I$39))","v":0},{"$f":"IF($D$3<>\"\",SUMIFS('Staff Capacity'!$I$10:$I$39,'Staff Capacity'!$G$10:$G$39,1,'Staff Capacity'!$H$10:$H$39,$D$3),SUMIF('Staff Capacity'!$G$10:$G$39,1,'Staff Capacity'!$I$10:$I$39))","v":0},{"$f":"IF($D$3<>\"\",SUMIFS('Staff Capacity'!$I$10:$I$39,'Staff Capacity'!$G$10:$G$39,1,'Staff Capacity'!$H$10:$H$39,$D$3),SUMIF('Staff Capacity'!$G$10:$G$39,1,'Staff Capacity'!$I$10:$I$39))","v":0},{"$f":"IF($D$3<>\"\",SUMIFS('Staff Capacity'!$I$10:$I$39,'Staff Capacity'!$G$10:$G$39,1,'Staff Capacity'!$H$10:$H$39,$D$3),SUMIF('Staff Capacity'!$G$10:$G$39,1,'Staff Capacity'!$I$10:$I$39))","v":0},{"$f":"IF($D$3<>\"\",SUMIFS('Staff Capacity'!$I$10:$I$39,'Staff Capacity'!$G$10:$G$39,1,'Staff Capacity'!$H$10:$H$39,$D$3),SUMIF('Staff Capacity'!$G$10:$G$39,1,'Staff Capacity'!$I$10:$I$39))","v":0},{"$f":"IF($D$3<>\"\",SUMIFS('Staff Capacity'!$I$10:$I$39,'Staff Capacity'!$G$10:$G$39,1,'Staff Capacity'!$H$10:$H$39,$D$3),SUMIF('Staff Capacity'!$G$10:$G$39,1,'Staff Capacity'!$I$10:$I$39))","v":0},{"$f":"IF($D$3<>\"\",SUMIFS('Staff Capacity'!$I$10:$I$39,'Staff Capacity'!$G$10:$G$39,1,'Staff Capacity'!$H$10:$H$39,$D$3),SUMIF('Staff Capacity'!$G$10:$G$39,1,'Staff Capacity'!$I$10:$I$39))","v":0},{"$f":"IF($D$3<>\"\",SUMIFS('Staff Capacity'!$I$10:$I$39,'Staff Capacity'!$G$10:$G$39,1,'Staff Capacity'!$H$10:$H$39,$D$3),SUMIF('Staff Capacity'!$G$10:$G$39,1,'Staff Capacity'!$I$10:$I$39))","v":0},{"$f":"IF($D$3<>\"\",SUMIFS('Staff Capacity'!$I$10:$I$39,'Staff Capacity'!$G$10:$G$39,1,'Staff Capacity'!$H$10:$H$39,$D$3),SUMIF('Staff Capacity'!$G$10:$G$39,1,'Staff Capacity'!$I$10:$I$39))","v":0},{"$f":"IF($D$3<>\"\",SUMIFS('Staff Capacity'!$I$10:$I$39,'Staff Capacity'!$G$10:$G$39,1,'Staff Capacity'!$H$10:$H$39,$D$3),SUMIF('Staff Capacity'!$G$10:$G$39,1,'Staff Capacity'!$I$10:$I$39))","v":0},{"$f":"IF($D$3<>\"\",SUMIFS('Staff Capacity'!$I$10:$I$39,'Staff Capacity'!$G$10:$G$39,1,'Staff Capacity'!$H$10:$H$39,$D$3),SUMIF('Staff Capacity'!$G$10:$G$39,1,'Staff Capacity'!$I$10:$I$39))","v":0},{"$f":"IF($D$3<>\"\",SUMIFS('Staff Capacity'!$I$10:$I$39,'Staff Capacity'!$G$10:$G$39,1,'Staff Capacity'!$H$10:$H$39,$D$3),SUMIF('Staff Capacity'!$G$10:$G$39,1,'Staff Capacity'!$I$10:$I$39))","v":0},{"$f":"IF($D$3<>\"\",SUMIFS('Staff Capacity'!$I$10:$I$39,'Staff Capacity'!$G$10:$G$39,1,'Staff Capacity'!$H$10:$H$39,$D$3),SUMIF('Staff Capacity'!$G$10:$G$39,1,'Staff Capacity'!$I$10:$I$39))","v":0},{"$f":"IF($D$3<>\"\",SUMIFS('Staff Capacity'!$I$10:$I$39,'Staff Capacity'!$G$10:$G$39,1,'Staff Capacity'!$H$10:$H$39,$D$3),SUMIF('Staff Capacity'!$G$10:$G$39,1,'Staff Capacity'!$I$10:$I$39))","v":0},{"$f":"IF($D$3<>\"\",SUMIFS('Staff Capacity'!$I$10:$I$39,'Staff Capacity'!$G$10:$G$39,1,'Staff Capacity'!$H$10:$H$39,$D$3),SUMIF('Staff Capacity'!$G$10:$G$39,1,'Staff Capacity'!$I$10:$I$39))","v":0},{"$f":"IF($D$3<>\"\",SUMIFS('Staff Capacity'!$I$10:$I$39,'Staff Capacity'!$G$10:$G$39,1,'Staff Capacity'!$H$10:$H$39,$D$3),SUMIF('Staff Capacity'!$G$10:$G$39,1,'Staff Capacity'!$I$10:$I$39))","v":0},{"$f":"IF($D$3<>\"\",SUMIFS('Staff Capacity'!$I$10:$I$39,'Staff Capacity'!$G$10:$G$39,1,'Staff Capacity'!$H$10:$H$39,$D$3),SUMIF('Staff Capacity'!$G$10:$G$39,1,'Staff Capacity'!$I$10:$I$39))","v":0},{"$f":"IF($D$3<>\"\",SUMIFS('Staff Capacity'!$I$10:$I$39,'Staff Capacity'!$G$10:$G$39,1,'Staff Capacity'!$H$10:$H$39,$D$3),SUMIF('Staff Capacity'!$G$10:$G$39,1,'Staff Capacity'!$I$10:$I$39))","v":0},{"$f":"IF($D$3<>\"\",SUMIFS('Staff Capacity'!$I$10:$I$39,'Staff Capacity'!$G$10:$G$39,1,'Staff Capacity'!$H$10:$H$39,$D$3),SUMIF('Staff Capacity'!$G$10:$G$39,1,'Staff Capacity'!$I$10:$I$39))","v":0},{"$f":"IF($D$3<>\"\",SUMIFS('Staff Capacity'!$I$10:$I$39,'Staff Capacity'!$G$10:$G$39,1,'Staff Capacity'!$H$10:$H$39,$D$3),SUMIF('Staff Capacity'!$G$10:$G$39,1,'Staff Capacity'!$I$10:$I$39))","v":0},{"$f":"IF($D$3<>\"\",SUMIFS('Staff Capacity'!$I$10:$I$39,'Staff Capacity'!$G$10:$G$39,1,'Staff Capacity'!$H$10:$H$39,$D$3),SUMIF('Staff Capacity'!$G$10:$G$39,1,'Staff Capacity'!$I$10:$I$39))","v":0},{"$f":"IF($D$3<>\"\",SUMIFS('Staff Capacity'!$I$10:$I$39,'Staff Capacity'!$G$10:$G$39,1,'Staff Capacity'!$H$10:$H$39,$D$3),SUMIF('Staff Capacity'!$G$10:$G$39,1,'Staff Capacity'!$I$10:$I$39))","v":0},{"$f":"IF($D$3<>\"\",SUMIFS('Staff Capacity'!$I$10:$I$39,'Staff Capacity'!$G$10:$G$39,1,'Staff Capacity'!$H$10:$H$39,$D$3),SUMIF('Staff Capacity'!$G$10:$G$39,1,'Staff Capacity'!$I$10:$I$39))","v":0},{"$f":"IF($D$3<>\"\",SUMIFS('Staff Capacity'!$I$10:$I$39,'Staff Capacity'!$G$10:$G$39,1,'Staff Capacity'!$H$10:$H$39,$D$3),SUMIF('Staff Capacity'!$G$10:$G$39,1,'Staff Capacity'!$I$10:$I$39))","v":0},{"$f":"IF($D$3<>\"\",SUMIFS('Staff Capacity'!$I$10:$I$39,'Staff Capacity'!$G$10:$G$39,1,'Staff Capacity'!$H$10:$H$39,$D$3),SUMIF('Staff Capacity'!$G$10:$G$39,1,'Staff Capacity'!$I$10:$I$39))","v":0},{"$f":"IF($D$3<>\"\",SUMIFS('Staff Capacity'!$I$10:$I$39,'Staff Capacity'!$G$10:$G$39,1,'Staff Capacity'!$H$10:$H$39,$D$3),SUMIF('Staff Capacity'!$G$10:$G$39,1,'Staff Capacity'!$I$10:$I$39))","v":0},{"$f":"IF($D$3<>\"\",SUMIFS('Staff Capacity'!$I$10:$I$39,'Staff Capacity'!$G$10:$G$39,1,'Staff Capacity'!$H$10:$H$39,$D$3),SUMIF('Staff Capacity'!$G$10:$G$39,1,'Staff Capacity'!$I$10:$I$39))","v":0},{"$f":"IF($D$3<>\"\",SUMIFS('Staff Capacity'!$I$10:$I$39,'Staff Capacity'!$G$10:$G$39,1,'Staff Capacity'!$H$10:$H$39,$D$3),SUMIF('Staff Capacity'!$G$10:$G$39,1,'Staff Capacity'!$I$10:$I$39))","v":0},{"$f":"IF($D$3<>\"\",SUMIFS('Staff Capacity'!$I$10:$I$39,'Staff Capacity'!$G$10:$G$39,1,'Staff Capacity'!$H$10:$H$39,$D$3),SUMIF('Staff Capacity'!$G$10:$G$39,1,'Staff Capacity'!$I$10:$I$39))","v":0},{"$f":"IF($D$3<>\"\",SUMIFS('Staff Capacity'!$I$10:$I$39,'Staff Capacity'!$G$10:$G$39,1,'Staff Capacity'!$H$10:$H$39,$D$3),SUMIF('Staff Capacity'!$G$10:$G$39,1,'Staff Capacity'!$I$10:$I$39))","v":0},{"$f":"IF($D$3<>\"\",SUMIFS('Staff Capacity'!$I$10:$I$39,'Staff Capacity'!$G$10:$G$39,1,'Staff Capacity'!$H$10:$H$39,$D$3),SUMIF('Staff Capacity'!$G$10:$G$39,1,'Staff Capacity'!$I$10:$I$39))","v":0},{"$f":"IF($D$3<>\"\",SUMIFS('Staff Capacity'!$I$10:$I$39,'Staff Capacity'!$G$10:$G$39,1,'Staff Capacity'!$H$10:$H$39,$D$3),SUMIF('Staff Capacity'!$G$10:$G$39,1,'Staff Capacity'!$I$10:$I$39))","v":0},{"$f":"IF($D$3<>\"\",SUMIFS('Staff Capacity'!$I$10:$I$39,'Staff Capacity'!$G$10:$G$39,1,'Staff Capacity'!$H$10:$H$39,$D$3),SUMIF('Staff Capacity'!$G$10:$G$39,1,'Staff Capacity'!$I$10:$I$39))","v":0},{"$f":"IF($D$3<>\"\",SUMIFS('Staff Capacity'!$I$10:$I$39,'Staff Capacity'!$G$10:$G$39,1,'Staff Capacity'!$H$10:$H$39,$D$3),SUMIF('Staff Capacity'!$G$10:$G$39,1,'Staff Capacity'!$I$10:$I$39))","v":0},{"$f":"IF($D$3<>\"\",SUMIFS('Staff Capacity'!$I$10:$I$39,'Staff Capacity'!$G$10:$G$39,1,'Staff Capacity'!$H$10:$H$39,$D$3),SUMIF('Staff Capacity'!$G$10:$G$39,1,'Staff Capacity'!$I$10:$I$39))","v":0},{"$f":"IF($D$3<>\"\",SUMIFS('Staff Capacity'!$I$10:$I$39,'Staff Capacity'!$G$10:$G$39,1,'Staff Capacity'!$H$10:$H$39,$D$3),SUMIF('Staff Capacity'!$G$10:$G$39,1,'Staff Capacity'!$I$10:$I$39))","v":0},{"$f":"IF($D$3<>\"\",SUMIFS('Staff Capacity'!$I$10:$I$39,'Staff Capacity'!$G$10:$G$39,1,'Staff Capacity'!$H$10:$H$39,$D$3),SUMIF('Staff Capacity'!$G$10:$G$39,1,'Staff Capacity'!$I$10:$I$39))","v":0},{"$f":"IF($D$3<>\"\",SUMIFS('Staff Capacity'!$I$10:$I$39,'Staff Capacity'!$G$10:$G$39,1,'Staff Capacity'!$H$10:$H$39,$D$3),SUMIF('Staff Capacity'!$G$10:$G$39,1,'Staff Capacity'!$I$10:$I$39))","v":0}]
[null,null,null,null,2,{"$f":"IF($D$3<>\"\",SUMIFS('Staff Capacity'!$I$10:$I$39,'Staff Capacity'!$G$10:$G$39,2,'Staff Capacity'!$H$10:$H$39,$D$3),SUMIF('Staff Capacity'!$G$10:$G$39,2,'Staff Capacity'!$I$10:$I$39))","v":0},{"$f":"IF($D$3<>\"\",SUMIFS('Staff Capacity'!$I$10:$I$39,'Staff Capacity'!$G$10:$G$39,2,'Staff Capacity'!$H$10:$H$39,$D$3),SUMIF('Staff Capacity'!$G$10:$G$39,2,'Staff Capacity'!$I$10:$I$39))","v":0},{"$f":"IF($D$3<>\"\",SUMIFS('Staff Capacity'!$I$10:$I$39,'Staff Capacity'!$G$10:$G$39,2,'Staff Capacity'!$H$10:$H$39,$D$3),SUMIF('Staff Capacity'!$G$10:$G$39,2,'Staff Capacity'!$I$10:$I$39))","v":0},{"$f":"IF($D$3<>\"\",SUMIFS('Staff Capacity'!$I$10:$I$39,'Staff Capacity'!$G$10:$G$39,2,'Staff Capacity'!$H$10:$H$39,$D$3),SUMIF('Staff Capacity'!$G$10:$G$39,2,'Staff Capacity'!$I$10:$I$39))","v":0},{"$f":"IF($D$3<>\"\",SUMIFS('Staff Capacity'!$I$10:$I$39,'Staff Capacity'!$G$10:$G$39,2,'Staff Capacity'!$H$10:$H$39,$D$3),SUMIF('Staff Capacity'!$G$10:$G$39,2,'Staff Capacity'!$I$10:$I$39))","v":0},{"$f":"IF($D$3<>\"\",SUMIFS('Staff Capacity'!$I$10:$I$39,'Staff Capacity'!$G$10:$G$39,2,'Staff Capacity'!$H$10:$H$39,$D$3),SUMIF('Staff Capacity'!$G$10:$G$39,2,'Staff Capacity'!$I$10:$I$39))","v":0},{"$f":"IF($D$3<>\"\",SUMIFS('Staff Capacity'!$I$10:$I$39,'Staff Capacity'!$G$10:$G$39,2,'Staff Capacity'!$H$10:$H$39,$D$3),SUMIF('Staff Capacity'!$G$10:$G$39,2,'Staff Capacity'!$I$10:$I$39))","v":0},{"$f":"IF($D$3<>\"\",SUMIFS('Staff Capacity'!$I$10:$I$39,'Staff Capacity'!$G$10:$G$39,2,'Staff Capacity'!$H$10:$H$39,$D$3),SUMIF('Staff Capacity'!$G$10:$G$39,2,'Staff Capacity'!$I$10:$I$39))","v":0},{"$f":"IF($D$3<>\"\",SUMIFS('Staff Capacity'!$I$10:$I$39,'Staff Capacity'!$G$10:$G$39,2,'Staff Capacity'!$H$10:$H$39,$D$3),SUMIF('Staff Capacity'!$G$10:$G$39,2,'Staff Capacity'!$I$10:$I$39))","v":0},{"$f":"IF($D$3<>\"\",SUMIFS('Staff Capacity'!$I$10:$I$39,'Staff Capacity'!$G$10:$G$39,2,'Staff Capacity'!$H$10:$H$39,$D$3),SUMIF('Staff Capacity'!$G$10:$G$39,2,'Staff Capacity'!$I$10:$I$39))","v":0},{"$f":"IF($D$3<>\"\",SUMIFS('Staff Capacity'!$I$10:$I$39,'Staff Capacity'!$G$10:$G$39,2,'Staff Capacity'!$H$10:$H$39,$D$3),SUMIF('Staff Capacity'!$G$10:$G$39,2,'Staff Capacity'!$I$10:$I$39))","v":0},{"$f":"IF($D$3<>\"\",SUMIFS('Staff Capacity'!$I$10:$I$39,'Staff Capacity'!$G$10:$G$39,2,'Staff Capacity'!$H$10:$H$39,$D$3),SUMIF('Staff Capacity'!$G$10:$G$39,2,'Staff Capacity'!$I$10:$I$39))","v":0},{"$f":"IF($D$3<>\"\",SUMIFS('Staff Capacity'!$I$10:$I$39,'Staff Capacity'!$G$10:$G$39,2,'Staff Capacity'!$H$10:$H$39,$D$3),SUMIF('Staff Capacity'!$G$10:$G$39,2,'Staff Capacity'!$I$10:$I$39))","v":0},{"$f":"IF($D$3<>\"\",SUMIFS('Staff Capacity'!$I$10:$I$39,'Staff Capacity'!$G$10:$G$39,2,'Staff Capacity'!$H$10:$H$39,$D$3),SUMIF('Staff Capacity'!$G$10:$G$39,2,'Staff Capacity'!$I$10:$I$39))","v":0},{"$f":"IF($D$3<>\"\",SUMIFS('Staff Capacity'!$I$10:$I$39,'Staff Capacity'!$G$10:$G$39,2,'Staff Capacity'!$H$10:$H$39,$D$3),SUMIF('Staff Capacity'!$G$10:$G$39,2,'Staff Capacity'!$I$10:$I$39))","v":0},{"$f":"IF($D$3<>\"\",SUMIFS('Staff Capacity'!$I$10:$I$39,'Staff Capacity'!$G$10:$G$39,2,'Staff Capacity'!$H$10:$H$39,$D$3),SUMIF('Staff Capacity'!$G$10:$G$39,2,'Staff Capacity'!$I$10:$I$39))","v":0},{"$f":"IF($D$3<>\"\",SUMIFS('Staff Capacity'!$I$10:$I$39,'Staff Capacity'!$G$10:$G$39,2,'Staff Capacity'!$H$10:$H$39,$D$3),SUMIF('Staff Capacity'!$G$10:$G$39,2,'Staff Capacity'!$I$10:$I$39))","v":0},{"$f":"IF($D$3<>\"\",SUMIFS('Staff Capacity'!$I$10:$I$39,'Staff Capacity'!$G$10:$G$39,2,'Staff Capacity'!$H$10:$H$39,$D$3),SUMIF('Staff Capacity'!$G$10:$G$39,2,'Staff Capacity'!$I$10:$I$39))","v":0},{"$f":"IF($D$3<>\"\",SUMIFS('Staff Capacity'!$I$10:$I$39,'Staff Capacity'!$G$10:$G$39,2,'Staff Capacity'!$H$10:$H$39,$D$3),SUMIF('Staff Capacity'!$G$10:$G$39,2,'Staff Capacity'!$I$10:$I$39))","v":0},{"$f":"IF($D$3<>\"\",SUMIFS('Staff Capacity'!$I$10:$I$39,'Staff Capacity'!$G$10:$G$39,2,'Staff Capacity'!$H$10:$H$39,$D$3),SUMIF('Staff Capacity'!$G$10:$G$39,2,'Staff Capacity'!$I$10:$I$39))","v":0},{"$f":"IF($D$3<>\"\",SUMIFS('Staff Capacity'!$I$10:$I$39,'Staff Capacity'!$G$10:$G$39,2,'Staff Capacity'!$H$10:$H$39,$D$3),SUMIF('Staff Capacity'!$G$10:$G$39,2,'Staff Capacity'!$I$10:$I$39))","v":0},{"$f":"IF($D$3<>\"\",SUMIFS('Staff Capacity'!$I$10:$I$39,'Staff Capacity'!$G$10:$G$39,2,'Staff Capacity'!$H$10:$H$39,$D$3),SUMIF('Staff Capacity'!$G$10:$G$39,2,'Staff Capacity'!$I$10:$I$39))","v":0},{"$f":"IF($D$3<>\"\",SUMIFS('Staff Capacity'!$I$10:$I$39,'Staff Capacity'!$G$10:$G$39,2,'Staff Capacity'!$H$10:$H$39,$D$3),SUMIF('Staff Capacity'!$G$10:$G$39,2,'Staff Capacity'!$I$10:$I$39))","v":0},{"$f":"IF($D$3<>\"\",SUMIFS('Staff Capacity'!$I$10:$I$39,'Staff Capacity'!$G$10:$G$39,2,'Staff Capacity'!$H$10:$H$39,$D$3),SUMIF('Staff Capacity'!$G$10:$G$39,2,'Staff Capacity'!$I$10:$I$39))","v":0},{"$f":"IF($D$3<>\"\",SUMIFS('Staff Capacity'!$I$10:$I$39,'Staff Capacity'!$G$10:$G$39,2,'Staff Capacity'!$H$10:$H$39,$D$3),SUMIF('Staff Capacity'!$G$10:$G$39,2,'Staff Capacity'!$I$10:$I$39))","v":0},{"$f":"IF($D$3<>\"\",SUMIFS('Staff Capacity'!$I$10:$I$39,'Staff Capacity'!$G$10:$G$39,2,'Staff Capacity'!$H$10:$H$39,$D$3),SUMIF('Staff Capacity'!$G$10:$G$39,2,'Staff Capacity'!$I$10:$I$39))","v":0},{"$f":"IF($D$3<>\"\",SUMIFS('Staff Capacity'!$I$10:$I$39,'Staff Capacity'!$G$10:$G$39,2,'Staff Capacity'!$H$10:$H$39,$D$3),SUMIF('Staff Capacity'!$G$10:$G$39,2,'Staff Capacity'!$I$10:$I$39))","v":0},{"$f":"IF($D$3<>\"\",SUMIFS('Staff Capacity'!$I$10:$I$39,'Staff Capacity'!$G$10:$G$39,2,'Staff Capacity'!$H$10:$H$39,$D$3),SUMIF('Staff Capacity'!$G$10:$G$39,2,'Staff Capacity'!$I$10:$I$39))","v":0},{"$f":"IF($D$3<>\"\",SUMIFS('Staff Capacity'!$I$10:$I$39,'Staff Capacity'!$G$10:$G$39,2,'Staff Capacity'!$H$10:$H$39,$D$3),SUMIF('Staff Capacity'!$G$10:$G$39,2,'Staff Capacity'!$I$10:$I$39))","v":0},{"$f":"IF($D$3<>\"\",SUMIFS('Staff Capacity'!$I$10:$I$39,'Staff Capacity'!$G$10:$G$39,2,'Staff Capacity'!$H$10:$H$39,$D$3),SUMIF('Staff Capacity'!$G$10:$G$39,2,'Staff Capacity'!$I$10:$I$39))","v":0},{"$f":"IF($D$3<>\"\",SUMIFS('Staff Capacity'!$I$10:$I$39,'Staff Capacity'!$G$10:$G$39,2,'Staff Capacity'!$H$10:$H$39,$D$3),SUMIF('Staff Capacity'!$G$10:$G$39,2,'Staff Capacity'!$I$10:$I$39))","v":0},{"$f":"IF($D$3<>\"\",SUMIFS('Staff Capacity'!$I$10:$I$39,'Staff Capacity'!$G$10:$G$39,2,'Staff Capacity'!$H$10:$H$39,$D$3),SUMIF('Staff Capacity'!$G$10:$G$39,2,'Staff Capacity'!$I$10:$I$39))","v":0},{"$f":"IF($D$3<>\"\",SUMIFS('Staff Capacity'!$I$10:$I$39,'Staff Capacity'!$G$10:$G$39,2,'Staff Capacity'!$H$10:$H$39,$D$3),SUMIF('Staff Capacity'!$G$10:$G$39,2,'Staff Capacity'!$I$10:$I$39))","v":0},{"$f":"IF($D$3<>\"\",SUMIFS('Staff Capacity'!$I$10:$I$39,'Staff Capacity'!$G$10:$G$39,2,'Staff Capacity'!$H$10:$H$39,$D$3),SUMIF('Staff Capacity'!$G$10:$G$39,2,'Staff Capacity'!$I$10:$I$39))","v":0},{"$f":"IF($D$3<>\"\",SUMIFS('Staff Capacity'!$I$10:$I$39,'Staff Capacity'!$G$10:$G$39,2,'Staff Capacity'!$H$10:$H$39,$D$3),SUMIF('Staff Capacity'!$G$10:$G$39,2,'Staff Capacity'!$I$10:$I$39))","v":0},{"$f":"IF($D$3<>\"\",SUMIFS('Staff Capacity'!$I$10:$I$39,'Staff Capacity'!$G$10:$G$39,2,'Staff Capacity'!$H$10:$H$39,$D$3),SUMIF('Staff Capacity'!$G$10:$G$39,2,'Staff Capacity'!$I$10:$I$39))","v":0},{"$f":"IF($D$3<>\"\",SUMIFS('Staff Capacity'!$I$10:$I$39,'Staff Capacity'!$G$10:$G$39,2,'Staff Capacity'!$H$10:$H$39,$D$3),SUMIF('Staff Capacity'!$G$10:$G$39,2,'Staff Capacity'!$I$10:$I$39))","v":0},{"$f":"IF($D$3<>\"\",SUMIFS('Staff Capacity'!$I$10:$I$39,'Staff Capacity'!$G$10:$G$39,2,'Staff Capacity'!$H$10:$H$39,$D$3),SUMIF('Staff Capacity'!$G$10:$G$39,2,'Staff Capacity'!$I$10:$I$39))","v":0},{"$f":"IF($D$3<>\"\",SUMIFS('Staff Capacity'!$I$10:$I$39,'Staff Capacity'!$G$10:$G$39,2,'Staff Capacity'!$H$10:$H$39,$D$3),SUMIF('Staff Capacity'!$G$10:$G$39,2,'Staff Capacity'!$I$10:$I$39))","v":0},{"$f":"IF($D$3<>\"\",SUMIFS('Staff Capacity'!$I$10:$I$39,'Staff Capacity'!$G$10:$G$39,2,'Staff Capacity'!$H$10:$H$39,$D$3),SUMIF('Staff Capacity'!$G$10:$G$39,2,'Staff Capacity'!$I$10:$I$39))","v":0},{"$f":"IF($D$3<>\"\",SUMIFS('Staff Capacity'!$I$10:$I$39,'Staff Capacity'!$G$10:$G$39,2,'Staff Capacity'!$H$10:$H$39,$D$3),SUMIF('Staff Capacity'!$G$10:$G$39,2,'Staff Capacity'!$I$10:$I$39))","v":0},{"$f":"IF($D$3<>\"\",SUMIFS('Staff Capacity'!$I$10:$I$39,'Staff Capacity'!$G$10:$G$39,2,'Staff Capacity'!$H$10:$H$39,$D$3),SUMIF('Staff Capacity'!$G$10:$G$39,2,'Staff Capacity'!$I$10:$I$39))","v":0},{"$f":"IF($D$3<>\"\",SUMIFS('Staff Capacity'!$I$10:$I$39,'Staff Capacity'!$G$10:$G$39,2,'Staff Capacity'!$H$10:$H$39,$D$3),SUMIF('Staff Capacity'!$G$10:$G$39,2,'Staff Capacity'!$I$10:$I$39))","v":0},{"$f":"IF($D$3<>\"\",SUMIFS('Staff Capacity'!$I$10:$I$39,'Staff Capacity'!$G$10:$G$39,2,'Staff Capacity'!$H$10:$H$39,$D$3),SUMIF('Staff Capacity'!$G$10:$G$39,2,'Staff Capacity'!$I$10:$I$39))","v":0},{"$f":"IF($D$3<>\"\",SUMIFS('Staff Capacity'!$I$10:$I$39,'Staff Capacity'!$G$10:$G$39,2,'Staff Capacity'!$H$10:$H$39,$D$3),SUMIF('Staff Capacity'!$G$10:$G$39,2,'Staff Capacity'!$I$10:$I$39))","v":0},{"$f":"IF($D$3<>\"\",SUMIFS('Staff Capacity'!$I$10:$I$39,'Staff Capacity'!$G$10:$G$39,2,'Staff Capacity'!$H$10:$H$39,$D$3),SUMIF('Staff Capacity'!$G$10:$G$39,2,'Staff Capacity'!$I$10:$I$39))","v":0},{"$f":"IF($D$3<>\"\",SUMIFS('Staff Capacity'!$I$10:$I$39,'Staff Capacity'!$G$10:$G$39,2,'Staff Capacity'!$H$10:$H$39,$D$3),SUMIF('Staff Capacity'!$G$10:$G$39,2,'Staff Capacity'!$I$10:$I$39))","v":0},{"$f":"IF($D$3<>\"\",SUMIFS('Staff Capacity'!$I$10:$I$39,'Staff Capacity'!$G$10:$G$39,2,'Staff Capacity'!$H$10:$H$39,$D$3),SUMIF('Staff Capacity'!$G$10:$G$39,2,'Staff Capacity'!$I$10:$I$39))","v":0},{"$f":"IF($D$3<>\"\",SUMIFS('Staff Capacity'!$I$10:$I$39,'Staff Capacity'!$G$10:$G$39,2,'Staff Capacity'!$H$10:$H$39,$D$3),SUMIF('Staff Capacity'!$G$10:$G$39,2,'Staff Capacity'!$I$10:$I$39))","v":0},{"$f":"IF($D$3<>\"\",SUMIFS('Staff Capacity'!$I$10:$I$39,'Staff Capacity'!$G$10:$G$39,2,'Staff Capacity'!$H$10:$H$39,$D$3),SUMIF('Staff Capacity'!$G$10:$G$39,2,'Staff Capacity'!$I$10:$I$39))","v":0},{"$f":"IF($D$3<>\"\",SUMIFS('Staff Capacity'!$I$10:$I$39,'Staff Capacity'!$G$10:$G$39,2,'Staff Capacity'!$H$10:$H$39,$D$3),SUMIF('Staff Capacity'!$G$10:$G$39,2,'Staff Capacity'!$I$10:$I$39))","v":0},{"$f":"IF($D$3<>\"\",SUMIFS('Staff Capacity'!$I$10:$I$39,'Staff Capacity'!$G$10:$G$39,2,'Staff Capacity'!$H$10:$H$39,$D$3),SUMIF('Staff Capacity'!$G$10:$G$39,2,'Staff Capacity'!$I$10:$I$39))","v":0},{"$f":"IF($D$3<>\"\",SUMIFS('Staff Capacity'!$I$10:$I$39,'Staff Capacity'!$G$10:$G$39,2,'Staff Capacity'!$H$10:$H$39,$D$3),SUMIF('Staff Capacity'!$G$10:$G$39,2,'Staff Capacity'!$I$10:$I$39))","v":0},{"$f":"IF($D$3<>\"\",SUMIFS('Staff Capacity'!$I$10:$I$39,'Staff Capacity'!$G$10:$G$39,2,'Staff Capacity'!$H$10:$H$39,$D$3),SUMIF('Staff Capacity'!$G$10:$G$39,2,'Staff Capacity'!$I$10:$I$39))","v":0},{"$f":"IF($D$3<>\"\",SUMIFS('Staff Capacity'!$I$10:$I$39,'Staff Capacity'!$G$10:$G$39,2,'Staff Capacity'!$H$10:$H$39,$D$3),SUMIF('Staff Capacity'!$G$10:$G$39,2,'Staff Capacity'!$I$10:$I$39))","v":0},{"$f":"IF($D$3<>\"\",SUMIFS('Staff Capacity'!$I$10:$I$39,'Staff Capacity'!$G$10:$G$39,2,'Staff Capacity'!$H$10:$H$39,$D$3),SUMIF('Staff Capacity'!$G$10:$G$39,2,'Staff Capacity'!$I$10:$I$39))","v":0},{"$f":"IF($D$3<>\"\",SUMIFS('Staff Capacity'!$I$10:$I$39,'Staff Capacity'!$G$10:$G$39,2,'Staff Capacity'!$H$10:$H$39,$D$3),SUMIF('Staff Capacity'!$G$10:$G$39,2,'Staff Capacity'!$I$10:$I$39))","v":0},{"$f":"IF($D$3<>\"\",SUMIFS('Staff Capacity'!$I$10:$I$39,'Staff Capacity'!$G$10:$G$39,2,'Staff Capacity'!$H$10:$H$39,$D$3),SUMIF('Staff Capacity'!$G$10:$G$39,2,'Staff Capacity'!$I$10:$I$39))","v":0},{"$f":"IF($D$3<>\"\",SUMIFS('Staff Capacity'!$I$10:$I$39,'Staff Capacity'!$G$10:$G$39,2,'Staff Capacity'!$H$10:$H$39,$D$3),SUMIF('Staff Capacity'!$G$10:$G$39,2,'Staff Capacity'!$I$10:$I$39))","v":0},{"$f":"IF($D$3<>\"\",SUMIFS('Staff Capacity'!$I$10:$I$39,'Staff Capacity'!$G$10:$G$39,2,'Staff Capacity'!$H$10:$H$39,$D$3),SUMIF('Staff Capacity'!$G$10:$G$39,2,'Staff Capacity'!$I$10:$I$39))","v":0},{"$f":"IF($D$3<>\"\",SUMIFS('Staff Capacity'!$I$10:$I$39,'Staff Capacity'!$G$10:$G$39,2,'Staff Capacity'!$H$10:$H$39,$D$3),SUMIF('Staff Capacity'!$G$10:$G$39,2,'Staff Capacity'!$I$10:$I$39))","v":0},{"$f":"IF($D$3<>\"\",SUMIFS('Staff Capacity'!$I$10:$I$39,'Staff Capacity'!$G$10:$G$39,2,'Staff Capacity'!$H$10:$H$39,$D$3),SUMIF('Staff Capacity'!$G$10:$G$39,2,'Staff Capacity'!$I$10:$I$39))","v":0},{"$f":"IF($D$3<>\"\",SUMIFS('Staff Capacity'!$I$10:$I$39,'Staff Capacity'!$G$10:$G$39,2,'Staff Capacity'!$H$10:$H$39,$D$3),SUMIF('Staff Capacity'!$G$10:$G$39,2,'Staff Capacity'!$I$10:$I$39))","v":0},{"$f":"IF($D$3<>\"\",SUMIFS('Staff Capacity'!$I$10:$I$39,'Staff Capacity'!$G$10:$G$39,2,'Staff Capacity'!$H$10:$H$39,$D$3),SUMIF('Staff Capacity'!$G$10:$G$39,2,'Staff Capacity'!$I$10:$I$39))","v":0},{"$f":"IF($D$3<>\"\",SUMIFS('Staff Capacity'!$I$10:$I$39,'Staff Capacity'!$G$10:$G$39,2,'Staff Capacity'!$H$10:$H$39,$D$3),SUMIF('Staff Capacity'!$G$10:$G$39,2,'Staff Capacity'!$I$10:$I$39))","v":0},{"$f":"IF($D$3<>\"\",SUMIFS('Staff Capacity'!$I$10:$I$39,'Staff Capacity'!$G$10:$G$39,2,'Staff Capacity'!$H$10:$H$39,$D$3),SUMIF('Staff Capacity'!$G$10:$G$39,2,'Staff Capacity'!$I$10:$I$39))","v":0},{"$f":"IF($D$3<>\"\",SUMIFS('Staff Capacity'!$I$10:$I$39,'Staff Capacity'!$G$10:$G$39,2,'Staff Capacity'!$H$10:$H$39,$D$3),SUMIF('Staff Capacity'!$G$10:$G$39,2,'Staff Capacity'!$I$10:$I$39))","v":0},{"$f":"IF($D$3<>\"\",SUMIFS('Staff Capacity'!$I$10:$I$39,'Staff Capacity'!$G$10:$G$39,2,'Staff Capacity'!$H$10:$H$39,$D$3),SUMIF('Staff Capacity'!$G$10:$G$39,2,'Staff Capacity'!$I$10:$I$39))","v":0},{"$f":"IF($D$3<>\"\",SUMIFS('Staff Capacity'!$I$10:$I$39,'Staff Capacity'!$G$10:$G$39,2,'Staff Capacity'!$H$10:$H$39,$D$3),SUMIF('Staff Capacity'!$G$10:$G$39,2,'Staff Capacity'!$I$10:$I$39))","v":0},{"$f":"IF($D$3<>\"\",SUMIFS('Staff Capacity'!$I$10:$I$39,'Staff Capacity'!$G$10:$G$39,2,'Staff Capacity'!$H$10:$H$39,$D$3),SUMIF('Staff Capacity'!$G$10:$G$39,2,'Staff Capacity'!$I$10:$I$39))","v":0},{"$f":"IF($D$3<>\"\",SUMIFS('Staff Capacity'!$I$10:$I$39,'Staff Capacity'!$G$10:$G$39,2,'Staff Capacity'!$H$10:$H$39,$D$3),SUMIF('Staff Capacity'!$G$10:$G$39,2,'Staff Capacity'!$I$10:$I$39))","v":0},{"$f":"IF($D$3<>\"\",SUMIFS('Staff Capacity'!$I$10:$I$39,'Staff Capacity'!$G$10:$G$39,2,'Staff Capacity'!$H$10:$H$39,$D$3),SUMIF('Staff Capacity'!$G$10:$G$39,2,'Staff Capacity'!$I$10:$I$39))","v":0},{"$f":"IF($D$3<>\"\",SUMIFS('Staff Capacity'!$I$10:$I$39,'Staff Capacity'!$G$10:$G$39,2,'Staff Capacity'!$H$10:$H$39,$D$3),SUMIF('Staff Capacity'!$G$10:$G$39,2,'Staff Capacity'!$I$10:$I$39))","v":0},{"$f":"IF($D$3<>\"\",SUMIFS('Staff Capacity'!$I$10:$I$39,'Staff Capacity'!$G$10:$G$39,2,'Staff Capacity'!$H$10:$H$39,$D$3),SUMIF('Staff Capacity'!$G$10:$G$39,2,'Staff Capacity'!$I$10:$I$39))","v":0},{"$f":"IF($D$3<>\"\",SUMIFS('Staff Capacity'!$I$10:$I$39,'Staff Capacity'!$G$10:$G$39,2,'Staff Capacity'!$H$10:$H$39,$D$3),SUMIF('Staff Capacity'!$G$10:$G$39,2,'Staff Capacity'!$I$10:$I$39))","v":0},{"$f":"IF($D$3<>\"\",SUMIFS('Staff Capacity'!$I$10:$I$39,'Staff Capacity'!$G$10:$G$39,2,'Staff Capacity'!$H$10:$H$39,$D$3),SUMIF('Staff Capacity'!$G$10:$G$39,2,'Staff Capacity'!$I$10:$I$39))","v":0},{"$f":"IF($D$3<>\"\",SUMIFS('Staff Capacity'!$I$10:$I$39,'Staff Capacity'!$G$10:$G$39,2,'Staff Capacity'!$H$10:$H$39,$D$3),SUMIF('Staff Capacity'!$G$10:$G$39,2,'Staff Capacity'!$I$10:$I$39))","v":0},{"$f":"IF($D$3<>\"\",SUMIFS('Staff Capacity'!$I$10:$I$39,'Staff Capacity'!$G$10:$G$39,2,'Staff Capacity'!$H$10:$H$39,$D$3),SUMIF('Staff Capacity'!$G$10:$G$39,2,'Staff Capacity'!$I$10:$I$39))","v":0},{"$f":"IF($D$3<>\"\",SUMIFS('Staff Capacity'!$I$10:$I$39,'Staff Capacity'!$G$10:$G$39,2,'Staff Capacity'!$H$10:$H$39,$D$3),SUMIF('Staff Capacity'!$G$10:$G$39,2,'Staff Capacity'!$I$10:$I$39))","v":0},{"$f":"IF($D$3<>\"\",SUMIFS('Staff Capacity'!$I$10:$I$39,'Staff Capacity'!$G$10:$G$39,2,'Staff Capacity'!$H$10:$H$39,$D$3),SUMIF('Staff Capacity'!$G$10:$G$39,2,'Staff Capacity'!$I$10:$I$39))","v":0},{"$f":"IF($D$3<>\"\",SUMIFS('Staff Capacity'!$I$10:$I$39,'Staff Capacity'!$G$10:$G$39,2,'Staff Capacity'!$H$10:$H$39,$D$3),SUMIF('Staff Capacity'!$G$10:$G$39,2,'Staff Capacity'!$I$10:$I$39))","v":0},{"$f":"IF($D$3<>\"\",SUMIFS('Staff Capacity'!$I$10:$I$39,'Staff Capacity'!$G$10:$G$39,2,'Staff Capacity'!$H$10:$H$39,$D$3),SUMIF('Staff Capacity'!$G$10:$G$39,2,'Staff Capacity'!$I$10:$I$39))","v":0},{"$f":"IF($D$3<>\"\",SUMIFS('Staff Capacity'!$I$10:$I$39,'Staff Capacity'!$G$10:$G$39,2,'Staff Capacity'!$H$10:$H$39,$D$3),SUMIF('Staff Capacity'!$G$10:$G$39,2,'Staff Capacity'!$I$10:$I$39))","v":0},{"$f":"IF($D$3<>\"\",SUMIFS('Staff Capacity'!$I$10:$I$39,'Staff Capacity'!$G$10:$G$39,2,'Staff Capacity'!$H$10:$H$39,$D$3),SUMIF('Staff Capacity'!$G$10:$G$39,2,'Staff Capacity'!$I$10:$I$39))","v":0},{"$f":"IF($D$3<>\"\",SUMIFS('Staff Capacity'!$I$10:$I$39,'Staff Capacity'!$G$10:$G$39,2,'Staff Capacity'!$H$10:$H$39,$D$3),SUMIF('Staff Capacity'!$G$10:$G$39,2,'Staff Capacity'!$I$10:$I$39))","v":0},{"$f":"IF($D$3<>\"\",SUMIFS('Staff Capacity'!$I$10:$I$39,'Staff Capacity'!$G$10:$G$39,2,'Staff Capacity'!$H$10:$H$39,$D$3),SUMIF('Staff Capacity'!$G$10:$G$39,2,'Staff Capacity'!$I$10:$I$39))","v":0},{"$f":"IF($D$3<>\"\",SUMIFS('Staff Capacity'!$I$10:$I$39,'Staff Capacity'!$G$10:$G$39,2,'Staff Capacity'!$H$10:$H$39,$D$3),SUMIF('Staff Capacity'!$G$10:$G$39,2,'Staff Capacity'!$I$10:$I$39))","v":0},{"$f":"IF($D$3<>\"\",SUMIFS('Staff Capacity'!$I$10:$I$39,'Staff Capacity'!$G$10:$G$39,2,'Staff Capacity'!$H$10:$H$39,$D$3),SUMIF('Staff Capacity'!$G$10:$G$39,2,'Staff Capacity'!$I$10:$I$39))","v":0},{"$f":"IF($D$3<>\"\",SUMIFS('Staff Capacity'!$I$10:$I$39,'Staff Capacity'!$G$10:$G$39,2,'Staff Capacity'!$H$10:$H$39,$D$3),SUMIF('Staff Capacity'!$G$10:$G$39,2,'Staff Capacity'!$I$10:$I$39))","v":0},{"$f":"IF($D$3<>\"\",SUMIFS('Staff Capacity'!$I$10:$I$39,'Staff Capacity'!$G$10:$G$39,2,'Staff Capacity'!$H$10:$H$39,$D$3),SUMIF('Staff Capacity'!$G$10:$G$39,2,'Staff Capacity'!$I$10:$I$39))","v":0},{"$f":"IF($D$3<>\"\",SUMIFS('Staff Capacity'!$I$10:$I$39,'Staff Capacity'!$G$10:$G$39,2,'Staff Capacity'!$H$10:$H$39,$D$3),SUMIF('Staff Capacity'!$G$10:$G$39,2,'Staff Capacity'!$I$10:$I$39))","v":0},{"$f":"IF($D$3<>\"\",SUMIFS('Staff Capacity'!$I$10:$I$39,'Staff Capacity'!$G$10:$G$39,2,'Staff Capacity'!$H$10:$H$39,$D$3),SUMIF('Staff Capacity'!$G$10:$G$39,2,'Staff Capacity'!$I$10:$I$39))","v":0},{"$f":"IF($D$3<>\"\",SUMIFS('Staff Capacity'!$I$10:$I$39,'Staff Capacity'!$G$10:$G$39,2,'Staff Capacity'!$H$10:$H$39,$D$3),SUMIF('Staff Capacity'!$G$10:$G$39,2,'Staff Capacity'!$I$10:$I$39))","v":0},{"$f":"IF($D$3<>\"\",SUMIFS('Staff Capacity'!$I$10:$I$39,'Staff Capacity'!$G$10:$G$39,2,'Staff Capacity'!$H$10:$H$39,$D$3),SUMIF('Staff Capacity'!$G$10:$G$39,2,'Staff Capacity'!$I$10:$I$39))","v":0},{"$f":"IF($D$3<>\"\",SUMIFS('Staff Capacity'!$I$10:$I$39,'Staff Capacity'!$G$10:$G$39,2,'Staff Capacity'!$H$10:$H$39,$D$3),SUMIF('Staff Capacity'!$G$10:$G$39,2,'Staff Capacity'!$I$10:$I$39))","v":0},{"$f":"IF($D$3<>\"\",SUMIFS('Staff Capacity'!$I$10:$I$39,'Staff Capacity'!$G$10:$G$39,2,'Staff Capacity'!$H$10:$H$39,$D$3),SUMIF('Staff Capacity'!$G$10:$G$39,2,'Staff Capacity'!$I$10:$I$39))","v":0},{"$f":"IF($D$3<>\"\",SUMIFS('Staff Capacity'!$I$10:$I$39,'Staff Capacity'!$G$10:$G$39,2,'Staff Capacity'!$H$10:$H$39,$D$3),SUMIF('Staff Capacity'!$G$10:$G$39,2,'Staff Capacity'!$I$10:$I$39))","v":0},{"$f":"IF($D$3<>\"\",SUMIFS('Staff Capacity'!$I$10:$I$39,'Staff Capacity'!$G$10:$G$39,2,'Staff Capacity'!$H$10:$H$39,$D$3),SUMIF('Staff Capacity'!$G$10:$G$39,2,'Staff Capacity'!$I$10:$I$39))","v":0},{"$f":"IF($D$3<>\"\",SUMIFS('Staff Capacity'!$I$10:$I$39,'Staff Capacity'!$G$10:$G$39,2,'Staff Capacity'!$H$10:$H$39,$D$3),SUMIF('Staff Capacity'!$G$10:$G$39,2,'Staff Capacity'!$I$10:$I$39))","v":0},{"$f":"IF($D$3<>\"\",SUMIFS('Staff Capacity'!$I$10:$I$39,'Staff Capacity'!$G$10:$G$39,2,'Staff Capacity'!$H$10:$H$39,$D$3),SUMIF('Staff Capacity'!$G$10:$G$39,2,'Staff Capacity'!$I$10:$I$39))","v":0},{"$f":"IF($D$3<>\"\",SUMIFS('Staff Capacity'!$I$10:$I$39,'Staff Capacity'!$G$10:$G$39,2,'Staff Capacity'!$H$10:$H$39,$D$3),SUMIF('Staff Capacity'!$G$10:$G$39,2,'Staff Capacity'!$I$10:$I$39))","v":0},{"$f":"IF($D$3<>\"\",SUMIFS('Staff Capacity'!$I$10:$I$39,'Staff Capacity'!$G$10:$G$39,2,'Staff Capacity'!$H$10:$H$39,$D$3),SUMIF('Staff Capacity'!$G$10:$G$39,2,'Staff Capacity'!$I$10:$I$39))","v":0},{"$f":"IF($D$3<>\"\",SUMIFS('Staff Capacity'!$I$10:$I$39,'Staff Capacity'!$G$10:$G$39,2,'Staff Capacity'!$H$10:$H$39,$D$3),SUMIF('Staff Capacity'!$G$10:$G$39,2,'Staff Capacity'!$I$10:$I$39))","v":0},{"$f":"IF($D$3<>\"\",SUMIFS('Staff Capacity'!$I$10:$I$39,'Staff Capacity'!$G$10:$G$39,2,'Staff Capacity'!$H$10:$H$39,$D$3),SUMIF('Staff Capacity'!$G$10:$G$39,2,'Staff Capacity'!$I$10:$I$39))","v":0},{"$f":"IF($D$3<>\"\",SUMIFS('Staff Capacity'!$I$10:$I$39,'Staff Capacity'!$G$10:$G$39,2,'Staff Capacity'!$H$10:$H$39,$D$3),SUMIF('Staff Capacity'!$G$10:$G$39,2,'Staff Capacity'!$I$10:$I$39))","v":0},{"$f":"IF($D$3<>\"\",SUMIFS('Staff Capacity'!$I$10:$I$39,'Staff Capacity'!$G$10:$G$39,2,'Staff Capacity'!$H$10:$H$39,$D$3),SUMIF('Staff Capacity'!$G$10:$G$39,2,'Staff Capacity'!$I$10:$I$39))","v":0},{"$f":"IF($D$3<>\"\",SUMIFS('Staff Capacity'!$I$10:$I$39,'Staff Capacity'!$G$10:$G$39,2,'Staff Capacity'!$H$10:$H$39,$D$3),SUMIF('Staff Capacity'!$G$10:$G$39,2,'Staff Capacity'!$I$10:$I$39))","v":0},{"$f":"IF($D$3<>\"\",SUMIFS('Staff Capacity'!$I$10:$I$39,'Staff Capacity'!$G$10:$G$39,2,'Staff Capacity'!$H$10:$H$39,$D$3),SUMIF('Staff Capacity'!$G$10:$G$39,2,'Staff Capacity'!$I$10:$I$39))","v":0},{"$f":"IF($D$3<>\"\",SUMIFS('Staff Capacity'!$I$10:$I$39,'Staff Capacity'!$G$10:$G$39,2,'Staff Capacity'!$H$10:$H$39,$D$3),SUMIF('Staff Capacity'!$G$10:$G$39,2,'Staff Capacity'!$I$10:$I$39))","v":0},{"$f":"IF($D$3<>\"\",SUMIFS('Staff Capacity'!$I$10:$I$39,'Staff Capacity'!$G$10:$G$39,2,'Staff Capacity'!$H$10:$H$39,$D$3),SUMIF('Staff Capacity'!$G$10:$G$39,2,'Staff Capacity'!$I$10:$I$39))","v":0},{"$f":"IF($D$3<>\"\",SUMIFS('Staff Capacity'!$I$10:$I$39,'Staff Capacity'!$G$10:$G$39,2,'Staff Capacity'!$H$10:$H$39,$D$3),SUMIF('Staff Capacity'!$G$10:$G$39,2,'Staff Capacity'!$I$10:$I$39))","v":0},{"$f":"IF($D$3<>\"\",SUMIFS('Staff Capacity'!$I$10:$I$39,'Staff Capacity'!$G$10:$G$39,2,'Staff Capacity'!$H$10:$H$39,$D$3),SUMIF('Staff Capacity'!$G$10:$G$39,2,'Staff Capacity'!$I$10:$I$39))","v":0},{"$f":"IF($D$3<>\"\",SUMIFS('Staff Capacity'!$I$10:$I$39,'Staff Capacity'!$G$10:$G$39,2,'Staff Capacity'!$H$10:$H$39,$D$3),SUMIF('Staff Capacity'!$G$10:$G$39,2,'Staff Capacity'!$I$10:$I$39))","v":0},{"$f":"IF($D$3<>\"\",SUMIFS('Staff Capacity'!$I$10:$I$39,'Staff Capacity'!$G$10:$G$39,2,'Staff Capacity'!$H$10:$H$39,$D$3),SUMIF('Staff Capacity'!$G$10:$G$39,2,'Staff Capacity'!$I$10:$I$39))","v":0},{"$f":"IF($D$3<>\"\",SUMIFS('Staff Capacity'!$I$10:$I$39,'Staff Capacity'!$G$10:$G$39,2,'Staff Capacity'!$H$10:$H$39,$D$3),SUMIF('Staff Capacity'!$G$10:$G$39,2,'Staff Capacity'!$I$10:$I$39))","v":0},{"$f":"IF($D$3<>\"\",SUMIFS('Staff Capacity'!$I$10:$I$39,'Staff Capacity'!$G$10:$G$39,2,'Staff Capacity'!$H$10:$H$39,$D$3),SUMIF('Staff Capacity'!$G$10:$G$39,2,'Staff Capacity'!$I$10:$I$39))","v":0},{"$f":"IF($D$3<>\"\",SUMIFS('Staff Capacity'!$I$10:$I$39,'Staff Capacity'!$G$10:$G$39,2,'Staff Capacity'!$H$10:$H$39,$D$3),SUMIF('Staff Capacity'!$G$10:$G$39,2,'Staff Capacity'!$I$10:$I$39))","v":0},{"$f":"IF($D$3<>\"\",SUMIFS('Staff Capacity'!$I$10:$I$39,'Staff Capacity'!$G$10:$G$39,2,'Staff Capacity'!$H$10:$H$39,$D$3),SUMIF('Staff Capacity'!$G$10:$G$39,2,'Staff Capacity'!$I$10:$I$39))","v":0},{"$f":"IF($D$3<>\"\",SUMIFS('Staff Capacity'!$I$10:$I$39,'Staff Capacity'!$G$10:$G$39,2,'Staff Capacity'!$H$10:$H$39,$D$3),SUMIF('Staff Capacity'!$G$10:$G$39,2,'Staff Capacity'!$I$10:$I$39))","v":0},{"$f":"IF($D$3<>\"\",SUMIFS('Staff Capacity'!$I$10:$I$39,'Staff Capacity'!$G$10:$G$39,2,'Staff Capacity'!$H$10:$H$39,$D$3),SUMIF('Staff Capacity'!$G$10:$G$39,2,'Staff Capacity'!$I$10:$I$39))","v":0},{"$f":"IF($D$3<>\"\",SUMIFS('Staff Capacity'!$I$10:$I$39,'Staff Capacity'!$G$10:$G$39,2,'Staff Capacity'!$H$10:$H$39,$D$3),SUMIF('Staff Capacity'!$G$10:$G$39,2,'Staff Capacity'!$I$10:$I$39))","v":0},{"$f":"IF($D$3<>\"\",SUMIFS('Staff Capacity'!$I$10:$I$39,'Staff Capacity'!$G$10:$G$39,2,'Staff Capacity'!$H$10:$H$39,$D$3),SUMIF('Staff Capacity'!$G$10:$G$39,2,'Staff Capacity'!$I$10:$I$39))","v":0},{"$f":"IF($D$3<>\"\",SUMIFS('Staff Capacity'!$I$10:$I$39,'Staff Capacity'!$G$10:$G$39,2,'Staff Capacity'!$H$10:$H$39,$D$3),SUMIF('Staff Capacity'!$G$10:$G$39,2,'Staff Capacity'!$I$10:$I$39))","v":0},{"$f":"IF($D$3<>\"\",SUMIFS('Staff Capacity'!$I$10:$I$39,'Staff Capacity'!$G$10:$G$39,2,'Staff Capacity'!$H$10:$H$39,$D$3),SUMIF('Staff Capacity'!$G$10:$G$39,2,'Staff Capacity'!$I$10:$I$39))","v":0},{"$f":"IF($D$3<>\"\",SUMIFS('Staff Capacity'!$I$10:$I$39,'Staff Capacity'!$G$10:$G$39,2,'Staff Capacity'!$H$10:$H$39,$D$3),SUMIF('Staff Capacity'!$G$10:$G$39,2,'Staff Capacity'!$I$10:$I$39))","v":0},{"$f":"IF($D$3<>\"\",SUMIFS('Staff Capacity'!$I$10:$I$39,'Staff Capacity'!$G$10:$G$39,2,'Staff Capacity'!$H$10:$H$39,$D$3),SUMIF('Staff Capacity'!$G$10:$G$39,2,'Staff Capacity'!$I$10:$I$39))","v":0},{"$f":"IF($D$3<>\"\",SUMIFS('Staff Capacity'!$I$10:$I$39,'Staff Capacity'!$G$10:$G$39,2,'Staff Capacity'!$H$10:$H$39,$D$3),SUMIF('Staff Capacity'!$G$10:$G$39,2,'Staff Capacity'!$I$10:$I$39))","v":0},{"$f":"IF($D$3<>\"\",SUMIFS('Staff Capacity'!$I$10:$I$39,'Staff Capacity'!$G$10:$G$39,2,'Staff Capacity'!$H$10:$H$39,$D$3),SUMIF('Staff Capacity'!$G$10:$G$39,2,'Staff Capacity'!$I$10:$I$39))","v":0},{"$f":"IF($D$3<>\"\",SUMIFS('Staff Capacity'!$I$10:$I$39,'Staff Capacity'!$G$10:$G$39,2,'Staff Capacity'!$H$10:$H$39,$D$3),SUMIF('Staff Capacity'!$G$10:$G$39,2,'Staff Capacity'!$I$10:$I$39))","v":0},{"$f":"IF($D$3<>\"\",SUMIFS('Staff Capacity'!$I$10:$I$39,'Staff Capacity'!$G$10:$G$39,2,'Staff Capacity'!$H$10:$H$39,$D$3),SUMIF('Staff Capacity'!$G$10:$G$39,2,'Staff Capacity'!$I$10:$I$39))","v":0},{"$f":"IF($D$3<>\"\",SUMIFS('Staff Capacity'!$I$10:$I$39,'Staff Capacity'!$G$10:$G$39,2,'Staff Capacity'!$H$10:$H$39,$D$3),SUMIF('Staff Capacity'!$G$10:$G$39,2,'Staff Capacity'!$I$10:$I$39))","v":0},{"$f":"IF($D$3<>\"\",SUMIFS('Staff Capacity'!$I$10:$I$39,'Staff Capacity'!$G$10:$G$39,2,'Staff Capacity'!$H$10:$H$39,$D$3),SUMIF('Staff Capacity'!$G$10:$G$39,2,'Staff Capacity'!$I$10:$I$39))","v":0},{"$f":"IF($D$3<>\"\",SUMIFS('Staff Capacity'!$I$10:$I$39,'Staff Capacity'!$G$10:$G$39,2,'Staff Capacity'!$H$10:$H$39,$D$3),SUMIF('Staff Capacity'!$G$10:$G$39,2,'Staff Capacity'!$I$10:$I$39))","v":0},{"$f":"IF($D$3<>\"\",SUMIFS('Staff Capacity'!$I$10:$I$39,'Staff Capacity'!$G$10:$G$39,2,'Staff Capacity'!$H$10:$H$39,$D$3),SUMIF('Staff Capacity'!$G$10:$G$39,2,'Staff Capacity'!$I$10:$I$39))","v":0},{"$f":"IF($D$3<>\"\",SUMIFS('Staff Capacity'!$I$10:$I$39,'Staff Capacity'!$G$10:$G$39,2,'Staff Capacity'!$H$10:$H$39,$D$3),SUMIF('Staff Capacity'!$G$10:$G$39,2,'Staff Capacity'!$I$10:$I$39))","v":0},{"$f":"IF($D$3<>\"\",SUMIFS('Staff Capacity'!$I$10:$I$39,'Staff Capacity'!$G$10:$G$39,2,'Staff Capacity'!$H$10:$H$39,$D$3),SUMIF('Staff Capacity'!$G$10:$G$39,2,'Staff Capacity'!$I$10:$I$39))","v":0},{"$f":"IF($D$3<>\"\",SUMIFS('Staff Capacity'!$I$10:$I$39,'Staff Capacity'!$G$10:$G$39,2,'Staff Capacity'!$H$10:$H$39,$D$3),SUMIF('Staff Capacity'!$G$10:$G$39,2,'Staff Capacity'!$I$10:$I$39))","v":0},{"$f":"IF($D$3<>\"\",SUMIFS('Staff Capacity'!$I$10:$I$39,'Staff Capacity'!$G$10:$G$39,2,'Staff Capacity'!$H$10:$H$39,$D$3),SUMIF('Staff Capacity'!$G$10:$G$39,2,'Staff Capacity'!$I$10:$I$39))","v":0},{"$f":"IF($D$3<>\"\",SUMIFS('Staff Capacity'!$I$10:$I$39,'Staff Capacity'!$G$10:$G$39,2,'Staff Capacity'!$H$10:$H$39,$D$3),SUMIF('Staff Capacity'!$G$10:$G$39,2,'Staff Capacity'!$I$10:$I$39))","v":0},{"$f":"IF($D$3<>\"\",SUMIFS('Staff Capacity'!$I$10:$I$39,'Staff Capacity'!$G$10:$G$39,2,'Staff Capacity'!$H$10:$H$39,$D$3),SUMIF('Staff Capacity'!$G$10:$G$39,2,'Staff Capacity'!$I$10:$I$39))","v":0},{"$f":"IF($D$3<>\"\",SUMIFS('Staff Capacity'!$I$10:$I$39,'Staff Capacity'!$G$10:$G$39,2,'Staff Capacity'!$H$10:$H$39,$D$3),SUMIF('Staff Capacity'!$G$10:$G$39,2,'Staff Capacity'!$I$10:$I$39))","v":0},{"$f":"IF($D$3<>\"\",SUMIFS('Staff Capacity'!$I$10:$I$39,'Staff Capacity'!$G$10:$G$39,2,'Staff Capacity'!$H$10:$H$39,$D$3),SUMIF('Staff Capacity'!$G$10:$G$39,2,'Staff Capacity'!$I$10:$I$39))","v":0},{"$f":"IF($D$3<>\"\",SUMIFS('Staff Capacity'!$I$10:$I$39,'Staff Capacity'!$G$10:$G$39,2,'Staff Capacity'!$H$10:$H$39,$D$3),SUMIF('Staff Capacity'!$G$10:$G$39,2,'Staff Capacity'!$I$10:$I$39))","v":0},{"$f":"IF($D$3<>\"\",SUMIFS('Staff Capacity'!$I$10:$I$39,'Staff Capacity'!$G$10:$G$39,2,'Staff Capacity'!$H$10:$H$39,$D$3),SUMIF('Staff Capacity'!$G$10:$G$39,2,'Staff Capacity'!$I$10:$I$39))","v":0},{"$f":"IF($D$3<>\"\",SUMIFS('Staff Capacity'!$I$10:$I$39,'Staff Capacity'!$G$10:$G$39,2,'Staff Capacity'!$H$10:$H$39,$D$3),SUMIF('Staff Capacity'!$G$10:$G$39,2,'Staff Capacity'!$I$10:$I$39))","v":0},{"$f":"IF($D$3<>\"\",SUMIFS('Staff Capacity'!$I$10:$I$39,'Staff Capacity'!$G$10:$G$39,2,'Staff Capacity'!$H$10:$H$39,$D$3),SUMIF('Staff Capacity'!$G$10:$G$39,2,'Staff Capacity'!$I$10:$I$39))","v":0},{"$f":"IF($D$3<>\"\",SUMIFS('Staff Capacity'!$I$10:$I$39,'Staff Capacity'!$G$10:$G$39,2,'Staff Capacity'!$H$10:$H$39,$D$3),SUMIF('Staff Capacity'!$G$10:$G$39,2,'Staff Capacity'!$I$10:$I$39))","v":0},{"$f":"IF($D$3<>\"\",SUMIFS('Staff Capacity'!$I$10:$I$39,'Staff Capacity'!$G$10:$G$39,2,'Staff Capacity'!$H$10:$H$39,$D$3),SUMIF('Staff Capacity'!$G$10:$G$39,2,'Staff Capacity'!$I$10:$I$39))","v":0},{"$f":"IF($D$3<>\"\",SUMIFS('Staff Capacity'!$I$10:$I$39,'Staff Capacity'!$G$10:$G$39,2,'Staff Capacity'!$H$10:$H$39,$D$3),SUMIF('Staff Capacity'!$G$10:$G$39,2,'Staff Capacity'!$I$10:$I$39))","v":0},{"$f":"IF($D$3<>\"\",SUMIFS('Staff Capacity'!$I$10:$I$39,'Staff Capacity'!$G$10:$G$39,2,'Staff Capacity'!$H$10:$H$39,$D$3),SUMIF('Staff Capacity'!$G$10:$G$39,2,'Staff Capacity'!$I$10:$I$39))","v":0},{"$f":"IF($D$3<>\"\",SUMIFS('Staff Capacity'!$I$10:$I$39,'Staff Capacity'!$G$10:$G$39,2,'Staff Capacity'!$H$10:$H$39,$D$3),SUMIF('Staff Capacity'!$G$10:$G$39,2,'Staff Capacity'!$I$10:$I$39))","v":0},{"$f":"IF($D$3<>\"\",SUMIFS('Staff Capacity'!$I$10:$I$39,'Staff Capacity'!$G$10:$G$39,2,'Staff Capacity'!$H$10:$H$39,$D$3),SUMIF('Staff Capacity'!$G$10:$G$39,2,'Staff Capacity'!$I$10:$I$39))","v":0},{"$f":"IF($D$3<>\"\",SUMIFS('Staff Capacity'!$I$10:$I$39,'Staff Capacity'!$G$10:$G$39,2,'Staff Capacity'!$H$10:$H$39,$D$3),SUMIF('Staff Capacity'!$G$10:$G$39,2,'Staff Capacity'!$I$10:$I$39))","v":0},{"$f":"IF($D$3<>\"\",SUMIFS('Staff Capacity'!$I$10:$I$39,'Staff Capacity'!$G$10:$G$39,2,'Staff Capacity'!$H$10:$H$39,$D$3),SUMIF('Staff Capacity'!$G$10:$G$39,2,'Staff Capacity'!$I$10:$I$39))","v":0},{"$f":"IF($D$3<>\"\",SUMIFS('Staff Capacity'!$I$10:$I$39,'Staff Capacity'!$G$10:$G$39,2,'Staff Capacity'!$H$10:$H$39,$D$3),SUMIF('Staff Capacity'!$G$10:$G$39,2,'Staff Capacity'!$I$10:$I$39))","v":0},{"$f":"IF($D$3<>\"\",SUMIFS('Staff Capacity'!$I$10:$I$39,'Staff Capacity'!$G$10:$G$39,2,'Staff Capacity'!$H$10:$H$39,$D$3),SUMIF('Staff Capacity'!$G$10:$G$39,2,'Staff Capacity'!$I$10:$I$39))","v":0},{"$f":"IF($D$3<>\"\",SUMIFS('Staff Capacity'!$I$10:$I$39,'Staff Capacity'!$G$10:$G$39,2,'Staff Capacity'!$H$10:$H$39,$D$3),SUMIF('Staff Capacity'!$G$10:$G$39,2,'Staff Capacity'!$I$10:$I$39))","v":0},{"$f":"IF($D$3<>\"\",SUMIFS('Staff Capacity'!$I$10:$I$39,'Staff Capacity'!$G$10:$G$39,2,'Staff Capacity'!$H$10:$H$39,$D$3),SUMIF('Staff Capacity'!$G$10:$G$39,2,'Staff Capacity'!$I$10:$I$39))","v":0},{"$f":"IF($D$3<>\"\",SUMIFS('Staff Capacity'!$I$10:$I$39,'Staff Capacity'!$G$10:$G$39,2,'Staff Capacity'!$H$10:$H$39,$D$3),SUMIF('Staff Capacity'!$G$10:$G$39,2,'Staff Capacity'!$I$10:$I$39))","v":0},{"$f":"IF($D$3<>\"\",SUMIFS('Staff Capacity'!$I$10:$I$39,'Staff Capacity'!$G$10:$G$39,2,'Staff Capacity'!$H$10:$H$39,$D$3),SUMIF('Staff Capacity'!$G$10:$G$39,2,'Staff Capacity'!$I$10:$I$39))","v":0},{"$f":"IF($D$3<>\"\",SUMIFS('Staff Capacity'!$I$10:$I$39,'Staff Capacity'!$G$10:$G$39,2,'Staff Capacity'!$H$10:$H$39,$D$3),SUMIF('Staff Capacity'!$G$10:$G$39,2,'Staff Capacity'!$I$10:$I$39))","v":0},{"$f":"IF($D$3<>\"\",SUMIFS('Staff Capacity'!$I$10:$I$39,'Staff Capacity'!$G$10:$G$39,2,'Staff Capacity'!$H$10:$H$39,$D$3),SUMIF('Staff Capacity'!$G$10:$G$39,2,'Staff Capacity'!$I$10:$I$39))","v":0},{"$f":"IF($D$3<>\"\",SUMIFS('Staff Capacity'!$I$10:$I$39,'Staff Capacity'!$G$10:$G$39,2,'Staff Capacity'!$H$10:$H$39,$D$3),SUMIF('Staff Capacity'!$G$10:$G$39,2,'Staff Capacity'!$I$10:$I$39))","v":0},{"$f":"IF($D$3<>\"\",SUMIFS('Staff Capacity'!$I$10:$I$39,'Staff Capacity'!$G$10:$G$39,2,'Staff Capacity'!$H$10:$H$39,$D$3),SUMIF('Staff Capacity'!$G$10:$G$39,2,'Staff Capacity'!$I$10:$I$39))","v":0},{"$f":"IF($D$3<>\"\",SUMIFS('Staff Capacity'!$I$10:$I$39,'Staff Capacity'!$G$10:$G$39,2,'Staff Capacity'!$H$10:$H$39,$D$3),SUMIF('Staff Capacity'!$G$10:$G$39,2,'Staff Capacity'!$I$10:$I$39))","v":0},{"$f":"IF($D$3<>\"\",SUMIFS('Staff Capacity'!$I$10:$I$39,'Staff Capacity'!$G$10:$G$39,2,'Staff Capacity'!$H$10:$H$39,$D$3),SUMIF('Staff Capacity'!$G$10:$G$39,2,'Staff Capacity'!$I$10:$I$39))","v":0},{"$f":"IF($D$3<>\"\",SUMIFS('Staff Capacity'!$I$10:$I$39,'Staff Capacity'!$G$10:$G$39,2,'Staff Capacity'!$H$10:$H$39,$D$3),SUMIF('Staff Capacity'!$G$10:$G$39,2,'Staff Capacity'!$I$10:$I$39))","v":0},{"$f":"IF($D$3<>\"\",SUMIFS('Staff Capacity'!$I$10:$I$39,'Staff Capacity'!$G$10:$G$39,2,'Staff Capacity'!$H$10:$H$39,$D$3),SUMIF('Staff Capacity'!$G$10:$G$39,2,'Staff Capacity'!$I$10:$I$39))","v":0},{"$f":"IF($D$3<>\"\",SUMIFS('Staff Capacity'!$I$10:$I$39,'Staff Capacity'!$G$10:$G$39,2,'Staff Capacity'!$H$10:$H$39,$D$3),SUMIF('Staff Capacity'!$G$10:$G$39,2,'Staff Capacity'!$I$10:$I$39))","v":0},{"$f":"IF($D$3<>\"\",SUMIFS('Staff Capacity'!$I$10:$I$39,'Staff Capacity'!$G$10:$G$39,2,'Staff Capacity'!$H$10:$H$39,$D$3),SUMIF('Staff Capacity'!$G$10:$G$39,2,'Staff Capacity'!$I$10:$I$39))","v":0},{"$f":"IF($D$3<>\"\",SUMIFS('Staff Capacity'!$I$10:$I$39,'Staff Capacity'!$G$10:$G$39,2,'Staff Capacity'!$H$10:$H$39,$D$3),SUMIF('Staff Capacity'!$G$10:$G$39,2,'Staff Capacity'!$I$10:$I$39))","v":0},{"$f":"IF($D$3<>\"\",SUMIFS('Staff Capacity'!$I$10:$I$39,'Staff Capacity'!$G$10:$G$39,2,'Staff Capacity'!$H$10:$H$39,$D$3),SUMIF('Staff Capacity'!$G$10:$G$39,2,'Staff Capacity'!$I$10:$I$39))","v":0},{"$f":"IF($D$3<>\"\",SUMIFS('Staff Capacity'!$I$10:$I$39,'Staff Capacity'!$G$10:$G$39,2,'Staff Capacity'!$H$10:$H$39,$D$3),SUMIF('Staff Capacity'!$G$10:$G$39,2,'Staff Capacity'!$I$10:$I$39))","v":0},{"$f":"IF($D$3<>\"\",SUMIFS('Staff Capacity'!$I$10:$I$39,'Staff Capacity'!$G$10:$G$39,2,'Staff Capacity'!$H$10:$H$39,$D$3),SUMIF('Staff Capacity'!$G$10:$G$39,2,'Staff Capacity'!$I$10:$I$39))","v":0},{"$f":"IF($D$3<>\"\",SUMIFS('Staff Capacity'!$I$10:$I$39,'Staff Capacity'!$G$10:$G$39,2,'Staff Capacity'!$H$10:$H$39,$D$3),SUMIF('Staff Capacity'!$G$10:$G$39,2,'Staff Capacity'!$I$10:$I$39))","v":0},{"$f":"IF($D$3<>\"\",SUMIFS('Staff Capacity'!$I$10:$I$39,'Staff Capacity'!$G$10:$G$39,2,'Staff Capacity'!$H$10:$H$39,$D$3),SUMIF('Staff Capacity'!$G$10:$G$39,2,'Staff Capacity'!$I$10:$I$39))","v":0},{"$f":"IF($D$3<>\"\",SUMIFS('Staff Capacity'!$I$10:$I$39,'Staff Capacity'!$G$10:$G$39,2,'Staff Capacity'!$H$10:$H$39,$D$3),SUMIF('Staff Capacity'!$G$10:$G$39,2,'Staff Capacity'!$I$10:$I$39))","v":0},{"$f":"IF($D$3<>\"\",SUMIFS('Staff Capacity'!$I$10:$I$39,'Staff Capacity'!$G$10:$G$39,2,'Staff Capacity'!$H$10:$H$39,$D$3),SUMIF('Staff Capacity'!$G$10:$G$39,2,'Staff Capacity'!$I$10:$I$39))","v":0},{"$f":"IF($D$3<>\"\",SUMIFS('Staff Capacity'!$I$10:$I$39,'Staff Capacity'!$G$10:$G$39,2,'Staff Capacity'!$H$10:$H$39,$D$3),SUMIF('Staff Capacity'!$G$10:$G$39,2,'Staff Capacity'!$I$10:$I$39))","v":0},{"$f":"IF($D$3<>\"\",SUMIFS('Staff Capacity'!$I$10:$I$39,'Staff Capacity'!$G$10:$G$39,2,'Staff Capacity'!$H$10:$H$39,$D$3),SUMIF('Staff Capacity'!$G$10:$G$39,2,'Staff Capacity'!$I$10:$I$39))","v":0},{"$f":"IF($D$3<>\"\",SUMIFS('Staff Capacity'!$I$10:$I$39,'Staff Capacity'!$G$10:$G$39,2,'Staff Capacity'!$H$10:$H$39,$D$3),SUMIF('Staff Capacity'!$G$10:$G$39,2,'Staff Capacity'!$I$10:$I$39))","v":0},{"$f":"IF($D$3<>\"\",SUMIFS('Staff Capacity'!$I$10:$I$39,'Staff Capacity'!$G$10:$G$39,2,'Staff Capacity'!$H$10:$H$39,$D$3),SUMIF('Staff Capacity'!$G$10:$G$39,2,'Staff Capacity'!$I$10:$I$39))","v":0},{"$f":"IF($D$3<>\"\",SUMIFS('Staff Capacity'!$I$10:$I$39,'Staff Capacity'!$G$10:$G$39,2,'Staff Capacity'!$H$10:$H$39,$D$3),SUMIF('Staff Capacity'!$G$10:$G$39,2,'Staff Capacity'!$I$10:$I$39))","v":0},{"$f":"IF($D$3<>\"\",SUMIFS('Staff Capacity'!$I$10:$I$39,'Staff Capacity'!$G$10:$G$39,2,'Staff Capacity'!$H$10:$H$39,$D$3),SUMIF('Staff Capacity'!$G$10:$G$39,2,'Staff Capacity'!$I$10:$I$39))","v":0},{"$f":"IF($D$3<>\"\",SUMIFS('Staff Capacity'!$I$10:$I$39,'Staff Capacity'!$G$10:$G$39,2,'Staff Capacity'!$H$10:$H$39,$D$3),SUMIF('Staff Capacity'!$G$10:$G$39,2,'Staff Capacity'!$I$10:$I$39))","v":0},{"$f":"IF($D$3<>\"\",SUMIFS('Staff Capacity'!$I$10:$I$39,'Staff Capacity'!$G$10:$G$39,2,'Staff Capacity'!$H$10:$H$39,$D$3),SUMIF('Staff Capacity'!$G$10:$G$39,2,'Staff Capacity'!$I$10:$I$39))","v":0},{"$f":"IF($D$3<>\"\",SUMIFS('Staff Capacity'!$I$10:$I$39,'Staff Capacity'!$G$10:$G$39,2,'Staff Capacity'!$H$10:$H$39,$D$3),SUMIF('Staff Capacity'!$G$10:$G$39,2,'Staff Capacity'!$I$10:$I$39))","v":0},{"$f":"IF($D$3<>\"\",SUMIFS('Staff Capacity'!$I$10:$I$39,'Staff Capacity'!$G$10:$G$39,2,'Staff Capacity'!$H$10:$H$39,$D$3),SUMIF('Staff Capacity'!$G$10:$G$39,2,'Staff Capacity'!$I$10:$I$39))","v":0},{"$f":"IF($D$3<>\"\",SUMIFS('Staff Capacity'!$I$10:$I$39,'Staff Capacity'!$G$10:$G$39,2,'Staff Capacity'!$H$10:$H$39,$D$3),SUMIF('Staff Capacity'!$G$10:$G$39,2,'Staff Capacity'!$I$10:$I$39))","v":0},{"$f":"IF($D$3<>\"\",SUMIFS('Staff Capacity'!$I$10:$I$39,'Staff Capacity'!$G$10:$G$39,2,'Staff Capacity'!$H$10:$H$39,$D$3),SUMIF('Staff Capacity'!$G$10:$G$39,2,'Staff Capacity'!$I$10:$I$39))","v":0},{"$f":"IF($D$3<>\"\",SUMIFS('Staff Capacity'!$I$10:$I$39,'Staff Capacity'!$G$10:$G$39,2,'Staff Capacity'!$H$10:$H$39,$D$3),SUMIF('Staff Capacity'!$G$10:$G$39,2,'Staff Capacity'!$I$10:$I$39))","v":0},{"$f":"IF($D$3<>\"\",SUMIFS('Staff Capacity'!$I$10:$I$39,'Staff Capacity'!$G$10:$G$39,2,'Staff Capacity'!$H$10:$H$39,$D$3),SUMIF('Staff Capacity'!$G$10:$G$39,2,'Staff Capacity'!$I$10:$I$39))","v":0},{"$f":"IF($D$3<>\"\",SUMIFS('Staff Capacity'!$I$10:$I$39,'Staff Capacity'!$G$10:$G$39,2,'Staff Capacity'!$H$10:$H$39,$D$3),SUMIF('Staff Capacity'!$G$10:$G$39,2,'Staff Capacity'!$I$10:$I$39))","v":0},{"$f":"IF($D$3<>\"\",SUMIFS('Staff Capacity'!$I$10:$I$39,'Staff Capacity'!$G$10:$G$39,2,'Staff Capacity'!$H$10:$H$39,$D$3),SUMIF('Staff Capacity'!$G$10:$G$39,2,'Staff Capacity'!$I$10:$I$39))","v":0},{"$f":"IF($D$3<>\"\",SUMIFS('Staff Capacity'!$I$10:$I$39,'Staff Capacity'!$G$10:$G$39,2,'Staff Capacity'!$H$10:$H$39,$D$3),SUMIF('Staff Capacity'!$G$10:$G$39,2,'Staff Capacity'!$I$10:$I$39))","v":0},{"$f":"IF($D$3<>\"\",SUMIFS('Staff Capacity'!$I$10:$I$39,'Staff Capacity'!$G$10:$G$39,2,'Staff Capacity'!$H$10:$H$39,$D$3),SUMIF('Staff Capacity'!$G$10:$G$39,2,'Staff Capacity'!$I$10:$I$39))","v":0},{"$f":"IF($D$3<>\"\",SUMIFS('Staff Capacity'!$I$10:$I$39,'Staff Capacity'!$G$10:$G$39,2,'Staff Capacity'!$H$10:$H$39,$D$3),SUMIF('Staff Capacity'!$G$10:$G$39,2,'Staff Capacity'!$I$10:$I$39))","v":0},{"$f":"IF($D$3<>\"\",SUMIFS('Staff Capacity'!$I$10:$I$39,'Staff Capacity'!$G$10:$G$39,2,'Staff Capacity'!$H$10:$H$39,$D$3),SUMIF('Staff Capacity'!$G$10:$G$39,2,'Staff Capacity'!$I$10:$I$39))","v":0},{"$f":"IF($D$3<>\"\",SUMIFS('Staff Capacity'!$I$10:$I$39,'Staff Capacity'!$G$10:$G$39,2,'Staff Capacity'!$H$10:$H$39,$D$3),SUMIF('Staff Capacity'!$G$10:$G$39,2,'Staff Capacity'!$I$10:$I$39))","v":0},{"$f":"IF($D$3<>\"\",SUMIFS('Staff Capacity'!$I$10:$I$39,'Staff Capacity'!$G$10:$G$39,2,'Staff Capacity'!$H$10:$H$39,$D$3),SUMIF('Staff Capacity'!$G$10:$G$39,2,'Staff Capacity'!$I$10:$I$39))","v":0},{"$f":"IF($D$3<>\"\",SUMIFS('Staff Capacity'!$I$10:$I$39,'Staff Capacity'!$G$10:$G$39,2,'Staff Capacity'!$H$10:$H$39,$D$3),SUMIF('Staff Capacity'!$G$10:$G$39,2,'Staff Capacity'!$I$10:$I$39))","v":0},{"$f":"IF($D$3<>\"\",SUMIFS('Staff Capacity'!$I$10:$I$39,'Staff Capacity'!$G$10:$G$39,2,'Staff Capacity'!$H$10:$H$39,$D$3),SUMIF('Staff Capacity'!$G$10:$G$39,2,'Staff Capacity'!$I$10:$I$39))","v":0},{"$f":"IF($D$3<>\"\",SUMIFS('Staff Capacity'!$I$10:$I$39,'Staff Capacity'!$G$10:$G$39,2,'Staff Capacity'!$H$10:$H$39,$D$3),SUMIF('Staff Capacity'!$G$10:$G$39,2,'Staff Capacity'!$I$10:$I$39))","v":0},{"$f":"IF($D$3<>\"\",SUMIFS('Staff Capacity'!$I$10:$I$39,'Staff Capacity'!$G$10:$G$39,2,'Staff Capacity'!$H$10:$H$39,$D$3),SUMIF('Staff Capacity'!$G$10:$G$39,2,'Staff Capacity'!$I$10:$I$39))","v":0},{"$f":"IF($D$3<>\"\",SUMIFS('Staff Capacity'!$I$10:$I$39,'Staff Capacity'!$G$10:$G$39,2,'Staff Capacity'!$H$10:$H$39,$D$3),SUMIF('Staff Capacity'!$G$10:$G$39,2,'Staff Capacity'!$I$10:$I$39))","v":0},{"$f":"IF($D$3<>\"\",SUMIFS('Staff Capacity'!$I$10:$I$39,'Staff Capacity'!$G$10:$G$39,2,'Staff Capacity'!$H$10:$H$39,$D$3),SUMIF('Staff Capacity'!$G$10:$G$39,2,'Staff Capacity'!$I$10:$I$39))","v":0},{"$f":"IF($D$3<>\"\",SUMIFS('Staff Capacity'!$I$10:$I$39,'Staff Capacity'!$G$10:$G$39,2,'Staff Capacity'!$H$10:$H$39,$D$3),SUMIF('Staff Capacity'!$G$10:$G$39,2,'Staff Capacity'!$I$10:$I$39))","v":0},{"$f":"IF($D$3<>\"\",SUMIFS('Staff Capacity'!$I$10:$I$39,'Staff Capacity'!$G$10:$G$39,2,'Staff Capacity'!$H$10:$H$39,$D$3),SUMIF('Staff Capacity'!$G$10:$G$39,2,'Staff Capacity'!$I$10:$I$39))","v":0},{"$f":"IF($D$3<>\"\",SUMIFS('Staff Capacity'!$I$10:$I$39,'Staff Capacity'!$G$10:$G$39,2,'Staff Capacity'!$H$10:$H$39,$D$3),SUMIF('Staff Capacity'!$G$10:$G$39,2,'Staff Capacity'!$I$10:$I$39))","v":0},{"$f":"IF($D$3<>\"\",SUMIFS('Staff Capacity'!$I$10:$I$39,'Staff Capacity'!$G$10:$G$39,2,'Staff Capacity'!$H$10:$H$39,$D$3),SUMIF('Staff Capacity'!$G$10:$G$39,2,'Staff Capacity'!$I$10:$I$39))","v":0},{"$f":"IF($D$3<>\"\",SUMIFS('Staff Capacity'!$I$10:$I$39,'Staff Capacity'!$G$10:$G$39,2,'Staff Capacity'!$H$10:$H$39,$D$3),SUMIF('Staff Capacity'!$G$10:$G$39,2,'Staff Capacity'!$I$10:$I$39))","v":0},{"$f":"IF($D$3<>\"\",SUMIFS('Staff Capacity'!$I$10:$I$39,'Staff Capacity'!$G$10:$G$39,2,'Staff Capacity'!$H$10:$H$39,$D$3),SUMIF('Staff Capacity'!$G$10:$G$39,2,'Staff Capacity'!$I$10:$I$39))","v":0},{"$f":"IF($D$3<>\"\",SUMIFS('Staff Capacity'!$I$10:$I$39,'Staff Capacity'!$G$10:$G$39,2,'Staff Capacity'!$H$10:$H$39,$D$3),SUMIF('Staff Capacity'!$G$10:$G$39,2,'Staff Capacity'!$I$10:$I$39))","v":0},{"$f":"IF($D$3<>\"\",SUMIFS('Staff Capacity'!$I$10:$I$39,'Staff Capacity'!$G$10:$G$39,2,'Staff Capacity'!$H$10:$H$39,$D$3),SUMIF('Staff Capacity'!$G$10:$G$39,2,'Staff Capacity'!$I$10:$I$39))","v":0},{"$f":"IF($D$3<>\"\",SUMIFS('Staff Capacity'!$I$10:$I$39,'Staff Capacity'!$G$10:$G$39,2,'Staff Capacity'!$H$10:$H$39,$D$3),SUMIF('Staff Capacity'!$G$10:$G$39,2,'Staff Capacity'!$I$10:$I$39))","v":0},{"$f":"IF($D$3<>\"\",SUMIFS('Staff Capacity'!$I$10:$I$39,'Staff Capacity'!$G$10:$G$39,2,'Staff Capacity'!$H$10:$H$39,$D$3),SUMIF('Staff Capacity'!$G$10:$G$39,2,'Staff Capacity'!$I$10:$I$39))","v":0},{"$f":"IF($D$3<>\"\",SUMIFS('Staff Capacity'!$I$10:$I$39,'Staff Capacity'!$G$10:$G$39,2,'Staff Capacity'!$H$10:$H$39,$D$3),SUMIF('Staff Capacity'!$G$10:$G$39,2,'Staff Capacity'!$I$10:$I$39))","v":0},{"$f":"IF($D$3<>\"\",SUMIFS('Staff Capacity'!$I$10:$I$39,'Staff Capacity'!$G$10:$G$39,2,'Staff Capacity'!$H$10:$H$39,$D$3),SUMIF('Staff Capacity'!$G$10:$G$39,2,'Staff Capacity'!$I$10:$I$39))","v":0},{"$f":"IF($D$3<>\"\",SUMIFS('Staff Capacity'!$I$10:$I$39,'Staff Capacity'!$G$10:$G$39,2,'Staff Capacity'!$H$10:$H$39,$D$3),SUMIF('Staff Capacity'!$G$10:$G$39,2,'Staff Capacity'!$I$10:$I$39))","v":0},{"$f":"IF($D$3<>\"\",SUMIFS('Staff Capacity'!$I$10:$I$39,'Staff Capacity'!$G$10:$G$39,2,'Staff Capacity'!$H$10:$H$39,$D$3),SUMIF('Staff Capacity'!$G$10:$G$39,2,'Staff Capacity'!$I$10:$I$39))","v":0},{"$f":"IF($D$3<>\"\",SUMIFS('Staff Capacity'!$I$10:$I$39,'Staff Capacity'!$G$10:$G$39,2,'Staff Capacity'!$H$10:$H$39,$D$3),SUMIF('Staff Capacity'!$G$10:$G$39,2,'Staff Capacity'!$I$10:$I$39))","v":0},{"$f":"IF($D$3<>\"\",SUMIFS('Staff Capacity'!$I$10:$I$39,'Staff Capacity'!$G$10:$G$39,2,'Staff Capacity'!$H$10:$H$39,$D$3),SUMIF('Staff Capacity'!$G$10:$G$39,2,'Staff Capacity'!$I$10:$I$39))","v":0},{"$f":"IF($D$3<>\"\",SUMIFS('Staff Capacity'!$I$10:$I$39,'Staff Capacity'!$G$10:$G$39,2,'Staff Capacity'!$H$10:$H$39,$D$3),SUMIF('Staff Capacity'!$G$10:$G$39,2,'Staff Capacity'!$I$10:$I$39))","v":0},{"$f":"IF($D$3<>\"\",SUMIFS('Staff Capacity'!$I$10:$I$39,'Staff Capacity'!$G$10:$G$39,2,'Staff Capacity'!$H$10:$H$39,$D$3),SUMIF('Staff Capacity'!$G$10:$G$39,2,'Staff Capacity'!$I$10:$I$39))","v":0},{"$f":"IF($D$3<>\"\",SUMIFS('Staff Capacity'!$I$10:$I$39,'Staff Capacity'!$G$10:$G$39,2,'Staff Capacity'!$H$10:$H$39,$D$3),SUMIF('Staff Capacity'!$G$10:$G$39,2,'Staff Capacity'!$I$10:$I$39))","v":0},{"$f":"IF($D$3<>\"\",SUMIFS('Staff Capacity'!$I$10:$I$39,'Staff Capacity'!$G$10:$G$39,2,'Staff Capacity'!$H$10:$H$39,$D$3),SUMIF('Staff Capacity'!$G$10:$G$39,2,'Staff Capacity'!$I$10:$I$39))","v":0},{"$f":"IF($D$3<>\"\",SUMIFS('Staff Capacity'!$I$10:$I$39,'Staff Capacity'!$G$10:$G$39,2,'Staff Capacity'!$H$10:$H$39,$D$3),SUMIF('Staff Capacity'!$G$10:$G$39,2,'Staff Capacity'!$I$10:$I$39))","v":0},{"$f":"IF($D$3<>\"\",SUMIFS('Staff Capacity'!$I$10:$I$39,'Staff Capacity'!$G$10:$G$39,2,'Staff Capacity'!$H$10:$H$39,$D$3),SUMIF('Staff Capacity'!$G$10:$G$39,2,'Staff Capacity'!$I$10:$I$39))","v":0},{"$f":"IF($D$3<>\"\",SUMIFS('Staff Capacity'!$I$10:$I$39,'Staff Capacity'!$G$10:$G$39,2,'Staff Capacity'!$H$10:$H$39,$D$3),SUMIF('Staff Capacity'!$G$10:$G$39,2,'Staff Capacity'!$I$10:$I$39))","v":0},{"$f":"IF($D$3<>\"\",SUMIFS('Staff Capacity'!$I$10:$I$39,'Staff Capacity'!$G$10:$G$39,2,'Staff Capacity'!$H$10:$H$39,$D$3),SUMIF('Staff Capacity'!$G$10:$G$39,2,'Staff Capacity'!$I$10:$I$39))","v":0},{"$f":"IF($D$3<>\"\",SUMIFS('Staff Capacity'!$I$10:$I$39,'Staff Capacity'!$G$10:$G$39,2,'Staff Capacity'!$H$10:$H$39,$D$3),SUMIF('Staff Capacity'!$G$10:$G$39,2,'Staff Capacity'!$I$10:$I$39))","v":0},{"$f":"IF($D$3<>\"\",SUMIFS('Staff Capacity'!$I$10:$I$39,'Staff Capacity'!$G$10:$G$39,2,'Staff Capacity'!$H$10:$H$39,$D$3),SUMIF('Staff Capacity'!$G$10:$G$39,2,'Staff Capacity'!$I$10:$I$39))","v":0},{"$f":"IF($D$3<>\"\",SUMIFS('Staff Capacity'!$I$10:$I$39,'Staff Capacity'!$G$10:$G$39,2,'Staff Capacity'!$H$10:$H$39,$D$3),SUMIF('Staff Capacity'!$G$10:$G$39,2,'Staff Capacity'!$I$10:$I$39))","v":0},{"$f":"IF($D$3<>\"\",SUMIFS('Staff Capacity'!$I$10:$I$39,'Staff Capacity'!$G$10:$G$39,2,'Staff Capacity'!$H$10:$H$39,$D$3),SUMIF('Staff Capacity'!$G$10:$G$39,2,'Staff Capacity'!$I$10:$I$39))","v":0},{"$f":"IF($D$3<>\"\",SUMIFS('Staff Capacity'!$I$10:$I$39,'Staff Capacity'!$G$10:$G$39,2,'Staff Capacity'!$H$10:$H$39,$D$3),SUMIF('Staff Capacity'!$G$10:$G$39,2,'Staff Capacity'!$I$10:$I$39))","v":0},{"$f":"IF($D$3<>\"\",SUMIFS('Staff Capacity'!$I$10:$I$39,'Staff Capacity'!$G$10:$G$39,2,'Staff Capacity'!$H$10:$H$39,$D$3),SUMIF('Staff Capacity'!$G$10:$G$39,2,'Staff Capacity'!$I$10:$I$39))","v":0},{"$f":"IF($D$3<>\"\",SUMIFS('Staff Capacity'!$I$10:$I$39,'Staff Capacity'!$G$10:$G$39,2,'Staff Capacity'!$H$10:$H$39,$D$3),SUMIF('Staff Capacity'!$G$10:$G$39,2,'Staff Capacity'!$I$10:$I$39))","v":0},{"$f":"IF($D$3<>\"\",SUMIFS('Staff Capacity'!$I$10:$I$39,'Staff Capacity'!$G$10:$G$39,2,'Staff Capacity'!$H$10:$H$39,$D$3),SUMIF('Staff Capacity'!$G$10:$G$39,2,'Staff Capacity'!$I$10:$I$39))","v":0},{"$f":"IF($D$3<>\"\",SUMIFS('Staff Capacity'!$I$10:$I$39,'Staff Capacity'!$G$10:$G$39,2,'Staff Capacity'!$H$10:$H$39,$D$3),SUMIF('Staff Capacity'!$G$10:$G$39,2,'Staff Capacity'!$I$10:$I$39))","v":0},{"$f":"IF($D$3<>\"\",SUMIFS('Staff Capacity'!$I$10:$I$39,'Staff Capacity'!$G$10:$G$39,2,'Staff Capacity'!$H$10:$H$39,$D$3),SUMIF('Staff Capacity'!$G$10:$G$39,2,'Staff Capacity'!$I$10:$I$39))","v":0},{"$f":"IF($D$3<>\"\",SUMIFS('Staff Capacity'!$I$10:$I$39,'Staff Capacity'!$G$10:$G$39,2,'Staff Capacity'!$H$10:$H$39,$D$3),SUMIF('Staff Capacity'!$G$10:$G$39,2,'Staff Capacity'!$I$10:$I$39))","v":0},{"$f":"IF($D$3<>\"\",SUMIFS('Staff Capacity'!$I$10:$I$39,'Staff Capacity'!$G$10:$G$39,2,'Staff Capacity'!$H$10:$H$39,$D$3),SUMIF('Staff Capacity'!$G$10:$G$39,2,'Staff Capacity'!$I$10:$I$39))","v":0},{"$f":"IF($D$3<>\"\",SUMIFS('Staff Capacity'!$I$10:$I$39,'Staff Capacity'!$G$10:$G$39,2,'Staff Capacity'!$H$10:$H$39,$D$3),SUMIF('Staff Capacity'!$G$10:$G$39,2,'Staff Capacity'!$I$10:$I$39))","v":0},{"$f":"IF($D$3<>\"\",SUMIFS('Staff Capacity'!$I$10:$I$39,'Staff Capacity'!$G$10:$G$39,2,'Staff Capacity'!$H$10:$H$39,$D$3),SUMIF('Staff Capacity'!$G$10:$G$39,2,'Staff Capacity'!$I$10:$I$39))","v":0},{"$f":"IF($D$3<>\"\",SUMIFS('Staff Capacity'!$I$10:$I$39,'Staff Capacity'!$G$10:$G$39,2,'Staff Capacity'!$H$10:$H$39,$D$3),SUMIF('Staff Capacity'!$G$10:$G$39,2,'Staff Capacity'!$I$10:$I$39))","v":0},{"$f":"IF($D$3<>\"\",SUMIFS('Staff Capacity'!$I$10:$I$39,'Staff Capacity'!$G$10:$G$39,2,'Staff Capacity'!$H$10:$H$39,$D$3),SUMIF('Staff Capacity'!$G$10:$G$39,2,'Staff Capacity'!$I$10:$I$39))","v":0},{"$f":"IF($D$3<>\"\",SUMIFS('Staff Capacity'!$I$10:$I$39,'Staff Capacity'!$G$10:$G$39,2,'Staff Capacity'!$H$10:$H$39,$D$3),SUMIF('Staff Capacity'!$G$10:$G$39,2,'Staff Capacity'!$I$10:$I$39))","v":0},{"$f":"IF($D$3<>\"\",SUMIFS('Staff Capacity'!$I$10:$I$39,'Staff Capacity'!$G$10:$G$39,2,'Staff Capacity'!$H$10:$H$39,$D$3),SUMIF('Staff Capacity'!$G$10:$G$39,2,'Staff Capacity'!$I$10:$I$39))","v":0},{"$f":"IF($D$3<>\"\",SUMIFS('Staff Capacity'!$I$10:$I$39,'Staff Capacity'!$G$10:$G$39,2,'Staff Capacity'!$H$10:$H$39,$D$3),SUMIF('Staff Capacity'!$G$10:$G$39,2,'Staff Capacity'!$I$10:$I$39))","v":0},{"$f":"IF($D$3<>\"\",SUMIFS('Staff Capacity'!$I$10:$I$39,'Staff Capacity'!$G$10:$G$39,2,'Staff Capacity'!$H$10:$H$39,$D$3),SUMIF('Staff Capacity'!$G$10:$G$39,2,'Staff Capacity'!$I$10:$I$39))","v":0},{"$f":"IF($D$3<>\"\",SUMIFS('Staff Capacity'!$I$10:$I$39,'Staff Capacity'!$G$10:$G$39,2,'Staff Capacity'!$H$10:$H$39,$D$3),SUMIF('Staff Capacity'!$G$10:$G$39,2,'Staff Capacity'!$I$10:$I$39))","v":0},{"$f":"IF($D$3<>\"\",SUMIFS('Staff Capacity'!$I$10:$I$39,'Staff Capacity'!$G$10:$G$39,2,'Staff Capacity'!$H$10:$H$39,$D$3),SUMIF('Staff Capacity'!$G$10:$G$39,2,'Staff Capacity'!$I$10:$I$39))","v":0},{"$f":"IF($D$3<>\"\",SUMIFS('Staff Capacity'!$I$10:$I$39,'Staff Capacity'!$G$10:$G$39,2,'Staff Capacity'!$H$10:$H$39,$D$3),SUMIF('Staff Capacity'!$G$10:$G$39,2,'Staff Capacity'!$I$10:$I$39))","v":0},{"$f":"IF($D$3<>\"\",SUMIFS('Staff Capacity'!$I$10:$I$39,'Staff Capacity'!$G$10:$G$39,2,'Staff Capacity'!$H$10:$H$39,$D$3),SUMIF('Staff Capacity'!$G$10:$G$39,2,'Staff Capacity'!$I$10:$I$39))","v":0},{"$f":"IF($D$3<>\"\",SUMIFS('Staff Capacity'!$I$10:$I$39,'Staff Capacity'!$G$10:$G$39,2,'Staff Capacity'!$H$10:$H$39,$D$3),SUMIF('Staff Capacity'!$G$10:$G$39,2,'Staff Capacity'!$I$10:$I$39))","v":0},{"$f":"IF($D$3<>\"\",SUMIFS('Staff Capacity'!$I$10:$I$39,'Staff Capacity'!$G$10:$G$39,2,'Staff Capacity'!$H$10:$H$39,$D$3),SUMIF('Staff Capacity'!$G$10:$G$39,2,'Staff Capacity'!$I$10:$I$39))","v":0},{"$f":"IF($D$3<>\"\",SUMIFS('Staff Capacity'!$I$10:$I$39,'Staff Capacity'!$G$10:$G$39,2,'Staff Capacity'!$H$10:$H$39,$D$3),SUMIF('Staff Capacity'!$G$10:$G$39,2,'Staff Capacity'!$I$10:$I$39))","v":0},{"$f":"IF($D$3<>\"\",SUMIFS('Staff Capacity'!$I$10:$I$39,'Staff Capacity'!$G$10:$G$39,2,'Staff Capacity'!$H$10:$H$39,$D$3),SUMIF('Staff Capacity'!$G$10:$G$39,2,'Staff Capacity'!$I$10:$I$39))","v":0},{"$f":"IF($D$3<>\"\",SUMIFS('Staff Capacity'!$I$10:$I$39,'Staff Capacity'!$G$10:$G$39,2,'Staff Capacity'!$H$10:$H$39,$D$3),SUMIF('Staff Capacity'!$G$10:$G$39,2,'Staff Capacity'!$I$10:$I$39))","v":0},{"$f":"IF($D$3<>\"\",SUMIFS('Staff Capacity'!$I$10:$I$39,'Staff Capacity'!$G$10:$G$39,2,'Staff Capacity'!$H$10:$H$39,$D$3),SUMIF('Staff Capacity'!$G$10:$G$39,2,'Staff Capacity'!$I$10:$I$39))","v":0}]
[null,null,null,null,3,{"$f":"IF($D$3<>\"\",SUMIFS('Staff Capacity'!$I$10:$I$39,'Staff Capacity'!$G$10:$G$39,3,'Staff Capacity'!$H$10:$H$39,$D$3),SUMIF('Staff Capacity'!$G$10:$G$39,3,'Staff Capacity'!$I$10:$I$39))","v":0},{"$f":"IF($D$3<>\"\",SUMIFS('Staff Capacity'!$I$10:$I$39,'Staff Capacity'!$G$10:$G$39,3,'Staff Capacity'!$H$10:$H$39,$D$3),SUMIF('Staff Capacity'!$G$10:$G$39,3,'Staff Capacity'!$I$10:$I$39))","v":0},{"$f":"IF($D$3<>\"\",SUMIFS('Staff Capacity'!$I$10:$I$39,'Staff Capacity'!$G$10:$G$39,3,'Staff Capacity'!$H$10:$H$39,$D$3),SUMIF('Staff Capacity'!$G$10:$G$39,3,'Staff Capacity'!$I$10:$I$39))","v":0},{"$f":"IF($D$3<>\"\",SUMIFS('Staff Capacity'!$I$10:$I$39,'Staff Capacity'!$G$10:$G$39,3,'Staff Capacity'!$H$10:$H$39,$D$3),SUMIF('Staff Capacity'!$G$10:$G$39,3,'Staff Capacity'!$I$10:$I$39))","v":0},{"$f":"IF($D$3<>\"\",SUMIFS('Staff Capacity'!$I$10:$I$39,'Staff Capacity'!$G$10:$G$39,3,'Staff Capacity'!$H$10:$H$39,$D$3),SUMIF('Staff Capacity'!$G$10:$G$39,3,'Staff Capacity'!$I$10:$I$39))","v":0},{"$f":"IF($D$3<>\"\",SUMIFS('Staff Capacity'!$I$10:$I$39,'Staff Capacity'!$G$10:$G$39,3,'Staff Capacity'!$H$10:$H$39,$D$3),SUMIF('Staff Capacity'!$G$10:$G$39,3,'Staff Capacity'!$I$10:$I$39))","v":0},{"$f":"IF($D$3<>\"\",SUMIFS('Staff Capacity'!$I$10:$I$39,'Staff Capacity'!$G$10:$G$39,3,'Staff Capacity'!$H$10:$H$39,$D$3),SUMIF('Staff Capacity'!$G$10:$G$39,3,'Staff Capacity'!$I$10:$I$39))","v":0},{"$f":"IF($D$3<>\"\",SUMIFS('Staff Capacity'!$I$10:$I$39,'Staff Capacity'!$G$10:$G$39,3,'Staff Capacity'!$H$10:$H$39,$D$3),SUMIF('Staff Capacity'!$G$10:$G$39,3,'Staff Capacity'!$I$10:$I$39))","v":0},{"$f":"IF($D$3<>\"\",SUMIFS('Staff Capacity'!$I$10:$I$39,'Staff Capacity'!$G$10:$G$39,3,'Staff Capacity'!$H$10:$H$39,$D$3),SUMIF('Staff Capacity'!$G$10:$G$39,3,'Staff Capacity'!$I$10:$I$39))","v":0},{"$f":"IF($D$3<>\"\",SUMIFS('Staff Capacity'!$I$10:$I$39,'Staff Capacity'!$G$10:$G$39,3,'Staff Capacity'!$H$10:$H$39,$D$3),SUMIF('Staff Capacity'!$G$10:$G$39,3,'Staff Capacity'!$I$10:$I$39))","v":0},{"$f":"IF($D$3<>\"\",SUMIFS('Staff Capacity'!$I$10:$I$39,'Staff Capacity'!$G$10:$G$39,3,'Staff Capacity'!$H$10:$H$39,$D$3),SUMIF('Staff Capacity'!$G$10:$G$39,3,'Staff Capacity'!$I$10:$I$39))","v":0},{"$f":"IF($D$3<>\"\",SUMIFS('Staff Capacity'!$I$10:$I$39,'Staff Capacity'!$G$10:$G$39,3,'Staff Capacity'!$H$10:$H$39,$D$3),SUMIF('Staff Capacity'!$G$10:$G$39,3,'Staff Capacity'!$I$10:$I$39))","v":0},{"$f":"IF($D$3<>\"\",SUMIFS('Staff Capacity'!$I$10:$I$39,'Staff Capacity'!$G$10:$G$39,3,'Staff Capacity'!$H$10:$H$39,$D$3),SUMIF('Staff Capacity'!$G$10:$G$39,3,'Staff Capacity'!$I$10:$I$39))","v":0},{"$f":"IF($D$3<>\"\",SUMIFS('Staff Capacity'!$I$10:$I$39,'Staff Capacity'!$G$10:$G$39,3,'Staff Capacity'!$H$10:$H$39,$D$3),SUMIF('Staff Capacity'!$G$10:$G$39,3,'Staff Capacity'!$I$10:$I$39))","v":0},{"$f":"IF($D$3<>\"\",SUMIFS('Staff Capacity'!$I$10:$I$39,'Staff Capacity'!$G$10:$G$39,3,'Staff Capacity'!$H$10:$H$39,$D$3),SUMIF('Staff Capacity'!$G$10:$G$39,3,'Staff Capacity'!$I$10:$I$39))","v":0},{"$f":"IF($D$3<>\"\",SUMIFS('Staff Capacity'!$I$10:$I$39,'Staff Capacity'!$G$10:$G$39,3,'Staff Capacity'!$H$10:$H$39,$D$3),SUMIF('Staff Capacity'!$G$10:$G$39,3,'Staff Capacity'!$I$10:$I$39))","v":0},{"$f":"IF($D$3<>\"\",SUMIFS('Staff Capacity'!$I$10:$I$39,'Staff Capacity'!$G$10:$G$39,3,'Staff Capacity'!$H$10:$H$39,$D$3),SUMIF('Staff Capacity'!$G$10:$G$39,3,'Staff Capacity'!$I$10:$I$39))","v":0},{"$f":"IF($D$3<>\"\",SUMIFS('Staff Capacity'!$I$10:$I$39,'Staff Capacity'!$G$10:$G$39,3,'Staff Capacity'!$H$10:$H$39,$D$3),SUMIF('Staff Capacity'!$G$10:$G$39,3,'Staff Capacity'!$I$10:$I$39))","v":0},{"$f":"IF($D$3<>\"\",SUMIFS('Staff Capacity'!$I$10:$I$39,'Staff Capacity'!$G$10:$G$39,3,'Staff Capacity'!$H$10:$H$39,$D$3),SUMIF('Staff Capacity'!$G$10:$G$39,3,'Staff Capacity'!$I$10:$I$39))","v":0},{"$f":"IF($D$3<>\"\",SUMIFS('Staff Capacity'!$I$10:$I$39,'Staff Capacity'!$G$10:$G$39,3,'Staff Capacity'!$H$10:$H$39,$D$3),SUMIF('Staff Capacity'!$G$10:$G$39,3,'Staff Capacity'!$I$10:$I$39))","v":0},{"$f":"IF($D$3<>\"\",SUMIFS('Staff Capacity'!$I$10:$I$39,'Staff Capacity'!$G$10:$G$39,3,'Staff Capacity'!$H$10:$H$39,$D$3),SUMIF('Staff Capacity'!$G$10:$G$39,3,'Staff Capacity'!$I$10:$I$39))","v":0},{"$f":"IF($D$3<>\"\",SUMIFS('Staff Capacity'!$I$10:$I$39,'Staff Capacity'!$G$10:$G$39,3,'Staff Capacity'!$H$10:$H$39,$D$3),SUMIF('Staff Capacity'!$G$10:$G$39,3,'Staff Capacity'!$I$10:$I$39))","v":0},{"$f":"IF($D$3<>\"\",SUMIFS('Staff Capacity'!$I$10:$I$39,'Staff Capacity'!$G$10:$G$39,3,'Staff Capacity'!$H$10:$H$39,$D$3),SUMIF('Staff Capacity'!$G$10:$G$39,3,'Staff Capacity'!$I$10:$I$39))","v":0},{"$f":"IF($D$3<>\"\",SUMIFS('Staff Capacity'!$I$10:$I$39,'Staff Capacity'!$G$10:$G$39,3,'Staff Capacity'!$H$10:$H$39,$D$3),SUMIF('Staff Capacity'!$G$10:$G$39,3,'Staff Capacity'!$I$10:$I$39))","v":0},{"$f":"IF($D$3<>\"\",SUMIFS('Staff Capacity'!$I$10:$I$39,'Staff Capacity'!$G$10:$G$39,3,'Staff Capacity'!$H$10:$H$39,$D$3),SUMIF('Staff Capacity'!$G$10:$G$39,3,'Staff Capacity'!$I$10:$I$39))","v":0},{"$f":"IF($D$3<>\"\",SUMIFS('Staff Capacity'!$I$10:$I$39,'Staff Capacity'!$G$10:$G$39,3,'Staff Capacity'!$H$10:$H$39,$D$3),SUMIF('Staff Capacity'!$G$10:$G$39,3,'Staff Capacity'!$I$10:$I$39))","v":0},{"$f":"IF($D$3<>\"\",SUMIFS('Staff Capacity'!$I$10:$I$39,'Staff Capacity'!$G$10:$G$39,3,'Staff Capacity'!$H$10:$H$39,$D$3),SUMIF('Staff Capacity'!$G$10:$G$39,3,'Staff Capacity'!$I$10:$I$39))","v":0},{"$f":"IF($D$3<>\"\",SUMIFS('Staff Capacity'!$I$10:$I$39,'Staff Capacity'!$G$10:$G$39,3,'Staff Capacity'!$H$10:$H$39,$D$3),SUMIF('Staff Capacity'!$G$10:$G$39,3,'Staff Capacity'!$I$10:$I$39))","v":0},{"$f":"IF($D$3<>\"\",SUMIFS('Staff Capacity'!$I$10:$I$39,'Staff Capacity'!$G$10:$G$39,3,'Staff Capacity'!$H$10:$H$39,$D$3),SUMIF('Staff Capacity'!$G$10:$G$39,3,'Staff Capacity'!$I$10:$I$39))","v":0},{"$f":"IF($D$3<>\"\",SUMIFS('Staff Capacity'!$I$10:$I$39,'Staff Capacity'!$G$10:$G$39,3,'Staff Capacity'!$H$10:$H$39,$D$3),SUMIF('Staff Capacity'!$G$10:$G$39,3,'Staff Capacity'!$I$10:$I$39))","v":0},{"$f":"IF($D$3<>\"\",SUMIFS('Staff Capacity'!$I$10:$I$39,'Staff Capacity'!$G$10:$G$39,3,'Staff Capacity'!$H$10:$H$39,$D$3),SUMIF('Staff Capacity'!$G$10:$G$39,3,'Staff Capacity'!$I$10:$I$39))","v":0},{"$f":"IF($D$3<>\"\",SUMIFS('Staff Capacity'!$I$10:$I$39,'Staff Capacity'!$G$10:$G$39,3,'Staff Capacity'!$H$10:$H$39,$D$3),SUMIF('Staff Capacity'!$G$10:$G$39,3,'Staff Capacity'!$I$10:$I$39))","v":0},{"$f":"IF($D$3<>\"\",SUMIFS('Staff Capacity'!$I$10:$I$39,'Staff Capacity'!$G$10:$G$39,3,'Staff Capacity'!$H$10:$H$39,$D$3),SUMIF('Staff Capacity'!$G$10:$G$39,3,'Staff Capacity'!$I$10:$I$39))","v":0},{"$f":"IF($D$3<>\"\",SUMIFS('Staff Capacity'!$I$10:$I$39,'Staff Capacity'!$G$10:$G$39,3,'Staff Capacity'!$H$10:$H$39,$D$3),SUMIF('Staff Capacity'!$G$10:$G$39,3,'Staff Capacity'!$I$10:$I$39))","v":0},{"$f":"IF($D$3<>\"\",SUMIFS('Staff Capacity'!$I$10:$I$39,'Staff Capacity'!$G$10:$G$39,3,'Staff Capacity'!$H$10:$H$39,$D$3),SUMIF('Staff Capacity'!$G$10:$G$39,3,'Staff Capacity'!$I$10:$I$39))","v":0},{"$f":"IF($D$3<>\"\",SUMIFS('Staff Capacity'!$I$10:$I$39,'Staff Capacity'!$G$10:$G$39,3,'Staff Capacity'!$H$10:$H$39,$D$3),SUMIF('Staff Capacity'!$G$10:$G$39,3,'Staff Capacity'!$I$10:$I$39))","v":0},{"$f":"IF($D$3<>\"\",SUMIFS('Staff Capacity'!$I$10:$I$39,'Staff Capacity'!$G$10:$G$39,3,'Staff Capacity'!$H$10:$H$39,$D$3),SUMIF('Staff Capacity'!$G$10:$G$39,3,'Staff Capacity'!$I$10:$I$39))","v":0},{"$f":"IF($D$3<>\"\",SUMIFS('Staff Capacity'!$I$10:$I$39,'Staff Capacity'!$G$10:$G$39,3,'Staff Capacity'!$H$10:$H$39,$D$3),SUMIF('Staff Capacity'!$G$10:$G$39,3,'Staff Capacity'!$I$10:$I$39))","v":0},{"$f":"IF($D$3<>\"\",SUMIFS('Staff Capacity'!$I$10:$I$39,'Staff Capacity'!$G$10:$G$39,3,'Staff Capacity'!$H$10:$H$39,$D$3),SUMIF('Staff Capacity'!$G$10:$G$39,3,'Staff Capacity'!$I$10:$I$39))","v":0},{"$f":"IF($D$3<>\"\",SUMIFS('Staff Capacity'!$I$10:$I$39,'Staff Capacity'!$G$10:$G$39,3,'Staff Capacity'!$H$10:$H$39,$D$3),SUMIF('Staff Capacity'!$G$10:$G$39,3,'Staff Capacity'!$I$10:$I$39))","v":0},{"$f":"IF($D$3<>\"\",SUMIFS('Staff Capacity'!$I$10:$I$39,'Staff Capacity'!$G$10:$G$39,3,'Staff Capacity'!$H$10:$H$39,$D$3),SUMIF('Staff Capacity'!$G$10:$G$39,3,'Staff Capacity'!$I$10:$I$39))","v":0},{"$f":"IF($D$3<>\"\",SUMIFS('Staff Capacity'!$I$10:$I$39,'Staff Capacity'!$G$10:$G$39,3,'Staff Capacity'!$H$10:$H$39,$D$3),SUMIF('Staff Capacity'!$G$10:$G$39,3,'Staff Capacity'!$I$10:$I$39))","v":0},{"$f":"IF($D$3<>\"\",SUMIFS('Staff Capacity'!$I$10:$I$39,'Staff Capacity'!$G$10:$G$39,3,'Staff Capacity'!$H$10:$H$39,$D$3),SUMIF('Staff Capacity'!$G$10:$G$39,3,'Staff Capacity'!$I$10:$I$39))","v":0},{"$f":"IF($D$3<>\"\",SUMIFS('Staff Capacity'!$I$10:$I$39,'Staff Capacity'!$G$10:$G$39,3,'Staff Capacity'!$H$10:$H$39,$D$3),SUMIF('Staff Capacity'!$G$10:$G$39,3,'Staff Capacity'!$I$10:$I$39))","v":0},{"$f":"IF($D$3<>\"\",SUMIFS('Staff Capacity'!$I$10:$I$39,'Staff Capacity'!$G$10:$G$39,3,'Staff Capacity'!$H$10:$H$39,$D$3),SUMIF('Staff Capacity'!$G$10:$G$39,3,'Staff Capacity'!$I$10:$I$39))","v":0},{"$f":"IF($D$3<>\"\",SUMIFS('Staff Capacity'!$I$10:$I$39,'Staff Capacity'!$G$10:$G$39,3,'Staff Capacity'!$H$10:$H$39,$D$3),SUMIF('Staff Capacity'!$G$10:$G$39,3,'Staff Capacity'!$I$10:$I$39))","v":0},{"$f":"IF($D$3<>\"\",SUMIFS('Staff Capacity'!$I$10:$I$39,'Staff Capacity'!$G$10:$G$39,3,'Staff Capacity'!$H$10:$H$39,$D$3),SUMIF('Staff Capacity'!$G$10:$G$39,3,'Staff Capacity'!$I$10:$I$39))","v":0},{"$f":"IF($D$3<>\"\",SUMIFS('Staff Capacity'!$I$10:$I$39,'Staff Capacity'!$G$10:$G$39,3,'Staff Capacity'!$H$10:$H$39,$D$3),SUMIF('Staff Capacity'!$G$10:$G$39,3,'Staff Capacity'!$I$10:$I$39))","v":0},{"$f":"IF($D$3<>\"\",SUMIFS('Staff Capacity'!$I$10:$I$39,'Staff Capacity'!$G$10:$G$39,3,'Staff Capacity'!$H$10:$H$39,$D$3),SUMIF('Staff Capacity'!$G$10:$G$39,3,'Staff Capacity'!$I$10:$I$39))","v":0},{"$f":"IF($D$3<>\"\",SUMIFS('Staff Capacity'!$I$10:$I$39,'Staff Capacity'!$G$10:$G$39,3,'Staff Capacity'!$H$10:$H$39,$D$3),SUMIF('Staff Capacity'!$G$10:$G$39,3,'Staff Capacity'!$I$10:$I$39))","v":0},{"$f":"IF($D$3<>\"\",SUMIFS('Staff Capacity'!$I$10:$I$39,'Staff Capacity'!$G$10:$G$39,3,'Staff Capacity'!$H$10:$H$39,$D$3),SUMIF('Staff Capacity'!$G$10:$G$39,3,'Staff Capacity'!$I$10:$I$39))","v":0},{"$f":"IF($D$3<>\"\",SUMIFS('Staff Capacity'!$I$10:$I$39,'Staff Capacity'!$G$10:$G$39,3,'Staff Capacity'!$H$10:$H$39,$D$3),SUMIF('Staff Capacity'!$G$10:$G$39,3,'Staff Capacity'!$I$10:$I$39))","v":0},{"$f":"IF($D$3<>\"\",SUMIFS('Staff Capacity'!$I$10:$I$39,'Staff Capacity'!$G$10:$G$39,3,'Staff Capacity'!$H$10:$H$39,$D$3),SUMIF('Staff Capacity'!$G$10:$G$39,3,'Staff Capacity'!$I$10:$I$39))","v":0},{"$f":"IF($D$3<>\"\",SUMIFS('Staff Capacity'!$I$10:$I$39,'Staff Capacity'!$G$10:$G$39,3,'Staff Capacity'!$H$10:$H$39,$D$3),SUMIF('Staff Capacity'!$G$10:$G$39,3,'Staff Capacity'!$I$10:$I$39))","v":0},{"$f":"IF($D$3<>\"\",SUMIFS('Staff Capacity'!$I$10:$I$39,'Staff Capacity'!$G$10:$G$39,3,'Staff Capacity'!$H$10:$H$39,$D$3),SUMIF('Staff Capacity'!$G$10:$G$39,3,'Staff Capacity'!$I$10:$I$39))","v":0},{"$f":"IF($D$3<>\"\",SUMIFS('Staff Capacity'!$I$10:$I$39,'Staff Capacity'!$G$10:$G$39,3,'Staff Capacity'!$H$10:$H$39,$D$3),SUMIF('Staff Capacity'!$G$10:$G$39,3,'Staff Capacity'!$I$10:$I$39))","v":0},{"$f":"IF($D$3<>\"\",SUMIFS('Staff Capacity'!$I$10:$I$39,'Staff Capacity'!$G$10:$G$39,3,'Staff Capacity'!$H$10:$H$39,$D$3),SUMIF('Staff Capacity'!$G$10:$G$39,3,'Staff Capacity'!$I$10:$I$39))","v":0},{"$f":"IF($D$3<>\"\",SUMIFS('Staff Capacity'!$I$10:$I$39,'Staff Capacity'!$G$10:$G$39,3,'Staff Capacity'!$H$10:$H$39,$D$3),SUMIF('Staff Capacity'!$G$10:$G$39,3,'Staff Capacity'!$I$10:$I$39))","v":0},{"$f":"IF($D$3<>\"\",SUMIFS('Staff Capacity'!$I$10:$I$39,'Staff Capacity'!$G$10:$G$39,3,'Staff Capacity'!$H$10:$H$39,$D$3),SUMIF('Staff Capacity'!$G$10:$G$39,3,'Staff Capacity'!$I$10:$I$39))","v":0},{"$f":"IF($D$3<>\"\",SUMIFS('Staff Capacity'!$I$10:$I$39,'Staff Capacity'!$G$10:$G$39,3,'Staff Capacity'!$H$10:$H$39,$D$3),SUMIF('Staff Capacity'!$G$10:$G$39,3,'Staff Capacity'!$I$10:$I$39))","v":0},{"$f":"IF($D$3<>\"\",SUMIFS('Staff Capacity'!$I$10:$I$39,'Staff Capacity'!$G$10:$G$39,3,'Staff Capacity'!$H$10:$H$39,$D$3),SUMIF('Staff Capacity'!$G$10:$G$39,3,'Staff Capacity'!$I$10:$I$39))","v":0},{"$f":"IF($D$3<>\"\",SUMIFS('Staff Capacity'!$I$10:$I$39,'Staff Capacity'!$G$10:$G$39,3,'Staff Capacity'!$H$10:$H$39,$D$3),SUMIF('Staff Capacity'!$G$10:$G$39,3,'Staff Capacity'!$I$10:$I$39))","v":0},{"$f":"IF($D$3<>\"\",SUMIFS('Staff Capacity'!$I$10:$I$39,'Staff Capacity'!$G$10:$G$39,3,'Staff Capacity'!$H$10:$H$39,$D$3),SUMIF('Staff Capacity'!$G$10:$G$39,3,'Staff Capacity'!$I$10:$I$39))","v":0},{"$f":"IF($D$3<>\"\",SUMIFS('Staff Capacity'!$I$10:$I$39,'Staff Capacity'!$G$10:$G$39,3,'Staff Capacity'!$H$10:$H$39,$D$3),SUMIF('Staff Capacity'!$G$10:$G$39,3,'Staff Capacity'!$I$10:$I$39))","v":0},{"$f":"IF($D$3<>\"\",SUMIFS('Staff Capacity'!$I$10:$I$39,'Staff Capacity'!$G$10:$G$39,3,'Staff Capacity'!$H$10:$H$39,$D$3),SUMIF('Staff Capacity'!$G$10:$G$39,3,'Staff Capacity'!$I$10:$I$39))","v":0},{"$f":"IF($D$3<>\"\",SUMIFS('Staff Capacity'!$I$10:$I$39,'Staff Capacity'!$G$10:$G$39,3,'Staff Capacity'!$H$10:$H$39,$D$3),SUMIF('Staff Capacity'!$G$10:$G$39,3,'Staff Capacity'!$I$10:$I$39))","v":0},{"$f":"IF($D$3<>\"\",SUMIFS('Staff Capacity'!$I$10:$I$39,'Staff Capacity'!$G$10:$G$39,3,'Staff Capacity'!$H$10:$H$39,$D$3),SUMIF('Staff Capacity'!$G$10:$G$39,3,'Staff Capacity'!$I$10:$I$39))","v":0},{"$f":"IF($D$3<>\"\",SUMIFS('Staff Capacity'!$I$10:$I$39,'Staff Capacity'!$G$10:$G$39,3,'Staff Capacity'!$H$10:$H$39,$D$3),SUMIF('Staff Capacity'!$G$10:$G$39,3,'Staff Capacity'!$I$10:$I$39))","v":0},{"$f":"IF($D$3<>\"\",SUMIFS('Staff Capacity'!$I$10:$I$39,'Staff Capacity'!$G$10:$G$39,3,'Staff Capacity'!$H$10:$H$39,$D$3),SUMIF('Staff Capacity'!$G$10:$G$39,3,'Staff Capacity'!$I$10:$I$39))","v":0},{"$f":"IF($D$3<>\"\",SUMIFS('Staff Capacity'!$I$10:$I$39,'Staff Capacity'!$G$10:$G$39,3,'Staff Capacity'!$H$10:$H$39,$D$3),SUMIF('Staff Capacity'!$G$10:$G$39,3,'Staff Capacity'!$I$10:$I$39))","v":0},{"$f":"IF($D$3<>\"\",SUMIFS('Staff Capacity'!$I$10:$I$39,'Staff Capacity'!$G$10:$G$39,3,'Staff Capacity'!$H$10:$H$39,$D$3),SUMIF('Staff Capacity'!$G$10:$G$39,3,'Staff Capacity'!$I$10:$I$39))","v":0},{"$f":"IF($D$3<>\"\",SUMIFS('Staff Capacity'!$I$10:$I$39,'Staff Capacity'!$G$10:$G$39,3,'Staff Capacity'!$H$10:$H$39,$D$3),SUMIF('Staff Capacity'!$G$10:$G$39,3,'Staff Capacity'!$I$10:$I$39))","v":0},{"$f":"IF($D$3<>\"\",SUMIFS('Staff Capacity'!$I$10:$I$39,'Staff Capacity'!$G$10:$G$39,3,'Staff Capacity'!$H$10:$H$39,$D$3),SUMIF('Staff Capacity'!$G$10:$G$39,3,'Staff Capacity'!$I$10:$I$39))","v":0},{"$f":"IF($D$3<>\"\",SUMIFS('Staff Capacity'!$I$10:$I$39,'Staff Capacity'!$G$10:$G$39,3,'Staff Capacity'!$H$10:$H$39,$D$3),SUMIF('Staff Capacity'!$G$10:$G$39,3,'Staff Capacity'!$I$10:$I$39))","v":0},{"$f":"IF($D$3<>\"\",SUMIFS('Staff Capacity'!$I$10:$I$39,'Staff Capacity'!$G$10:$G$39,3,'Staff Capacity'!$H$10:$H$39,$D$3),SUMIF('Staff Capacity'!$G$10:$G$39,3,'Staff Capacity'!$I$10:$I$39))","v":0},{"$f":"IF($D$3<>\"\",SUMIFS('Staff Capacity'!$I$10:$I$39,'Staff Capacity'!$G$10:$G$39,3,'Staff Capacity'!$H$10:$H$39,$D$3),SUMIF('Staff Capacity'!$G$10:$G$39,3,'Staff Capacity'!$I$10:$I$39))","v":0},{"$f":"IF($D$3<>\"\",SUMIFS('Staff Capacity'!$I$10:$I$39,'Staff Capacity'!$G$10:$G$39,3,'Staff Capacity'!$H$10:$H$39,$D$3),SUMIF('Staff Capacity'!$G$10:$G$39,3,'Staff Capacity'!$I$10:$I$39))","v":0},{"$f":"IF($D$3<>\"\",SUMIFS('Staff Capacity'!$I$10:$I$39,'Staff Capacity'!$G$10:$G$39,3,'Staff Capacity'!$H$10:$H$39,$D$3),SUMIF('Staff Capacity'!$G$10:$G$39,3,'Staff Capacity'!$I$10:$I$39))","v":0},{"$f":"IF($D$3<>\"\",SUMIFS('Staff Capacity'!$I$10:$I$39,'Staff Capacity'!$G$10:$G$39,3,'Staff Capacity'!$H$10:$H$39,$D$3),SUMIF('Staff Capacity'!$G$10:$G$39,3,'Staff Capacity'!$I$10:$I$39))","v":0},{"$f":"IF($D$3<>\"\",SUMIFS('Staff Capacity'!$I$10:$I$39,'Staff Capacity'!$G$10:$G$39,3,'Staff Capacity'!$H$10:$H$39,$D$3),SUMIF('Staff Capacity'!$G$10:$G$39,3,'Staff Capacity'!$I$10:$I$39))","v":0},{"$f":"IF($D$3<>\"\",SUMIFS('Staff Capacity'!$I$10:$I$39,'Staff Capacity'!$G$10:$G$39,3,'Staff Capacity'!$H$10:$H$39,$D$3),SUMIF('Staff Capacity'!$G$10:$G$39,3,'Staff Capacity'!$I$10:$I$39))","v":0},{"$f":"IF($D$3<>\"\",SUMIFS('Staff Capacity'!$I$10:$I$39,'Staff Capacity'!$G$10:$G$39,3,'Staff Capacity'!$H$10:$H$39,$D$3),SUMIF('Staff Capacity'!$G$10:$G$39,3,'Staff Capacity'!$I$10:$I$39))","v":0},{"$f":"IF($D$3<>\"\",SUMIFS('Staff Capacity'!$I$10:$I$39,'Staff Capacity'!$G$10:$G$39,3,'Staff Capacity'!$H$10:$H$39,$D$3),SUMIF('Staff Capacity'!$G$10:$G$39,3,'Staff Capacity'!$I$10:$I$39))","v":0},{"$f":"IF($D$3<>\"\",SUMIFS('Staff Capacity'!$I$10:$I$39,'Staff Capacity'!$G$10:$G$39,3,'Staff Capacity'!$H$10:$H$39,$D$3),SUMIF('Staff Capacity'!$G$10:$G$39,3,'Staff Capacity'!$I$10:$I$39))","v":0},{"$f":"IF($D$3<>\"\",SUMIFS('Staff Capacity'!$I$10:$I$39,'Staff Capacity'!$G$10:$G$39,3,'Staff Capacity'!$H$10:$H$39,$D$3),SUMIF('Staff Capacity'!$G$10:$G$39,3,'Staff Capacity'!$I$10:$I$39))","v":0},{"$f":"IF($D$3<>\"\",SUMIFS('Staff Capacity'!$I$10:$I$39,'Staff Capacity'!$G$10:$G$39,3,'Staff Capacity'!$H$10:$H$39,$D$3),SUMIF('Staff Capacity'!$G$10:$G$39,3,'Staff Capacity'!$I$10:$I$39))","v":0},{"$f":"IF($D$3<>\"\",SUMIFS('Staff Capacity'!$I$10:$I$39,'Staff Capacity'!$G$10:$G$39,3,'Staff Capacity'!$H$10:$H$39,$D$3),SUMIF('Staff Capacity'!$G$10:$G$39,3,'Staff Capacity'!$I$10:$I$39))","v":0},{"$f":"IF($D$3<>\"\",SUMIFS('Staff Capacity'!$I$10:$I$39,'Staff Capacity'!$G$10:$G$39,3,'Staff Capacity'!$H$10:$H$39,$D$3),SUMIF('Staff Capacity'!$G$10:$G$39,3,'Staff Capacity'!$I$10:$I$39))","v":0},{"$f":"IF($D$3<>\"\",SUMIFS('Staff Capacity'!$I$10:$I$39,'Staff Capacity'!$G$10:$G$39,3,'Staff Capacity'!$H$10:$H$39,$D$3),SUMIF('Staff Capacity'!$G$10:$G$39,3,'Staff Capacity'!$I$10:$I$39))","v":0},{"$f":"IF($D$3<>\"\",SUMIFS('Staff Capacity'!$I$10:$I$39,'Staff Capacity'!$G$10:$G$39,3,'Staff Capacity'!$H$10:$H$39,$D$3),SUMIF('Staff Capacity'!$G$10:$G$39,3,'Staff Capacity'!$I$10:$I$39))","v":0},{"$f":"IF($D$3<>\"\",SUMIFS('Staff Capacity'!$I$10:$I$39,'Staff Capacity'!$G$10:$G$39,3,'Staff Capacity'!$H$10:$H$39,$D$3),SUMIF('Staff Capacity'!$G$10:$G$39,3,'Staff Capacity'!$I$10:$I$39))","v":0},{"$f":"IF($D$3<>\"\",SUMIFS('Staff Capacity'!$I$10:$I$39,'Staff Capacity'!$G$10:$G$39,3,'Staff Capacity'!$H$10:$H$39,$D$3),SUMIF('Staff Capacity'!$G$10:$G$39,3,'Staff Capacity'!$I$10:$I$39))","v":0},{"$f":"IF($D$3<>\"\",SUMIFS('Staff Capacity'!$I$10:$I$39,'Staff Capacity'!$G$10:$G$39,3,'Staff Capacity'!$H$10:$H$39,$D$3),SUMIF('Staff Capacity'!$G$10:$G$39,3,'Staff Capacity'!$I$10:$I$39))","v":0},{"$f":"IF($D$3<>\"\",SUMIFS('Staff Capacity'!$I$10:$I$39,'Staff Capacity'!$G$10:$G$39,3,'Staff Capacity'!$H$10:$H$39,$D$3),SUMIF('Staff Capacity'!$G$10:$G$39,3,'Staff Capacity'!$I$10:$I$39))","v":0},{"$f":"IF($D$3<>\"\",SUMIFS('Staff Capacity'!$I$10:$I$39,'Staff Capacity'!$G$10:$G$39,3,'Staff Capacity'!$H$10:$H$39,$D$3),SUMIF('Staff Capacity'!$G$10:$G$39,3,'Staff Capacity'!$I$10:$I$39))","v":0},{"$f":"IF($D$3<>\"\",SUMIFS('Staff Capacity'!$I$10:$I$39,'Staff Capacity'!$G$10:$G$39,3,'Staff Capacity'!$H$10:$H$39,$D$3),SUMIF('Staff Capacity'!$G$10:$G$39,3,'Staff Capacity'!$I$10:$I$39))","v":0},{"$f":"IF($D$3<>\"\",SUMIFS('Staff Capacity'!$I$10:$I$39,'Staff Capacity'!$G$10:$G$39,3,'Staff Capacity'!$H$10:$H$39,$D$3),SUMIF('Staff Capacity'!$G$10:$G$39,3,'Staff Capacity'!$I$10:$I$39))","v":0},{"$f":"IF($D$3<>\"\",SUMIFS('Staff Capacity'!$I$10:$I$39,'Staff Capacity'!$G$10:$G$39,3,'Staff Capacity'!$H$10:$H$39,$D$3),SUMIF('Staff Capacity'!$G$10:$G$39,3,'Staff Capacity'!$I$10:$I$39))","v":0},{"$f":"IF($D$3<>\"\",SUMIFS('Staff Capacity'!$I$10:$I$39,'Staff Capacity'!$G$10:$G$39,3,'Staff Capacity'!$H$10:$H$39,$D$3),SUMIF('Staff Capacity'!$G$10:$G$39,3,'Staff Capacity'!$I$10:$I$39))","v":0},{"$f":"IF($D$3<>\"\",SUMIFS('Staff Capacity'!$I$10:$I$39,'Staff Capacity'!$G$10:$G$39,3,'Staff Capacity'!$H$10:$H$39,$D$3),SUMIF('Staff Capacity'!$G$10:$G$39,3,'Staff Capacity'!$I$10:$I$39))","v":0},{"$f":"IF($D$3<>\"\",SUMIFS('Staff Capacity'!$I$10:$I$39,'Staff Capacity'!$G$10:$G$39,3,'Staff Capacity'!$H$10:$H$39,$D$3),SUMIF('Staff Capacity'!$G$10:$G$39,3,'Staff Capacity'!$I$10:$I$39))","v":0},{"$f":"IF($D$3<>\"\",SUMIFS('Staff Capacity'!$I$10:$I$39,'Staff Capacity'!$G$10:$G$39,3,'Staff Capacity'!$H$10:$H$39,$D$3),SUMIF('Staff Capacity'!$G$10:$G$39,3,'Staff Capacity'!$I$10:$I$39))","v":0},{"$f":"IF($D$3<>\"\",SUMIFS('Staff Capacity'!$I$10:$I$39,'Staff Capacity'!$G$10:$G$39,3,'Staff Capacity'!$H$10:$H$39,$D$3),SUMIF('Staff Capacity'!$G$10:$G$39,3,'Staff Capacity'!$I$10:$I$39))","v":0},{"$f":"IF($D$3<>\"\",SUMIFS('Staff Capacity'!$I$10:$I$39,'Staff Capacity'!$G$10:$G$39,3,'Staff Capacity'!$H$10:$H$39,$D$3),SUMIF('Staff Capacity'!$G$10:$G$39,3,'Staff Capacity'!$I$10:$I$39))","v":0},{"$f":"IF($D$3<>\"\",SUMIFS('Staff Capacity'!$I$10:$I$39,'Staff Capacity'!$G$10:$G$39,3,'Staff Capacity'!$H$10:$H$39,$D$3),SUMIF('Staff Capacity'!$G$10:$G$39,3,'Staff Capacity'!$I$10:$I$39))","v":0},{"$f":"IF($D$3<>\"\",SUMIFS('Staff Capacity'!$I$10:$I$39,'Staff Capacity'!$G$10:$G$39,3,'Staff Capacity'!$H$10:$H$39,$D$3),SUMIF('Staff Capacity'!$G$10:$G$39,3,'Staff Capacity'!$I$10:$I$39))","v":0},{"$f":"IF($D$3<>\"\",SUMIFS('Staff Capacity'!$I$10:$I$39,'Staff Capacity'!$G$10:$G$39,3,'Staff Capacity'!$H$10:$H$39,$D$3),SUMIF('Staff Capacity'!$G$10:$G$39,3,'Staff Capacity'!$I$10:$I$39))","v":0},{"$f":"IF($D$3<>\"\",SUMIFS('Staff Capacity'!$I$10:$I$39,'Staff Capacity'!$G$10:$G$39,3,'Staff Capacity'!$H$10:$H$39,$D$3),SUMIF('Staff Capacity'!$G$10:$G$39,3,'Staff Capacity'!$I$10:$I$39))","v":0},{"$f":"IF($D$3<>\"\",SUMIFS('Staff Capacity'!$I$10:$I$39,'Staff Capacity'!$G$10:$G$39,3,'Staff Capacity'!$H$10:$H$39,$D$3),SUMIF('Staff Capacity'!$G$10:$G$39,3,'Staff Capacity'!$I$10:$I$39))","v":0},{"$f":"IF($D$3<>\"\",SUMIFS('Staff Capacity'!$I$10:$I$39,'Staff Capacity'!$G$10:$G$39,3,'Staff Capacity'!$H$10:$H$39,$D$3),SUMIF('Staff Capacity'!$G$10:$G$39,3,'Staff Capacity'!$I$10:$I$39))","v":0},{"$f":"IF($D$3<>\"\",SUMIFS('Staff Capacity'!$I$10:$I$39,'Staff Capacity'!$G$10:$G$39,3,'Staff Capacity'!$H$10:$H$39,$D$3),SUMIF('Staff Capacity'!$G$10:$G$39,3,'Staff Capacity'!$I$10:$I$39))","v":0},{"$f":"IF($D$3<>\"\",SUMIFS('Staff Capacity'!$I$10:$I$39,'Staff Capacity'!$G$10:$G$39,3,'Staff Capacity'!$H$10:$H$39,$D$3),SUMIF('Staff Capacity'!$G$10:$G$39,3,'Staff Capacity'!$I$10:$I$39))","v":0},{"$f":"IF($D$3<>\"\",SUMIFS('Staff Capacity'!$I$10:$I$39,'Staff Capacity'!$G$10:$G$39,3,'Staff Capacity'!$H$10:$H$39,$D$3),SUMIF('Staff Capacity'!$G$10:$G$39,3,'Staff Capacity'!$I$10:$I$39))","v":0},{"$f":"IF($D$3<>\"\",SUMIFS('Staff Capacity'!$I$10:$I$39,'Staff Capacity'!$G$10:$G$39,3,'Staff Capacity'!$H$10:$H$39,$D$3),SUMIF('Staff Capacity'!$G$10:$G$39,3,'Staff Capacity'!$I$10:$I$39))","v":0},{"$f":"IF($D$3<>\"\",SUMIFS('Staff Capacity'!$I$10:$I$39,'Staff Capacity'!$G$10:$G$39,3,'Staff Capacity'!$H$10:$H$39,$D$3),SUMIF('Staff Capacity'!$G$10:$G$39,3,'Staff Capacity'!$I$10:$I$39))","v":0},{"$f":"IF($D$3<>\"\",SUMIFS('Staff Capacity'!$I$10:$I$39,'Staff Capacity'!$G$10:$G$39,3,'Staff Capacity'!$H$10:$H$39,$D$3),SUMIF('Staff Capacity'!$G$10:$G$39,3,'Staff Capacity'!$I$10:$I$39))","v":0},{"$f":"IF($D$3<>\"\",SUMIFS('Staff Capacity'!$I$10:$I$39,'Staff Capacity'!$G$10:$G$39,3,'Staff Capacity'!$H$10:$H$39,$D$3),SUMIF('Staff Capacity'!$G$10:$G$39,3,'Staff Capacity'!$I$10:$I$39))","v":0},{"$f":"IF($D$3<>\"\",SUMIFS('Staff Capacity'!$I$10:$I$39,'Staff Capacity'!$G$10:$G$39,3,'Staff Capacity'!$H$10:$H$39,$D$3),SUMIF('Staff Capacity'!$G$10:$G$39,3,'Staff Capacity'!$I$10:$I$39))","v":0},{"$f":"IF($D$3<>\"\",SUMIFS('Staff Capacity'!$I$10:$I$39,'Staff Capacity'!$G$10:$G$39,3,'Staff Capacity'!$H$10:$H$39,$D$3),SUMIF('Staff Capacity'!$G$10:$G$39,3,'Staff Capacity'!$I$10:$I$39))","v":0},{"$f":"IF($D$3<>\"\",SUMIFS('Staff Capacity'!$I$10:$I$39,'Staff Capacity'!$G$10:$G$39,3,'Staff Capacity'!$H$10:$H$39,$D$3),SUMIF('Staff Capacity'!$G$10:$G$39,3,'Staff Capacity'!$I$10:$I$39))","v":0},{"$f":"IF($D$3<>\"\",SUMIFS('Staff Capacity'!$I$10:$I$39,'Staff Capacity'!$G$10:$G$39,3,'Staff Capacity'!$H$10:$H$39,$D$3),SUMIF('Staff Capacity'!$G$10:$G$39,3,'Staff Capacity'!$I$10:$I$39))","v":0},{"$f":"IF($D$3<>\"\",SUMIFS('Staff Capacity'!$I$10:$I$39,'Staff Capacity'!$G$10:$G$39,3,'Staff Capacity'!$H$10:$H$39,$D$3),SUMIF('Staff Capacity'!$G$10:$G$39,3,'Staff Capacity'!$I$10:$I$39))","v":0},{"$f":"IF($D$3<>\"\",SUMIFS('Staff Capacity'!$I$10:$I$39,'Staff Capacity'!$G$10:$G$39,3,'Staff Capacity'!$H$10:$H$39,$D$3),SUMIF('Staff Capacity'!$G$10:$G$39,3,'Staff Capacity'!$I$10:$I$39))","v":0},{"$f":"IF($D$3<>\"\",SUMIFS('Staff Capacity'!$I$10:$I$39,'Staff Capacity'!$G$10:$G$39,3,'Staff Capacity'!$H$10:$H$39,$D$3),SUMIF('Staff Capacity'!$G$10:$G$39,3,'Staff Capacity'!$I$10:$I$39))","v":0},{"$f":"IF($D$3<>\"\",SUMIFS('Staff Capacity'!$I$10:$I$39,'Staff Capacity'!$G$10:$G$39,3,'Staff Capacity'!$H$10:$H$39,$D$3),SUMIF('Staff Capacity'!$G$10:$G$39,3,'Staff Capacity'!$I$10:$I$39))","v":0},{"$f":"IF($D$3<>\"\",SUMIFS('Staff Capacity'!$I$10:$I$39,'Staff Capacity'!$G$10:$G$39,3,'Staff Capacity'!$H$10:$H$39,$D$3),SUMIF('Staff Capacity'!$G$10:$G$39,3,'Staff Capacity'!$I$10:$I$39))","v":0},{"$f":"IF($D$3<>\"\",SUMIFS('Staff Capacity'!$I$10:$I$39,'Staff Capacity'!$G$10:$G$39,3,'Staff Capacity'!$H$10:$H$39,$D$3),SUMIF('Staff Capacity'!$G$10:$G$39,3,'Staff Capacity'!$I$10:$I$39))","v":0},{"$f":"IF($D$3<>\"\",SUMIFS('Staff Capacity'!$I$10:$I$39,'Staff Capacity'!$G$10:$G$39,3,'Staff Capacity'!$H$10:$H$39,$D$3),SUMIF('Staff Capacity'!$G$10:$G$39,3,'Staff Capacity'!$I$10:$I$39))","v":0},{"$f":"IF($D$3<>\"\",SUMIFS('Staff Capacity'!$I$10:$I$39,'Staff Capacity'!$G$10:$G$39,3,'Staff Capacity'!$H$10:$H$39,$D$3),SUMIF('Staff Capacity'!$G$10:$G$39,3,'Staff Capacity'!$I$10:$I$39))","v":0},{"$f":"IF($D$3<>\"\",SUMIFS('Staff Capacity'!$I$10:$I$39,'Staff Capacity'!$G$10:$G$39,3,'Staff Capacity'!$H$10:$H$39,$D$3),SUMIF('Staff Capacity'!$G$10:$G$39,3,'Staff Capacity'!$I$10:$I$39))","v":0},{"$f":"IF($D$3<>\"\",SUMIFS('Staff Capacity'!$I$10:$I$39,'Staff Capacity'!$G$10:$G$39,3,'Staff Capacity'!$H$10:$H$39,$D$3),SUMIF('Staff Capacity'!$G$10:$G$39,3,'Staff Capacity'!$I$10:$I$39))","v":0},{"$f":"IF($D$3<>\"\",SUMIFS('Staff Capacity'!$I$10:$I$39,'Staff Capacity'!$G$10:$G$39,3,'Staff Capacity'!$H$10:$H$39,$D$3),SUMIF('Staff Capacity'!$G$10:$G$39,3,'Staff Capacity'!$I$10:$I$39))","v":0},{"$f":"IF($D$3<>\"\",SUMIFS('Staff Capacity'!$I$10:$I$39,'Staff Capacity'!$G$10:$G$39,3,'Staff Capacity'!$H$10:$H$39,$D$3),SUMIF('Staff Capacity'!$G$10:$G$39,3,'Staff Capacity'!$I$10:$I$39))","v":0},{"$f":"IF($D$3<>\"\",SUMIFS('Staff Capacity'!$I$10:$I$39,'Staff Capacity'!$G$10:$G$39,3,'Staff Capacity'!$H$10:$H$39,$D$3),SUMIF('Staff Capacity'!$G$10:$G$39,3,'Staff Capacity'!$I$10:$I$39))","v":0},{"$f":"IF($D$3<>\"\",SUMIFS('Staff Capacity'!$I$10:$I$39,'Staff Capacity'!$G$10:$G$39,3,'Staff Capacity'!$H$10:$H$39,$D$3),SUMIF('Staff Capacity'!$G$10:$G$39,3,'Staff Capacity'!$I$10:$I$39))","v":0},{"$f":"IF($D$3<>\"\",SUMIFS('Staff Capacity'!$I$10:$I$39,'Staff Capacity'!$G$10:$G$39,3,'Staff Capacity'!$H$10:$H$39,$D$3),SUMIF('Staff Capacity'!$G$10:$G$39,3,'Staff Capacity'!$I$10:$I$39))","v":0},{"$f":"IF($D$3<>\"\",SUMIFS('Staff Capacity'!$I$10:$I$39,'Staff Capacity'!$G$10:$G$39,3,'Staff Capacity'!$H$10:$H$39,$D$3),SUMIF('Staff Capacity'!$G$10:$G$39,3,'Staff Capacity'!$I$10:$I$39))","v":0},{"$f":"IF($D$3<>\"\",SUMIFS('Staff Capacity'!$I$10:$I$39,'Staff Capacity'!$G$10:$G$39,3,'Staff Capacity'!$H$10:$H$39,$D$3),SUMIF('Staff Capacity'!$G$10:$G$39,3,'Staff Capacity'!$I$10:$I$39))","v":0},{"$f":"IF($D$3<>\"\",SUMIFS('Staff Capacity'!$I$10:$I$39,'Staff Capacity'!$G$10:$G$39,3,'Staff Capacity'!$H$10:$H$39,$D$3),SUMIF('Staff Capacity'!$G$10:$G$39,3,'Staff Capacity'!$I$10:$I$39))","v":0},{"$f":"IF($D$3<>\"\",SUMIFS('Staff Capacity'!$I$10:$I$39,'Staff Capacity'!$G$10:$G$39,3,'Staff Capacity'!$H$10:$H$39,$D$3),SUMIF('Staff Capacity'!$G$10:$G$39,3,'Staff Capacity'!$I$10:$I$39))","v":0},{"$f":"IF($D$3<>\"\",SUMIFS('Staff Capacity'!$I$10:$I$39,'Staff Capacity'!$G$10:$G$39,3,'Staff Capacity'!$H$10:$H$39,$D$3),SUMIF('Staff Capacity'!$G$10:$G$39,3,'Staff Capacity'!$I$10:$I$39))","v":0},{"$f":"IF($D$3<>\"\",SUMIFS('Staff Capacity'!$I$10:$I$39,'Staff Capacity'!$G$10:$G$39,3,'Staff Capacity'!$H$10:$H$39,$D$3),SUMIF('Staff Capacity'!$G$10:$G$39,3,'Staff Capacity'!$I$10:$I$39))","v":0},{"$f":"IF($D$3<>\"\",SUMIFS('Staff Capacity'!$I$10:$I$39,'Staff Capacity'!$G$10:$G$39,3,'Staff Capacity'!$H$10:$H$39,$D$3),SUMIF('Staff Capacity'!$G$10:$G$39,3,'Staff Capacity'!$I$10:$I$39))","v":0},{"$f":"IF($D$3<>\"\",SUMIFS('Staff Capacity'!$I$10:$I$39,'Staff Capacity'!$G$10:$G$39,3,'Staff Capacity'!$H$10:$H$39,$D$3),SUMIF('Staff Capacity'!$G$10:$G$39,3,'Staff Capacity'!$I$10:$I$39))","v":0},{"$f":"IF($D$3<>\"\",SUMIFS('Staff Capacity'!$I$10:$I$39,'Staff Capacity'!$G$10:$G$39,3,'Staff Capacity'!$H$10:$H$39,$D$3),SUMIF('Staff Capacity'!$G$10:$G$39,3,'Staff Capacity'!$I$10:$I$39))","v":0},{"$f":"IF($D$3<>\"\",SUMIFS('Staff Capacity'!$I$10:$I$39,'Staff Capacity'!$G$10:$G$39,3,'Staff Capacity'!$H$10:$H$39,$D$3),SUMIF('Staff Capacity'!$G$10:$G$39,3,'Staff Capacity'!$I$10:$I$39))","v":0},{"$f":"IF($D$3<>\"\",SUMIFS('Staff Capacity'!$I$10:$I$39,'Staff Capacity'!$G$10:$G$39,3,'Staff Capacity'!$H$10:$H$39,$D$3),SUMIF('Staff Capacity'!$G$10:$G$39,3,'Staff Capacity'!$I$10:$I$39))","v":0},{"$f":"IF($D$3<>\"\",SUMIFS('Staff Capacity'!$I$10:$I$39,'Staff Capacity'!$G$10:$G$39,3,'Staff Capacity'!$H$10:$H$39,$D$3),SUMIF('Staff Capacity'!$G$10:$G$39,3,'Staff Capacity'!$I$10:$I$39))","v":0},{"$f":"IF($D$3<>\"\",SUMIFS('Staff Capacity'!$I$10:$I$39,'Staff Capacity'!$G$10:$G$39,3,'Staff Capacity'!$H$10:$H$39,$D$3),SUMIF('Staff Capacity'!$G$10:$G$39,3,'Staff Capacity'!$I$10:$I$39))","v":0},{"$f":"IF($D$3<>\"\",SUMIFS('Staff Capacity'!$I$10:$I$39,'Staff Capacity'!$G$10:$G$39,3,'Staff Capacity'!$H$10:$H$39,$D$3),SUMIF('Staff Capacity'!$G$10:$G$39,3,'Staff Capacity'!$I$10:$I$39))","v":0},{"$f":"IF($D$3<>\"\",SUMIFS('Staff Capacity'!$I$10:$I$39,'Staff Capacity'!$G$10:$G$39,3,'Staff Capacity'!$H$10:$H$39,$D$3),SUMIF('Staff Capacity'!$G$10:$G$39,3,'Staff Capacity'!$I$10:$I$39))","v":0},{"$f":"IF($D$3<>\"\",SUMIFS('Staff Capacity'!$I$10:$I$39,'Staff Capacity'!$G$10:$G$39,3,'Staff Capacity'!$H$10:$H$39,$D$3),SUMIF('Staff Capacity'!$G$10:$G$39,3,'Staff Capacity'!$I$10:$I$39))","v":0},{"$f":"IF($D$3<>\"\",SUMIFS('Staff Capacity'!$I$10:$I$39,'Staff Capacity'!$G$10:$G$39,3,'Staff Capacity'!$H$10:$H$39,$D$3),SUMIF('Staff Capacity'!$G$10:$G$39,3,'Staff Capacity'!$I$10:$I$39))","v":0},{"$f":"IF($D$3<>\"\",SUMIFS('Staff Capacity'!$I$10:$I$39,'Staff Capacity'!$G$10:$G$39,3,'Staff Capacity'!$H$10:$H$39,$D$3),SUMIF('Staff Capacity'!$G$10:$G$39,3,'Staff Capacity'!$I$10:$I$39))","v":0},{"$f":"IF($D$3<>\"\",SUMIFS('Staff Capacity'!$I$10:$I$39,'Staff Capacity'!$G$10:$G$39,3,'Staff Capacity'!$H$10:$H$39,$D$3),SUMIF('Staff Capacity'!$G$10:$G$39,3,'Staff Capacity'!$I$10:$I$39))","v":0},{"$f":"IF($D$3<>\"\",SUMIFS('Staff Capacity'!$I$10:$I$39,'Staff Capacity'!$G$10:$G$39,3,'Staff Capacity'!$H$10:$H$39,$D$3),SUMIF('Staff Capacity'!$G$10:$G$39,3,'Staff Capacity'!$I$10:$I$39))","v":0},{"$f":"IF($D$3<>\"\",SUMIFS('Staff Capacity'!$I$10:$I$39,'Staff Capacity'!$G$10:$G$39,3,'Staff Capacity'!$H$10:$H$39,$D$3),SUMIF('Staff Capacity'!$G$10:$G$39,3,'Staff Capacity'!$I$10:$I$39))","v":0},{"$f":"IF($D$3<>\"\",SUMIFS('Staff Capacity'!$I$10:$I$39,'Staff Capacity'!$G$10:$G$39,3,'Staff Capacity'!$H$10:$H$39,$D$3),SUMIF('Staff Capacity'!$G$10:$G$39,3,'Staff Capacity'!$I$10:$I$39))","v":0},{"$f":"IF($D$3<>\"\",SUMIFS('Staff Capacity'!$I$10:$I$39,'Staff Capacity'!$G$10:$G$39,3,'Staff Capacity'!$H$10:$H$39,$D$3),SUMIF('Staff Capacity'!$G$10:$G$39,3,'Staff Capacity'!$I$10:$I$39))","v":0},{"$f":"IF($D$3<>\"\",SUMIFS('Staff Capacity'!$I$10:$I$39,'Staff Capacity'!$G$10:$G$39,3,'Staff Capacity'!$H$10:$H$39,$D$3),SUMIF('Staff Capacity'!$G$10:$G$39,3,'Staff Capacity'!$I$10:$I$39))","v":0},{"$f":"IF($D$3<>\"\",SUMIFS('Staff Capacity'!$I$10:$I$39,'Staff Capacity'!$G$10:$G$39,3,'Staff Capacity'!$H$10:$H$39,$D$3),SUMIF('Staff Capacity'!$G$10:$G$39,3,'Staff Capacity'!$I$10:$I$39))","v":0},{"$f":"IF($D$3<>\"\",SUMIFS('Staff Capacity'!$I$10:$I$39,'Staff Capacity'!$G$10:$G$39,3,'Staff Capacity'!$H$10:$H$39,$D$3),SUMIF('Staff Capacity'!$G$10:$G$39,3,'Staff Capacity'!$I$10:$I$39))","v":0},{"$f":"IF($D$3<>\"\",SUMIFS('Staff Capacity'!$I$10:$I$39,'Staff Capacity'!$G$10:$G$39,3,'Staff Capacity'!$H$10:$H$39,$D$3),SUMIF('Staff Capacity'!$G$10:$G$39,3,'Staff Capacity'!$I$10:$I$39))","v":0},{"$f":"IF($D$3<>\"\",SUMIFS('Staff Capacity'!$I$10:$I$39,'Staff Capacity'!$G$10:$G$39,3,'Staff Capacity'!$H$10:$H$39,$D$3),SUMIF('Staff Capacity'!$G$10:$G$39,3,'Staff Capacity'!$I$10:$I$39))","v":0},{"$f":"IF($D$3<>\"\",SUMIFS('Staff Capacity'!$I$10:$I$39,'Staff Capacity'!$G$10:$G$39,3,'Staff Capacity'!$H$10:$H$39,$D$3),SUMIF('Staff Capacity'!$G$10:$G$39,3,'Staff Capacity'!$I$10:$I$39))","v":0},{"$f":"IF($D$3<>\"\",SUMIFS('Staff Capacity'!$I$10:$I$39,'Staff Capacity'!$G$10:$G$39,3,'Staff Capacity'!$H$10:$H$39,$D$3),SUMIF('Staff Capacity'!$G$10:$G$39,3,'Staff Capacity'!$I$10:$I$39))","v":0},{"$f":"IF($D$3<>\"\",SUMIFS('Staff Capacity'!$I$10:$I$39,'Staff Capacity'!$G$10:$G$39,3,'Staff Capacity'!$H$10:$H$39,$D$3),SUMIF('Staff Capacity'!$G$10:$G$39,3,'Staff Capacity'!$I$10:$I$39))","v":0},{"$f":"IF($D$3<>\"\",SUMIFS('Staff Capacity'!$I$10:$I$39,'Staff Capacity'!$G$10:$G$39,3,'Staff Capacity'!$H$10:$H$39,$D$3),SUMIF('Staff Capacity'!$G$10:$G$39,3,'Staff Capacity'!$I$10:$I$39))","v":0},{"$f":"IF($D$3<>\"\",SUMIFS('Staff Capacity'!$I$10:$I$39,'Staff Capacity'!$G$10:$G$39,3,'Staff Capacity'!$H$10:$H$39,$D$3),SUMIF('Staff Capacity'!$G$10:$G$39,3,'Staff Capacity'!$I$10:$I$39))","v":0},{"$f":"IF($D$3<>\"\",SUMIFS('Staff Capacity'!$I$10:$I$39,'Staff Capacity'!$G$10:$G$39,3,'Staff Capacity'!$H$10:$H$39,$D$3),SUMIF('Staff Capacity'!$G$10:$G$39,3,'Staff Capacity'!$I$10:$I$39))","v":0},{"$f":"IF($D$3<>\"\",SUMIFS('Staff Capacity'!$I$10:$I$39,'Staff Capacity'!$G$10:$G$39,3,'Staff Capacity'!$H$10:$H$39,$D$3),SUMIF('Staff Capacity'!$G$10:$G$39,3,'Staff Capacity'!$I$10:$I$39))","v":0},{"$f":"IF($D$3<>\"\",SUMIFS('Staff Capacity'!$I$10:$I$39,'Staff Capacity'!$G$10:$G$39,3,'Staff Capacity'!$H$10:$H$39,$D$3),SUMIF('Staff Capacity'!$G$10:$G$39,3,'Staff Capacity'!$I$10:$I$39))","v":0},{"$f":"IF($D$3<>\"\",SUMIFS('Staff Capacity'!$I$10:$I$39,'Staff Capacity'!$G$10:$G$39,3,'Staff Capacity'!$H$10:$H$39,$D$3),SUMIF('Staff Capacity'!$G$10:$G$39,3,'Staff Capacity'!$I$10:$I$39))","v":0},{"$f":"IF($D$3<>\"\",SUMIFS('Staff Capacity'!$I$10:$I$39,'Staff Capacity'!$G$10:$G$39,3,'Staff Capacity'!$H$10:$H$39,$D$3),SUMIF('Staff Capacity'!$G$10:$G$39,3,'Staff Capacity'!$I$10:$I$39))","v":0},{"$f":"IF($D$3<>\"\",SUMIFS('Staff Capacity'!$I$10:$I$39,'Staff Capacity'!$G$10:$G$39,3,'Staff Capacity'!$H$10:$H$39,$D$3),SUMIF('Staff Capacity'!$G$10:$G$39,3,'Staff Capacity'!$I$10:$I$39))","v":0},{"$f":"IF($D$3<>\"\",SUMIFS('Staff Capacity'!$I$10:$I$39,'Staff Capacity'!$G$10:$G$39,3,'Staff Capacity'!$H$10:$H$39,$D$3),SUMIF('Staff Capacity'!$G$10:$G$39,3,'Staff Capacity'!$I$10:$I$39))","v":0},{"$f":"IF($D$3<>\"\",SUMIFS('Staff Capacity'!$I$10:$I$39,'Staff Capacity'!$G$10:$G$39,3,'Staff Capacity'!$H$10:$H$39,$D$3),SUMIF('Staff Capacity'!$G$10:$G$39,3,'Staff Capacity'!$I$10:$I$39))","v":0},{"$f":"IF($D$3<>\"\",SUMIFS('Staff Capacity'!$I$10:$I$39,'Staff Capacity'!$G$10:$G$39,3,'Staff Capacity'!$H$10:$H$39,$D$3),SUMIF('Staff Capacity'!$G$10:$G$39,3,'Staff Capacity'!$I$10:$I$39))","v":0},{"$f":"IF($D$3<>\"\",SUMIFS('Staff Capacity'!$I$10:$I$39,'Staff Capacity'!$G$10:$G$39,3,'Staff Capacity'!$H$10:$H$39,$D$3),SUMIF('Staff Capacity'!$G$10:$G$39,3,'Staff Capacity'!$I$10:$I$39))","v":0},{"$f":"IF($D$3<>\"\",SUMIFS('Staff Capacity'!$I$10:$I$39,'Staff Capacity'!$G$10:$G$39,3,'Staff Capacity'!$H$10:$H$39,$D$3),SUMIF('Staff Capacity'!$G$10:$G$39,3,'Staff Capacity'!$I$10:$I$39))","v":0},{"$f":"IF($D$3<>\"\",SUMIFS('Staff Capacity'!$I$10:$I$39,'Staff Capacity'!$G$10:$G$39,3,'Staff Capacity'!$H$10:$H$39,$D$3),SUMIF('Staff Capacity'!$G$10:$G$39,3,'Staff Capacity'!$I$10:$I$39))","v":0},{"$f":"IF($D$3<>\"\",SUMIFS('Staff Capacity'!$I$10:$I$39,'Staff Capacity'!$G$10:$G$39,3,'Staff Capacity'!$H$10:$H$39,$D$3),SUMIF('Staff Capacity'!$G$10:$G$39,3,'Staff Capacity'!$I$10:$I$39))","v":0},{"$f":"IF($D$3<>\"\",SUMIFS('Staff Capacity'!$I$10:$I$39,'Staff Capacity'!$G$10:$G$39,3,'Staff Capacity'!$H$10:$H$39,$D$3),SUMIF('Staff Capacity'!$G$10:$G$39,3,'Staff Capacity'!$I$10:$I$39))","v":0},{"$f":"IF($D$3<>\"\",SUMIFS('Staff Capacity'!$I$10:$I$39,'Staff Capacity'!$G$10:$G$39,3,'Staff Capacity'!$H$10:$H$39,$D$3),SUMIF('Staff Capacity'!$G$10:$G$39,3,'Staff Capacity'!$I$10:$I$39))","v":0},{"$f":"IF($D$3<>\"\",SUMIFS('Staff Capacity'!$I$10:$I$39,'Staff Capacity'!$G$10:$G$39,3,'Staff Capacity'!$H$10:$H$39,$D$3),SUMIF('Staff Capacity'!$G$10:$G$39,3,'Staff Capacity'!$I$10:$I$39))","v":0},{"$f":"IF($D$3<>\"\",SUMIFS('Staff Capacity'!$I$10:$I$39,'Staff Capacity'!$G$10:$G$39,3,'Staff Capacity'!$H$10:$H$39,$D$3),SUMIF('Staff Capacity'!$G$10:$G$39,3,'Staff Capacity'!$I$10:$I$39))","v":0},{"$f":"IF($D$3<>\"\",SUMIFS('Staff Capacity'!$I$10:$I$39,'Staff Capacity'!$G$10:$G$39,3,'Staff Capacity'!$H$10:$H$39,$D$3),SUMIF('Staff Capacity'!$G$10:$G$39,3,'Staff Capacity'!$I$10:$I$39))","v":0},{"$f":"IF($D$3<>\"\",SUMIFS('Staff Capacity'!$I$10:$I$39,'Staff Capacity'!$G$10:$G$39,3,'Staff Capacity'!$H$10:$H$39,$D$3),SUMIF('Staff Capacity'!$G$10:$G$39,3,'Staff Capacity'!$I$10:$I$39))","v":0},{"$f":"IF($D$3<>\"\",SUMIFS('Staff Capacity'!$I$10:$I$39,'Staff Capacity'!$G$10:$G$39,3,'Staff Capacity'!$H$10:$H$39,$D$3),SUMIF('Staff Capacity'!$G$10:$G$39,3,'Staff Capacity'!$I$10:$I$39))","v":0},{"$f":"IF($D$3<>\"\",SUMIFS('Staff Capacity'!$I$10:$I$39,'Staff Capacity'!$G$10:$G$39,3,'Staff Capacity'!$H$10:$H$39,$D$3),SUMIF('Staff Capacity'!$G$10:$G$39,3,'Staff Capacity'!$I$10:$I$39))","v":0},{"$f":"IF($D$3<>\"\",SUMIFS('Staff Capacity'!$I$10:$I$39,'Staff Capacity'!$G$10:$G$39,3,'Staff Capacity'!$H$10:$H$39,$D$3),SUMIF('Staff Capacity'!$G$10:$G$39,3,'Staff Capacity'!$I$10:$I$39))","v":0},{"$f":"IF($D$3<>\"\",SUMIFS('Staff Capacity'!$I$10:$I$39,'Staff Capacity'!$G$10:$G$39,3,'Staff Capacity'!$H$10:$H$39,$D$3),SUMIF('Staff Capacity'!$G$10:$G$39,3,'Staff Capacity'!$I$10:$I$39))","v":0},{"$f":"IF($D$3<>\"\",SUMIFS('Staff Capacity'!$I$10:$I$39,'Staff Capacity'!$G$10:$G$39,3,'Staff Capacity'!$H$10:$H$39,$D$3),SUMIF('Staff Capacity'!$G$10:$G$39,3,'Staff Capacity'!$I$10:$I$39))","v":0},{"$f":"IF($D$3<>\"\",SUMIFS('Staff Capacity'!$I$10:$I$39,'Staff Capacity'!$G$10:$G$39,3,'Staff Capacity'!$H$10:$H$39,$D$3),SUMIF('Staff Capacity'!$G$10:$G$39,3,'Staff Capacity'!$I$10:$I$39))","v":0},{"$f":"IF($D$3<>\"\",SUMIFS('Staff Capacity'!$I$10:$I$39,'Staff Capacity'!$G$10:$G$39,3,'Staff Capacity'!$H$10:$H$39,$D$3),SUMIF('Staff Capacity'!$G$10:$G$39,3,'Staff Capacity'!$I$10:$I$39))","v":0},{"$f":"IF($D$3<>\"\",SUMIFS('Staff Capacity'!$I$10:$I$39,'Staff Capacity'!$G$10:$G$39,3,'Staff Capacity'!$H$10:$H$39,$D$3),SUMIF('Staff Capacity'!$G$10:$G$39,3,'Staff Capacity'!$I$10:$I$39))","v":0},{"$f":"IF($D$3<>\"\",SUMIFS('Staff Capacity'!$I$10:$I$39,'Staff Capacity'!$G$10:$G$39,3,'Staff Capacity'!$H$10:$H$39,$D$3),SUMIF('Staff Capacity'!$G$10:$G$39,3,'Staff Capacity'!$I$10:$I$39))","v":0},{"$f":"IF($D$3<>\"\",SUMIFS('Staff Capacity'!$I$10:$I$39,'Staff Capacity'!$G$10:$G$39,3,'Staff Capacity'!$H$10:$H$39,$D$3),SUMIF('Staff Capacity'!$G$10:$G$39,3,'Staff Capacity'!$I$10:$I$39))","v":0},{"$f":"IF($D$3<>\"\",SUMIFS('Staff Capacity'!$I$10:$I$39,'Staff Capacity'!$G$10:$G$39,3,'Staff Capacity'!$H$10:$H$39,$D$3),SUMIF('Staff Capacity'!$G$10:$G$39,3,'Staff Capacity'!$I$10:$I$39))","v":0},{"$f":"IF($D$3<>\"\",SUMIFS('Staff Capacity'!$I$10:$I$39,'Staff Capacity'!$G$10:$G$39,3,'Staff Capacity'!$H$10:$H$39,$D$3),SUMIF('Staff Capacity'!$G$10:$G$39,3,'Staff Capacity'!$I$10:$I$39))","v":0},{"$f":"IF($D$3<>\"\",SUMIFS('Staff Capacity'!$I$10:$I$39,'Staff Capacity'!$G$10:$G$39,3,'Staff Capacity'!$H$10:$H$39,$D$3),SUMIF('Staff Capacity'!$G$10:$G$39,3,'Staff Capacity'!$I$10:$I$39))","v":0},{"$f":"IF($D$3<>\"\",SUMIFS('Staff Capacity'!$I$10:$I$39,'Staff Capacity'!$G$10:$G$39,3,'Staff Capacity'!$H$10:$H$39,$D$3),SUMIF('Staff Capacity'!$G$10:$G$39,3,'Staff Capacity'!$I$10:$I$39))","v":0},{"$f":"IF($D$3<>\"\",SUMIFS('Staff Capacity'!$I$10:$I$39,'Staff Capacity'!$G$10:$G$39,3,'Staff Capacity'!$H$10:$H$39,$D$3),SUMIF('Staff Capacity'!$G$10:$G$39,3,'Staff Capacity'!$I$10:$I$39))","v":0},{"$f":"IF($D$3<>\"\",SUMIFS('Staff Capacity'!$I$10:$I$39,'Staff Capacity'!$G$10:$G$39,3,'Staff Capacity'!$H$10:$H$39,$D$3),SUMIF('Staff Capacity'!$G$10:$G$39,3,'Staff Capacity'!$I$10:$I$39))","v":0},{"$f":"IF($D$3<>\"\",SUMIFS('Staff Capacity'!$I$10:$I$39,'Staff Capacity'!$G$10:$G$39,3,'Staff Capacity'!$H$10:$H$39,$D$3),SUMIF('Staff Capacity'!$G$10:$G$39,3,'Staff Capacity'!$I$10:$I$39))","v":0},{"$f":"IF($D$3<>\"\",SUMIFS('Staff Capacity'!$I$10:$I$39,'Staff Capacity'!$G$10:$G$39,3,'Staff Capacity'!$H$10:$H$39,$D$3),SUMIF('Staff Capacity'!$G$10:$G$39,3,'Staff Capacity'!$I$10:$I$39))","v":0},{"$f":"IF($D$3<>\"\",SUMIFS('Staff Capacity'!$I$10:$I$39,'Staff Capacity'!$G$10:$G$39,3,'Staff Capacity'!$H$10:$H$39,$D$3),SUMIF('Staff Capacity'!$G$10:$G$39,3,'Staff Capacity'!$I$10:$I$39))","v":0},{"$f":"IF($D$3<>\"\",SUMIFS('Staff Capacity'!$I$10:$I$39,'Staff Capacity'!$G$10:$G$39,3,'Staff Capacity'!$H$10:$H$39,$D$3),SUMIF('Staff Capacity'!$G$10:$G$39,3,'Staff Capacity'!$I$10:$I$39))","v":0},{"$f":"IF($D$3<>\"\",SUMIFS('Staff Capacity'!$I$10:$I$39,'Staff Capacity'!$G$10:$G$39,3,'Staff Capacity'!$H$10:$H$39,$D$3),SUMIF('Staff Capacity'!$G$10:$G$39,3,'Staff Capacity'!$I$10:$I$39))","v":0},{"$f":"IF($D$3<>\"\",SUMIFS('Staff Capacity'!$I$10:$I$39,'Staff Capacity'!$G$10:$G$39,3,'Staff Capacity'!$H$10:$H$39,$D$3),SUMIF('Staff Capacity'!$G$10:$G$39,3,'Staff Capacity'!$I$10:$I$39))","v":0},{"$f":"IF($D$3<>\"\",SUMIFS('Staff Capacity'!$I$10:$I$39,'Staff Capacity'!$G$10:$G$39,3,'Staff Capacity'!$H$10:$H$39,$D$3),SUMIF('Staff Capacity'!$G$10:$G$39,3,'Staff Capacity'!$I$10:$I$39))","v":0},{"$f":"IF($D$3<>\"\",SUMIFS('Staff Capacity'!$I$10:$I$39,'Staff Capacity'!$G$10:$G$39,3,'Staff Capacity'!$H$10:$H$39,$D$3),SUMIF('Staff Capacity'!$G$10:$G$39,3,'Staff Capacity'!$I$10:$I$39))","v":0},{"$f":"IF($D$3<>\"\",SUMIFS('Staff Capacity'!$I$10:$I$39,'Staff Capacity'!$G$10:$G$39,3,'Staff Capacity'!$H$10:$H$39,$D$3),SUMIF('Staff Capacity'!$G$10:$G$39,3,'Staff Capacity'!$I$10:$I$39))","v":0},{"$f":"IF($D$3<>\"\",SUMIFS('Staff Capacity'!$I$10:$I$39,'Staff Capacity'!$G$10:$G$39,3,'Staff Capacity'!$H$10:$H$39,$D$3),SUMIF('Staff Capacity'!$G$10:$G$39,3,'Staff Capacity'!$I$10:$I$39))","v":0},{"$f":"IF($D$3<>\"\",SUMIFS('Staff Capacity'!$I$10:$I$39,'Staff Capacity'!$G$10:$G$39,3,'Staff Capacity'!$H$10:$H$39,$D$3),SUMIF('Staff Capacity'!$G$10:$G$39,3,'Staff Capacity'!$I$10:$I$39))","v":0},{"$f":"IF($D$3<>\"\",SUMIFS('Staff Capacity'!$I$10:$I$39,'Staff Capacity'!$G$10:$G$39,3,'Staff Capacity'!$H$10:$H$39,$D$3),SUMIF('Staff Capacity'!$G$10:$G$39,3,'Staff Capacity'!$I$10:$I$39))","v":0},{"$f":"IF($D$3<>\"\",SUMIFS('Staff Capacity'!$I$10:$I$39,'Staff Capacity'!$G$10:$G$39,3,'Staff Capacity'!$H$10:$H$39,$D$3),SUMIF('Staff Capacity'!$G$10:$G$39,3,'Staff Capacity'!$I$10:$I$39))","v":0},{"$f":"IF($D$3<>\"\",SUMIFS('Staff Capacity'!$I$10:$I$39,'Staff Capacity'!$G$10:$G$39,3,'Staff Capacity'!$H$10:$H$39,$D$3),SUMIF('Staff Capacity'!$G$10:$G$39,3,'Staff Capacity'!$I$10:$I$39))","v":0},{"$f":"IF($D$3<>\"\",SUMIFS('Staff Capacity'!$I$10:$I$39,'Staff Capacity'!$G$10:$G$39,3,'Staff Capacity'!$H$10:$H$39,$D$3),SUMIF('Staff Capacity'!$G$10:$G$39,3,'Staff Capacity'!$I$10:$I$39))","v":0},{"$f":"IF($D$3<>\"\",SUMIFS('Staff Capacity'!$I$10:$I$39,'Staff Capacity'!$G$10:$G$39,3,'Staff Capacity'!$H$10:$H$39,$D$3),SUMIF('Staff Capacity'!$G$10:$G$39,3,'Staff Capacity'!$I$10:$I$39))","v":0},{"$f":"IF($D$3<>\"\",SUMIFS('Staff Capacity'!$I$10:$I$39,'Staff Capacity'!$G$10:$G$39,3,'Staff Capacity'!$H$10:$H$39,$D$3),SUMIF('Staff Capacity'!$G$10:$G$39,3,'Staff Capacity'!$I$10:$I$39))","v":0},{"$f":"IF($D$3<>\"\",SUMIFS('Staff Capacity'!$I$10:$I$39,'Staff Capacity'!$G$10:$G$39,3,'Staff Capacity'!$H$10:$H$39,$D$3),SUMIF('Staff Capacity'!$G$10:$G$39,3,'Staff Capacity'!$I$10:$I$39))","v":0},{"$f":"IF($D$3<>\"\",SUMIFS('Staff Capacity'!$I$10:$I$39,'Staff Capacity'!$G$10:$G$39,3,'Staff Capacity'!$H$10:$H$39,$D$3),SUMIF('Staff Capacity'!$G$10:$G$39,3,'Staff Capacity'!$I$10:$I$39))","v":0},{"$f":"IF($D$3<>\"\",SUMIFS('Staff Capacity'!$I$10:$I$39,'Staff Capacity'!$G$10:$G$39,3,'Staff Capacity'!$H$10:$H$39,$D$3),SUMIF('Staff Capacity'!$G$10:$G$39,3,'Staff Capacity'!$I$10:$I$39))","v":0},{"$f":"IF($D$3<>\"\",SUMIFS('Staff Capacity'!$I$10:$I$39,'Staff Capacity'!$G$10:$G$39,3,'Staff Capacity'!$H$10:$H$39,$D$3),SUMIF('Staff Capacity'!$G$10:$G$39,3,'Staff Capacity'!$I$10:$I$39))","v":0},{"$f":"IF($D$3<>\"\",SUMIFS('Staff Capacity'!$I$10:$I$39,'Staff Capacity'!$G$10:$G$39,3,'Staff Capacity'!$H$10:$H$39,$D$3),SUMIF('Staff Capacity'!$G$10:$G$39,3,'Staff Capacity'!$I$10:$I$39))","v":0},{"$f":"IF($D$3<>\"\",SUMIFS('Staff Capacity'!$I$10:$I$39,'Staff Capacity'!$G$10:$G$39,3,'Staff Capacity'!$H$10:$H$39,$D$3),SUMIF('Staff Capacity'!$G$10:$G$39,3,'Staff Capacity'!$I$10:$I$39))","v":0},{"$f":"IF($D$3<>\"\",SUMIFS('Staff Capacity'!$I$10:$I$39,'Staff Capacity'!$G$10:$G$39,3,'Staff Capacity'!$H$10:$H$39,$D$3),SUMIF('Staff Capacity'!$G$10:$G$39,3,'Staff Capacity'!$I$10:$I$39))","v":0},{"$f":"IF($D$3<>\"\",SUMIFS('Staff Capacity'!$I$10:$I$39,'Staff Capacity'!$G$10:$G$39,3,'Staff Capacity'!$H$10:$H$39,$D$3),SUMIF('Staff Capacity'!$G$10:$G$39,3,'Staff Capacity'!$I$10:$I$39))","v":0},{"$f":"IF($D$3<>\"\",SUMIFS('Staff Capacity'!$I$10:$I$39,'Staff Capacity'!$G$10:$G$39,3,'Staff Capacity'!$H$10:$H$39,$D$3),SUMIF('Staff Capacity'!$G$10:$G$39,3,'Staff Capacity'!$I$10:$I$39))","v":0},{"$f":"IF($D$3<>\"\",SUMIFS('Staff Capacity'!$I$10:$I$39,'Staff Capacity'!$G$10:$G$39,3,'Staff Capacity'!$H$10:$H$39,$D$3),SUMIF('Staff Capacity'!$G$10:$G$39,3,'Staff Capacity'!$I$10:$I$39))","v":0},{"$f":"IF($D$3<>\"\",SUMIFS('Staff Capacity'!$I$10:$I$39,'Staff Capacity'!$G$10:$G$39,3,'Staff Capacity'!$H$10:$H$39,$D$3),SUMIF('Staff Capacity'!$G$10:$G$39,3,'Staff Capacity'!$I$10:$I$39))","v":0},{"$f":"IF($D$3<>\"\",SUMIFS('Staff Capacity'!$I$10:$I$39,'Staff Capacity'!$G$10:$G$39,3,'Staff Capacity'!$H$10:$H$39,$D$3),SUMIF('Staff Capacity'!$G$10:$G$39,3,'Staff Capacity'!$I$10:$I$39))","v":0},{"$f":"IF($D$3<>\"\",SUMIFS('Staff Capacity'!$I$10:$I$39,'Staff Capacity'!$G$10:$G$39,3,'Staff Capacity'!$H$10:$H$39,$D$3),SUMIF('Staff Capacity'!$G$10:$G$39,3,'Staff Capacity'!$I$10:$I$39))","v":0},{"$f":"IF($D$3<>\"\",SUMIFS('Staff Capacity'!$I$10:$I$39,'Staff Capacity'!$G$10:$G$39,3,'Staff Capacity'!$H$10:$H$39,$D$3),SUMIF('Staff Capacity'!$G$10:$G$39,3,'Staff Capacity'!$I$10:$I$39))","v":0},{"$f":"IF($D$3<>\"\",SUMIFS('Staff Capacity'!$I$10:$I$39,'Staff Capacity'!$G$10:$G$39,3,'Staff Capacity'!$H$10:$H$39,$D$3),SUMIF('Staff Capacity'!$G$10:$G$39,3,'Staff Capacity'!$I$10:$I$39))","v":0},{"$f":"IF($D$3<>\"\",SUMIFS('Staff Capacity'!$I$10:$I$39,'Staff Capacity'!$G$10:$G$39,3,'Staff Capacity'!$H$10:$H$39,$D$3),SUMIF('Staff Capacity'!$G$10:$G$39,3,'Staff Capacity'!$I$10:$I$39))","v":0},{"$f":"IF($D$3<>\"\",SUMIFS('Staff Capacity'!$I$10:$I$39,'Staff Capacity'!$G$10:$G$39,3,'Staff Capacity'!$H$10:$H$39,$D$3),SUMIF('Staff Capacity'!$G$10:$G$39,3,'Staff Capacity'!$I$10:$I$39))","v":0},{"$f":"IF($D$3<>\"\",SUMIFS('Staff Capacity'!$I$10:$I$39,'Staff Capacity'!$G$10:$G$39,3,'Staff Capacity'!$H$10:$H$39,$D$3),SUMIF('Staff Capacity'!$G$10:$G$39,3,'Staff Capacity'!$I$10:$I$39))","v":0},{"$f":"IF($D$3<>\"\",SUMIFS('Staff Capacity'!$I$10:$I$39,'Staff Capacity'!$G$10:$G$39,3,'Staff Capacity'!$H$10:$H$39,$D$3),SUMIF('Staff Capacity'!$G$10:$G$39,3,'Staff Capacity'!$I$10:$I$39))","v":0},{"$f":"IF($D$3<>\"\",SUMIFS('Staff Capacity'!$I$10:$I$39,'Staff Capacity'!$G$10:$G$39,3,'Staff Capacity'!$H$10:$H$39,$D$3),SUMIF('Staff Capacity'!$G$10:$G$39,3,'Staff Capacity'!$I$10:$I$39))","v":0},{"$f":"IF($D$3<>\"\",SUMIFS('Staff Capacity'!$I$10:$I$39,'Staff Capacity'!$G$10:$G$39,3,'Staff Capacity'!$H$10:$H$39,$D$3),SUMIF('Staff Capacity'!$G$10:$G$39,3,'Staff Capacity'!$I$10:$I$39))","v":0},{"$f":"IF($D$3<>\"\",SUMIFS('Staff Capacity'!$I$10:$I$39,'Staff Capacity'!$G$10:$G$39,3,'Staff Capacity'!$H$10:$H$39,$D$3),SUMIF('Staff Capacity'!$G$10:$G$39,3,'Staff Capacity'!$I$10:$I$39))","v":0},{"$f":"IF($D$3<>\"\",SUMIFS('Staff Capacity'!$I$10:$I$39,'Staff Capacity'!$G$10:$G$39,3,'Staff Capacity'!$H$10:$H$39,$D$3),SUMIF('Staff Capacity'!$G$10:$G$39,3,'Staff Capacity'!$I$10:$I$39))","v":0},{"$f":"IF($D$3<>\"\",SUMIFS('Staff Capacity'!$I$10:$I$39,'Staff Capacity'!$G$10:$G$39,3,'Staff Capacity'!$H$10:$H$39,$D$3),SUMIF('Staff Capacity'!$G$10:$G$39,3,'Staff Capacity'!$I$10:$I$39))","v":0},{"$f":"IF($D$3<>\"\",SUMIFS('Staff Capacity'!$I$10:$I$39,'Staff Capacity'!$G$10:$G$39,3,'Staff Capacity'!$H$10:$H$39,$D$3),SUMIF('Staff Capacity'!$G$10:$G$39,3,'Staff Capacity'!$I$10:$I$39))","v":0},{"$f":"IF($D$3<>\"\",SUMIFS('Staff Capacity'!$I$10:$I$39,'Staff Capacity'!$G$10:$G$39,3,'Staff Capacity'!$H$10:$H$39,$D$3),SUMIF('Staff Capacity'!$G$10:$G$39,3,'Staff Capacity'!$I$10:$I$39))","v":0},{"$f":"IF($D$3<>\"\",SUMIFS('Staff Capacity'!$I$10:$I$39,'Staff Capacity'!$G$10:$G$39,3,'Staff Capacity'!$H$10:$H$39,$D$3),SUMIF('Staff Capacity'!$G$10:$G$39,3,'Staff Capacity'!$I$10:$I$39))","v":0},{"$f":"IF($D$3<>\"\",SUMIFS('Staff Capacity'!$I$10:$I$39,'Staff Capacity'!$G$10:$G$39,3,'Staff Capacity'!$H$10:$H$39,$D$3),SUMIF('Staff Capacity'!$G$10:$G$39,3,'Staff Capacity'!$I$10:$I$39))","v":0},{"$f":"IF($D$3<>\"\",SUMIFS('Staff Capacity'!$I$10:$I$39,'Staff Capacity'!$G$10:$G$39,3,'Staff Capacity'!$H$10:$H$39,$D$3),SUMIF('Staff Capacity'!$G$10:$G$39,3,'Staff Capacity'!$I$10:$I$39))","v":0},{"$f":"IF($D$3<>\"\",SUMIFS('Staff Capacity'!$I$10:$I$39,'Staff Capacity'!$G$10:$G$39,3,'Staff Capacity'!$H$10:$H$39,$D$3),SUMIF('Staff Capacity'!$G$10:$G$39,3,'Staff Capacity'!$I$10:$I$39))","v":0},{"$f":"IF($D$3<>\"\",SUMIFS('Staff Capacity'!$I$10:$I$39,'Staff Capacity'!$G$10:$G$39,3,'Staff Capacity'!$H$10:$H$39,$D$3),SUMIF('Staff Capacity'!$G$10:$G$39,3,'Staff Capacity'!$I$10:$I$39))","v":0},{"$f":"IF($D$3<>\"\",SUMIFS('Staff Capacity'!$I$10:$I$39,'Staff Capacity'!$G$10:$G$39,3,'Staff Capacity'!$H$10:$H$39,$D$3),SUMIF('Staff Capacity'!$G$10:$G$39,3,'Staff Capacity'!$I$10:$I$39))","v":0},{"$f":"IF($D$3<>\"\",SUMIFS('Staff Capacity'!$I$10:$I$39,'Staff Capacity'!$G$10:$G$39,3,'Staff Capacity'!$H$10:$H$39,$D$3),SUMIF('Staff Capacity'!$G$10:$G$39,3,'Staff Capacity'!$I$10:$I$39))","v":0},{"$f":"IF($D$3<>\"\",SUMIFS('Staff Capacity'!$I$10:$I$39,'Staff Capacity'!$G$10:$G$39,3,'Staff Capacity'!$H$10:$H$39,$D$3),SUMIF('Staff Capacity'!$G$10:$G$39,3,'Staff Capacity'!$I$10:$I$39))","v":0},{"$f":"IF($D$3<>\"\",SUMIFS('Staff Capacity'!$I$10:$I$39,'Staff Capacity'!$G$10:$G$39,3,'Staff Capacity'!$H$10:$H$39,$D$3),SUMIF('Staff Capacity'!$G$10:$G$39,3,'Staff Capacity'!$I$10:$I$39))","v":0},{"$f":"IF($D$3<>\"\",SUMIFS('Staff Capacity'!$I$10:$I$39,'Staff Capacity'!$G$10:$G$39,3,'Staff Capacity'!$H$10:$H$39,$D$3),SUMIF('Staff Capacity'!$G$10:$G$39,3,'Staff Capacity'!$I$10:$I$39))","v":0},{"$f":"IF($D$3<>\"\",SUMIFS('Staff Capacity'!$I$10:$I$39,'Staff Capacity'!$G$10:$G$39,3,'Staff Capacity'!$H$10:$H$39,$D$3),SUMIF('Staff Capacity'!$G$10:$G$39,3,'Staff Capacity'!$I$10:$I$39))","v":0},{"$f":"IF($D$3<>\"\",SUMIFS('Staff Capacity'!$I$10:$I$39,'Staff Capacity'!$G$10:$G$39,3,'Staff Capacity'!$H$10:$H$39,$D$3),SUMIF('Staff Capacity'!$G$10:$G$39,3,'Staff Capacity'!$I$10:$I$39))","v":0},{"$f":"IF($D$3<>\"\",SUMIFS('Staff Capacity'!$I$10:$I$39,'Staff Capacity'!$G$10:$G$39,3,'Staff Capacity'!$H$10:$H$39,$D$3),SUMIF('Staff Capacity'!$G$10:$G$39,3,'Staff Capacity'!$I$10:$I$39))","v":0}]
[null,null,null,null,4,{"$f":"IF($D$3<>\"\",SUMIFS('Staff Capacity'!$I$10:$I$39,'Staff Capacity'!$G$10:$G$39,4,'Staff Capacity'!$H$10:$H$39,$D$3),SUMIF('Staff Capacity'!$G$10:$G$39,4,'Staff Capacity'!$I$10:$I$39))","v":0},{"$f":"IF($D$3<>\"\",SUMIFS('Staff Capacity'!$I$10:$I$39,'Staff Capacity'!$G$10:$G$39,4,'Staff Capacity'!$H$10:$H$39,$D$3),SUMIF('Staff Capacity'!$G$10:$G$39,4,'Staff Capacity'!$I$10:$I$39))","v":0},{"$f":"IF($D$3<>\"\",SUMIFS('Staff Capacity'!$I$10:$I$39,'Staff Capacity'!$G$10:$G$39,4,'Staff Capacity'!$H$10:$H$39,$D$3),SUMIF('Staff Capacity'!$G$10:$G$39,4,'Staff Capacity'!$I$10:$I$39))","v":0},{"$f":"IF($D$3<>\"\",SUMIFS('Staff Capacity'!$I$10:$I$39,'Staff Capacity'!$G$10:$G$39,4,'Staff Capacity'!$H$10:$H$39,$D$3),SUMIF('Staff Capacity'!$G$10:$G$39,4,'Staff Capacity'!$I$10:$I$39))","v":0},{"$f":"IF($D$3<>\"\",SUMIFS('Staff Capacity'!$I$10:$I$39,'Staff Capacity'!$G$10:$G$39,4,'Staff Capacity'!$H$10:$H$39,$D$3),SUMIF('Staff Capacity'!$G$10:$G$39,4,'Staff Capacity'!$I$10:$I$39))","v":0},{"$f":"IF($D$3<>\"\",SUMIFS('Staff Capacity'!$I$10:$I$39,'Staff Capacity'!$G$10:$G$39,4,'Staff Capacity'!$H$10:$H$39,$D$3),SUMIF('Staff Capacity'!$G$10:$G$39,4,'Staff Capacity'!$I$10:$I$39))","v":0},{"$f":"IF($D$3<>\"\",SUMIFS('Staff Capacity'!$I$10:$I$39,'Staff Capacity'!$G$10:$G$39,4,'Staff Capacity'!$H$10:$H$39,$D$3),SUMIF('Staff Capacity'!$G$10:$G$39,4,'Staff Capacity'!$I$10:$I$39))","v":0},{"$f":"IF($D$3<>\"\",SUMIFS('Staff Capacity'!$I$10:$I$39,'Staff Capacity'!$G$10:$G$39,4,'Staff Capacity'!$H$10:$H$39,$D$3),SUMIF('Staff Capacity'!$G$10:$G$39,4,'Staff Capacity'!$I$10:$I$39))","v":0},{"$f":"IF($D$3<>\"\",SUMIFS('Staff Capacity'!$I$10:$I$39,'Staff Capacity'!$G$10:$G$39,4,'Staff Capacity'!$H$10:$H$39,$D$3),SUMIF('Staff Capacity'!$G$10:$G$39,4,'Staff Capacity'!$I$10:$I$39))","v":0},{"$f":"IF($D$3<>\"\",SUMIFS('Staff Capacity'!$I$10:$I$39,'Staff Capacity'!$G$10:$G$39,4,'Staff Capacity'!$H$10:$H$39,$D$3),SUMIF('Staff Capacity'!$G$10:$G$39,4,'Staff Capacity'!$I$10:$I$39))","v":0},{"$f":"IF($D$3<>\"\",SUMIFS('Staff Capacity'!$I$10:$I$39,'Staff Capacity'!$G$10:$G$39,4,'Staff Capacity'!$H$10:$H$39,$D$3),SUMIF('Staff Capacity'!$G$10:$G$39,4,'Staff Capacity'!$I$10:$I$39))","v":0},{"$f":"IF($D$3<>\"\",SUMIFS('Staff Capacity'!$I$10:$I$39,'Staff Capacity'!$G$10:$G$39,4,'Staff Capacity'!$H$10:$H$39,$D$3),SUMIF('Staff Capacity'!$G$10:$G$39,4,'Staff Capacity'!$I$10:$I$39))","v":0},{"$f":"IF($D$3<>\"\",SUMIFS('Staff Capacity'!$I$10:$I$39,'Staff Capacity'!$G$10:$G$39,4,'Staff Capacity'!$H$10:$H$39,$D$3),SUMIF('Staff Capacity'!$G$10:$G$39,4,'Staff Capacity'!$I$10:$I$39))","v":0},{"$f":"IF($D$3<>\"\",SUMIFS('Staff Capacity'!$I$10:$I$39,'Staff Capacity'!$G$10:$G$39,4,'Staff Capacity'!$H$10:$H$39,$D$3),SUMIF('Staff Capacity'!$G$10:$G$39,4,'Staff Capacity'!$I$10:$I$39))","v":0},{"$f":"IF($D$3<>\"\",SUMIFS('Staff Capacity'!$I$10:$I$39,'Staff Capacity'!$G$10:$G$39,4,'Staff Capacity'!$H$10:$H$39,$D$3),SUMIF('Staff Capacity'!$G$10:$G$39,4,'Staff Capacity'!$I$10:$I$39))","v":0},{"$f":"IF($D$3<>\"\",SUMIFS('Staff Capacity'!$I$10:$I$39,'Staff Capacity'!$G$10:$G$39,4,'Staff Capacity'!$H$10:$H$39,$D$3),SUMIF('Staff Capacity'!$G$10:$G$39,4,'Staff Capacity'!$I$10:$I$39))","v":0},{"$f":"IF($D$3<>\"\",SUMIFS('Staff Capacity'!$I$10:$I$39,'Staff Capacity'!$G$10:$G$39,4,'Staff Capacity'!$H$10:$H$39,$D$3),SUMIF('Staff Capacity'!$G$10:$G$39,4,'Staff Capacity'!$I$10:$I$39))","v":0},{"$f":"IF($D$3<>\"\",SUMIFS('Staff Capacity'!$I$10:$I$39,'Staff Capacity'!$G$10:$G$39,4,'Staff Capacity'!$H$10:$H$39,$D$3),SUMIF('Staff Capacity'!$G$10:$G$39,4,'Staff Capacity'!$I$10:$I$39))","v":0},{"$f":"IF($D$3<>\"\",SUMIFS('Staff Capacity'!$I$10:$I$39,'Staff Capacity'!$G$10:$G$39,4,'Staff Capacity'!$H$10:$H$39,$D$3),SUMIF('Staff Capacity'!$G$10:$G$39,4,'Staff Capacity'!$I$10:$I$39))","v":0},{"$f":"IF($D$3<>\"\",SUMIFS('Staff Capacity'!$I$10:$I$39,'Staff Capacity'!$G$10:$G$39,4,'Staff Capacity'!$H$10:$H$39,$D$3),SUMIF('Staff Capacity'!$G$10:$G$39,4,'Staff Capacity'!$I$10:$I$39))","v":0},{"$f":"IF($D$3<>\"\",SUMIFS('Staff Capacity'!$I$10:$I$39,'Staff Capacity'!$G$10:$G$39,4,'Staff Capacity'!$H$10:$H$39,$D$3),SUMIF('Staff Capacity'!$G$10:$G$39,4,'Staff Capacity'!$I$10:$I$39))","v":0},{"$f":"IF($D$3<>\"\",SUMIFS('Staff Capacity'!$I$10:$I$39,'Staff Capacity'!$G$10:$G$39,4,'Staff Capacity'!$H$10:$H$39,$D$3),SUMIF('Staff Capacity'!$G$10:$G$39,4,'Staff Capacity'!$I$10:$I$39))","v":0},{"$f":"IF($D$3<>\"\",SUMIFS('Staff Capacity'!$I$10:$I$39,'Staff Capacity'!$G$10:$G$39,4,'Staff Capacity'!$H$10:$H$39,$D$3),SUMIF('Staff Capacity'!$G$10:$G$39,4,'Staff Capacity'!$I$10:$I$39))","v":0},{"$f":"IF($D$3<>\"\",SUMIFS('Staff Capacity'!$I$10:$I$39,'Staff Capacity'!$G$10:$G$39,4,'Staff Capacity'!$H$10:$H$39,$D$3),SUMIF('Staff Capacity'!$G$10:$G$39,4,'Staff Capacity'!$I$10:$I$39))","v":0},{"$f":"IF($D$3<>\"\",SUMIFS('Staff Capacity'!$I$10:$I$39,'Staff Capacity'!$G$10:$G$39,4,'Staff Capacity'!$H$10:$H$39,$D$3),SUMIF('Staff Capacity'!$G$10:$G$39,4,'Staff Capacity'!$I$10:$I$39))","v":0},{"$f":"IF($D$3<>\"\",SUMIFS('Staff Capacity'!$I$10:$I$39,'Staff Capacity'!$G$10:$G$39,4,'Staff Capacity'!$H$10:$H$39,$D$3),SUMIF('Staff Capacity'!$G$10:$G$39,4,'Staff Capacity'!$I$10:$I$39))","v":0},{"$f":"IF($D$3<>\"\",SUMIFS('Staff Capacity'!$I$10:$I$39,'Staff Capacity'!$G$10:$G$39,4,'Staff Capacity'!$H$10:$H$39,$D$3),SUMIF('Staff Capacity'!$G$10:$G$39,4,'Staff Capacity'!$I$10:$I$39))","v":0},{"$f":"IF($D$3<>\"\",SUMIFS('Staff Capacity'!$I$10:$I$39,'Staff Capacity'!$G$10:$G$39,4,'Staff Capacity'!$H$10:$H$39,$D$3),SUMIF('Staff Capacity'!$G$10:$G$39,4,'Staff Capacity'!$I$10:$I$39))","v":0},{"$f":"IF($D$3<>\"\",SUMIFS('Staff Capacity'!$I$10:$I$39,'Staff Capacity'!$G$10:$G$39,4,'Staff Capacity'!$H$10:$H$39,$D$3),SUMIF('Staff Capacity'!$G$10:$G$39,4,'Staff Capacity'!$I$10:$I$39))","v":0},{"$f":"IF($D$3<>\"\",SUMIFS('Staff Capacity'!$I$10:$I$39,'Staff Capacity'!$G$10:$G$39,4,'Staff Capacity'!$H$10:$H$39,$D$3),SUMIF('Staff Capacity'!$G$10:$G$39,4,'Staff Capacity'!$I$10:$I$39))","v":0},{"$f":"IF($D$3<>\"\",SUMIFS('Staff Capacity'!$I$10:$I$39,'Staff Capacity'!$G$10:$G$39,4,'Staff Capacity'!$H$10:$H$39,$D$3),SUMIF('Staff Capacity'!$G$10:$G$39,4,'Staff Capacity'!$I$10:$I$39))","v":0},{"$f":"IF($D$3<>\"\",SUMIFS('Staff Capacity'!$I$10:$I$39,'Staff Capacity'!$G$10:$G$39,4,'Staff Capacity'!$H$10:$H$39,$D$3),SUMIF('Staff Capacity'!$G$10:$G$39,4,'Staff Capacity'!$I$10:$I$39))","v":0},{"$f":"IF($D$3<>\"\",SUMIFS('Staff Capacity'!$I$10:$I$39,'Staff Capacity'!$G$10:$G$39,4,'Staff Capacity'!$H$10:$H$39,$D$3),SUMIF('Staff Capacity'!$G$10:$G$39,4,'Staff Capacity'!$I$10:$I$39))","v":0},{"$f":"IF($D$3<>\"\",SUMIFS('Staff Capacity'!$I$10:$I$39,'Staff Capacity'!$G$10:$G$39,4,'Staff Capacity'!$H$10:$H$39,$D$3),SUMIF('Staff Capacity'!$G$10:$G$39,4,'Staff Capacity'!$I$10:$I$39))","v":0},{"$f":"IF($D$3<>\"\",SUMIFS('Staff Capacity'!$I$10:$I$39,'Staff Capacity'!$G$10:$G$39,4,'Staff Capacity'!$H$10:$H$39,$D$3),SUMIF('Staff Capacity'!$G$10:$G$39,4,'Staff Capacity'!$I$10:$I$39))","v":0},{"$f":"IF($D$3<>\"\",SUMIFS('Staff Capacity'!$I$10:$I$39,'Staff Capacity'!$G$10:$G$39,4,'Staff Capacity'!$H$10:$H$39,$D$3),SUMIF('Staff Capacity'!$G$10:$G$39,4,'Staff Capacity'!$I$10:$I$39))","v":0},{"$f":"IF($D$3<>\"\",SUMIFS('Staff Capacity'!$I$10:$I$39,'Staff Capacity'!$G$10:$G$39,4,'Staff Capacity'!$H$10:$H$39,$D$3),SUMIF('Staff Capacity'!$G$10:$G$39,4,'Staff Capacity'!$I$10:$I$39))","v":0},{"$f":"IF($D$3<>\"\",SUMIFS('Staff Capacity'!$I$10:$I$39,'Staff Capacity'!$G$10:$G$39,4,'Staff Capacity'!$H$10:$H$39,$D$3),SUMIF('Staff Capacity'!$G$10:$G$39,4,'Staff Capacity'!$I$10:$I$39))","v":0},{"$f":"IF($D$3<>\"\",SUMIFS('Staff Capacity'!$I$10:$I$39,'Staff Capacity'!$G$10:$G$39,4,'Staff Capacity'!$H$10:$H$39,$D$3),SUMIF('Staff Capacity'!$G$10:$G$39,4,'Staff Capacity'!$I$10:$I$39))","v":0},{"$f":"IF($D$3<>\"\",SUMIFS('Staff Capacity'!$I$10:$I$39,'Staff Capacity'!$G$10:$G$39,4,'Staff Capacity'!$H$10:$H$39,$D$3),SUMIF('Staff Capacity'!$G$10:$G$39,4,'Staff Capacity'!$I$10:$I$39))","v":0},{"$f":"IF($D$3<>\"\",SUMIFS('Staff Capacity'!$I$10:$I$39,'Staff Capacity'!$G$10:$G$39,4,'Staff Capacity'!$H$10:$H$39,$D$3),SUMIF('Staff Capacity'!$G$10:$G$39,4,'Staff Capacity'!$I$10:$I$39))","v":0},{"$f":"IF($D$3<>\"\",SUMIFS('Staff Capacity'!$I$10:$I$39,'Staff Capacity'!$G$10:$G$39,4,'Staff Capacity'!$H$10:$H$39,$D$3),SUMIF('Staff Capacity'!$G$10:$G$39,4,'Staff Capacity'!$I$10:$I$39))","v":0},{"$f":"IF($D$3<>\"\",SUMIFS('Staff Capacity'!$I$10:$I$39,'Staff Capacity'!$G$10:$G$39,4,'Staff Capacity'!$H$10:$H$39,$D$3),SUMIF('Staff Capacity'!$G$10:$G$39,4,'Staff Capacity'!$I$10:$I$39))","v":0},{"$f":"IF($D$3<>\"\",SUMIFS('Staff Capacity'!$I$10:$I$39,'Staff Capacity'!$G$10:$G$39,4,'Staff Capacity'!$H$10:$H$39,$D$3),SUMIF('Staff Capacity'!$G$10:$G$39,4,'Staff Capacity'!$I$10:$I$39))","v":0},{"$f":"IF($D$3<>\"\",SUMIFS('Staff Capacity'!$I$10:$I$39,'Staff Capacity'!$G$10:$G$39,4,'Staff Capacity'!$H$10:$H$39,$D$3),SUMIF('Staff Capacity'!$G$10:$G$39,4,'Staff Capacity'!$I$10:$I$39))","v":0},{"$f":"IF($D$3<>\"\",SUMIFS('Staff Capacity'!$I$10:$I$39,'Staff Capacity'!$G$10:$G$39,4,'Staff Capacity'!$H$10:$H$39,$D$3),SUMIF('Staff Capacity'!$G$10:$G$39,4,'Staff Capacity'!$I$10:$I$39))","v":0},{"$f":"IF($D$3<>\"\",SUMIFS('Staff Capacity'!$I$10:$I$39,'Staff Capacity'!$G$10:$G$39,4,'Staff Capacity'!$H$10:$H$39,$D$3),SUMIF('Staff Capacity'!$G$10:$G$39,4,'Staff Capacity'!$I$10:$I$39))","v":0},{"$f":"IF($D$3<>\"\",SUMIFS('Staff Capacity'!$I$10:$I$39,'Staff Capacity'!$G$10:$G$39,4,'Staff Capacity'!$H$10:$H$39,$D$3),SUMIF('Staff Capacity'!$G$10:$G$39,4,'Staff Capacity'!$I$10:$I$39))","v":0},{"$f":"IF($D$3<>\"\",SUMIFS('Staff Capacity'!$I$10:$I$39,'Staff Capacity'!$G$10:$G$39,4,'Staff Capacity'!$H$10:$H$39,$D$3),SUMIF('Staff Capacity'!$G$10:$G$39,4,'Staff Capacity'!$I$10:$I$39))","v":0},{"$f":"IF($D$3<>\"\",SUMIFS('Staff Capacity'!$I$10:$I$39,'Staff Capacity'!$G$10:$G$39,4,'Staff Capacity'!$H$10:$H$39,$D$3),SUMIF('Staff Capacity'!$G$10:$G$39,4,'Staff Capacity'!$I$10:$I$39))","v":0},{"$f":"IF($D$3<>\"\",SUMIFS('Staff Capacity'!$I$10:$I$39,'Staff Capacity'!$G$10:$G$39,4,'Staff Capacity'!$H$10:$H$39,$D$3),SUMIF('Staff Capacity'!$G$10:$G$39,4,'Staff Capacity'!$I$10:$I$39))","v":0},{"$f":"IF($D$3<>\"\",SUMIFS('Staff Capacity'!$I$10:$I$39,'Staff Capacity'!$G$10:$G$39,4,'Staff Capacity'!$H$10:$H$39,$D$3),SUMIF('Staff Capacity'!$G$10:$G$39,4,'Staff Capacity'!$I$10:$I$39))","v":0},{"$f":"IF($D$3<>\"\",SUMIFS('Staff Capacity'!$I$10:$I$39,'Staff Capacity'!$G$10:$G$39,4,'Staff Capacity'!$H$10:$H$39,$D$3),SUMIF('Staff Capacity'!$G$10:$G$39,4,'Staff Capacity'!$I$10:$I$39))","v":0},{"$f":"IF($D$3<>\"\",SUMIFS('Staff Capacity'!$I$10:$I$39,'Staff Capacity'!$G$10:$G$39,4,'Staff Capacity'!$H$10:$H$39,$D$3),SUMIF('Staff Capacity'!$G$10:$G$39,4,'Staff Capacity'!$I$10:$I$39))","v":0},{"$f":"IF($D$3<>\"\",SUMIFS('Staff Capacity'!$I$10:$I$39,'Staff Capacity'!$G$10:$G$39,4,'Staff Capacity'!$H$10:$H$39,$D$3),SUMIF('Staff Capacity'!$G$10:$G$39,4,'Staff Capacity'!$I$10:$I$39))","v":0},{"$f":"IF($D$3<>\"\",SUMIFS('Staff Capacity'!$I$10:$I$39,'Staff Capacity'!$G$10:$G$39,4,'Staff Capacity'!$H$10:$H$39,$D$3),SUMIF('Staff Capacity'!$G$10:$G$39,4,'Staff Capacity'!$I$10:$I$39))","v":0},{"$f":"IF($D$3<>\"\",SUMIFS('Staff Capacity'!$I$10:$I$39,'Staff Capacity'!$G$10:$G$39,4,'Staff Capacity'!$H$10:$H$39,$D$3),SUMIF('Staff Capacity'!$G$10:$G$39,4,'Staff Capacity'!$I$10:$I$39))","v":0},{"$f":"IF($D$3<>\"\",SUMIFS('Staff Capacity'!$I$10:$I$39,'Staff Capacity'!$G$10:$G$39,4,'Staff Capacity'!$H$10:$H$39,$D$3),SUMIF('Staff Capacity'!$G$10:$G$39,4,'Staff Capacity'!$I$10:$I$39))","v":0},{"$f":"IF($D$3<>\"\",SUMIFS('Staff Capacity'!$I$10:$I$39,'Staff Capacity'!$G$10:$G$39,4,'Staff Capacity'!$H$10:$H$39,$D$3),SUMIF('Staff Capacity'!$G$10:$G$39,4,'Staff Capacity'!$I$10:$I$39))","v":0},{"$f":"IF($D$3<>\"\",SUMIFS('Staff Capacity'!$I$10:$I$39,'Staff Capacity'!$G$10:$G$39,4,'Staff Capacity'!$H$10:$H$39,$D$3),SUMIF('Staff Capacity'!$G$10:$G$39,4,'Staff Capacity'!$I$10:$I$39))","v":0},{"$f":"IF($D$3<>\"\",SUMIFS('Staff Capacity'!$I$10:$I$39,'Staff Capacity'!$G$10:$G$39,4,'Staff Capacity'!$H$10:$H$39,$D$3),SUMIF('Staff Capacity'!$G$10:$G$39,4,'Staff Capacity'!$I$10:$I$39))","v":0},{"$f":"IF($D$3<>\"\",SUMIFS('Staff Capacity'!$I$10:$I$39,'Staff Capacity'!$G$10:$G$39,4,'Staff Capacity'!$H$10:$H$39,$D$3),SUMIF('Staff Capacity'!$G$10:$G$39,4,'Staff Capacity'!$I$10:$I$39))","v":0},{"$f":"IF($D$3<>\"\",SUMIFS('Staff Capacity'!$I$10:$I$39,'Staff Capacity'!$G$10:$G$39,4,'Staff Capacity'!$H$10:$H$39,$D$3),SUMIF('Staff Capacity'!$G$10:$G$39,4,'Staff Capacity'!$I$10:$I$39))","v":0},{"$f":"IF($D$3<>\"\",SUMIFS('Staff Capacity'!$I$10:$I$39,'Staff Capacity'!$G$10:$G$39,4,'Staff Capacity'!$H$10:$H$39,$D$3),SUMIF('Staff Capacity'!$G$10:$G$39,4,'Staff Capacity'!$I$10:$I$39))","v":0},{"$f":"IF($D$3<>\"\",SUMIFS('Staff Capacity'!$I$10:$I$39,'Staff Capacity'!$G$10:$G$39,4,'Staff Capacity'!$H$10:$H$39,$D$3),SUMIF('Staff Capacity'!$G$10:$G$39,4,'Staff Capacity'!$I$10:$I$39))","v":0},{"$f":"IF($D$3<>\"\",SUMIFS('Staff Capacity'!$I$10:$I$39,'Staff Capacity'!$G$10:$G$39,4,'Staff Capacity'!$H$10:$H$39,$D$3),SUMIF('Staff Capacity'!$G$10:$G$39,4,'Staff Capacity'!$I$10:$I$39))","v":0},{"$f":"IF($D$3<>\"\",SUMIFS('Staff Capacity'!$I$10:$I$39,'Staff Capacity'!$G$10:$G$39,4,'Staff Capacity'!$H$10:$H$39,$D$3),SUMIF('Staff Capacity'!$G$10:$G$39,4,'Staff Capacity'!$I$10:$I$39))","v":0},{"$f":"IF($D$3<>\"\",SUMIFS('Staff Capacity'!$I$10:$I$39,'Staff Capacity'!$G$10:$G$39,4,'Staff Capacity'!$H$10:$H$39,$D$3),SUMIF('Staff Capacity'!$G$10:$G$39,4,'Staff Capacity'!$I$10:$I$39))","v":0},{"$f":"IF($D$3<>\"\",SUMIFS('Staff Capacity'!$I$10:$I$39,'Staff Capacity'!$G$10:$G$39,4,'Staff Capacity'!$H$10:$H$39,$D$3),SUMIF('Staff Capacity'!$G$10:$G$39,4,'Staff Capacity'!$I$10:$I$39))","v":0},{"$f":"IF($D$3<>\"\",SUMIFS('Staff Capacity'!$I$10:$I$39,'Staff Capacity'!$G$10:$G$39,4,'Staff Capacity'!$H$10:$H$39,$D$3),SUMIF('Staff Capacity'!$G$10:$G$39,4,'Staff Capacity'!$I$10:$I$39))","v":0},{"$f":"IF($D$3<>\"\",SUMIFS('Staff Capacity'!$I$10:$I$39,'Staff Capacity'!$G$10:$G$39,4,'Staff Capacity'!$H$10:$H$39,$D$3),SUMIF('Staff Capacity'!$G$10:$G$39,4,'Staff Capacity'!$I$10:$I$39))","v":0},{"$f":"IF($D$3<>\"\",SUMIFS('Staff Capacity'!$I$10:$I$39,'Staff Capacity'!$G$10:$G$39,4,'Staff Capacity'!$H$10:$H$39,$D$3),SUMIF('Staff Capacity'!$G$10:$G$39,4,'Staff Capacity'!$I$10:$I$39))","v":0},{"$f":"IF($D$3<>\"\",SUMIFS('Staff Capacity'!$I$10:$I$39,'Staff Capacity'!$G$10:$G$39,4,'Staff Capacity'!$H$10:$H$39,$D$3),SUMIF('Staff Capacity'!$G$10:$G$39,4,'Staff Capacity'!$I$10:$I$39))","v":0},{"$f":"IF($D$3<>\"\",SUMIFS('Staff Capacity'!$I$10:$I$39,'Staff Capacity'!$G$10:$G$39,4,'Staff Capacity'!$H$10:$H$39,$D$3),SUMIF('Staff Capacity'!$G$10:$G$39,4,'Staff Capacity'!$I$10:$I$39))","v":0},{"$f":"IF($D$3<>\"\",SUMIFS('Staff Capacity'!$I$10:$I$39,'Staff Capacity'!$G$10:$G$39,4,'Staff Capacity'!$H$10:$H$39,$D$3),SUMIF('Staff Capacity'!$G$10:$G$39,4,'Staff Capacity'!$I$10:$I$39))","v":0},{"$f":"IF($D$3<>\"\",SUMIFS('Staff Capacity'!$I$10:$I$39,'Staff Capacity'!$G$10:$G$39,4,'Staff Capacity'!$H$10:$H$39,$D$3),SUMIF('Staff Capacity'!$G$10:$G$39,4,'Staff Capacity'!$I$10:$I$39))","v":0},{"$f":"IF($D$3<>\"\",SUMIFS('Staff Capacity'!$I$10:$I$39,'Staff Capacity'!$G$10:$G$39,4,'Staff Capacity'!$H$10:$H$39,$D$3),SUMIF('Staff Capacity'!$G$10:$G$39,4,'Staff Capacity'!$I$10:$I$39))","v":0},{"$f":"IF($D$3<>\"\",SUMIFS('Staff Capacity'!$I$10:$I$39,'Staff Capacity'!$G$10:$G$39,4,'Staff Capacity'!$H$10:$H$39,$D$3),SUMIF('Staff Capacity'!$G$10:$G$39,4,'Staff Capacity'!$I$10:$I$39))","v":0},{"$f":"IF($D$3<>\"\",SUMIFS('Staff Capacity'!$I$10:$I$39,'Staff Capacity'!$G$10:$G$39,4,'Staff Capacity'!$H$10:$H$39,$D$3),SUMIF('Staff Capacity'!$G$10:$G$39,4,'Staff Capacity'!$I$10:$I$39))","v":0},{"$f":"IF($D$3<>\"\",SUMIFS('Staff Capacity'!$I$10:$I$39,'Staff Capacity'!$G$10:$G$39,4,'Staff Capacity'!$H$10:$H$39,$D$3),SUMIF('Staff Capacity'!$G$10:$G$39,4,'Staff Capacity'!$I$10:$I$39))","v":0},{"$f":"IF($D$3<>\"\",SUMIFS('Staff Capacity'!$I$10:$I$39,'Staff Capacity'!$G$10:$G$39,4,'Staff Capacity'!$H$10:$H$39,$D$3),SUMIF('Staff Capacity'!$G$10:$G$39,4,'Staff Capacity'!$I$10:$I$39))","v":0},{"$f":"IF($D$3<>\"\",SUMIFS('Staff Capacity'!$I$10:$I$39,'Staff Capacity'!$G$10:$G$39,4,'Staff Capacity'!$H$10:$H$39,$D$3),SUMIF('Staff Capacity'!$G$10:$G$39,4,'Staff Capacity'!$I$10:$I$39))","v":0},{"$f":"IF($D$3<>\"\",SUMIFS('Staff Capacity'!$I$10:$I$39,'Staff Capacity'!$G$10:$G$39,4,'Staff Capacity'!$H$10:$H$39,$D$3),SUMIF('Staff Capacity'!$G$10:$G$39,4,'Staff Capacity'!$I$10:$I$39))","v":0},{"$f":"IF($D$3<>\"\",SUMIFS('Staff Capacity'!$I$10:$I$39,'Staff Capacity'!$G$10:$G$39,4,'Staff Capacity'!$H$10:$H$39,$D$3),SUMIF('Staff Capacity'!$G$10:$G$39,4,'Staff Capacity'!$I$10:$I$39))","v":0},{"$f":"IF($D$3<>\"\",SUMIFS('Staff Capacity'!$I$10:$I$39,'Staff Capacity'!$G$10:$G$39,4,'Staff Capacity'!$H$10:$H$39,$D$3),SUMIF('Staff Capacity'!$G$10:$G$39,4,'Staff Capacity'!$I$10:$I$39))","v":0},{"$f":"IF($D$3<>\"\",SUMIFS('Staff Capacity'!$I$10:$I$39,'Staff Capacity'!$G$10:$G$39,4,'Staff Capacity'!$H$10:$H$39,$D$3),SUMIF('Staff Capacity'!$G$10:$G$39,4,'Staff Capacity'!$I$10:$I$39))","v":0},{"$f":"IF($D$3<>\"\",SUMIFS('Staff Capacity'!$I$10:$I$39,'Staff Capacity'!$G$10:$G$39,4,'Staff Capacity'!$H$10:$H$39,$D$3),SUMIF('Staff Capacity'!$G$10:$G$39,4,'Staff Capacity'!$I$10:$I$39))","v":0},{"$f":"IF($D$3<>\"\",SUMIFS('Staff Capacity'!$I$10:$I$39,'Staff Capacity'!$G$10:$G$39,4,'Staff Capacity'!$H$10:$H$39,$D$3),SUMIF('Staff Capacity'!$G$10:$G$39,4,'Staff Capacity'!$I$10:$I$39))","v":0},{"$f":"IF($D$3<>\"\",SUMIFS('Staff Capacity'!$I$10:$I$39,'Staff Capacity'!$G$10:$G$39,4,'Staff Capacity'!$H$10:$H$39,$D$3),SUMIF('Staff Capacity'!$G$10:$G$39,4,'Staff Capacity'!$I$10:$I$39))","v":0},{"$f":"IF($D$3<>\"\",SUMIFS('Staff Capacity'!$I$10:$I$39,'Staff Capacity'!$G$10:$G$39,4,'Staff Capacity'!$H$10:$H$39,$D$3),SUMIF('Staff Capacity'!$G$10:$G$39,4,'Staff Capacity'!$I$10:$I$39))","v":0},{"$f":"IF($D$3<>\"\",SUMIFS('Staff Capacity'!$I$10:$I$39,'Staff Capacity'!$G$10:$G$39,4,'Staff Capacity'!$H$10:$H$39,$D$3),SUMIF('Staff Capacity'!$G$10:$G$39,4,'Staff Capacity'!$I$10:$I$39))","v":0},{"$f":"IF($D$3<>\"\",SUMIFS('Staff Capacity'!$I$10:$I$39,'Staff Capacity'!$G$10:$G$39,4,'Staff Capacity'!$H$10:$H$39,$D$3),SUMIF('Staff Capacity'!$G$10:$G$39,4,'Staff Capacity'!$I$10:$I$39))","v":0},{"$f":"IF($D$3<>\"\",SUMIFS('Staff Capacity'!$I$10:$I$39,'Staff Capacity'!$G$10:$G$39,4,'Staff Capacity'!$H$10:$H$39,$D$3),SUMIF('Staff Capacity'!$G$10:$G$39,4,'Staff Capacity'!$I$10:$I$39))","v":0},{"$f":"IF($D$3<>\"\",SUMIFS('Staff Capacity'!$I$10:$I$39,'Staff Capacity'!$G$10:$G$39,4,'Staff Capacity'!$H$10:$H$39,$D$3),SUMIF('Staff Capacity'!$G$10:$G$39,4,'Staff Capacity'!$I$10:$I$39))","v":0},{"$f":"IF($D$3<>\"\",SUMIFS('Staff Capacity'!$I$10:$I$39,'Staff Capacity'!$G$10:$G$39,4,'Staff Capacity'!$H$10:$H$39,$D$3),SUMIF('Staff Capacity'!$G$10:$G$39,4,'Staff Capacity'!$I$10:$I$39))","v":0},{"$f":"IF($D$3<>\"\",SUMIFS('Staff Capacity'!$I$10:$I$39,'Staff Capacity'!$G$10:$G$39,4,'Staff Capacity'!$H$10:$H$39,$D$3),SUMIF('Staff Capacity'!$G$10:$G$39,4,'Staff Capacity'!$I$10:$I$39))","v":0},{"$f":"IF($D$3<>\"\",SUMIFS('Staff Capacity'!$I$10:$I$39,'Staff Capacity'!$G$10:$G$39,4,'Staff Capacity'!$H$10:$H$39,$D$3),SUMIF('Staff Capacity'!$G$10:$G$39,4,'Staff Capacity'!$I$10:$I$39))","v":0},{"$f":"IF($D$3<>\"\",SUMIFS('Staff Capacity'!$I$10:$I$39,'Staff Capacity'!$G$10:$G$39,4,'Staff Capacity'!$H$10:$H$39,$D$3),SUMIF('Staff Capacity'!$G$10:$G$39,4,'Staff Capacity'!$I$10:$I$39))","v":0},{"$f":"IF($D$3<>\"\",SUMIFS('Staff Capacity'!$I$10:$I$39,'Staff Capacity'!$G$10:$G$39,4,'Staff Capacity'!$H$10:$H$39,$D$3),SUMIF('Staff Capacity'!$G$10:$G$39,4,'Staff Capacity'!$I$10:$I$39))","v":0},{"$f":"IF($D$3<>\"\",SUMIFS('Staff Capacity'!$I$10:$I$39,'Staff Capacity'!$G$10:$G$39,4,'Staff Capacity'!$H$10:$H$39,$D$3),SUMIF('Staff Capacity'!$G$10:$G$39,4,'Staff Capacity'!$I$10:$I$39))","v":0},{"$f":"IF($D$3<>\"\",SUMIFS('Staff Capacity'!$I$10:$I$39,'Staff Capacity'!$G$10:$G$39,4,'Staff Capacity'!$H$10:$H$39,$D$3),SUMIF('Staff Capacity'!$G$10:$G$39,4,'Staff Capacity'!$I$10:$I$39))","v":0},{"$f":"IF($D$3<>\"\",SUMIFS('Staff Capacity'!$I$10:$I$39,'Staff Capacity'!$G$10:$G$39,4,'Staff Capacity'!$H$10:$H$39,$D$3),SUMIF('Staff Capacity'!$G$10:$G$39,4,'Staff Capacity'!$I$10:$I$39))","v":0},{"$f":"IF($D$3<>\"\",SUMIFS('Staff Capacity'!$I$10:$I$39,'Staff Capacity'!$G$10:$G$39,4,'Staff Capacity'!$H$10:$H$39,$D$3),SUMIF('Staff Capacity'!$G$10:$G$39,4,'Staff Capacity'!$I$10:$I$39))","v":0},{"$f":"IF($D$3<>\"\",SUMIFS('Staff Capacity'!$I$10:$I$39,'Staff Capacity'!$G$10:$G$39,4,'Staff Capacity'!$H$10:$H$39,$D$3),SUMIF('Staff Capacity'!$G$10:$G$39,4,'Staff Capacity'!$I$10:$I$39))","v":0},{"$f":"IF($D$3<>\"\",SUMIFS('Staff Capacity'!$I$10:$I$39,'Staff Capacity'!$G$10:$G$39,4,'Staff Capacity'!$H$10:$H$39,$D$3),SUMIF('Staff Capacity'!$G$10:$G$39,4,'Staff Capacity'!$I$10:$I$39))","v":0},{"$f":"IF($D$3<>\"\",SUMIFS('Staff Capacity'!$I$10:$I$39,'Staff Capacity'!$G$10:$G$39,4,'Staff Capacity'!$H$10:$H$39,$D$3),SUMIF('Staff Capacity'!$G$10:$G$39,4,'Staff Capacity'!$I$10:$I$39))","v":0},{"$f":"IF($D$3<>\"\",SUMIFS('Staff Capacity'!$I$10:$I$39,'Staff Capacity'!$G$10:$G$39,4,'Staff Capacity'!$H$10:$H$39,$D$3),SUMIF('Staff Capacity'!$G$10:$G$39,4,'Staff Capacity'!$I$10:$I$39))","v":0},{"$f":"IF($D$3<>\"\",SUMIFS('Staff Capacity'!$I$10:$I$39,'Staff Capacity'!$G$10:$G$39,4,'Staff Capacity'!$H$10:$H$39,$D$3),SUMIF('Staff Capacity'!$G$10:$G$39,4,'Staff Capacity'!$I$10:$I$39))","v":0},{"$f":"IF($D$3<>\"\",SUMIFS('Staff Capacity'!$I$10:$I$39,'Staff Capacity'!$G$10:$G$39,4,'Staff Capacity'!$H$10:$H$39,$D$3),SUMIF('Staff Capacity'!$G$10:$G$39,4,'Staff Capacity'!$I$10:$I$39))","v":0},{"$f":"IF($D$3<>\"\",SUMIFS('Staff Capacity'!$I$10:$I$39,'Staff Capacity'!$G$10:$G$39,4,'Staff Capacity'!$H$10:$H$39,$D$3),SUMIF('Staff Capacity'!$G$10:$G$39,4,'Staff Capacity'!$I$10:$I$39))","v":0},{"$f":"IF($D$3<>\"\",SUMIFS('Staff Capacity'!$I$10:$I$39,'Staff Capacity'!$G$10:$G$39,4,'Staff Capacity'!$H$10:$H$39,$D$3),SUMIF('Staff Capacity'!$G$10:$G$39,4,'Staff Capacity'!$I$10:$I$39))","v":0},{"$f":"IF($D$3<>\"\",SUMIFS('Staff Capacity'!$I$10:$I$39,'Staff Capacity'!$G$10:$G$39,4,'Staff Capacity'!$H$10:$H$39,$D$3),SUMIF('Staff Capacity'!$G$10:$G$39,4,'Staff Capacity'!$I$10:$I$39))","v":0},{"$f":"IF($D$3<>\"\",SUMIFS('Staff Capacity'!$I$10:$I$39,'Staff Capacity'!$G$10:$G$39,4,'Staff Capacity'!$H$10:$H$39,$D$3),SUMIF('Staff Capacity'!$G$10:$G$39,4,'Staff Capacity'!$I$10:$I$39))","v":0},{"$f":"IF($D$3<>\"\",SUMIFS('Staff Capacity'!$I$10:$I$39,'Staff Capacity'!$G$10:$G$39,4,'Staff Capacity'!$H$10:$H$39,$D$3),SUMIF('Staff Capacity'!$G$10:$G$39,4,'Staff Capacity'!$I$10:$I$39))","v":0},{"$f":"IF($D$3<>\"\",SUMIFS('Staff Capacity'!$I$10:$I$39,'Staff Capacity'!$G$10:$G$39,4,'Staff Capacity'!$H$10:$H$39,$D$3),SUMIF('Staff Capacity'!$G$10:$G$39,4,'Staff Capacity'!$I$10:$I$39))","v":0},{"$f":"IF($D$3<>\"\",SUMIFS('Staff Capacity'!$I$10:$I$39,'Staff Capacity'!$G$10:$G$39,4,'Staff Capacity'!$H$10:$H$39,$D$3),SUMIF('Staff Capacity'!$G$10:$G$39,4,'Staff Capacity'!$I$10:$I$39))","v":0},{"$f":"IF($D$3<>\"\",SUMIFS('Staff Capacity'!$I$10:$I$39,'Staff Capacity'!$G$10:$G$39,4,'Staff Capacity'!$H$10:$H$39,$D$3),SUMIF('Staff Capacity'!$G$10:$G$39,4,'Staff Capacity'!$I$10:$I$39))","v":0},{"$f":"IF($D$3<>\"\",SUMIFS('Staff Capacity'!$I$10:$I$39,'Staff Capacity'!$G$10:$G$39,4,'Staff Capacity'!$H$10:$H$39,$D$3),SUMIF('Staff Capacity'!$G$10:$G$39,4,'Staff Capacity'!$I$10:$I$39))","v":0},{"$f":"IF($D$3<>\"\",SUMIFS('Staff Capacity'!$I$10:$I$39,'Staff Capacity'!$G$10:$G$39,4,'Staff Capacity'!$H$10:$H$39,$D$3),SUMIF('Staff Capacity'!$G$10:$G$39,4,'Staff Capacity'!$I$10:$I$39))","v":0},{"$f":"IF($D$3<>\"\",SUMIFS('Staff Capacity'!$I$10:$I$39,'Staff Capacity'!$G$10:$G$39,4,'Staff Capacity'!$H$10:$H$39,$D$3),SUMIF('Staff Capacity'!$G$10:$G$39,4,'Staff Capacity'!$I$10:$I$39))","v":0},{"$f":"IF($D$3<>\"\",SUMIFS('Staff Capacity'!$I$10:$I$39,'Staff Capacity'!$G$10:$G$39,4,'Staff Capacity'!$H$10:$H$39,$D$3),SUMIF('Staff Capacity'!$G$10:$G$39,4,'Staff Capacity'!$I$10:$I$39))","v":0},{"$f":"IF($D$3<>\"\",SUMIFS('Staff Capacity'!$I$10:$I$39,'Staff Capacity'!$G$10:$G$39,4,'Staff Capacity'!$H$10:$H$39,$D$3),SUMIF('Staff Capacity'!$G$10:$G$39,4,'Staff Capacity'!$I$10:$I$39))","v":0},{"$f":"IF($D$3<>\"\",SUMIFS('Staff Capacity'!$I$10:$I$39,'Staff Capacity'!$G$10:$G$39,4,'Staff Capacity'!$H$10:$H$39,$D$3),SUMIF('Staff Capacity'!$G$10:$G$39,4,'Staff Capacity'!$I$10:$I$39))","v":0},{"$f":"IF($D$3<>\"\",SUMIFS('Staff Capacity'!$I$10:$I$39,'Staff Capacity'!$G$10:$G$39,4,'Staff Capacity'!$H$10:$H$39,$D$3),SUMIF('Staff Capacity'!$G$10:$G$39,4,'Staff Capacity'!$I$10:$I$39))","v":0},{"$f":"IF($D$3<>\"\",SUMIFS('Staff Capacity'!$I$10:$I$39,'Staff Capacity'!$G$10:$G$39,4,'Staff Capacity'!$H$10:$H$39,$D$3),SUMIF('Staff Capacity'!$G$10:$G$39,4,'Staff Capacity'!$I$10:$I$39))","v":0},{"$f":"IF($D$3<>\"\",SUMIFS('Staff Capacity'!$I$10:$I$39,'Staff Capacity'!$G$10:$G$39,4,'Staff Capacity'!$H$10:$H$39,$D$3),SUMIF('Staff Capacity'!$G$10:$G$39,4,'Staff Capacity'!$I$10:$I$39))","v":0},{"$f":"IF($D$3<>\"\",SUMIFS('Staff Capacity'!$I$10:$I$39,'Staff Capacity'!$G$10:$G$39,4,'Staff Capacity'!$H$10:$H$39,$D$3),SUMIF('Staff Capacity'!$G$10:$G$39,4,'Staff Capacity'!$I$10:$I$39))","v":0},{"$f":"IF($D$3<>\"\",SUMIFS('Staff Capacity'!$I$10:$I$39,'Staff Capacity'!$G$10:$G$39,4,'Staff Capacity'!$H$10:$H$39,$D$3),SUMIF('Staff Capacity'!$G$10:$G$39,4,'Staff Capacity'!$I$10:$I$39))","v":0},{"$f":"IF($D$3<>\"\",SUMIFS('Staff Capacity'!$I$10:$I$39,'Staff Capacity'!$G$10:$G$39,4,'Staff Capacity'!$H$10:$H$39,$D$3),SUMIF('Staff Capacity'!$G$10:$G$39,4,'Staff Capacity'!$I$10:$I$39))","v":0},{"$f":"IF($D$3<>\"\",SUMIFS('Staff Capacity'!$I$10:$I$39,'Staff Capacity'!$G$10:$G$39,4,'Staff Capacity'!$H$10:$H$39,$D$3),SUMIF('Staff Capacity'!$G$10:$G$39,4,'Staff Capacity'!$I$10:$I$39))","v":0},{"$f":"IF($D$3<>\"\",SUMIFS('Staff Capacity'!$I$10:$I$39,'Staff Capacity'!$G$10:$G$39,4,'Staff Capacity'!$H$10:$H$39,$D$3),SUMIF('Staff Capacity'!$G$10:$G$39,4,'Staff Capacity'!$I$10:$I$39))","v":0},{"$f":"IF($D$3<>\"\",SUMIFS('Staff Capacity'!$I$10:$I$39,'Staff Capacity'!$G$10:$G$39,4,'Staff Capacity'!$H$10:$H$39,$D$3),SUMIF('Staff Capacity'!$G$10:$G$39,4,'Staff Capacity'!$I$10:$I$39))","v":0},{"$f":"IF($D$3<>\"\",SUMIFS('Staff Capacity'!$I$10:$I$39,'Staff Capacity'!$G$10:$G$39,4,'Staff Capacity'!$H$10:$H$39,$D$3),SUMIF('Staff Capacity'!$G$10:$G$39,4,'Staff Capacity'!$I$10:$I$39))","v":0},{"$f":"IF($D$3<>\"\",SUMIFS('Staff Capacity'!$I$10:$I$39,'Staff Capacity'!$G$10:$G$39,4,'Staff Capacity'!$H$10:$H$39,$D$3),SUMIF('Staff Capacity'!$G$10:$G$39,4,'Staff Capacity'!$I$10:$I$39))","v":0},{"$f":"IF($D$3<>\"\",SUMIFS('Staff Capacity'!$I$10:$I$39,'Staff Capacity'!$G$10:$G$39,4,'Staff Capacity'!$H$10:$H$39,$D$3),SUMIF('Staff Capacity'!$G$10:$G$39,4,'Staff Capacity'!$I$10:$I$39))","v":0},{"$f":"IF($D$3<>\"\",SUMIFS('Staff Capacity'!$I$10:$I$39,'Staff Capacity'!$G$10:$G$39,4,'Staff Capacity'!$H$10:$H$39,$D$3),SUMIF('Staff Capacity'!$G$10:$G$39,4,'Staff Capacity'!$I$10:$I$39))","v":0},{"$f":"IF($D$3<>\"\",SUMIFS('Staff Capacity'!$I$10:$I$39,'Staff Capacity'!$G$10:$G$39,4,'Staff Capacity'!$H$10:$H$39,$D$3),SUMIF('Staff Capacity'!$G$10:$G$39,4,'Staff Capacity'!$I$10:$I$39))","v":0},{"$f":"IF($D$3<>\"\",SUMIFS('Staff Capacity'!$I$10:$I$39,'Staff Capacity'!$G$10:$G$39,4,'Staff Capacity'!$H$10:$H$39,$D$3),SUMIF('Staff Capacity'!$G$10:$G$39,4,'Staff Capacity'!$I$10:$I$39))","v":0},{"$f":"IF($D$3<>\"\",SUMIFS('Staff Capacity'!$I$10:$I$39,'Staff Capacity'!$G$10:$G$39,4,'Staff Capacity'!$H$10:$H$39,$D$3),SUMIF('Staff Capacity'!$G$10:$G$39,4,'Staff Capacity'!$I$10:$I$39))","v":0},{"$f":"IF($D$3<>\"\",SUMIFS('Staff Capacity'!$I$10:$I$39,'Staff Capacity'!$G$10:$G$39,4,'Staff Capacity'!$H$10:$H$39,$D$3),SUMIF('Staff Capacity'!$G$10:$G$39,4,'Staff Capacity'!$I$10:$I$39))","v":0},{"$f":"IF($D$3<>\"\",SUMIFS('Staff Capacity'!$I$10:$I$39,'Staff Capacity'!$G$10:$G$39,4,'Staff Capacity'!$H$10:$H$39,$D$3),SUMIF('Staff Capacity'!$G$10:$G$39,4,'Staff Capacity'!$I$10:$I$39))","v":0},{"$f":"IF($D$3<>\"\",SUMIFS('Staff Capacity'!$I$10:$I$39,'Staff Capacity'!$G$10:$G$39,4,'Staff Capacity'!$H$10:$H$39,$D$3),SUMIF('Staff Capacity'!$G$10:$G$39,4,'Staff Capacity'!$I$10:$I$39))","v":0},{"$f":"IF($D$3<>\"\",SUMIFS('Staff Capacity'!$I$10:$I$39,'Staff Capacity'!$G$10:$G$39,4,'Staff Capacity'!$H$10:$H$39,$D$3),SUMIF('Staff Capacity'!$G$10:$G$39,4,'Staff Capacity'!$I$10:$I$39))","v":0},{"$f":"IF($D$3<>\"\",SUMIFS('Staff Capacity'!$I$10:$I$39,'Staff Capacity'!$G$10:$G$39,4,'Staff Capacity'!$H$10:$H$39,$D$3),SUMIF('Staff Capacity'!$G$10:$G$39,4,'Staff Capacity'!$I$10:$I$39))","v":0},{"$f":"IF($D$3<>\"\",SUMIFS('Staff Capacity'!$I$10:$I$39,'Staff Capacity'!$G$10:$G$39,4,'Staff Capacity'!$H$10:$H$39,$D$3),SUMIF('Staff Capacity'!$G$10:$G$39,4,'Staff Capacity'!$I$10:$I$39))","v":0},{"$f":"IF($D$3<>\"\",SUMIFS('Staff Capacity'!$I$10:$I$39,'Staff Capacity'!$G$10:$G$39,4,'Staff Capacity'!$H$10:$H$39,$D$3),SUMIF('Staff Capacity'!$G$10:$G$39,4,'Staff Capacity'!$I$10:$I$39))","v":0},{"$f":"IF($D$3<>\"\",SUMIFS('Staff Capacity'!$I$10:$I$39,'Staff Capacity'!$G$10:$G$39,4,'Staff Capacity'!$H$10:$H$39,$D$3),SUMIF('Staff Capacity'!$G$10:$G$39,4,'Staff Capacity'!$I$10:$I$39))","v":0},{"$f":"IF($D$3<>\"\",SUMIFS('Staff Capacity'!$I$10:$I$39,'Staff Capacity'!$G$10:$G$39,4,'Staff Capacity'!$H$10:$H$39,$D$3),SUMIF('Staff Capacity'!$G$10:$G$39,4,'Staff Capacity'!$I$10:$I$39))","v":0},{"$f":"IF($D$3<>\"\",SUMIFS('Staff Capacity'!$I$10:$I$39,'Staff Capacity'!$G$10:$G$39,4,'Staff Capacity'!$H$10:$H$39,$D$3),SUMIF('Staff Capacity'!$G$10:$G$39,4,'Staff Capacity'!$I$10:$I$39))","v":0},{"$f":"IF($D$3<>\"\",SUMIFS('Staff Capacity'!$I$10:$I$39,'Staff Capacity'!$G$10:$G$39,4,'Staff Capacity'!$H$10:$H$39,$D$3),SUMIF('Staff Capacity'!$G$10:$G$39,4,'Staff Capacity'!$I$10:$I$39))","v":0},{"$f":"IF($D$3<>\"\",SUMIFS('Staff Capacity'!$I$10:$I$39,'Staff Capacity'!$G$10:$G$39,4,'Staff Capacity'!$H$10:$H$39,$D$3),SUMIF('Staff Capacity'!$G$10:$G$39,4,'Staff Capacity'!$I$10:$I$39))","v":0},{"$f":"IF($D$3<>\"\",SUMIFS('Staff Capacity'!$I$10:$I$39,'Staff Capacity'!$G$10:$G$39,4,'Staff Capacity'!$H$10:$H$39,$D$3),SUMIF('Staff Capacity'!$G$10:$G$39,4,'Staff Capacity'!$I$10:$I$39))","v":0},{"$f":"IF($D$3<>\"\",SUMIFS('Staff Capacity'!$I$10:$I$39,'Staff Capacity'!$G$10:$G$39,4,'Staff Capacity'!$H$10:$H$39,$D$3),SUMIF('Staff Capacity'!$G$10:$G$39,4,'Staff Capacity'!$I$10:$I$39))","v":0},{"$f":"IF($D$3<>\"\",SUMIFS('Staff Capacity'!$I$10:$I$39,'Staff Capacity'!$G$10:$G$39,4,'Staff Capacity'!$H$10:$H$39,$D$3),SUMIF('Staff Capacity'!$G$10:$G$39,4,'Staff Capacity'!$I$10:$I$39))","v":0},{"$f":"IF($D$3<>\"\",SUMIFS('Staff Capacity'!$I$10:$I$39,'Staff Capacity'!$G$10:$G$39,4,'Staff Capacity'!$H$10:$H$39,$D$3),SUMIF('Staff Capacity'!$G$10:$G$39,4,'Staff Capacity'!$I$10:$I$39))","v":0},{"$f":"IF($D$3<>\"\",SUMIFS('Staff Capacity'!$I$10:$I$39,'Staff Capacity'!$G$10:$G$39,4,'Staff Capacity'!$H$10:$H$39,$D$3),SUMIF('Staff Capacity'!$G$10:$G$39,4,'Staff Capacity'!$I$10:$I$39))","v":0},{"$f":"IF($D$3<>\"\",SUMIFS('Staff Capacity'!$I$10:$I$39,'Staff Capacity'!$G$10:$G$39,4,'Staff Capacity'!$H$10:$H$39,$D$3),SUMIF('Staff Capacity'!$G$10:$G$39,4,'Staff Capacity'!$I$10:$I$39))","v":0},{"$f":"IF($D$3<>\"\",SUMIFS('Staff Capacity'!$I$10:$I$39,'Staff Capacity'!$G$10:$G$39,4,'Staff Capacity'!$H$10:$H$39,$D$3),SUMIF('Staff Capacity'!$G$10:$G$39,4,'Staff Capacity'!$I$10:$I$39))","v":0},{"$f":"IF($D$3<>\"\",SUMIFS('Staff Capacity'!$I$10:$I$39,'Staff Capacity'!$G$10:$G$39,4,'Staff Capacity'!$H$10:$H$39,$D$3),SUMIF('Staff Capacity'!$G$10:$G$39,4,'Staff Capacity'!$I$10:$I$39))","v":0},{"$f":"IF($D$3<>\"\",SUMIFS('Staff Capacity'!$I$10:$I$39,'Staff Capacity'!$G$10:$G$39,4,'Staff Capacity'!$H$10:$H$39,$D$3),SUMIF('Staff Capacity'!$G$10:$G$39,4,'Staff Capacity'!$I$10:$I$39))","v":0},{"$f":"IF($D$3<>\"\",SUMIFS('Staff Capacity'!$I$10:$I$39,'Staff Capacity'!$G$10:$G$39,4,'Staff Capacity'!$H$10:$H$39,$D$3),SUMIF('Staff Capacity'!$G$10:$G$39,4,'Staff Capacity'!$I$10:$I$39))","v":0},{"$f":"IF($D$3<>\"\",SUMIFS('Staff Capacity'!$I$10:$I$39,'Staff Capacity'!$G$10:$G$39,4,'Staff Capacity'!$H$10:$H$39,$D$3),SUMIF('Staff Capacity'!$G$10:$G$39,4,'Staff Capacity'!$I$10:$I$39))","v":0},{"$f":"IF($D$3<>\"\",SUMIFS('Staff Capacity'!$I$10:$I$39,'Staff Capacity'!$G$10:$G$39,4,'Staff Capacity'!$H$10:$H$39,$D$3),SUMIF('Staff Capacity'!$G$10:$G$39,4,'Staff Capacity'!$I$10:$I$39))","v":0},{"$f":"IF($D$3<>\"\",SUMIFS('Staff Capacity'!$I$10:$I$39,'Staff Capacity'!$G$10:$G$39,4,'Staff Capacity'!$H$10:$H$39,$D$3),SUMIF('Staff Capacity'!$G$10:$G$39,4,'Staff Capacity'!$I$10:$I$39))","v":0},{"$f":"IF($D$3<>\"\",SUMIFS('Staff Capacity'!$I$10:$I$39,'Staff Capacity'!$G$10:$G$39,4,'Staff Capacity'!$H$10:$H$39,$D$3),SUMIF('Staff Capacity'!$G$10:$G$39,4,'Staff Capacity'!$I$10:$I$39))","v":0},{"$f":"IF($D$3<>\"\",SUMIFS('Staff Capacity'!$I$10:$I$39,'Staff Capacity'!$G$10:$G$39,4,'Staff Capacity'!$H$10:$H$39,$D$3),SUMIF('Staff Capacity'!$G$10:$G$39,4,'Staff Capacity'!$I$10:$I$39))","v":0},{"$f":"IF($D$3<>\"\",SUMIFS('Staff Capacity'!$I$10:$I$39,'Staff Capacity'!$G$10:$G$39,4,'Staff Capacity'!$H$10:$H$39,$D$3),SUMIF('Staff Capacity'!$G$10:$G$39,4,'Staff Capacity'!$I$10:$I$39))","v":0},{"$f":"IF($D$3<>\"\",SUMIFS('Staff Capacity'!$I$10:$I$39,'Staff Capacity'!$G$10:$G$39,4,'Staff Capacity'!$H$10:$H$39,$D$3),SUMIF('Staff Capacity'!$G$10:$G$39,4,'Staff Capacity'!$I$10:$I$39))","v":0},{"$f":"IF($D$3<>\"\",SUMIFS('Staff Capacity'!$I$10:$I$39,'Staff Capacity'!$G$10:$G$39,4,'Staff Capacity'!$H$10:$H$39,$D$3),SUMIF('Staff Capacity'!$G$10:$G$39,4,'Staff Capacity'!$I$10:$I$39))","v":0},{"$f":"IF($D$3<>\"\",SUMIFS('Staff Capacity'!$I$10:$I$39,'Staff Capacity'!$G$10:$G$39,4,'Staff Capacity'!$H$10:$H$39,$D$3),SUMIF('Staff Capacity'!$G$10:$G$39,4,'Staff Capacity'!$I$10:$I$39))","v":0},{"$f":"IF($D$3<>\"\",SUMIFS('Staff Capacity'!$I$10:$I$39,'Staff Capacity'!$G$10:$G$39,4,'Staff Capacity'!$H$10:$H$39,$D$3),SUMIF('Staff Capacity'!$G$10:$G$39,4,'Staff Capacity'!$I$10:$I$39))","v":0},{"$f":"IF($D$3<>\"\",SUMIFS('Staff Capacity'!$I$10:$I$39,'Staff Capacity'!$G$10:$G$39,4,'Staff Capacity'!$H$10:$H$39,$D$3),SUMIF('Staff Capacity'!$G$10:$G$39,4,'Staff Capacity'!$I$10:$I$39))","v":0},{"$f":"IF($D$3<>\"\",SUMIFS('Staff Capacity'!$I$10:$I$39,'Staff Capacity'!$G$10:$G$39,4,'Staff Capacity'!$H$10:$H$39,$D$3),SUMIF('Staff Capacity'!$G$10:$G$39,4,'Staff Capacity'!$I$10:$I$39))","v":0},{"$f":"IF($D$3<>\"\",SUMIFS('Staff Capacity'!$I$10:$I$39,'Staff Capacity'!$G$10:$G$39,4,'Staff Capacity'!$H$10:$H$39,$D$3),SUMIF('Staff Capacity'!$G$10:$G$39,4,'Staff Capacity'!$I$10:$I$39))","v":0},{"$f":"IF($D$3<>\"\",SUMIFS('Staff Capacity'!$I$10:$I$39,'Staff Capacity'!$G$10:$G$39,4,'Staff Capacity'!$H$10:$H$39,$D$3),SUMIF('Staff Capacity'!$G$10:$G$39,4,'Staff Capacity'!$I$10:$I$39))","v":0},{"$f":"IF($D$3<>\"\",SUMIFS('Staff Capacity'!$I$10:$I$39,'Staff Capacity'!$G$10:$G$39,4,'Staff Capacity'!$H$10:$H$39,$D$3),SUMIF('Staff Capacity'!$G$10:$G$39,4,'Staff Capacity'!$I$10:$I$39))","v":0},{"$f":"IF($D$3<>\"\",SUMIFS('Staff Capacity'!$I$10:$I$39,'Staff Capacity'!$G$10:$G$39,4,'Staff Capacity'!$H$10:$H$39,$D$3),SUMIF('Staff Capacity'!$G$10:$G$39,4,'Staff Capacity'!$I$10:$I$39))","v":0},{"$f":"IF($D$3<>\"\",SUMIFS('Staff Capacity'!$I$10:$I$39,'Staff Capacity'!$G$10:$G$39,4,'Staff Capacity'!$H$10:$H$39,$D$3),SUMIF('Staff Capacity'!$G$10:$G$39,4,'Staff Capacity'!$I$10:$I$39))","v":0},{"$f":"IF($D$3<>\"\",SUMIFS('Staff Capacity'!$I$10:$I$39,'Staff Capacity'!$G$10:$G$39,4,'Staff Capacity'!$H$10:$H$39,$D$3),SUMIF('Staff Capacity'!$G$10:$G$39,4,'Staff Capacity'!$I$10:$I$39))","v":0},{"$f":"IF($D$3<>\"\",SUMIFS('Staff Capacity'!$I$10:$I$39,'Staff Capacity'!$G$10:$G$39,4,'Staff Capacity'!$H$10:$H$39,$D$3),SUMIF('Staff Capacity'!$G$10:$G$39,4,'Staff Capacity'!$I$10:$I$39))","v":0},{"$f":"IF($D$3<>\"\",SUMIFS('Staff Capacity'!$I$10:$I$39,'Staff Capacity'!$G$10:$G$39,4,'Staff Capacity'!$H$10:$H$39,$D$3),SUMIF('Staff Capacity'!$G$10:$G$39,4,'Staff Capacity'!$I$10:$I$39))","v":0},{"$f":"IF($D$3<>\"\",SUMIFS('Staff Capacity'!$I$10:$I$39,'Staff Capacity'!$G$10:$G$39,4,'Staff Capacity'!$H$10:$H$39,$D$3),SUMIF('Staff Capacity'!$G$10:$G$39,4,'Staff Capacity'!$I$10:$I$39))","v":0},{"$f":"IF($D$3<>\"\",SUMIFS('Staff Capacity'!$I$10:$I$39,'Staff Capacity'!$G$10:$G$39,4,'Staff Capacity'!$H$10:$H$39,$D$3),SUMIF('Staff Capacity'!$G$10:$G$39,4,'Staff Capacity'!$I$10:$I$39))","v":0},{"$f":"IF($D$3<>\"\",SUMIFS('Staff Capacity'!$I$10:$I$39,'Staff Capacity'!$G$10:$G$39,4,'Staff Capacity'!$H$10:$H$39,$D$3),SUMIF('Staff Capacity'!$G$10:$G$39,4,'Staff Capacity'!$I$10:$I$39))","v":0},{"$f":"IF($D$3<>\"\",SUMIFS('Staff Capacity'!$I$10:$I$39,'Staff Capacity'!$G$10:$G$39,4,'Staff Capacity'!$H$10:$H$39,$D$3),SUMIF('Staff Capacity'!$G$10:$G$39,4,'Staff Capacity'!$I$10:$I$39))","v":0},{"$f":"IF($D$3<>\"\",SUMIFS('Staff Capacity'!$I$10:$I$39,'Staff Capacity'!$G$10:$G$39,4,'Staff Capacity'!$H$10:$H$39,$D$3),SUMIF('Staff Capacity'!$G$10:$G$39,4,'Staff Capacity'!$I$10:$I$39))","v":0},{"$f":"IF($D$3<>\"\",SUMIFS('Staff Capacity'!$I$10:$I$39,'Staff Capacity'!$G$10:$G$39,4,'Staff Capacity'!$H$10:$H$39,$D$3),SUMIF('Staff Capacity'!$G$10:$G$39,4,'Staff Capacity'!$I$10:$I$39))","v":0},{"$f":"IF($D$3<>\"\",SUMIFS('Staff Capacity'!$I$10:$I$39,'Staff Capacity'!$G$10:$G$39,4,'Staff Capacity'!$H$10:$H$39,$D$3),SUMIF('Staff Capacity'!$G$10:$G$39,4,'Staff Capacity'!$I$10:$I$39))","v":0},{"$f":"IF($D$3<>\"\",SUMIFS('Staff Capacity'!$I$10:$I$39,'Staff Capacity'!$G$10:$G$39,4,'Staff Capacity'!$H$10:$H$39,$D$3),SUMIF('Staff Capacity'!$G$10:$G$39,4,'Staff Capacity'!$I$10:$I$39))","v":0},{"$f":"IF($D$3<>\"\",SUMIFS('Staff Capacity'!$I$10:$I$39,'Staff Capacity'!$G$10:$G$39,4,'Staff Capacity'!$H$10:$H$39,$D$3),SUMIF('Staff Capacity'!$G$10:$G$39,4,'Staff Capacity'!$I$10:$I$39))","v":0},{"$f":"IF($D$3<>\"\",SUMIFS('Staff Capacity'!$I$10:$I$39,'Staff Capacity'!$G$10:$G$39,4,'Staff Capacity'!$H$10:$H$39,$D$3),SUMIF('Staff Capacity'!$G$10:$G$39,4,'Staff Capacity'!$I$10:$I$39))","v":0},{"$f":"IF($D$3<>\"\",SUMIFS('Staff Capacity'!$I$10:$I$39,'Staff Capacity'!$G$10:$G$39,4,'Staff Capacity'!$H$10:$H$39,$D$3),SUMIF('Staff Capacity'!$G$10:$G$39,4,'Staff Capacity'!$I$10:$I$39))","v":0},{"$f":"IF($D$3<>\"\",SUMIFS('Staff Capacity'!$I$10:$I$39,'Staff Capacity'!$G$10:$G$39,4,'Staff Capacity'!$H$10:$H$39,$D$3),SUMIF('Staff Capacity'!$G$10:$G$39,4,'Staff Capacity'!$I$10:$I$39))","v":0},{"$f":"IF($D$3<>\"\",SUMIFS('Staff Capacity'!$I$10:$I$39,'Staff Capacity'!$G$10:$G$39,4,'Staff Capacity'!$H$10:$H$39,$D$3),SUMIF('Staff Capacity'!$G$10:$G$39,4,'Staff Capacity'!$I$10:$I$39))","v":0},{"$f":"IF($D$3<>\"\",SUMIFS('Staff Capacity'!$I$10:$I$39,'Staff Capacity'!$G$10:$G$39,4,'Staff Capacity'!$H$10:$H$39,$D$3),SUMIF('Staff Capacity'!$G$10:$G$39,4,'Staff Capacity'!$I$10:$I$39))","v":0},{"$f":"IF($D$3<>\"\",SUMIFS('Staff Capacity'!$I$10:$I$39,'Staff Capacity'!$G$10:$G$39,4,'Staff Capacity'!$H$10:$H$39,$D$3),SUMIF('Staff Capacity'!$G$10:$G$39,4,'Staff Capacity'!$I$10:$I$39))","v":0},{"$f":"IF($D$3<>\"\",SUMIFS('Staff Capacity'!$I$10:$I$39,'Staff Capacity'!$G$10:$G$39,4,'Staff Capacity'!$H$10:$H$39,$D$3),SUMIF('Staff Capacity'!$G$10:$G$39,4,'Staff Capacity'!$I$10:$I$39))","v":0},{"$f":"IF($D$3<>\"\",SUMIFS('Staff Capacity'!$I$10:$I$39,'Staff Capacity'!$G$10:$G$39,4,'Staff Capacity'!$H$10:$H$39,$D$3),SUMIF('Staff Capacity'!$G$10:$G$39,4,'Staff Capacity'!$I$10:$I$39))","v":0},{"$f":"IF($D$3<>\"\",SUMIFS('Staff Capacity'!$I$10:$I$39,'Staff Capacity'!$G$10:$G$39,4,'Staff Capacity'!$H$10:$H$39,$D$3),SUMIF('Staff Capacity'!$G$10:$G$39,4,'Staff Capacity'!$I$10:$I$39))","v":0},{"$f":"IF($D$3<>\"\",SUMIFS('Staff Capacity'!$I$10:$I$39,'Staff Capacity'!$G$10:$G$39,4,'Staff Capacity'!$H$10:$H$39,$D$3),SUMIF('Staff Capacity'!$G$10:$G$39,4,'Staff Capacity'!$I$10:$I$39))","v":0},{"$f":"IF($D$3<>\"\",SUMIFS('Staff Capacity'!$I$10:$I$39,'Staff Capacity'!$G$10:$G$39,4,'Staff Capacity'!$H$10:$H$39,$D$3),SUMIF('Staff Capacity'!$G$10:$G$39,4,'Staff Capacity'!$I$10:$I$39))","v":0},{"$f":"IF($D$3<>\"\",SUMIFS('Staff Capacity'!$I$10:$I$39,'Staff Capacity'!$G$10:$G$39,4,'Staff Capacity'!$H$10:$H$39,$D$3),SUMIF('Staff Capacity'!$G$10:$G$39,4,'Staff Capacity'!$I$10:$I$39))","v":0},{"$f":"IF($D$3<>\"\",SUMIFS('Staff Capacity'!$I$10:$I$39,'Staff Capacity'!$G$10:$G$39,4,'Staff Capacity'!$H$10:$H$39,$D$3),SUMIF('Staff Capacity'!$G$10:$G$39,4,'Staff Capacity'!$I$10:$I$39))","v":0},{"$f":"IF($D$3<>\"\",SUMIFS('Staff Capacity'!$I$10:$I$39,'Staff Capacity'!$G$10:$G$39,4,'Staff Capacity'!$H$10:$H$39,$D$3),SUMIF('Staff Capacity'!$G$10:$G$39,4,'Staff Capacity'!$I$10:$I$39))","v":0},{"$f":"IF($D$3<>\"\",SUMIFS('Staff Capacity'!$I$10:$I$39,'Staff Capacity'!$G$10:$G$39,4,'Staff Capacity'!$H$10:$H$39,$D$3),SUMIF('Staff Capacity'!$G$10:$G$39,4,'Staff Capacity'!$I$10:$I$39))","v":0},{"$f":"IF($D$3<>\"\",SUMIFS('Staff Capacity'!$I$10:$I$39,'Staff Capacity'!$G$10:$G$39,4,'Staff Capacity'!$H$10:$H$39,$D$3),SUMIF('Staff Capacity'!$G$10:$G$39,4,'Staff Capacity'!$I$10:$I$39))","v":0},{"$f":"IF($D$3<>\"\",SUMIFS('Staff Capacity'!$I$10:$I$39,'Staff Capacity'!$G$10:$G$39,4,'Staff Capacity'!$H$10:$H$39,$D$3),SUMIF('Staff Capacity'!$G$10:$G$39,4,'Staff Capacity'!$I$10:$I$39))","v":0},{"$f":"IF($D$3<>\"\",SUMIFS('Staff Capacity'!$I$10:$I$39,'Staff Capacity'!$G$10:$G$39,4,'Staff Capacity'!$H$10:$H$39,$D$3),SUMIF('Staff Capacity'!$G$10:$G$39,4,'Staff Capacity'!$I$10:$I$39))","v":0},{"$f":"IF($D$3<>\"\",SUMIFS('Staff Capacity'!$I$10:$I$39,'Staff Capacity'!$G$10:$G$39,4,'Staff Capacity'!$H$10:$H$39,$D$3),SUMIF('Staff Capacity'!$G$10:$G$39,4,'Staff Capacity'!$I$10:$I$39))","v":0},{"$f":"IF($D$3<>\"\",SUMIFS('Staff Capacity'!$I$10:$I$39,'Staff Capacity'!$G$10:$G$39,4,'Staff Capacity'!$H$10:$H$39,$D$3),SUMIF('Staff Capacity'!$G$10:$G$39,4,'Staff Capacity'!$I$10:$I$39))","v":0},{"$f":"IF($D$3<>\"\",SUMIFS('Staff Capacity'!$I$10:$I$39,'Staff Capacity'!$G$10:$G$39,4,'Staff Capacity'!$H$10:$H$39,$D$3),SUMIF('Staff Capacity'!$G$10:$G$39,4,'Staff Capacity'!$I$10:$I$39))","v":0},{"$f":"IF($D$3<>\"\",SUMIFS('Staff Capacity'!$I$10:$I$39,'Staff Capacity'!$G$10:$G$39,4,'Staff Capacity'!$H$10:$H$39,$D$3),SUMIF('Staff Capacity'!$G$10:$G$39,4,'Staff Capacity'!$I$10:$I$39))","v":0},{"$f":"IF($D$3<>\"\",SUMIFS('Staff Capacity'!$I$10:$I$39,'Staff Capacity'!$G$10:$G$39,4,'Staff Capacity'!$H$10:$H$39,$D$3),SUMIF('Staff Capacity'!$G$10:$G$39,4,'Staff Capacity'!$I$10:$I$39))","v":0},{"$f":"IF($D$3<>\"\",SUMIFS('Staff Capacity'!$I$10:$I$39,'Staff Capacity'!$G$10:$G$39,4,'Staff Capacity'!$H$10:$H$39,$D$3),SUMIF('Staff Capacity'!$G$10:$G$39,4,'Staff Capacity'!$I$10:$I$39))","v":0},{"$f":"IF($D$3<>\"\",SUMIFS('Staff Capacity'!$I$10:$I$39,'Staff Capacity'!$G$10:$G$39,4,'Staff Capacity'!$H$10:$H$39,$D$3),SUMIF('Staff Capacity'!$G$10:$G$39,4,'Staff Capacity'!$I$10:$I$39))","v":0},{"$f":"IF($D$3<>\"\",SUMIFS('Staff Capacity'!$I$10:$I$39,'Staff Capacity'!$G$10:$G$39,4,'Staff Capacity'!$H$10:$H$39,$D$3),SUMIF('Staff Capacity'!$G$10:$G$39,4,'Staff Capacity'!$I$10:$I$39))","v":0},{"$f":"IF($D$3<>\"\",SUMIFS('Staff Capacity'!$I$10:$I$39,'Staff Capacity'!$G$10:$G$39,4,'Staff Capacity'!$H$10:$H$39,$D$3),SUMIF('Staff Capacity'!$G$10:$G$39,4,'Staff Capacity'!$I$10:$I$39))","v":0},{"$f":"IF($D$3<>\"\",SUMIFS('Staff Capacity'!$I$10:$I$39,'Staff Capacity'!$G$10:$G$39,4,'Staff Capacity'!$H$10:$H$39,$D$3),SUMIF('Staff Capacity'!$G$10:$G$39,4,'Staff Capacity'!$I$10:$I$39))","v":0},{"$f":"IF($D$3<>\"\",SUMIFS('Staff Capacity'!$I$10:$I$39,'Staff Capacity'!$G$10:$G$39,4,'Staff Capacity'!$H$10:$H$39,$D$3),SUMIF('Staff Capacity'!$G$10:$G$39,4,'Staff Capacity'!$I$10:$I$39))","v":0},{"$f":"IF($D$3<>\"\",SUMIFS('Staff Capacity'!$I$10:$I$39,'Staff Capacity'!$G$10:$G$39,4,'Staff Capacity'!$H$10:$H$39,$D$3),SUMIF('Staff Capacity'!$G$10:$G$39,4,'Staff Capacity'!$I$10:$I$39))","v":0},{"$f":"IF($D$3<>\"\",SUMIFS('Staff Capacity'!$I$10:$I$39,'Staff Capacity'!$G$10:$G$39,4,'Staff Capacity'!$H$10:$H$39,$D$3),SUMIF('Staff Capacity'!$G$10:$G$39,4,'Staff Capacity'!$I$10:$I$39))","v":0},{"$f":"IF($D$3<>\"\",SUMIFS('Staff Capacity'!$I$10:$I$39,'Staff Capacity'!$G$10:$G$39,4,'Staff Capacity'!$H$10:$H$39,$D$3),SUMIF('Staff Capacity'!$G$10:$G$39,4,'Staff Capacity'!$I$10:$I$39))","v":0},{"$f":"IF($D$3<>\"\",SUMIFS('Staff Capacity'!$I$10:$I$39,'Staff Capacity'!$G$10:$G$39,4,'Staff Capacity'!$H$10:$H$39,$D$3),SUMIF('Staff Capacity'!$G$10:$G$39,4,'Staff Capacity'!$I$10:$I$39))","v":0},{"$f":"IF($D$3<>\"\",SUMIFS('Staff Capacity'!$I$10:$I$39,'Staff Capacity'!$G$10:$G$39,4,'Staff Capacity'!$H$10:$H$39,$D$3),SUMIF('Staff Capacity'!$G$10:$G$39,4,'Staff Capacity'!$I$10:$I$39))","v":0},{"$f":"IF($D$3<>\"\",SUMIFS('Staff Capacity'!$I$10:$I$39,'Staff Capacity'!$G$10:$G$39,4,'Staff Capacity'!$H$10:$H$39,$D$3),SUMIF('Staff Capacity'!$G$10:$G$39,4,'Staff Capacity'!$I$10:$I$39))","v":0},{"$f":"IF($D$3<>\"\",SUMIFS('Staff Capacity'!$I$10:$I$39,'Staff Capacity'!$G$10:$G$39,4,'Staff Capacity'!$H$10:$H$39,$D$3),SUMIF('Staff Capacity'!$G$10:$G$39,4,'Staff Capacity'!$I$10:$I$39))","v":0},{"$f":"IF($D$3<>\"\",SUMIFS('Staff Capacity'!$I$10:$I$39,'Staff Capacity'!$G$10:$G$39,4,'Staff Capacity'!$H$10:$H$39,$D$3),SUMIF('Staff Capacity'!$G$10:$G$39,4,'Staff Capacity'!$I$10:$I$39))","v":0},{"$f":"IF($D$3<>\"\",SUMIFS('Staff Capacity'!$I$10:$I$39,'Staff Capacity'!$G$10:$G$39,4,'Staff Capacity'!$H$10:$H$39,$D$3),SUMIF('Staff Capacity'!$G$10:$G$39,4,'Staff Capacity'!$I$10:$I$39))","v":0},{"$f":"IF($D$3<>\"\",SUMIFS('Staff Capacity'!$I$10:$I$39,'Staff Capacity'!$G$10:$G$39,4,'Staff Capacity'!$H$10:$H$39,$D$3),SUMIF('Staff Capacity'!$G$10:$G$39,4,'Staff Capacity'!$I$10:$I$39))","v":0},{"$f":"IF($D$3<>\"\",SUMIFS('Staff Capacity'!$I$10:$I$39,'Staff Capacity'!$G$10:$G$39,4,'Staff Capacity'!$H$10:$H$39,$D$3),SUMIF('Staff Capacity'!$G$10:$G$39,4,'Staff Capacity'!$I$10:$I$39))","v":0},{"$f":"IF($D$3<>\"\",SUMIFS('Staff Capacity'!$I$10:$I$39,'Staff Capacity'!$G$10:$G$39,4,'Staff Capacity'!$H$10:$H$39,$D$3),SUMIF('Staff Capacity'!$G$10:$G$39,4,'Staff Capacity'!$I$10:$I$39))","v":0},{"$f":"IF($D$3<>\"\",SUMIFS('Staff Capacity'!$I$10:$I$39,'Staff Capacity'!$G$10:$G$39,4,'Staff Capacity'!$H$10:$H$39,$D$3),SUMIF('Staff Capacity'!$G$10:$G$39,4,'Staff Capacity'!$I$10:$I$39))","v":0},{"$f":"IF($D$3<>\"\",SUMIFS('Staff Capacity'!$I$10:$I$39,'Staff Capacity'!$G$10:$G$39,4,'Staff Capacity'!$H$10:$H$39,$D$3),SUMIF('Staff Capacity'!$G$10:$G$39,4,'Staff Capacity'!$I$10:$I$39))","v":0},{"$f":"IF($D$3<>\"\",SUMIFS('Staff Capacity'!$I$10:$I$39,'Staff Capacity'!$G$10:$G$39,4,'Staff Capacity'!$H$10:$H$39,$D$3),SUMIF('Staff Capacity'!$G$10:$G$39,4,'Staff Capacity'!$I$10:$I$39))","v":0},{"$f":"IF($D$3<>\"\",SUMIFS('Staff Capacity'!$I$10:$I$39,'Staff Capacity'!$G$10:$G$39,4,'Staff Capacity'!$H$10:$H$39,$D$3),SUMIF('Staff Capacity'!$G$10:$G$39,4,'Staff Capacity'!$I$10:$I$39))","v":0},{"$f":"IF($D$3<>\"\",SUMIFS('Staff Capacity'!$I$10:$I$39,'Staff Capacity'!$G$10:$G$39,4,'Staff Capacity'!$H$10:$H$39,$D$3),SUMIF('Staff Capacity'!$G$10:$G$39,4,'Staff Capacity'!$I$10:$I$39))","v":0},{"$f":"IF($D$3<>\"\",SUMIFS('Staff Capacity'!$I$10:$I$39,'Staff Capacity'!$G$10:$G$39,4,'Staff Capacity'!$H$10:$H$39,$D$3),SUMIF('Staff Capacity'!$G$10:$G$39,4,'Staff Capacity'!$I$10:$I$39))","v":0},{"$f":"IF($D$3<>\"\",SUMIFS('Staff Capacity'!$I$10:$I$39,'Staff Capacity'!$G$10:$G$39,4,'Staff Capacity'!$H$10:$H$39,$D$3),SUMIF('Staff Capacity'!$G$10:$G$39,4,'Staff Capacity'!$I$10:$I$39))","v":0},{"$f":"IF($D$3<>\"\",SUMIFS('Staff Capacity'!$I$10:$I$39,'Staff Capacity'!$G$10:$G$39,4,'Staff Capacity'!$H$10:$H$39,$D$3),SUMIF('Staff Capacity'!$G$10:$G$39,4,'Staff Capacity'!$I$10:$I$39))","v":0},{"$f":"IF($D$3<>\"\",SUMIFS('Staff Capacity'!$I$10:$I$39,'Staff Capacity'!$G$10:$G$39,4,'Staff Capacity'!$H$10:$H$39,$D$3),SUMIF('Staff Capacity'!$G$10:$G$39,4,'Staff Capacity'!$I$10:$I$39))","v":0},{"$f":"IF($D$3<>\"\",SUMIFS('Staff Capacity'!$I$10:$I$39,'Staff Capacity'!$G$10:$G$39,4,'Staff Capacity'!$H$10:$H$39,$D$3),SUMIF('Staff Capacity'!$G$10:$G$39,4,'Staff Capacity'!$I$10:$I$39))","v":0},{"$f":"IF($D$3<>\"\",SUMIFS('Staff Capacity'!$I$10:$I$39,'Staff Capacity'!$G$10:$G$39,4,'Staff Capacity'!$H$10:$H$39,$D$3),SUMIF('Staff Capacity'!$G$10:$G$39,4,'Staff Capacity'!$I$10:$I$39))","v":0},{"$f":"IF($D$3<>\"\",SUMIFS('Staff Capacity'!$I$10:$I$39,'Staff Capacity'!$G$10:$G$39,4,'Staff Capacity'!$H$10:$H$39,$D$3),SUMIF('Staff Capacity'!$G$10:$G$39,4,'Staff Capacity'!$I$10:$I$39))","v":0},{"$f":"IF($D$3<>\"\",SUMIFS('Staff Capacity'!$I$10:$I$39,'Staff Capacity'!$G$10:$G$39,4,'Staff Capacity'!$H$10:$H$39,$D$3),SUMIF('Staff Capacity'!$G$10:$G$39,4,'Staff Capacity'!$I$10:$I$39))","v":0},{"$f":"IF($D$3<>\"\",SUMIFS('Staff Capacity'!$I$10:$I$39,'Staff Capacity'!$G$10:$G$39,4,'Staff Capacity'!$H$10:$H$39,$D$3),SUMIF('Staff Capacity'!$G$10:$G$39,4,'Staff Capacity'!$I$10:$I$39))","v":0},{"$f":"IF($D$3<>\"\",SUMIFS('Staff Capacity'!$I$10:$I$39,'Staff Capacity'!$G$10:$G$39,4,'Staff Capacity'!$H$10:$H$39,$D$3),SUMIF('Staff Capacity'!$G$10:$G$39,4,'Staff Capacity'!$I$10:$I$39))","v":0},{"$f":"IF($D$3<>\"\",SUMIFS('Staff Capacity'!$I$10:$I$39,'Staff Capacity'!$G$10:$G$39,4,'Staff Capacity'!$H$10:$H$39,$D$3),SUMIF('Staff Capacity'!$G$10:$G$39,4,'Staff Capacity'!$I$10:$I$39))","v":0},{"$f":"IF($D$3<>\"\",SUMIFS('Staff Capacity'!$I$10:$I$39,'Staff Capacity'!$G$10:$G$39,4,'Staff Capacity'!$H$10:$H$39,$D$3),SUMIF('Staff Capacity'!$G$10:$G$39,4,'Staff Capacity'!$I$10:$I$39))","v":0},{"$f":"IF($D$3<>\"\",SUMIFS('Staff Capacity'!$I$10:$I$39,'Staff Capacity'!$G$10:$G$39,4,'Staff Capacity'!$H$10:$H$39,$D$3),SUMIF('Staff Capacity'!$G$10:$G$39,4,'Staff Capacity'!$I$10:$I$39))","v":0},{"$f":"IF($D$3<>\"\",SUMIFS('Staff Capacity'!$I$10:$I$39,'Staff Capacity'!$G$10:$G$39,4,'Staff Capacity'!$H$10:$H$39,$D$3),SUMIF('Staff Capacity'!$G$10:$G$39,4,'Staff Capacity'!$I$10:$I$39))","v":0},{"$f":"IF($D$3<>\"\",SUMIFS('Staff Capacity'!$I$10:$I$39,'Staff Capacity'!$G$10:$G$39,4,'Staff Capacity'!$H$10:$H$39,$D$3),SUMIF('Staff Capacity'!$G$10:$G$39,4,'Staff Capacity'!$I$10:$I$39))","v":0},{"$f":"IF($D$3<>\"\",SUMIFS('Staff Capacity'!$I$10:$I$39,'Staff Capacity'!$G$10:$G$39,4,'Staff Capacity'!$H$10:$H$39,$D$3),SUMIF('Staff Capacity'!$G$10:$G$39,4,'Staff Capacity'!$I$10:$I$39))","v":0},{"$f":"IF($D$3<>\"\",SUMIFS('Staff Capacity'!$I$10:$I$39,'Staff Capacity'!$G$10:$G$39,4,'Staff Capacity'!$H$10:$H$39,$D$3),SUMIF('Staff Capacity'!$G$10:$G$39,4,'Staff Capacity'!$I$10:$I$39))","v":0},{"$f":"IF($D$3<>\"\",SUMIFS('Staff Capacity'!$I$10:$I$39,'Staff Capacity'!$G$10:$G$39,4,'Staff Capacity'!$H$10:$H$39,$D$3),SUMIF('Staff Capacity'!$G$10:$G$39,4,'Staff Capacity'!$I$10:$I$39))","v":0},{"$f":"IF($D$3<>\"\",SUMIFS('Staff Capacity'!$I$10:$I$39,'Staff Capacity'!$G$10:$G$39,4,'Staff Capacity'!$H$10:$H$39,$D$3),SUMIF('Staff Capacity'!$G$10:$G$39,4,'Staff Capacity'!$I$10:$I$39))","v":0},{"$f":"IF($D$3<>\"\",SUMIFS('Staff Capacity'!$I$10:$I$39,'Staff Capacity'!$G$10:$G$39,4,'Staff Capacity'!$H$10:$H$39,$D$3),SUMIF('Staff Capacity'!$G$10:$G$39,4,'Staff Capacity'!$I$10:$I$39))","v":0},{"$f":"IF($D$3<>\"\",SUMIFS('Staff Capacity'!$I$10:$I$39,'Staff Capacity'!$G$10:$G$39,4,'Staff Capacity'!$H$10:$H$39,$D$3),SUMIF('Staff Capacity'!$G$10:$G$39,4,'Staff Capacity'!$I$10:$I$39))","v":0},{"$f":"IF($D$3<>\"\",SUMIFS('Staff Capacity'!$I$10:$I$39,'Staff Capacity'!$G$10:$G$39,4,'Staff Capacity'!$H$10:$H$39,$D$3),SUMIF('Staff Capacity'!$G$10:$G$39,4,'Staff Capacity'!$I$10:$I$39))","v":0},{"$f":"IF($D$3<>\"\",SUMIFS('Staff Capacity'!$I$10:$I$39,'Staff Capacity'!$G$10:$G$39,4,'Staff Capacity'!$H$10:$H$39,$D$3),SUMIF('Staff Capacity'!$G$10:$G$39,4,'Staff Capacity'!$I$10:$I$39))","v":0},{"$f":"IF($D$3<>\"\",SUMIFS('Staff Capacity'!$I$10:$I$39,'Staff Capacity'!$G$10:$G$39,4,'Staff Capacity'!$H$10:$H$39,$D$3),SUMIF('Staff Capacity'!$G$10:$G$39,4,'Staff Capacity'!$I$10:$I$39))","v":0}]
[null,null,null,null,5,{"$f":"IF($D$3<>\"\",SUMIFS('Staff Capacity'!$I$10:$I$39,'Staff Capacity'!$G$10:$G$39,5,'Staff Capacity'!$H$10:$H$39,$D$3),SUMIF('Staff Capacity'!$G$10:$G$39,5,'Staff Capacity'!$I$10:$I$39))","v":0},{"$f":"IF($D$3<>\"\",SUMIFS('Staff Capacity'!$I$10:$I$39,'Staff Capacity'!$G$10:$G$39,5,'Staff Capacity'!$H$10:$H$39,$D$3),SUMIF('Staff Capacity'!$G$10:$G$39,5,'Staff Capacity'!$I$10:$I$39))","v":0},{"$f":"IF($D$3<>\"\",SUMIFS('Staff Capacity'!$I$10:$I$39,'Staff Capacity'!$G$10:$G$39,5,'Staff Capacity'!$H$10:$H$39,$D$3),SUMIF('Staff Capacity'!$G$10:$G$39,5,'Staff Capacity'!$I$10:$I$39))","v":0},{"$f":"IF($D$3<>\"\",SUMIFS('Staff Capacity'!$I$10:$I$39,'Staff Capacity'!$G$10:$G$39,5,'Staff Capacity'!$H$10:$H$39,$D$3),SUMIF('Staff Capacity'!$G$10:$G$39,5,'Staff Capacity'!$I$10:$I$39))","v":0},{"$f":"IF($D$3<>\"\",SUMIFS('Staff Capacity'!$I$10:$I$39,'Staff Capacity'!$G$10:$G$39,5,'Staff Capacity'!$H$10:$H$39,$D$3),SUMIF('Staff Capacity'!$G$10:$G$39,5,'Staff Capacity'!$I$10:$I$39))","v":0},{"$f":"IF($D$3<>\"\",SUMIFS('Staff Capacity'!$I$10:$I$39,'Staff Capacity'!$G$10:$G$39,5,'Staff Capacity'!$H$10:$H$39,$D$3),SUMIF('Staff Capacity'!$G$10:$G$39,5,'Staff Capacity'!$I$10:$I$39))","v":0},{"$f":"IF($D$3<>\"\",SUMIFS('Staff Capacity'!$I$10:$I$39,'Staff Capacity'!$G$10:$G$39,5,'Staff Capacity'!$H$10:$H$39,$D$3),SUMIF('Staff Capacity'!$G$10:$G$39,5,'Staff Capacity'!$I$10:$I$39))","v":0},{"$f":"IF($D$3<>\"\",SUMIFS('Staff Capacity'!$I$10:$I$39,'Staff Capacity'!$G$10:$G$39,5,'Staff Capacity'!$H$10:$H$39,$D$3),SUMIF('Staff Capacity'!$G$10:$G$39,5,'Staff Capacity'!$I$10:$I$39))","v":0},{"$f":"IF($D$3<>\"\",SUMIFS('Staff Capacity'!$I$10:$I$39,'Staff Capacity'!$G$10:$G$39,5,'Staff Capacity'!$H$10:$H$39,$D$3),SUMIF('Staff Capacity'!$G$10:$G$39,5,'Staff Capacity'!$I$10:$I$39))","v":0},{"$f":"IF($D$3<>\"\",SUMIFS('Staff Capacity'!$I$10:$I$39,'Staff Capacity'!$G$10:$G$39,5,'Staff Capacity'!$H$10:$H$39,$D$3),SUMIF('Staff Capacity'!$G$10:$G$39,5,'Staff Capacity'!$I$10:$I$39))","v":0},{"$f":"IF($D$3<>\"\",SUMIFS('Staff Capacity'!$I$10:$I$39,'Staff Capacity'!$G$10:$G$39,5,'Staff Capacity'!$H$10:$H$39,$D$3),SUMIF('Staff Capacity'!$G$10:$G$39,5,'Staff Capacity'!$I$10:$I$39))","v":0},{"$f":"IF($D$3<>\"\",SUMIFS('Staff Capacity'!$I$10:$I$39,'Staff Capacity'!$G$10:$G$39,5,'Staff Capacity'!$H$10:$H$39,$D$3),SUMIF('Staff Capacity'!$G$10:$G$39,5,'Staff Capacity'!$I$10:$I$39))","v":0},{"$f":"IF($D$3<>\"\",SUMIFS('Staff Capacity'!$I$10:$I$39,'Staff Capacity'!$G$10:$G$39,5,'Staff Capacity'!$H$10:$H$39,$D$3),SUMIF('Staff Capacity'!$G$10:$G$39,5,'Staff Capacity'!$I$10:$I$39))","v":0},{"$f":"IF($D$3<>\"\",SUMIFS('Staff Capacity'!$I$10:$I$39,'Staff Capacity'!$G$10:$G$39,5,'Staff Capacity'!$H$10:$H$39,$D$3),SUMIF('Staff Capacity'!$G$10:$G$39,5,'Staff Capacity'!$I$10:$I$39))","v":0},{"$f":"IF($D$3<>\"\",SUMIFS('Staff Capacity'!$I$10:$I$39,'Staff Capacity'!$G$10:$G$39,5,'Staff Capacity'!$H$10:$H$39,$D$3),SUMIF('Staff Capacity'!$G$10:$G$39,5,'Staff Capacity'!$I$10:$I$39))","v":0},{"$f":"IF($D$3<>\"\",SUMIFS('Staff Capacity'!$I$10:$I$39,'Staff Capacity'!$G$10:$G$39,5,'Staff Capacity'!$H$10:$H$39,$D$3),SUMIF('Staff Capacity'!$G$10:$G$39,5,'Staff Capacity'!$I$10:$I$39))","v":0},{"$f":"IF($D$3<>\"\",SUMIFS('Staff Capacity'!$I$10:$I$39,'Staff Capacity'!$G$10:$G$39,5,'Staff Capacity'!$H$10:$H$39,$D$3),SUMIF('Staff Capacity'!$G$10:$G$39,5,'Staff Capacity'!$I$10:$I$39))","v":0},{"$f":"IF($D$3<>\"\",SUMIFS('Staff Capacity'!$I$10:$I$39,'Staff Capacity'!$G$10:$G$39,5,'Staff Capacity'!$H$10:$H$39,$D$3),SUMIF('Staff Capacity'!$G$10:$G$39,5,'Staff Capacity'!$I$10:$I$39))","v":0},{"$f":"IF($D$3<>\"\",SUMIFS('Staff Capacity'!$I$10:$I$39,'Staff Capacity'!$G$10:$G$39,5,'Staff Capacity'!$H$10:$H$39,$D$3),SUMIF('Staff Capacity'!$G$10:$G$39,5,'Staff Capacity'!$I$10:$I$39))","v":0},{"$f":"IF($D$3<>\"\",SUMIFS('Staff Capacity'!$I$10:$I$39,'Staff Capacity'!$G$10:$G$39,5,'Staff Capacity'!$H$10:$H$39,$D$3),SUMIF('Staff Capacity'!$G$10:$G$39,5,'Staff Capacity'!$I$10:$I$39))","v":0},{"$f":"IF($D$3<>\"\",SUMIFS('Staff Capacity'!$I$10:$I$39,'Staff Capacity'!$G$10:$G$39,5,'Staff Capacity'!$H$10:$H$39,$D$3),SUMIF('Staff Capacity'!$G$10:$G$39,5,'Staff Capacity'!$I$10:$I$39))","v":0},{"$f":"IF($D$3<>\"\",SUMIFS('Staff Capacity'!$I$10:$I$39,'Staff Capacity'!$G$10:$G$39,5,'Staff Capacity'!$H$10:$H$39,$D$3),SUMIF('Staff Capacity'!$G$10:$G$39,5,'Staff Capacity'!$I$10:$I$39))","v":0},{"$f":"IF($D$3<>\"\",SUMIFS('Staff Capacity'!$I$10:$I$39,'Staff Capacity'!$G$10:$G$39,5,'Staff Capacity'!$H$10:$H$39,$D$3),SUMIF('Staff Capacity'!$G$10:$G$39,5,'Staff Capacity'!$I$10:$I$39))","v":0},{"$f":"IF($D$3<>\"\",SUMIFS('Staff Capacity'!$I$10:$I$39,'Staff Capacity'!$G$10:$G$39,5,'Staff Capacity'!$H$10:$H$39,$D$3),SUMIF('Staff Capacity'!$G$10:$G$39,5,'Staff Capacity'!$I$10:$I$39))","v":0},{"$f":"IF($D$3<>\"\",SUMIFS('Staff Capacity'!$I$10:$I$39,'Staff Capacity'!$G$10:$G$39,5,'Staff Capacity'!$H$10:$H$39,$D$3),SUMIF('Staff Capacity'!$G$10:$G$39,5,'Staff Capacity'!$I$10:$I$39))","v":0},{"$f":"IF($D$3<>\"\",SUMIFS('Staff Capacity'!$I$10:$I$39,'Staff Capacity'!$G$10:$G$39,5,'Staff Capacity'!$H$10:$H$39,$D$3),SUMIF('Staff Capacity'!$G$10:$G$39,5,'Staff Capacity'!$I$10:$I$39))","v":0},{"$f":"IF($D$3<>\"\",SUMIFS('Staff Capacity'!$I$10:$I$39,'Staff Capacity'!$G$10:$G$39,5,'Staff Capacity'!$H$10:$H$39,$D$3),SUMIF('Staff Capacity'!$G$10:$G$39,5,'Staff Capacity'!$I$10:$I$39))","v":0},{"$f":"IF($D$3<>\"\",SUMIFS('Staff Capacity'!$I$10:$I$39,'Staff Capacity'!$G$10:$G$39,5,'Staff Capacity'!$H$10:$H$39,$D$3),SUMIF('Staff Capacity'!$G$10:$G$39,5,'Staff Capacity'!$I$10:$I$39))","v":0},{"$f":"IF($D$3<>\"\",SUMIFS('Staff Capacity'!$I$10:$I$39,'Staff Capacity'!$G$10:$G$39,5,'Staff Capacity'!$H$10:$H$39,$D$3),SUMIF('Staff Capacity'!$G$10:$G$39,5,'Staff Capacity'!$I$10:$I$39))","v":0},{"$f":"IF($D$3<>\"\",SUMIFS('Staff Capacity'!$I$10:$I$39,'Staff Capacity'!$G$10:$G$39,5,'Staff Capacity'!$H$10:$H$39,$D$3),SUMIF('Staff Capacity'!$G$10:$G$39,5,'Staff Capacity'!$I$10:$I$39))","v":0},{"$f":"IF($D$3<>\"\",SUMIFS('Staff Capacity'!$I$10:$I$39,'Staff Capacity'!$G$10:$G$39,5,'Staff Capacity'!$H$10:$H$39,$D$3),SUMIF('Staff Capacity'!$G$10:$G$39,5,'Staff Capacity'!$I$10:$I$39))","v":0},{"$f":"IF($D$3<>\"\",SUMIFS('Staff Capacity'!$I$10:$I$39,'Staff Capacity'!$G$10:$G$39,5,'Staff Capacity'!$H$10:$H$39,$D$3),SUMIF('Staff Capacity'!$G$10:$G$39,5,'Staff Capacity'!$I$10:$I$39))","v":0},{"$f":"IF($D$3<>\"\",SUMIFS('Staff Capacity'!$I$10:$I$39,'Staff Capacity'!$G$10:$G$39,5,'Staff Capacity'!$H$10:$H$39,$D$3),SUMIF('Staff Capacity'!$G$10:$G$39,5,'Staff Capacity'!$I$10:$I$39))","v":0},{"$f":"IF($D$3<>\"\",SUMIFS('Staff Capacity'!$I$10:$I$39,'Staff Capacity'!$G$10:$G$39,5,'Staff Capacity'!$H$10:$H$39,$D$3),SUMIF('Staff Capacity'!$G$10:$G$39,5,'Staff Capacity'!$I$10:$I$39))","v":0},{"$f":"IF($D$3<>\"\",SUMIFS('Staff Capacity'!$I$10:$I$39,'Staff Capacity'!$G$10:$G$39,5,'Staff Capacity'!$H$10:$H$39,$D$3),SUMIF('Staff Capacity'!$G$10:$G$39,5,'Staff Capacity'!$I$10:$I$39))","v":0},{"$f":"IF($D$3<>\"\",SUMIFS('Staff Capacity'!$I$10:$I$39,'Staff Capacity'!$G$10:$G$39,5,'Staff Capacity'!$H$10:$H$39,$D$3),SUMIF('Staff Capacity'!$G$10:$G$39,5,'Staff Capacity'!$I$10:$I$39))","v":0},{"$f":"IF($D$3<>\"\",SUMIFS('Staff Capacity'!$I$10:$I$39,'Staff Capacity'!$G$10:$G$39,5,'Staff Capacity'!$H$10:$H$39,$D$3),SUMIF('Staff Capacity'!$G$10:$G$39,5,'Staff Capacity'!$I$10:$I$39))","v":0},{"$f":"IF($D$3<>\"\",SUMIFS('Staff Capacity'!$I$10:$I$39,'Staff Capacity'!$G$10:$G$39,5,'Staff Capacity'!$H$10:$H$39,$D$3),SUMIF('Staff Capacity'!$G$10:$G$39,5,'Staff Capacity'!$I$10:$I$39))","v":0},{"$f":"IF($D$3<>\"\",SUMIFS('Staff Capacity'!$I$10:$I$39,'Staff Capacity'!$G$10:$G$39,5,'Staff Capacity'!$H$10:$H$39,$D$3),SUMIF('Staff Capacity'!$G$10:$G$39,5,'Staff Capacity'!$I$10:$I$39))","v":0},{"$f":"IF($D$3<>\"\",SUMIFS('Staff Capacity'!$I$10:$I$39,'Staff Capacity'!$G$10:$G$39,5,'Staff Capacity'!$H$10:$H$39,$D$3),SUMIF('Staff Capacity'!$G$10:$G$39,5,'Staff Capacity'!$I$10:$I$39))","v":0},{"$f":"IF($D$3<>\"\",SUMIFS('Staff Capacity'!$I$10:$I$39,'Staff Capacity'!$G$10:$G$39,5,'Staff Capacity'!$H$10:$H$39,$D$3),SUMIF('Staff Capacity'!$G$10:$G$39,5,'Staff Capacity'!$I$10:$I$39))","v":0},{"$f":"IF($D$3<>\"\",SUMIFS('Staff Capacity'!$I$10:$I$39,'Staff Capacity'!$G$10:$G$39,5,'Staff Capacity'!$H$10:$H$39,$D$3),SUMIF('Staff Capacity'!$G$10:$G$39,5,'Staff Capacity'!$I$10:$I$39))","v":0},{"$f":"IF($D$3<>\"\",SUMIFS('Staff Capacity'!$I$10:$I$39,'Staff Capacity'!$G$10:$G$39,5,'Staff Capacity'!$H$10:$H$39,$D$3),SUMIF('Staff Capacity'!$G$10:$G$39,5,'Staff Capacity'!$I$10:$I$39))","v":0},{"$f":"IF($D$3<>\"\",SUMIFS('Staff Capacity'!$I$10:$I$39,'Staff Capacity'!$G$10:$G$39,5,'Staff Capacity'!$H$10:$H$39,$D$3),SUMIF('Staff Capacity'!$G$10:$G$39,5,'Staff Capacity'!$I$10:$I$39))","v":0},{"$f":"IF($D$3<>\"\",SUMIFS('Staff Capacity'!$I$10:$I$39,'Staff Capacity'!$G$10:$G$39,5,'Staff Capacity'!$H$10:$H$39,$D$3),SUMIF('Staff Capacity'!$G$10:$G$39,5,'Staff Capacity'!$I$10:$I$39))","v":0},{"$f":"IF($D$3<>\"\",SUMIFS('Staff Capacity'!$I$10:$I$39,'Staff Capacity'!$G$10:$G$39,5,'Staff Capacity'!$H$10:$H$39,$D$3),SUMIF('Staff Capacity'!$G$10:$G$39,5,'Staff Capacity'!$I$10:$I$39))","v":0},{"$f":"IF($D$3<>\"\",SUMIFS('Staff Capacity'!$I$10:$I$39,'Staff Capacity'!$G$10:$G$39,5,'Staff Capacity'!$H$10:$H$39,$D$3),SUMIF('Staff Capacity'!$G$10:$G$39,5,'Staff Capacity'!$I$10:$I$39))","v":0},{"$f":"IF($D$3<>\"\",SUMIFS('Staff Capacity'!$I$10:$I$39,'Staff Capacity'!$G$10:$G$39,5,'Staff Capacity'!$H$10:$H$39,$D$3),SUMIF('Staff Capacity'!$G$10:$G$39,5,'Staff Capacity'!$I$10:$I$39))","v":0},{"$f":"IF($D$3<>\"\",SUMIFS('Staff Capacity'!$I$10:$I$39,'Staff Capacity'!$G$10:$G$39,5,'Staff Capacity'!$H$10:$H$39,$D$3),SUMIF('Staff Capacity'!$G$10:$G$39,5,'Staff Capacity'!$I$10:$I$39))","v":0},{"$f":"IF($D$3<>\"\",SUMIFS('Staff Capacity'!$I$10:$I$39,'Staff Capacity'!$G$10:$G$39,5,'Staff Capacity'!$H$10:$H$39,$D$3),SUMIF('Staff Capacity'!$G$10:$G$39,5,'Staff Capacity'!$I$10:$I$39))","v":0},{"$f":"IF($D$3<>\"\",SUMIFS('Staff Capacity'!$I$10:$I$39,'Staff Capacity'!$G$10:$G$39,5,'Staff Capacity'!$H$10:$H$39,$D$3),SUMIF('Staff Capacity'!$G$10:$G$39,5,'Staff Capacity'!$I$10:$I$39))","v":0},{"$f":"IF($D$3<>\"\",SUMIFS('Staff Capacity'!$I$10:$I$39,'Staff Capacity'!$G$10:$G$39,5,'Staff Capacity'!$H$10:$H$39,$D$3),SUMIF('Staff Capacity'!$G$10:$G$39,5,'Staff Capacity'!$I$10:$I$39))","v":0},{"$f":"IF($D$3<>\"\",SUMIFS('Staff Capacity'!$I$10:$I$39,'Staff Capacity'!$G$10:$G$39,5,'Staff Capacity'!$H$10:$H$39,$D$3),SUMIF('Staff Capacity'!$G$10:$G$39,5,'Staff Capacity'!$I$10:$I$39))","v":0},{"$f":"IF($D$3<>\"\",SUMIFS('Staff Capacity'!$I$10:$I$39,'Staff Capacity'!$G$10:$G$39,5,'Staff Capacity'!$H$10:$H$39,$D$3),SUMIF('Staff Capacity'!$G$10:$G$39,5,'Staff Capacity'!$I$10:$I$39))","v":0},{"$f":"IF($D$3<>\"\",SUMIFS('Staff Capacity'!$I$10:$I$39,'Staff Capacity'!$G$10:$G$39,5,'Staff Capacity'!$H$10:$H$39,$D$3),SUMIF('Staff Capacity'!$G$10:$G$39,5,'Staff Capacity'!$I$10:$I$39))","v":0},{"$f":"IF($D$3<>\"\",SUMIFS('Staff Capacity'!$I$10:$I$39,'Staff Capacity'!$G$10:$G$39,5,'Staff Capacity'!$H$10:$H$39,$D$3),SUMIF('Staff Capacity'!$G$10:$G$39,5,'Staff Capacity'!$I$10:$I$39))","v":0},{"$f":"IF($D$3<>\"\",SUMIFS('Staff Capacity'!$I$10:$I$39,'Staff Capacity'!$G$10:$G$39,5,'Staff Capacity'!$H$10:$H$39,$D$3),SUMIF('Staff Capacity'!$G$10:$G$39,5,'Staff Capacity'!$I$10:$I$39))","v":0},{"$f":"IF($D$3<>\"\",SUMIFS('Staff Capacity'!$I$10:$I$39,'Staff Capacity'!$G$10:$G$39,5,'Staff Capacity'!$H$10:$H$39,$D$3),SUMIF('Staff Capacity'!$G$10:$G$39,5,'Staff Capacity'!$I$10:$I$39))","v":0},{"$f":"IF($D$3<>\"\",SUMIFS('Staff Capacity'!$I$10:$I$39,'Staff Capacity'!$G$10:$G$39,5,'Staff Capacity'!$H$10:$H$39,$D$3),SUMIF('Staff Capacity'!$G$10:$G$39,5,'Staff Capacity'!$I$10:$I$39))","v":0},{"$f":"IF($D$3<>\"\",SUMIFS('Staff Capacity'!$I$10:$I$39,'Staff Capacity'!$G$10:$G$39,5,'Staff Capacity'!$H$10:$H$39,$D$3),SUMIF('Staff Capacity'!$G$10:$G$39,5,'Staff Capacity'!$I$10:$I$39))","v":0},{"$f":"IF($D$3<>\"\",SUMIFS('Staff Capacity'!$I$10:$I$39,'Staff Capacity'!$G$10:$G$39,5,'Staff Capacity'!$H$10:$H$39,$D$3),SUMIF('Staff Capacity'!$G$10:$G$39,5,'Staff Capacity'!$I$10:$I$39))","v":0},{"$f":"IF($D$3<>\"\",SUMIFS('Staff Capacity'!$I$10:$I$39,'Staff Capacity'!$G$10:$G$39,5,'Staff Capacity'!$H$10:$H$39,$D$3),SUMIF('Staff Capacity'!$G$10:$G$39,5,'Staff Capacity'!$I$10:$I$39))","v":0},{"$f":"IF($D$3<>\"\",SUMIFS('Staff Capacity'!$I$10:$I$39,'Staff Capacity'!$G$10:$G$39,5,'Staff Capacity'!$H$10:$H$39,$D$3),SUMIF('Staff Capacity'!$G$10:$G$39,5,'Staff Capacity'!$I$10:$I$39))","v":0},{"$f":"IF($D$3<>\"\",SUMIFS('Staff Capacity'!$I$10:$I$39,'Staff Capacity'!$G$10:$G$39,5,'Staff Capacity'!$H$10:$H$39,$D$3),SUMIF('Staff Capacity'!$G$10:$G$39,5,'Staff Capacity'!$I$10:$I$39))","v":0},{"$f":"IF($D$3<>\"\",SUMIFS('Staff Capacity'!$I$10:$I$39,'Staff Capacity'!$G$10:$G$39,5,'Staff Capacity'!$H$10:$H$39,$D$3),SUMIF('Staff Capacity'!$G$10:$G$39,5,'Staff Capacity'!$I$10:$I$39))","v":0},{"$f":"IF($D$3<>\"\",SUMIFS('Staff Capacity'!$I$10:$I$39,'Staff Capacity'!$G$10:$G$39,5,'Staff Capacity'!$H$10:$H$39,$D$3),SUMIF('Staff Capacity'!$G$10:$G$39,5,'Staff Capacity'!$I$10:$I$39))","v":0},{"$f":"IF($D$3<>\"\",SUMIFS('Staff Capacity'!$I$10:$I$39,'Staff Capacity'!$G$10:$G$39,5,'Staff Capacity'!$H$10:$H$39,$D$3),SUMIF('Staff Capacity'!$G$10:$G$39,5,'Staff Capacity'!$I$10:$I$39))","v":0},{"$f":"IF($D$3<>\"\",SUMIFS('Staff Capacity'!$I$10:$I$39,'Staff Capacity'!$G$10:$G$39,5,'Staff Capacity'!$H$10:$H$39,$D$3),SUMIF('Staff Capacity'!$G$10:$G$39,5,'Staff Capacity'!$I$10:$I$39))","v":0},{"$f":"IF($D$3<>\"\",SUMIFS('Staff Capacity'!$I$10:$I$39,'Staff Capacity'!$G$10:$G$39,5,'Staff Capacity'!$H$10:$H$39,$D$3),SUMIF('Staff Capacity'!$G$10:$G$39,5,'Staff Capacity'!$I$10:$I$39))","v":0},{"$f":"IF($D$3<>\"\",SUMIFS('Staff Capacity'!$I$10:$I$39,'Staff Capacity'!$G$10:$G$39,5,'Staff Capacity'!$H$10:$H$39,$D$3),SUMIF('Staff Capacity'!$G$10:$G$39,5,'Staff Capacity'!$I$10:$I$39))","v":0},{"$f":"IF($D$3<>\"\",SUMIFS('Staff Capacity'!$I$10:$I$39,'Staff Capacity'!$G$10:$G$39,5,'Staff Capacity'!$H$10:$H$39,$D$3),SUMIF('Staff Capacity'!$G$10:$G$39,5,'Staff Capacity'!$I$10:$I$39))","v":0},{"$f":"IF($D$3<>\"\",SUMIFS('Staff Capacity'!$I$10:$I$39,'Staff Capacity'!$G$10:$G$39,5,'Staff Capacity'!$H$10:$H$39,$D$3),SUMIF('Staff Capacity'!$G$10:$G$39,5,'Staff Capacity'!$I$10:$I$39))","v":0},{"$f":"IF($D$3<>\"\",SUMIFS('Staff Capacity'!$I$10:$I$39,'Staff Capacity'!$G$10:$G$39,5,'Staff Capacity'!$H$10:$H$39,$D$3),SUMIF('Staff Capacity'!$G$10:$G$39,5,'Staff Capacity'!$I$10:$I$39))","v":0},{"$f":"IF($D$3<>\"\",SUMIFS('Staff Capacity'!$I$10:$I$39,'Staff Capacity'!$G$10:$G$39,5,'Staff Capacity'!$H$10:$H$39,$D$3),SUMIF('Staff Capacity'!$G$10:$G$39,5,'Staff Capacity'!$I$10:$I$39))","v":0},{"$f":"IF($D$3<>\"\",SUMIFS('Staff Capacity'!$I$10:$I$39,'Staff Capacity'!$G$10:$G$39,5,'Staff Capacity'!$H$10:$H$39,$D$3),SUMIF('Staff Capacity'!$G$10:$G$39,5,'Staff Capacity'!$I$10:$I$39))","v":0},{"$f":"IF($D$3<>\"\",SUMIFS('Staff Capacity'!$I$10:$I$39,'Staff Capacity'!$G$10:$G$39,5,'Staff Capacity'!$H$10:$H$39,$D$3),SUMIF('Staff Capacity'!$G$10:$G$39,5,'Staff Capacity'!$I$10:$I$39))","v":0},{"$f":"IF($D$3<>\"\",SUMIFS('Staff Capacity'!$I$10:$I$39,'Staff Capacity'!$G$10:$G$39,5,'Staff Capacity'!$H$10:$H$39,$D$3),SUMIF('Staff Capacity'!$G$10:$G$39,5,'Staff Capacity'!$I$10:$I$39))","v":0},{"$f":"IF($D$3<>\"\",SUMIFS('Staff Capacity'!$I$10:$I$39,'Staff Capacity'!$G$10:$G$39,5,'Staff Capacity'!$H$10:$H$39,$D$3),SUMIF('Staff Capacity'!$G$10:$G$39,5,'Staff Capacity'!$I$10:$I$39))","v":0},{"$f":"IF($D$3<>\"\",SUMIFS('Staff Capacity'!$I$10:$I$39,'Staff Capacity'!$G$10:$G$39,5,'Staff Capacity'!$H$10:$H$39,$D$3),SUMIF('Staff Capacity'!$G$10:$G$39,5,'Staff Capacity'!$I$10:$I$39))","v":0},{"$f":"IF($D$3<>\"\",SUMIFS('Staff Capacity'!$I$10:$I$39,'Staff Capacity'!$G$10:$G$39,5,'Staff Capacity'!$H$10:$H$39,$D$3),SUMIF('Staff Capacity'!$G$10:$G$39,5,'Staff Capacity'!$I$10:$I$39))","v":0},{"$f":"IF($D$3<>\"\",SUMIFS('Staff Capacity'!$I$10:$I$39,'Staff Capacity'!$G$10:$G$39,5,'Staff Capacity'!$H$10:$H$39,$D$3),SUMIF('Staff Capacity'!$G$10:$G$39,5,'Staff Capacity'!$I$10:$I$39))","v":0},{"$f":"IF($D$3<>\"\",SUMIFS('Staff Capacity'!$I$10:$I$39,'Staff Capacity'!$G$10:$G$39,5,'Staff Capacity'!$H$10:$H$39,$D$3),SUMIF('Staff Capacity'!$G$10:$G$39,5,'Staff Capacity'!$I$10:$I$39))","v":0},{"$f":"IF($D$3<>\"\",SUMIFS('Staff Capacity'!$I$10:$I$39,'Staff Capacity'!$G$10:$G$39,5,'Staff Capacity'!$H$10:$H$39,$D$3),SUMIF('Staff Capacity'!$G$10:$G$39,5,'Staff Capacity'!$I$10:$I$39))","v":0},{"$f":"IF($D$3<>\"\",SUMIFS('Staff Capacity'!$I$10:$I$39,'Staff Capacity'!$G$10:$G$39,5,'Staff Capacity'!$H$10:$H$39,$D$3),SUMIF('Staff Capacity'!$G$10:$G$39,5,'Staff Capacity'!$I$10:$I$39))","v":0},{"$f":"IF($D$3<>\"\",SUMIFS('Staff Capacity'!$I$10:$I$39,'Staff Capacity'!$G$10:$G$39,5,'Staff Capacity'!$H$10:$H$39,$D$3),SUMIF('Staff Capacity'!$G$10:$G$39,5,'Staff Capacity'!$I$10:$I$39))","v":0},{"$f":"IF($D$3<>\"\",SUMIFS('Staff Capacity'!$I$10:$I$39,'Staff Capacity'!$G$10:$G$39,5,'Staff Capacity'!$H$10:$H$39,$D$3),SUMIF('Staff Capacity'!$G$10:$G$39,5,'Staff Capacity'!$I$10:$I$39))","v":0},{"$f":"IF($D$3<>\"\",SUMIFS('Staff Capacity'!$I$10:$I$39,'Staff Capacity'!$G$10:$G$39,5,'Staff Capacity'!$H$10:$H$39,$D$3),SUMIF('Staff Capacity'!$G$10:$G$39,5,'Staff Capacity'!$I$10:$I$39))","v":0},{"$f":"IF($D$3<>\"\",SUMIFS('Staff Capacity'!$I$10:$I$39,'Staff Capacity'!$G$10:$G$39,5,'Staff Capacity'!$H$10:$H$39,$D$3),SUMIF('Staff Capacity'!$G$10:$G$39,5,'Staff Capacity'!$I$10:$I$39))","v":0},{"$f":"IF($D$3<>\"\",SUMIFS('Staff Capacity'!$I$10:$I$39,'Staff Capacity'!$G$10:$G$39,5,'Staff Capacity'!$H$10:$H$39,$D$3),SUMIF('Staff Capacity'!$G$10:$G$39,5,'Staff Capacity'!$I$10:$I$39))","v":0},{"$f":"IF($D$3<>\"\",SUMIFS('Staff Capacity'!$I$10:$I$39,'Staff Capacity'!$G$10:$G$39,5,'Staff Capacity'!$H$10:$H$39,$D$3),SUMIF('Staff Capacity'!$G$10:$G$39,5,'Staff Capacity'!$I$10:$I$39))","v":0},{"$f":"IF($D$3<>\"\",SUMIFS('Staff Capacity'!$I$10:$I$39,'Staff Capacity'!$G$10:$G$39,5,'Staff Capacity'!$H$10:$H$39,$D$3),SUMIF('Staff Capacity'!$G$10:$G$39,5,'Staff Capacity'!$I$10:$I$39))","v":0},{"$f":"IF($D$3<>\"\",SUMIFS('Staff Capacity'!$I$10:$I$39,'Staff Capacity'!$G$10:$G$39,5,'Staff Capacity'!$H$10:$H$39,$D$3),SUMIF('Staff Capacity'!$G$10:$G$39,5,'Staff Capacity'!$I$10:$I$39))","v":0},{"$f":"IF($D$3<>\"\",SUMIFS('Staff Capacity'!$I$10:$I$39,'Staff Capacity'!$G$10:$G$39,5,'Staff Capacity'!$H$10:$H$39,$D$3),SUMIF('Staff Capacity'!$G$10:$G$39,5,'Staff Capacity'!$I$10:$I$39))","v":0},{"$f":"IF($D$3<>\"\",SUMIFS('Staff Capacity'!$I$10:$I$39,'Staff Capacity'!$G$10:$G$39,5,'Staff Capacity'!$H$10:$H$39,$D$3),SUMIF('Staff Capacity'!$G$10:$G$39,5,'Staff Capacity'!$I$10:$I$39))","v":0},{"$f":"IF($D$3<>\"\",SUMIFS('Staff Capacity'!$I$10:$I$39,'Staff Capacity'!$G$10:$G$39,5,'Staff Capacity'!$H$10:$H$39,$D$3),SUMIF('Staff Capacity'!$G$10:$G$39,5,'Staff Capacity'!$I$10:$I$39))","v":0},{"$f":"IF($D$3<>\"\",SUMIFS('Staff Capacity'!$I$10:$I$39,'Staff Capacity'!$G$10:$G$39,5,'Staff Capacity'!$H$10:$H$39,$D$3),SUMIF('Staff Capacity'!$G$10:$G$39,5,'Staff Capacity'!$I$10:$I$39))","v":0},{"$f":"IF($D$3<>\"\",SUMIFS('Staff Capacity'!$I$10:$I$39,'Staff Capacity'!$G$10:$G$39,5,'Staff Capacity'!$H$10:$H$39,$D$3),SUMIF('Staff Capacity'!$G$10:$G$39,5,'Staff Capacity'!$I$10:$I$39))","v":0},{"$f":"IF($D$3<>\"\",SUMIFS('Staff Capacity'!$I$10:$I$39,'Staff Capacity'!$G$10:$G$39,5,'Staff Capacity'!$H$10:$H$39,$D$3),SUMIF('Staff Capacity'!$G$10:$G$39,5,'Staff Capacity'!$I$10:$I$39))","v":0},{"$f":"IF($D$3<>\"\",SUMIFS('Staff Capacity'!$I$10:$I$39,'Staff Capacity'!$G$10:$G$39,5,'Staff Capacity'!$H$10:$H$39,$D$3),SUMIF('Staff Capacity'!$G$10:$G$39,5,'Staff Capacity'!$I$10:$I$39))","v":0},{"$f":"IF($D$3<>\"\",SUMIFS('Staff Capacity'!$I$10:$I$39,'Staff Capacity'!$G$10:$G$39,5,'Staff Capacity'!$H$10:$H$39,$D$3),SUMIF('Staff Capacity'!$G$10:$G$39,5,'Staff Capacity'!$I$10:$I$39))","v":0},{"$f":"IF($D$3<>\"\",SUMIFS('Staff Capacity'!$I$10:$I$39,'Staff Capacity'!$G$10:$G$39,5,'Staff Capacity'!$H$10:$H$39,$D$3),SUMIF('Staff Capacity'!$G$10:$G$39,5,'Staff Capacity'!$I$10:$I$39))","v":0},{"$f":"IF($D$3<>\"\",SUMIFS('Staff Capacity'!$I$10:$I$39,'Staff Capacity'!$G$10:$G$39,5,'Staff Capacity'!$H$10:$H$39,$D$3),SUMIF('Staff Capacity'!$G$10:$G$39,5,'Staff Capacity'!$I$10:$I$39))","v":0},{"$f":"IF($D$3<>\"\",SUMIFS('Staff Capacity'!$I$10:$I$39,'Staff Capacity'!$G$10:$G$39,5,'Staff Capacity'!$H$10:$H$39,$D$3),SUMIF('Staff Capacity'!$G$10:$G$39,5,'Staff Capacity'!$I$10:$I$39))","v":0},{"$f":"IF($D$3<>\"\",SUMIFS('Staff Capacity'!$I$10:$I$39,'Staff Capacity'!$G$10:$G$39,5,'Staff Capacity'!$H$10:$H$39,$D$3),SUMIF('Staff Capacity'!$G$10:$G$39,5,'Staff Capacity'!$I$10:$I$39))","v":0},{"$f":"IF($D$3<>\"\",SUMIFS('Staff Capacity'!$I$10:$I$39,'Staff Capacity'!$G$10:$G$39,5,'Staff Capacity'!$H$10:$H$39,$D$3),SUMIF('Staff Capacity'!$G$10:$G$39,5,'Staff Capacity'!$I$10:$I$39))","v":0},{"$f":"IF($D$3<>\"\",SUMIFS('Staff Capacity'!$I$10:$I$39,'Staff Capacity'!$G$10:$G$39,5,'Staff Capacity'!$H$10:$H$39,$D$3),SUMIF('Staff Capacity'!$G$10:$G$39,5,'Staff Capacity'!$I$10:$I$39))","v":0},{"$f":"IF($D$3<>\"\",SUMIFS('Staff Capacity'!$I$10:$I$39,'Staff Capacity'!$G$10:$G$39,5,'Staff Capacity'!$H$10:$H$39,$D$3),SUMIF('Staff Capacity'!$G$10:$G$39,5,'Staff Capacity'!$I$10:$I$39))","v":0},{"$f":"IF($D$3<>\"\",SUMIFS('Staff Capacity'!$I$10:$I$39,'Staff Capacity'!$G$10:$G$39,5,'Staff Capacity'!$H$10:$H$39,$D$3),SUMIF('Staff Capacity'!$G$10:$G$39,5,'Staff Capacity'!$I$10:$I$39))","v":0},{"$f":"IF($D$3<>\"\",SUMIFS('Staff Capacity'!$I$10:$I$39,'Staff Capacity'!$G$10:$G$39,5,'Staff Capacity'!$H$10:$H$39,$D$3),SUMIF('Staff Capacity'!$G$10:$G$39,5,'Staff Capacity'!$I$10:$I$39))","v":0},{"$f":"IF($D$3<>\"\",SUMIFS('Staff Capacity'!$I$10:$I$39,'Staff Capacity'!$G$10:$G$39,5,'Staff Capacity'!$H$10:$H$39,$D$3),SUMIF('Staff Capacity'!$G$10:$G$39,5,'Staff Capacity'!$I$10:$I$39))","v":0},{"$f":"IF($D$3<>\"\",SUMIFS('Staff Capacity'!$I$10:$I$39,'Staff Capacity'!$G$10:$G$39,5,'Staff Capacity'!$H$10:$H$39,$D$3),SUMIF('Staff Capacity'!$G$10:$G$39,5,'Staff Capacity'!$I$10:$I$39))","v":0},{"$f":"IF($D$3<>\"\",SUMIFS('Staff Capacity'!$I$10:$I$39,'Staff Capacity'!$G$10:$G$39,5,'Staff Capacity'!$H$10:$H$39,$D$3),SUMIF('Staff Capacity'!$G$10:$G$39,5,'Staff Capacity'!$I$10:$I$39))","v":0},{"$f":"IF($D$3<>\"\",SUMIFS('Staff Capacity'!$I$10:$I$39,'Staff Capacity'!$G$10:$G$39,5,'Staff Capacity'!$H$10:$H$39,$D$3),SUMIF('Staff Capacity'!$G$10:$G$39,5,'Staff Capacity'!$I$10:$I$39))","v":0},{"$f":"IF($D$3<>\"\",SUMIFS('Staff Capacity'!$I$10:$I$39,'Staff Capacity'!$G$10:$G$39,5,'Staff Capacity'!$H$10:$H$39,$D$3),SUMIF('Staff Capacity'!$G$10:$G$39,5,'Staff Capacity'!$I$10:$I$39))","v":0},{"$f":"IF($D$3<>\"\",SUMIFS('Staff Capacity'!$I$10:$I$39,'Staff Capacity'!$G$10:$G$39,5,'Staff Capacity'!$H$10:$H$39,$D$3),SUMIF('Staff Capacity'!$G$10:$G$39,5,'Staff Capacity'!$I$10:$I$39))","v":0},{"$f":"IF($D$3<>\"\",SUMIFS('Staff Capacity'!$I$10:$I$39,'Staff Capacity'!$G$10:$G$39,5,'Staff Capacity'!$H$10:$H$39,$D$3),SUMIF('Staff Capacity'!$G$10:$G$39,5,'Staff Capacity'!$I$10:$I$39))","v":0},{"$f":"IF($D$3<>\"\",SUMIFS('Staff Capacity'!$I$10:$I$39,'Staff Capacity'!$G$10:$G$39,5,'Staff Capacity'!$H$10:$H$39,$D$3),SUMIF('Staff Capacity'!$G$10:$G$39,5,'Staff Capacity'!$I$10:$I$39))","v":0},{"$f":"IF($D$3<>\"\",SUMIFS('Staff Capacity'!$I$10:$I$39,'Staff Capacity'!$G$10:$G$39,5,'Staff Capacity'!$H$10:$H$39,$D$3),SUMIF('Staff Capacity'!$G$10:$G$39,5,'Staff Capacity'!$I$10:$I$39))","v":0},{"$f":"IF($D$3<>\"\",SUMIFS('Staff Capacity'!$I$10:$I$39,'Staff Capacity'!$G$10:$G$39,5,'Staff Capacity'!$H$10:$H$39,$D$3),SUMIF('Staff Capacity'!$G$10:$G$39,5,'Staff Capacity'!$I$10:$I$39))","v":0},{"$f":"IF($D$3<>\"\",SUMIFS('Staff Capacity'!$I$10:$I$39,'Staff Capacity'!$G$10:$G$39,5,'Staff Capacity'!$H$10:$H$39,$D$3),SUMIF('Staff Capacity'!$G$10:$G$39,5,'Staff Capacity'!$I$10:$I$39))","v":0},{"$f":"IF($D$3<>\"\",SUMIFS('Staff Capacity'!$I$10:$I$39,'Staff Capacity'!$G$10:$G$39,5,'Staff Capacity'!$H$10:$H$39,$D$3),SUMIF('Staff Capacity'!$G$10:$G$39,5,'Staff Capacity'!$I$10:$I$39))","v":0},{"$f":"IF($D$3<>\"\",SUMIFS('Staff Capacity'!$I$10:$I$39,'Staff Capacity'!$G$10:$G$39,5,'Staff Capacity'!$H$10:$H$39,$D$3),SUMIF('Staff Capacity'!$G$10:$G$39,5,'Staff Capacity'!$I$10:$I$39))","v":0},{"$f":"IF($D$3<>\"\",SUMIFS('Staff Capacity'!$I$10:$I$39,'Staff Capacity'!$G$10:$G$39,5,'Staff Capacity'!$H$10:$H$39,$D$3),SUMIF('Staff Capacity'!$G$10:$G$39,5,'Staff Capacity'!$I$10:$I$39))","v":0},{"$f":"IF($D$3<>\"\",SUMIFS('Staff Capacity'!$I$10:$I$39,'Staff Capacity'!$G$10:$G$39,5,'Staff Capacity'!$H$10:$H$39,$D$3),SUMIF('Staff Capacity'!$G$10:$G$39,5,'Staff Capacity'!$I$10:$I$39))","v":0},{"$f":"IF($D$3<>\"\",SUMIFS('Staff Capacity'!$I$10:$I$39,'Staff Capacity'!$G$10:$G$39,5,'Staff Capacity'!$H$10:$H$39,$D$3),SUMIF('Staff Capacity'!$G$10:$G$39,5,'Staff Capacity'!$I$10:$I$39))","v":0},{"$f":"IF($D$3<>\"\",SUMIFS('Staff Capacity'!$I$10:$I$39,'Staff Capacity'!$G$10:$G$39,5,'Staff Capacity'!$H$10:$H$39,$D$3),SUMIF('Staff Capacity'!$G$10:$G$39,5,'Staff Capacity'!$I$10:$I$39))","v":0},{"$f":"IF($D$3<>\"\",SUMIFS('Staff Capacity'!$I$10:$I$39,'Staff Capacity'!$G$10:$G$39,5,'Staff Capacity'!$H$10:$H$39,$D$3),SUMIF('Staff Capacity'!$G$10:$G$39,5,'Staff Capacity'!$I$10:$I$39))","v":0},{"$f":"IF($D$3<>\"\",SUMIFS('Staff Capacity'!$I$10:$I$39,'Staff Capacity'!$G$10:$G$39,5,'Staff Capacity'!$H$10:$H$39,$D$3),SUMIF('Staff Capacity'!$G$10:$G$39,5,'Staff Capacity'!$I$10:$I$39))","v":0},{"$f":"IF($D$3<>\"\",SUMIFS('Staff Capacity'!$I$10:$I$39,'Staff Capacity'!$G$10:$G$39,5,'Staff Capacity'!$H$10:$H$39,$D$3),SUMIF('Staff Capacity'!$G$10:$G$39,5,'Staff Capacity'!$I$10:$I$39))","v":0},{"$f":"IF($D$3<>\"\",SUMIFS('Staff Capacity'!$I$10:$I$39,'Staff Capacity'!$G$10:$G$39,5,'Staff Capacity'!$H$10:$H$39,$D$3),SUMIF('Staff Capacity'!$G$10:$G$39,5,'Staff Capacity'!$I$10:$I$39))","v":0},{"$f":"IF($D$3<>\"\",SUMIFS('Staff Capacity'!$I$10:$I$39,'Staff Capacity'!$G$10:$G$39,5,'Staff Capacity'!$H$10:$H$39,$D$3),SUMIF('Staff Capacity'!$G$10:$G$39,5,'Staff Capacity'!$I$10:$I$39))","v":0},{"$f":"IF($D$3<>\"\",SUMIFS('Staff Capacity'!$I$10:$I$39,'Staff Capacity'!$G$10:$G$39,5,'Staff Capacity'!$H$10:$H$39,$D$3),SUMIF('Staff Capacity'!$G$10:$G$39,5,'Staff Capacity'!$I$10:$I$39))","v":0},{"$f":"IF($D$3<>\"\",SUMIFS('Staff Capacity'!$I$10:$I$39,'Staff Capacity'!$G$10:$G$39,5,'Staff Capacity'!$H$10:$H$39,$D$3),SUMIF('Staff Capacity'!$G$10:$G$39,5,'Staff Capacity'!$I$10:$I$39))","v":0},{"$f":"IF($D$3<>\"\",SUMIFS('Staff Capacity'!$I$10:$I$39,'Staff Capacity'!$G$10:$G$39,5,'Staff Capacity'!$H$10:$H$39,$D$3),SUMIF('Staff Capacity'!$G$10:$G$39,5,'Staff Capacity'!$I$10:$I$39))","v":0},{"$f":"IF($D$3<>\"\",SUMIFS('Staff Capacity'!$I$10:$I$39,'Staff Capacity'!$G$10:$G$39,5,'Staff Capacity'!$H$10:$H$39,$D$3),SUMIF('Staff Capacity'!$G$10:$G$39,5,'Staff Capacity'!$I$10:$I$39))","v":0},{"$f":"IF($D$3<>\"\",SUMIFS('Staff Capacity'!$I$10:$I$39,'Staff Capacity'!$G$10:$G$39,5,'Staff Capacity'!$H$10:$H$39,$D$3),SUMIF('Staff Capacity'!$G$10:$G$39,5,'Staff Capacity'!$I$10:$I$39))","v":0},{"$f":"IF($D$3<>\"\",SUMIFS('Staff Capacity'!$I$10:$I$39,'Staff Capacity'!$G$10:$G$39,5,'Staff Capacity'!$H$10:$H$39,$D$3),SUMIF('Staff Capacity'!$G$10:$G$39,5,'Staff Capacity'!$I$10:$I$39))","v":0},{"$f":"IF($D$3<>\"\",SUMIFS('Staff Capacity'!$I$10:$I$39,'Staff Capacity'!$G$10:$G$39,5,'Staff Capacity'!$H$10:$H$39,$D$3),SUMIF('Staff Capacity'!$G$10:$G$39,5,'Staff Capacity'!$I$10:$I$39))","v":0},{"$f":"IF($D$3<>\"\",SUMIFS('Staff Capacity'!$I$10:$I$39,'Staff Capacity'!$G$10:$G$39,5,'Staff Capacity'!$H$10:$H$39,$D$3),SUMIF('Staff Capacity'!$G$10:$G$39,5,'Staff Capacity'!$I$10:$I$39))","v":0},{"$f":"IF($D$3<>\"\",SUMIFS('Staff Capacity'!$I$10:$I$39,'Staff Capacity'!$G$10:$G$39,5,'Staff Capacity'!$H$10:$H$39,$D$3),SUMIF('Staff Capacity'!$G$10:$G$39,5,'Staff Capacity'!$I$10:$I$39))","v":0},{"$f":"IF($D$3<>\"\",SUMIFS('Staff Capacity'!$I$10:$I$39,'Staff Capacity'!$G$10:$G$39,5,'Staff Capacity'!$H$10:$H$39,$D$3),SUMIF('Staff Capacity'!$G$10:$G$39,5,'Staff Capacity'!$I$10:$I$39))","v":0},{"$f":"IF($D$3<>\"\",SUMIFS('Staff Capacity'!$I$10:$I$39,'Staff Capacity'!$G$10:$G$39,5,'Staff Capacity'!$H$10:$H$39,$D$3),SUMIF('Staff Capacity'!$G$10:$G$39,5,'Staff Capacity'!$I$10:$I$39))","v":0},{"$f":"IF($D$3<>\"\",SUMIFS('Staff Capacity'!$I$10:$I$39,'Staff Capacity'!$G$10:$G$39,5,'Staff Capacity'!$H$10:$H$39,$D$3),SUMIF('Staff Capacity'!$G$10:$G$39,5,'Staff Capacity'!$I$10:$I$39))","v":0},{"$f":"IF($D$3<>\"\",SUMIFS('Staff Capacity'!$I$10:$I$39,'Staff Capacity'!$G$10:$G$39,5,'Staff Capacity'!$H$10:$H$39,$D$3),SUMIF('Staff Capacity'!$G$10:$G$39,5,'Staff Capacity'!$I$10:$I$39))","v":0},{"$f":"IF($D$3<>\"\",SUMIFS('Staff Capacity'!$I$10:$I$39,'Staff Capacity'!$G$10:$G$39,5,'Staff Capacity'!$H$10:$H$39,$D$3),SUMIF('Staff Capacity'!$G$10:$G$39,5,'Staff Capacity'!$I$10:$I$39))","v":0},{"$f":"IF($D$3<>\"\",SUMIFS('Staff Capacity'!$I$10:$I$39,'Staff Capacity'!$G$10:$G$39,5,'Staff Capacity'!$H$10:$H$39,$D$3),SUMIF('Staff Capacity'!$G$10:$G$39,5,'Staff Capacity'!$I$10:$I$39))","v":0},{"$f":"IF($D$3<>\"\",SUMIFS('Staff Capacity'!$I$10:$I$39,'Staff Capacity'!$G$10:$G$39,5,'Staff Capacity'!$H$10:$H$39,$D$3),SUMIF('Staff Capacity'!$G$10:$G$39,5,'Staff Capacity'!$I$10:$I$39))","v":0},{"$f":"IF($D$3<>\"\",SUMIFS('Staff Capacity'!$I$10:$I$39,'Staff Capacity'!$G$10:$G$39,5,'Staff Capacity'!$H$10:$H$39,$D$3),SUMIF('Staff Capacity'!$G$10:$G$39,5,'Staff Capacity'!$I$10:$I$39))","v":0},{"$f":"IF($D$3<>\"\",SUMIFS('Staff Capacity'!$I$10:$I$39,'Staff Capacity'!$G$10:$G$39,5,'Staff Capacity'!$H$10:$H$39,$D$3),SUMIF('Staff Capacity'!$G$10:$G$39,5,'Staff Capacity'!$I$10:$I$39))","v":0},{"$f":"IF($D$3<>\"\",SUMIFS('Staff Capacity'!$I$10:$I$39,'Staff Capacity'!$G$10:$G$39,5,'Staff Capacity'!$H$10:$H$39,$D$3),SUMIF('Staff Capacity'!$G$10:$G$39,5,'Staff Capacity'!$I$10:$I$39))","v":0},{"$f":"IF($D$3<>\"\",SUMIFS('Staff Capacity'!$I$10:$I$39,'Staff Capacity'!$G$10:$G$39,5,'Staff Capacity'!$H$10:$H$39,$D$3),SUMIF('Staff Capacity'!$G$10:$G$39,5,'Staff Capacity'!$I$10:$I$39))","v":0},{"$f":"IF($D$3<>\"\",SUMIFS('Staff Capacity'!$I$10:$I$39,'Staff Capacity'!$G$10:$G$39,5,'Staff Capacity'!$H$10:$H$39,$D$3),SUMIF('Staff Capacity'!$G$10:$G$39,5,'Staff Capacity'!$I$10:$I$39))","v":0},{"$f":"IF($D$3<>\"\",SUMIFS('Staff Capacity'!$I$10:$I$39,'Staff Capacity'!$G$10:$G$39,5,'Staff Capacity'!$H$10:$H$39,$D$3),SUMIF('Staff Capacity'!$G$10:$G$39,5,'Staff Capacity'!$I$10:$I$39))","v":0},{"$f":"IF($D$3<>\"\",SUMIFS('Staff Capacity'!$I$10:$I$39,'Staff Capacity'!$G$10:$G$39,5,'Staff Capacity'!$H$10:$H$39,$D$3),SUMIF('Staff Capacity'!$G$10:$G$39,5,'Staff Capacity'!$I$10:$I$39))","v":0},{"$f":"IF($D$3<>\"\",SUMIFS('Staff Capacity'!$I$10:$I$39,'Staff Capacity'!$G$10:$G$39,5,'Staff Capacity'!$H$10:$H$39,$D$3),SUMIF('Staff Capacity'!$G$10:$G$39,5,'Staff Capacity'!$I$10:$I$39))","v":0},{"$f":"IF($D$3<>\"\",SUMIFS('Staff Capacity'!$I$10:$I$39,'Staff Capacity'!$G$10:$G$39,5,'Staff Capacity'!$H$10:$H$39,$D$3),SUMIF('Staff Capacity'!$G$10:$G$39,5,'Staff Capacity'!$I$10:$I$39))","v":0},{"$f":"IF($D$3<>\"\",SUMIFS('Staff Capacity'!$I$10:$I$39,'Staff Capacity'!$G$10:$G$39,5,'Staff Capacity'!$H$10:$H$39,$D$3),SUMIF('Staff Capacity'!$G$10:$G$39,5,'Staff Capacity'!$I$10:$I$39))","v":0},{"$f":"IF($D$3<>\"\",SUMIFS('Staff Capacity'!$I$10:$I$39,'Staff Capacity'!$G$10:$G$39,5,'Staff Capacity'!$H$10:$H$39,$D$3),SUMIF('Staff Capacity'!$G$10:$G$39,5,'Staff Capacity'!$I$10:$I$39))","v":0},{"$f":"IF($D$3<>\"\",SUMIFS('Staff Capacity'!$I$10:$I$39,'Staff Capacity'!$G$10:$G$39,5,'Staff Capacity'!$H$10:$H$39,$D$3),SUMIF('Staff Capacity'!$G$10:$G$39,5,'Staff Capacity'!$I$10:$I$39))","v":0},{"$f":"IF($D$3<>\"\",SUMIFS('Staff Capacity'!$I$10:$I$39,'Staff Capacity'!$G$10:$G$39,5,'Staff Capacity'!$H$10:$H$39,$D$3),SUMIF('Staff Capacity'!$G$10:$G$39,5,'Staff Capacity'!$I$10:$I$39))","v":0},{"$f":"IF($D$3<>\"\",SUMIFS('Staff Capacity'!$I$10:$I$39,'Staff Capacity'!$G$10:$G$39,5,'Staff Capacity'!$H$10:$H$39,$D$3),SUMIF('Staff Capacity'!$G$10:$G$39,5,'Staff Capacity'!$I$10:$I$39))","v":0},{"$f":"IF($D$3<>\"\",SUMIFS('Staff Capacity'!$I$10:$I$39,'Staff Capacity'!$G$10:$G$39,5,'Staff Capacity'!$H$10:$H$39,$D$3),SUMIF('Staff Capacity'!$G$10:$G$39,5,'Staff Capacity'!$I$10:$I$39))","v":0},{"$f":"IF($D$3<>\"\",SUMIFS('Staff Capacity'!$I$10:$I$39,'Staff Capacity'!$G$10:$G$39,5,'Staff Capacity'!$H$10:$H$39,$D$3),SUMIF('Staff Capacity'!$G$10:$G$39,5,'Staff Capacity'!$I$10:$I$39))","v":0},{"$f":"IF($D$3<>\"\",SUMIFS('Staff Capacity'!$I$10:$I$39,'Staff Capacity'!$G$10:$G$39,5,'Staff Capacity'!$H$10:$H$39,$D$3),SUMIF('Staff Capacity'!$G$10:$G$39,5,'Staff Capacity'!$I$10:$I$39))","v":0},{"$f":"IF($D$3<>\"\",SUMIFS('Staff Capacity'!$I$10:$I$39,'Staff Capacity'!$G$10:$G$39,5,'Staff Capacity'!$H$10:$H$39,$D$3),SUMIF('Staff Capacity'!$G$10:$G$39,5,'Staff Capacity'!$I$10:$I$39))","v":0},{"$f":"IF($D$3<>\"\",SUMIFS('Staff Capacity'!$I$10:$I$39,'Staff Capacity'!$G$10:$G$39,5,'Staff Capacity'!$H$10:$H$39,$D$3),SUMIF('Staff Capacity'!$G$10:$G$39,5,'Staff Capacity'!$I$10:$I$39))","v":0},{"$f":"IF($D$3<>\"\",SUMIFS('Staff Capacity'!$I$10:$I$39,'Staff Capacity'!$G$10:$G$39,5,'Staff Capacity'!$H$10:$H$39,$D$3),SUMIF('Staff Capacity'!$G$10:$G$39,5,'Staff Capacity'!$I$10:$I$39))","v":0},{"$f":"IF($D$3<>\"\",SUMIFS('Staff Capacity'!$I$10:$I$39,'Staff Capacity'!$G$10:$G$39,5,'Staff Capacity'!$H$10:$H$39,$D$3),SUMIF('Staff Capacity'!$G$10:$G$39,5,'Staff Capacity'!$I$10:$I$39))","v":0},{"$f":"IF($D$3<>\"\",SUMIFS('Staff Capacity'!$I$10:$I$39,'Staff Capacity'!$G$10:$G$39,5,'Staff Capacity'!$H$10:$H$39,$D$3),SUMIF('Staff Capacity'!$G$10:$G$39,5,'Staff Capacity'!$I$10:$I$39))","v":0},{"$f":"IF($D$3<>\"\",SUMIFS('Staff Capacity'!$I$10:$I$39,'Staff Capacity'!$G$10:$G$39,5,'Staff Capacity'!$H$10:$H$39,$D$3),SUMIF('Staff Capacity'!$G$10:$G$39,5,'Staff Capacity'!$I$10:$I$39))","v":0},{"$f":"IF($D$3<>\"\",SUMIFS('Staff Capacity'!$I$10:$I$39,'Staff Capacity'!$G$10:$G$39,5,'Staff Capacity'!$H$10:$H$39,$D$3),SUMIF('Staff Capacity'!$G$10:$G$39,5,'Staff Capacity'!$I$10:$I$39))","v":0},{"$f":"IF($D$3<>\"\",SUMIFS('Staff Capacity'!$I$10:$I$39,'Staff Capacity'!$G$10:$G$39,5,'Staff Capacity'!$H$10:$H$39,$D$3),SUMIF('Staff Capacity'!$G$10:$G$39,5,'Staff Capacity'!$I$10:$I$39))","v":0},{"$f":"IF($D$3<>\"\",SUMIFS('Staff Capacity'!$I$10:$I$39,'Staff Capacity'!$G$10:$G$39,5,'Staff Capacity'!$H$10:$H$39,$D$3),SUMIF('Staff Capacity'!$G$10:$G$39,5,'Staff Capacity'!$I$10:$I$39))","v":0},{"$f":"IF($D$3<>\"\",SUMIFS('Staff Capacity'!$I$10:$I$39,'Staff Capacity'!$G$10:$G$39,5,'Staff Capacity'!$H$10:$H$39,$D$3),SUMIF('Staff Capacity'!$G$10:$G$39,5,'Staff Capacity'!$I$10:$I$39))","v":0},{"$f":"IF($D$3<>\"\",SUMIFS('Staff Capacity'!$I$10:$I$39,'Staff Capacity'!$G$10:$G$39,5,'Staff Capacity'!$H$10:$H$39,$D$3),SUMIF('Staff Capacity'!$G$10:$G$39,5,'Staff Capacity'!$I$10:$I$39))","v":0},{"$f":"IF($D$3<>\"\",SUMIFS('Staff Capacity'!$I$10:$I$39,'Staff Capacity'!$G$10:$G$39,5,'Staff Capacity'!$H$10:$H$39,$D$3),SUMIF('Staff Capacity'!$G$10:$G$39,5,'Staff Capacity'!$I$10:$I$39))","v":0},{"$f":"IF($D$3<>\"\",SUMIFS('Staff Capacity'!$I$10:$I$39,'Staff Capacity'!$G$10:$G$39,5,'Staff Capacity'!$H$10:$H$39,$D$3),SUMIF('Staff Capacity'!$G$10:$G$39,5,'Staff Capacity'!$I$10:$I$39))","v":0},{"$f":"IF($D$3<>\"\",SUMIFS('Staff Capacity'!$I$10:$I$39,'Staff Capacity'!$G$10:$G$39,5,'Staff Capacity'!$H$10:$H$39,$D$3),SUMIF('Staff Capacity'!$G$10:$G$39,5,'Staff Capacity'!$I$10:$I$39))","v":0},{"$f":"IF($D$3<>\"\",SUMIFS('Staff Capacity'!$I$10:$I$39,'Staff Capacity'!$G$10:$G$39,5,'Staff Capacity'!$H$10:$H$39,$D$3),SUMIF('Staff Capacity'!$G$10:$G$39,5,'Staff Capacity'!$I$10:$I$39))","v":0},{"$f":"IF($D$3<>\"\",SUMIFS('Staff Capacity'!$I$10:$I$39,'Staff Capacity'!$G$10:$G$39,5,'Staff Capacity'!$H$10:$H$39,$D$3),SUMIF('Staff Capacity'!$G$10:$G$39,5,'Staff Capacity'!$I$10:$I$39))","v":0},{"$f":"IF($D$3<>\"\",SUMIFS('Staff Capacity'!$I$10:$I$39,'Staff Capacity'!$G$10:$G$39,5,'Staff Capacity'!$H$10:$H$39,$D$3),SUMIF('Staff Capacity'!$G$10:$G$39,5,'Staff Capacity'!$I$10:$I$39))","v":0},{"$f":"IF($D$3<>\"\",SUMIFS('Staff Capacity'!$I$10:$I$39,'Staff Capacity'!$G$10:$G$39,5,'Staff Capacity'!$H$10:$H$39,$D$3),SUMIF('Staff Capacity'!$G$10:$G$39,5,'Staff Capacity'!$I$10:$I$39))","v":0},{"$f":"IF($D$3<>\"\",SUMIFS('Staff Capacity'!$I$10:$I$39,'Staff Capacity'!$G$10:$G$39,5,'Staff Capacity'!$H$10:$H$39,$D$3),SUMIF('Staff Capacity'!$G$10:$G$39,5,'Staff Capacity'!$I$10:$I$39))","v":0},{"$f":"IF($D$3<>\"\",SUMIFS('Staff Capacity'!$I$10:$I$39,'Staff Capacity'!$G$10:$G$39,5,'Staff Capacity'!$H$10:$H$39,$D$3),SUMIF('Staff Capacity'!$G$10:$G$39,5,'Staff Capacity'!$I$10:$I$39))","v":0},{"$f":"IF($D$3<>\"\",SUMIFS('Staff Capacity'!$I$10:$I$39,'Staff Capacity'!$G$10:$G$39,5,'Staff Capacity'!$H$10:$H$39,$D$3),SUMIF('Staff Capacity'!$G$10:$G$39,5,'Staff Capacity'!$I$10:$I$39))","v":0},{"$f":"IF($D$3<>\"\",SUMIFS('Staff Capacity'!$I$10:$I$39,'Staff Capacity'!$G$10:$G$39,5,'Staff Capacity'!$H$10:$H$39,$D$3),SUMIF('Staff Capacity'!$G$10:$G$39,5,'Staff Capacity'!$I$10:$I$39))","v":0},{"$f":"IF($D$3<>\"\",SUMIFS('Staff Capacity'!$I$10:$I$39,'Staff Capacity'!$G$10:$G$39,5,'Staff Capacity'!$H$10:$H$39,$D$3),SUMIF('Staff Capacity'!$G$10:$G$39,5,'Staff Capacity'!$I$10:$I$39))","v":0},{"$f":"IF($D$3<>\"\",SUMIFS('Staff Capacity'!$I$10:$I$39,'Staff Capacity'!$G$10:$G$39,5,'Staff Capacity'!$H$10:$H$39,$D$3),SUMIF('Staff Capacity'!$G$10:$G$39,5,'Staff Capacity'!$I$10:$I$39))","v":0},{"$f":"IF($D$3<>\"\",SUMIFS('Staff Capacity'!$I$10:$I$39,'Staff Capacity'!$G$10:$G$39,5,'Staff Capacity'!$H$10:$H$39,$D$3),SUMIF('Staff Capacity'!$G$10:$G$39,5,'Staff Capacity'!$I$10:$I$39))","v":0},{"$f":"IF($D$3<>\"\",SUMIFS('Staff Capacity'!$I$10:$I$39,'Staff Capacity'!$G$10:$G$39,5,'Staff Capacity'!$H$10:$H$39,$D$3),SUMIF('Staff Capacity'!$G$10:$G$39,5,'Staff Capacity'!$I$10:$I$39))","v":0},{"$f":"IF($D$3<>\"\",SUMIFS('Staff Capacity'!$I$10:$I$39,'Staff Capacity'!$G$10:$G$39,5,'Staff Capacity'!$H$10:$H$39,$D$3),SUMIF('Staff Capacity'!$G$10:$G$39,5,'Staff Capacity'!$I$10:$I$39))","v":0},{"$f":"IF($D$3<>\"\",SUMIFS('Staff Capacity'!$I$10:$I$39,'Staff Capacity'!$G$10:$G$39,5,'Staff Capacity'!$H$10:$H$39,$D$3),SUMIF('Staff Capacity'!$G$10:$G$39,5,'Staff Capacity'!$I$10:$I$39))","v":0},{"$f":"IF($D$3<>\"\",SUMIFS('Staff Capacity'!$I$10:$I$39,'Staff Capacity'!$G$10:$G$39,5,'Staff Capacity'!$H$10:$H$39,$D$3),SUMIF('Staff Capacity'!$G$10:$G$39,5,'Staff Capacity'!$I$10:$I$39))","v":0},{"$f":"IF($D$3<>\"\",SUMIFS('Staff Capacity'!$I$10:$I$39,'Staff Capacity'!$G$10:$G$39,5,'Staff Capacity'!$H$10:$H$39,$D$3),SUMIF('Staff Capacity'!$G$10:$G$39,5,'Staff Capacity'!$I$10:$I$39))","v":0},{"$f":"IF($D$3<>\"\",SUMIFS('Staff Capacity'!$I$10:$I$39,'Staff Capacity'!$G$10:$G$39,5,'Staff Capacity'!$H$10:$H$39,$D$3),SUMIF('Staff Capacity'!$G$10:$G$39,5,'Staff Capacity'!$I$10:$I$39))","v":0},{"$f":"IF($D$3<>\"\",SUMIFS('Staff Capacity'!$I$10:$I$39,'Staff Capacity'!$G$10:$G$39,5,'Staff Capacity'!$H$10:$H$39,$D$3),SUMIF('Staff Capacity'!$G$10:$G$39,5,'Staff Capacity'!$I$10:$I$39))","v":0},{"$f":"IF($D$3<>\"\",SUMIFS('Staff Capacity'!$I$10:$I$39,'Staff Capacity'!$G$10:$G$39,5,'Staff Capacity'!$H$10:$H$39,$D$3),SUMIF('Staff Capacity'!$G$10:$G$39,5,'Staff Capacity'!$I$10:$I$39))","v":0},{"$f":"IF($D$3<>\"\",SUMIFS('Staff Capacity'!$I$10:$I$39,'Staff Capacity'!$G$10:$G$39,5,'Staff Capacity'!$H$10:$H$39,$D$3),SUMIF('Staff Capacity'!$G$10:$G$39,5,'Staff Capacity'!$I$10:$I$39))","v":0},{"$f":"IF($D$3<>\"\",SUMIFS('Staff Capacity'!$I$10:$I$39,'Staff Capacity'!$G$10:$G$39,5,'Staff Capacity'!$H$10:$H$39,$D$3),SUMIF('Staff Capacity'!$G$10:$G$39,5,'Staff Capacity'!$I$10:$I$39))","v":0},{"$f":"IF($D$3<>\"\",SUMIFS('Staff Capacity'!$I$10:$I$39,'Staff Capacity'!$G$10:$G$39,5,'Staff Capacity'!$H$10:$H$39,$D$3),SUMIF('Staff Capacity'!$G$10:$G$39,5,'Staff Capacity'!$I$10:$I$39))","v":0},{"$f":"IF($D$3<>\"\",SUMIFS('Staff Capacity'!$I$10:$I$39,'Staff Capacity'!$G$10:$G$39,5,'Staff Capacity'!$H$10:$H$39,$D$3),SUMIF('Staff Capacity'!$G$10:$G$39,5,'Staff Capacity'!$I$10:$I$39))","v":0},{"$f":"IF($D$3<>\"\",SUMIFS('Staff Capacity'!$I$10:$I$39,'Staff Capacity'!$G$10:$G$39,5,'Staff Capacity'!$H$10:$H$39,$D$3),SUMIF('Staff Capacity'!$G$10:$G$39,5,'Staff Capacity'!$I$10:$I$39))","v":0},{"$f":"IF($D$3<>\"\",SUMIFS('Staff Capacity'!$I$10:$I$39,'Staff Capacity'!$G$10:$G$39,5,'Staff Capacity'!$H$10:$H$39,$D$3),SUMIF('Staff Capacity'!$G$10:$G$39,5,'Staff Capacity'!$I$10:$I$39))","v":0},{"$f":"IF($D$3<>\"\",SUMIFS('Staff Capacity'!$I$10:$I$39,'Staff Capacity'!$G$10:$G$39,5,'Staff Capacity'!$H$10:$H$39,$D$3),SUMIF('Staff Capacity'!$G$10:$G$39,5,'Staff Capacity'!$I$10:$I$39))","v":0},{"$f":"IF($D$3<>\"\",SUMIFS('Staff Capacity'!$I$10:$I$39,'Staff Capacity'!$G$10:$G$39,5,'Staff Capacity'!$H$10:$H$39,$D$3),SUMIF('Staff Capacity'!$G$10:$G$39,5,'Staff Capacity'!$I$10:$I$39))","v":0},{"$f":"IF($D$3<>\"\",SUMIFS('Staff Capacity'!$I$10:$I$39,'Staff Capacity'!$G$10:$G$39,5,'Staff Capacity'!$H$10:$H$39,$D$3),SUMIF('Staff Capacity'!$G$10:$G$39,5,'Staff Capacity'!$I$10:$I$39))","v":0},{"$f":"IF($D$3<>\"\",SUMIFS('Staff Capacity'!$I$10:$I$39,'Staff Capacity'!$G$10:$G$39,5,'Staff Capacity'!$H$10:$H$39,$D$3),SUMIF('Staff Capacity'!$G$10:$G$39,5,'Staff Capacity'!$I$10:$I$39))","v":0},{"$f":"IF($D$3<>\"\",SUMIFS('Staff Capacity'!$I$10:$I$39,'Staff Capacity'!$G$10:$G$39,5,'Staff Capacity'!$H$10:$H$39,$D$3),SUMIF('Staff Capacity'!$G$10:$G$39,5,'Staff Capacity'!$I$10:$I$39))","v":0},{"$f":"IF($D$3<>\"\",SUMIFS('Staff Capacity'!$I$10:$I$39,'Staff Capacity'!$G$10:$G$39,5,'Staff Capacity'!$H$10:$H$39,$D$3),SUMIF('Staff Capacity'!$G$10:$G$39,5,'Staff Capacity'!$I$10:$I$39))","v":0},{"$f":"IF($D$3<>\"\",SUMIFS('Staff Capacity'!$I$10:$I$39,'Staff Capacity'!$G$10:$G$39,5,'Staff Capacity'!$H$10:$H$39,$D$3),SUMIF('Staff Capacity'!$G$10:$G$39,5,'Staff Capacity'!$I$10:$I$39))","v":0},{"$f":"IF($D$3<>\"\",SUMIFS('Staff Capacity'!$I$10:$I$39,'Staff Capacity'!$G$10:$G$39,5,'Staff Capacity'!$H$10:$H$39,$D$3),SUMIF('Staff Capacity'!$G$10:$G$39,5,'Staff Capacity'!$I$10:$I$39))","v":0},{"$f":"IF($D$3<>\"\",SUMIFS('Staff Capacity'!$I$10:$I$39,'Staff Capacity'!$G$10:$G$39,5,'Staff Capacity'!$H$10:$H$39,$D$3),SUMIF('Staff Capacity'!$G$10:$G$39,5,'Staff Capacity'!$I$10:$I$39))","v":0},{"$f":"IF($D$3<>\"\",SUMIFS('Staff Capacity'!$I$10:$I$39,'Staff Capacity'!$G$10:$G$39,5,'Staff Capacity'!$H$10:$H$39,$D$3),SUMIF('Staff Capacity'!$G$10:$G$39,5,'Staff Capacity'!$I$10:$I$39))","v":0},{"$f":"IF($D$3<>\"\",SUMIFS('Staff Capacity'!$I$10:$I$39,'Staff Capacity'!$G$10:$G$39,5,'Staff Capacity'!$H$10:$H$39,$D$3),SUMIF('Staff Capacity'!$G$10:$G$39,5,'Staff Capacity'!$I$10:$I$39))","v":0},{"$f":"IF($D$3<>\"\",SUMIFS('Staff Capacity'!$I$10:$I$39,'Staff Capacity'!$G$10:$G$39,5,'Staff Capacity'!$H$10:$H$39,$D$3),SUMIF('Staff Capacity'!$G$10:$G$39,5,'Staff Capacity'!$I$10:$I$39))","v":0},{"$f":"IF($D$3<>\"\",SUMIFS('Staff Capacity'!$I$10:$I$39,'Staff Capacity'!$G$10:$G$39,5,'Staff Capacity'!$H$10:$H$39,$D$3),SUMIF('Staff Capacity'!$G$10:$G$39,5,'Staff Capacity'!$I$10:$I$39))","v":0},{"$f":"IF($D$3<>\"\",SUMIFS('Staff Capacity'!$I$10:$I$39,'Staff Capacity'!$G$10:$G$39,5,'Staff Capacity'!$H$10:$H$39,$D$3),SUMIF('Staff Capacity'!$G$10:$G$39,5,'Staff Capacity'!$I$10:$I$39))","v":0},{"$f":"IF($D$3<>\"\",SUMIFS('Staff Capacity'!$I$10:$I$39,'Staff Capacity'!$G$10:$G$39,5,'Staff Capacity'!$H$10:$H$39,$D$3),SUMIF('Staff Capacity'!$G$10:$G$39,5,'Staff Capacity'!$I$10:$I$39))","v":0},{"$f":"IF($D$3<>\"\",SUMIFS('Staff Capacity'!$I$10:$I$39,'Staff Capacity'!$G$10:$G$39,5,'Staff Capacity'!$H$10:$H$39,$D$3),SUMIF('Staff Capacity'!$G$10:$G$39,5,'Staff Capacity'!$I$10:$I$39))","v":0},{"$f":"IF($D$3<>\"\",SUMIFS('Staff Capacity'!$I$10:$I$39,'Staff Capacity'!$G$10:$G$39,5,'Staff Capacity'!$H$10:$H$39,$D$3),SUMIF('Staff Capacity'!$G$10:$G$39,5,'Staff Capacity'!$I$10:$I$39))","v":0},{"$f":"IF($D$3<>\"\",SUMIFS('Staff Capacity'!$I$10:$I$39,'Staff Capacity'!$G$10:$G$39,5,'Staff Capacity'!$H$10:$H$39,$D$3),SUMIF('Staff Capacity'!$G$10:$G$39,5,'Staff Capacity'!$I$10:$I$39))","v":0},{"$f":"IF($D$3<>\"\",SUMIFS('Staff Capacity'!$I$10:$I$39,'Staff Capacity'!$G$10:$G$39,5,'Staff Capacity'!$H$10:$H$39,$D$3),SUMIF('Staff Capacity'!$G$10:$G$39,5,'Staff Capacity'!$I$10:$I$39))","v":0},{"$f":"IF($D$3<>\"\",SUMIFS('Staff Capacity'!$I$10:$I$39,'Staff Capacity'!$G$10:$G$39,5,'Staff Capacity'!$H$10:$H$39,$D$3),SUMIF('Staff Capacity'!$G$10:$G$39,5,'Staff Capacity'!$I$10:$I$39))","v":0},{"$f":"IF($D$3<>\"\",SUMIFS('Staff Capacity'!$I$10:$I$39,'Staff Capacity'!$G$10:$G$39,5,'Staff Capacity'!$H$10:$H$39,$D$3),SUMIF('Staff Capacity'!$G$10:$G$39,5,'Staff Capacity'!$I$10:$I$39))","v":0},{"$f":"IF($D$3<>\"\",SUMIFS('Staff Capacity'!$I$10:$I$39,'Staff Capacity'!$G$10:$G$39,5,'Staff Capacity'!$H$10:$H$39,$D$3),SUMIF('Staff Capacity'!$G$10:$G$39,5,'Staff Capacity'!$I$10:$I$39))","v":0},{"$f":"IF($D$3<>\"\",SUMIFS('Staff Capacity'!$I$10:$I$39,'Staff Capacity'!$G$10:$G$39,5,'Staff Capacity'!$H$10:$H$39,$D$3),SUMIF('Staff Capacity'!$G$10:$G$39,5,'Staff Capacity'!$I$10:$I$39))","v":0},{"$f":"IF($D$3<>\"\",SUMIFS('Staff Capacity'!$I$10:$I$39,'Staff Capacity'!$G$10:$G$39,5,'Staff Capacity'!$H$10:$H$39,$D$3),SUMIF('Staff Capacity'!$G$10:$G$39,5,'Staff Capacity'!$I$10:$I$39))","v":0},{"$f":"IF($D$3<>\"\",SUMIFS('Staff Capacity'!$I$10:$I$39,'Staff Capacity'!$G$10:$G$39,5,'Staff Capacity'!$H$10:$H$39,$D$3),SUMIF('Staff Capacity'!$G$10:$G$39,5,'Staff Capacity'!$I$10:$I$39))","v":0},{"$f":"IF($D$3<>\"\",SUMIFS('Staff Capacity'!$I$10:$I$39,'Staff Capacity'!$G$10:$G$39,5,'Staff Capacity'!$H$10:$H$39,$D$3),SUMIF('Staff Capacity'!$G$10:$G$39,5,'Staff Capacity'!$I$10:$I$39))","v":0},{"$f":"IF($D$3<>\"\",SUMIFS('Staff Capacity'!$I$10:$I$39,'Staff Capacity'!$G$10:$G$39,5,'Staff Capacity'!$H$10:$H$39,$D$3),SUMIF('Staff Capacity'!$G$10:$G$39,5,'Staff Capacity'!$I$10:$I$39))","v":0},{"$f":"IF($D$3<>\"\",SUMIFS('Staff Capacity'!$I$10:$I$39,'Staff Capacity'!$G$10:$G$39,5,'Staff Capacity'!$H$10:$H$39,$D$3),SUMIF('Staff Capacity'!$G$10:$G$39,5,'Staff Capacity'!$I$10:$I$39))","v":0},{"$f":"IF($D$3<>\"\",SUMIFS('Staff Capacity'!$I$10:$I$39,'Staff Capacity'!$G$10:$G$39,5,'Staff Capacity'!$H$10:$H$39,$D$3),SUMIF('Staff Capacity'!$G$10:$G$39,5,'Staff Capacity'!$I$10:$I$39))","v":0},{"$f":"IF($D$3<>\"\",SUMIFS('Staff Capacity'!$I$10:$I$39,'Staff Capacity'!$G$10:$G$39,5,'Staff Capacity'!$H$10:$H$39,$D$3),SUMIF('Staff Capacity'!$G$10:$G$39,5,'Staff Capacity'!$I$10:$I$39))","v":0},{"$f":"IF($D$3<>\"\",SUMIFS('Staff Capacity'!$I$10:$I$39,'Staff Capacity'!$G$10:$G$39,5,'Staff Capacity'!$H$10:$H$39,$D$3),SUMIF('Staff Capacity'!$G$10:$G$39,5,'Staff Capacity'!$I$10:$I$39))","v":0},{"$f":"IF($D$3<>\"\",SUMIFS('Staff Capacity'!$I$10:$I$39,'Staff Capacity'!$G$10:$G$39,5,'Staff Capacity'!$H$10:$H$39,$D$3),SUMIF('Staff Capacity'!$G$10:$G$39,5,'Staff Capacity'!$I$10:$I$39))","v":0},{"$f":"IF($D$3<>\"\",SUMIFS('Staff Capacity'!$I$10:$I$39,'Staff Capacity'!$G$10:$G$39,5,'Staff Capacity'!$H$10:$H$39,$D$3),SUMIF('Staff Capacity'!$G$10:$G$39,5,'Staff Capacity'!$I$10:$I$39))","v":0},{"$f":"IF($D$3<>\"\",SUMIFS('Staff Capacity'!$I$10:$I$39,'Staff Capacity'!$G$10:$G$39,5,'Staff Capacity'!$H$10:$H$39,$D$3),SUMIF('Staff Capacity'!$G$10:$G$39,5,'Staff Capacity'!$I$10:$I$39))","v":0},{"$f":"IF($D$3<>\"\",SUMIFS('Staff Capacity'!$I$10:$I$39,'Staff Capacity'!$G$10:$G$39,5,'Staff Capacity'!$H$10:$H$39,$D$3),SUMIF('Staff Capacity'!$G$10:$G$39,5,'Staff Capacity'!$I$10:$I$39))","v":0},{"$f":"IF($D$3<>\"\",SUMIFS('Staff Capacity'!$I$10:$I$39,'Staff Capacity'!$G$10:$G$39,5,'Staff Capacity'!$H$10:$H$39,$D$3),SUMIF('Staff Capacity'!$G$10:$G$39,5,'Staff Capacity'!$I$10:$I$39))","v":0},{"$f":"IF($D$3<>\"\",SUMIFS('Staff Capacity'!$I$10:$I$39,'Staff Capacity'!$G$10:$G$39,5,'Staff Capacity'!$H$10:$H$39,$D$3),SUMIF('Staff Capacity'!$G$10:$G$39,5,'Staff Capacity'!$I$10:$I$39))","v":0},{"$f":"IF($D$3<>\"\",SUMIFS('Staff Capacity'!$I$10:$I$39,'Staff Capacity'!$G$10:$G$39,5,'Staff Capacity'!$H$10:$H$39,$D$3),SUMIF('Staff Capacity'!$G$10:$G$39,5,'Staff Capacity'!$I$10:$I$39))","v":0},{"$f":"IF($D$3<>\"\",SUMIFS('Staff Capacity'!$I$10:$I$39,'Staff Capacity'!$G$10:$G$39,5,'Staff Capacity'!$H$10:$H$39,$D$3),SUMIF('Staff Capacity'!$G$10:$G$39,5,'Staff Capacity'!$I$10:$I$39))","v":0},{"$f":"IF($D$3<>\"\",SUMIFS('Staff Capacity'!$I$10:$I$39,'Staff Capacity'!$G$10:$G$39,5,'Staff Capacity'!$H$10:$H$39,$D$3),SUMIF('Staff Capacity'!$G$10:$G$39,5,'Staff Capacity'!$I$10:$I$39))","v":0},{"$f":"IF($D$3<>\"\",SUMIFS('Staff Capacity'!$I$10:$I$39,'Staff Capacity'!$G$10:$G$39,5,'Staff Capacity'!$H$10:$H$39,$D$3),SUMIF('Staff Capacity'!$G$10:$G$39,5,'Staff Capacity'!$I$10:$I$39))","v":0},{"$f":"IF($D$3<>\"\",SUMIFS('Staff Capacity'!$I$10:$I$39,'Staff Capacity'!$G$10:$G$39,5,'Staff Capacity'!$H$10:$H$39,$D$3),SUMIF('Staff Capacity'!$G$10:$G$39,5,'Staff Capacity'!$I$10:$I$39))","v":0},{"$f":"IF($D$3<>\"\",SUMIFS('Staff Capacity'!$I$10:$I$39,'Staff Capacity'!$G$10:$G$39,5,'Staff Capacity'!$H$10:$H$39,$D$3),SUMIF('Staff Capacity'!$G$10:$G$39,5,'Staff Capacity'!$I$10:$I$39))","v":0},{"$f":"IF($D$3<>\"\",SUMIFS('Staff Capacity'!$I$10:$I$39,'Staff Capacity'!$G$10:$G$39,5,'Staff Capacity'!$H$10:$H$39,$D$3),SUMIF('Staff Capacity'!$G$10:$G$39,5,'Staff Capacity'!$I$10:$I$39))","v":0},{"$f":"IF($D$3<>\"\",SUMIFS('Staff Capacity'!$I$10:$I$39,'Staff Capacity'!$G$10:$G$39,5,'Staff Capacity'!$H$10:$H$39,$D$3),SUMIF('Staff Capacity'!$G$10:$G$39,5,'Staff Capacity'!$I$10:$I$39))","v":0},{"$f":"IF($D$3<>\"\",SUMIFS('Staff Capacity'!$I$10:$I$39,'Staff Capacity'!$G$10:$G$39,5,'Staff Capacity'!$H$10:$H$39,$D$3),SUMIF('Staff Capacity'!$G$10:$G$39,5,'Staff Capacity'!$I$10:$I$39))","v":0},{"$f":"IF($D$3<>\"\",SUMIFS('Staff Capacity'!$I$10:$I$39,'Staff Capacity'!$G$10:$G$39,5,'Staff Capacity'!$H$10:$H$39,$D$3),SUMIF('Staff Capacity'!$G$10:$G$39,5,'Staff Capacity'!$I$10:$I$39))","v":0},{"$f":"IF($D$3<>\"\",SUMIFS('Staff Capacity'!$I$10:$I$39,'Staff Capacity'!$G$10:$G$39,5,'Staff Capacity'!$H$10:$H$39,$D$3),SUMIF('Staff Capacity'!$G$10:$G$39,5,'Staff Capacity'!$I$10:$I$39))","v":0},{"$f":"IF($D$3<>\"\",SUMIFS('Staff Capacity'!$I$10:$I$39,'Staff Capacity'!$G$10:$G$39,5,'Staff Capacity'!$H$10:$H$39,$D$3),SUMIF('Staff Capacity'!$G$10:$G$39,5,'Staff Capacity'!$I$10:$I$39))","v":0},{"$f":"IF($D$3<>\"\",SUMIFS('Staff Capacity'!$I$10:$I$39,'Staff Capacity'!$G$10:$G$39,5,'Staff Capacity'!$H$10:$H$39,$D$3),SUMIF('Staff Capacity'!$G$10:$G$39,5,'Staff Capacity'!$I$10:$I$39))","v":0},{"$f":"IF($D$3<>\"\",SUMIFS('Staff Capacity'!$I$10:$I$39,'Staff Capacity'!$G$10:$G$39,5,'Staff Capacity'!$H$10:$H$39,$D$3),SUMIF('Staff Capacity'!$G$10:$G$39,5,'Staff Capacity'!$I$10:$I$39))","v":0},{"$f":"IF($D$3<>\"\",SUMIFS('Staff Capacity'!$I$10:$I$39,'Staff Capacity'!$G$10:$G$39,5,'Staff Capacity'!$H$10:$H$39,$D$3),SUMIF('Staff Capacity'!$G$10:$G$39,5,'Staff Capacity'!$I$10:$I$39))","v":0},{"$f":"IF($D$3<>\"\",SUMIFS('Staff Capacity'!$I$10:$I$39,'Staff Capacity'!$G$10:$G$39,5,'Staff Capacity'!$H$10:$H$39,$D$3),SUMIF('Staff Capacity'!$G$10:$G$39,5,'Staff Capacity'!$I$10:$I$39))","v":0},{"$f":"IF($D$3<>\"\",SUMIFS('Staff Capacity'!$I$10:$I$39,'Staff Capacity'!$G$10:$G$39,5,'Staff Capacity'!$H$10:$H$39,$D$3),SUMIF('Staff Capacity'!$G$10:$G$39,5,'Staff Capacity'!$I$10:$I$39))","v":0},{"$f":"IF($D$3<>\"\",SUMIFS('Staff Capacity'!$I$10:$I$39,'Staff Capacity'!$G$10:$G$39,5,'Staff Capacity'!$H$10:$H$39,$D$3),SUMIF('Staff Capacity'!$G$10:$G$39,5,'Staff Capacity'!$I$10:$I$39))","v":0},{"$f":"IF($D$3<>\"\",SUMIFS('Staff Capacity'!$I$10:$I$39,'Staff Capacity'!$G$10:$G$39,5,'Staff Capacity'!$H$10:$H$39,$D$3),SUMIF('Staff Capacity'!$G$10:$G$39,5,'Staff Capacity'!$I$10:$I$39))","v":0},{"$f":"IF($D$3<>\"\",SUMIFS('Staff Capacity'!$I$10:$I$39,'Staff Capacity'!$G$10:$G$39,5,'Staff Capacity'!$H$10:$H$39,$D$3),SUMIF('Staff Capacity'!$G$10:$G$39,5,'Staff Capacity'!$I$10:$I$39))","v":0}]
[null,null,null,null,6,{"$f":"IF($D$3<>\"\",SUMIFS('Staff Capacity'!$I$10:$I$39,'Staff Capacity'!$G$10:$G$39,6,'Staff Capacity'!$H$10:$H$39,$D$3),SUMIF('Staff Capacity'!$G$10:$G$39,6,'Staff Capacity'!$I$10:$I$39))","v":0},{"$f":"IF($D$3<>\"\",SUMIFS('Staff Capacity'!$I$10:$I$39,'Staff Capacity'!$G$10:$G$39,6,'Staff Capacity'!$H$10:$H$39,$D$3),SUMIF('Staff Capacity'!$G$10:$G$39,6,'Staff Capacity'!$I$10:$I$39))","v":0},{"$f":"IF($D$3<>\"\",SUMIFS('Staff Capacity'!$I$10:$I$39,'Staff Capacity'!$G$10:$G$39,6,'Staff Capacity'!$H$10:$H$39,$D$3),SUMIF('Staff Capacity'!$G$10:$G$39,6,'Staff Capacity'!$I$10:$I$39))","v":0},{"$f":"IF($D$3<>\"\",SUMIFS('Staff Capacity'!$I$10:$I$39,'Staff Capacity'!$G$10:$G$39,6,'Staff Capacity'!$H$10:$H$39,$D$3),SUMIF('Staff Capacity'!$G$10:$G$39,6,'Staff Capacity'!$I$10:$I$39))","v":0},{"$f":"IF($D$3<>\"\",SUMIFS('Staff Capacity'!$I$10:$I$39,'Staff Capacity'!$G$10:$G$39,6,'Staff Capacity'!$H$10:$H$39,$D$3),SUMIF('Staff Capacity'!$G$10:$G$39,6,'Staff Capacity'!$I$10:$I$39))","v":0},{"$f":"IF($D$3<>\"\",SUMIFS('Staff Capacity'!$I$10:$I$39,'Staff Capacity'!$G$10:$G$39,6,'Staff Capacity'!$H$10:$H$39,$D$3),SUMIF('Staff Capacity'!$G$10:$G$39,6,'Staff Capacity'!$I$10:$I$39))","v":0},{"$f":"IF($D$3<>\"\",SUMIFS('Staff Capacity'!$I$10:$I$39,'Staff Capacity'!$G$10:$G$39,6,'Staff Capacity'!$H$10:$H$39,$D$3),SUMIF('Staff Capacity'!$G$10:$G$39,6,'Staff Capacity'!$I$10:$I$39))","v":0},{"$f":"IF($D$3<>\"\",SUMIFS('Staff Capacity'!$I$10:$I$39,'Staff Capacity'!$G$10:$G$39,6,'Staff Capacity'!$H$10:$H$39,$D$3),SUMIF('Staff Capacity'!$G$10:$G$39,6,'Staff Capacity'!$I$10:$I$39))","v":0},{"$f":"IF($D$3<>\"\",SUMIFS('Staff Capacity'!$I$10:$I$39,'Staff Capacity'!$G$10:$G$39,6,'Staff Capacity'!$H$10:$H$39,$D$3),SUMIF('Staff Capacity'!$G$10:$G$39,6,'Staff Capacity'!$I$10:$I$39))","v":0},{"$f":"IF($D$3<>\"\",SUMIFS('Staff Capacity'!$I$10:$I$39,'Staff Capacity'!$G$10:$G$39,6,'Staff Capacity'!$H$10:$H$39,$D$3),SUMIF('Staff Capacity'!$G$10:$G$39,6,'Staff Capacity'!$I$10:$I$39))","v":0},{"$f":"IF($D$3<>\"\",SUMIFS('Staff Capacity'!$I$10:$I$39,'Staff Capacity'!$G$10:$G$39,6,'Staff Capacity'!$H$10:$H$39,$D$3),SUMIF('Staff Capacity'!$G$10:$G$39,6,'Staff Capacity'!$I$10:$I$39))","v":0},{"$f":"IF($D$3<>\"\",SUMIFS('Staff Capacity'!$I$10:$I$39,'Staff Capacity'!$G$10:$G$39,6,'Staff Capacity'!$H$10:$H$39,$D$3),SUMIF('Staff Capacity'!$G$10:$G$39,6,'Staff Capacity'!$I$10:$I$39))","v":0},{"$f":"IF($D$3<>\"\",SUMIFS('Staff Capacity'!$I$10:$I$39,'Staff Capacity'!$G$10:$G$39,6,'Staff Capacity'!$H$10:$H$39,$D$3),SUMIF('Staff Capacity'!$G$10:$G$39,6,'Staff Capacity'!$I$10:$I$39))","v":0},{"$f":"IF($D$3<>\"\",SUMIFS('Staff Capacity'!$I$10:$I$39,'Staff Capacity'!$G$10:$G$39,6,'Staff Capacity'!$H$10:$H$39,$D$3),SUMIF('Staff Capacity'!$G$10:$G$39,6,'Staff Capacity'!$I$10:$I$39))","v":0},{"$f":"IF($D$3<>\"\",SUMIFS('Staff Capacity'!$I$10:$I$39,'Staff Capacity'!$G$10:$G$39,6,'Staff Capacity'!$H$10:$H$39,$D$3),SUMIF('Staff Capacity'!$G$10:$G$39,6,'Staff Capacity'!$I$10:$I$39))","v":0},{"$f":"IF($D$3<>\"\",SUMIFS('Staff Capacity'!$I$10:$I$39,'Staff Capacity'!$G$10:$G$39,6,'Staff Capacity'!$H$10:$H$39,$D$3),SUMIF('Staff Capacity'!$G$10:$G$39,6,'Staff Capacity'!$I$10:$I$39))","v":0},{"$f":"IF($D$3<>\"\",SUMIFS('Staff Capacity'!$I$10:$I$39,'Staff Capacity'!$G$10:$G$39,6,'Staff Capacity'!$H$10:$H$39,$D$3),SUMIF('Staff Capacity'!$G$10:$G$39,6,'Staff Capacity'!$I$10:$I$39))","v":0},{"$f":"IF($D$3<>\"\",SUMIFS('Staff Capacity'!$I$10:$I$39,'Staff Capacity'!$G$10:$G$39,6,'Staff Capacity'!$H$10:$H$39,$D$3),SUMIF('Staff Capacity'!$G$10:$G$39,6,'Staff Capacity'!$I$10:$I$39))","v":0},{"$f":"IF($D$3<>\"\",SUMIFS('Staff Capacity'!$I$10:$I$39,'Staff Capacity'!$G$10:$G$39,6,'Staff Capacity'!$H$10:$H$39,$D$3),SUMIF('Staff Capacity'!$G$10:$G$39,6,'Staff Capacity'!$I$10:$I$39))","v":0},{"$f":"IF($D$3<>\"\",SUMIFS('Staff Capacity'!$I$10:$I$39,'Staff Capacity'!$G$10:$G$39,6,'Staff Capacity'!$H$10:$H$39,$D$3),SUMIF('Staff Capacity'!$G$10:$G$39,6,'Staff Capacity'!$I$10:$I$39))","v":0},{"$f":"IF($D$3<>\"\",SUMIFS('Staff Capacity'!$I$10:$I$39,'Staff Capacity'!$G$10:$G$39,6,'Staff Capacity'!$H$10:$H$39,$D$3),SUMIF('Staff Capacity'!$G$10:$G$39,6,'Staff Capacity'!$I$10:$I$39))","v":0},{"$f":"IF($D$3<>\"\",SUMIFS('Staff Capacity'!$I$10:$I$39,'Staff Capacity'!$G$10:$G$39,6,'Staff Capacity'!$H$10:$H$39,$D$3),SUMIF('Staff Capacity'!$G$10:$G$39,6,'Staff Capacity'!$I$10:$I$39))","v":0},{"$f":"IF($D$3<>\"\",SUMIFS('Staff Capacity'!$I$10:$I$39,'Staff Capacity'!$G$10:$G$39,6,'Staff Capacity'!$H$10:$H$39,$D$3),SUMIF('Staff Capacity'!$G$10:$G$39,6,'Staff Capacity'!$I$10:$I$39))","v":0},{"$f":"IF($D$3<>\"\",SUMIFS('Staff Capacity'!$I$10:$I$39,'Staff Capacity'!$G$10:$G$39,6,'Staff Capacity'!$H$10:$H$39,$D$3),SUMIF('Staff Capacity'!$G$10:$G$39,6,'Staff Capacity'!$I$10:$I$39))","v":0},{"$f":"IF($D$3<>\"\",SUMIFS('Staff Capacity'!$I$10:$I$39,'Staff Capacity'!$G$10:$G$39,6,'Staff Capacity'!$H$10:$H$39,$D$3),SUMIF('Staff Capacity'!$G$10:$G$39,6,'Staff Capacity'!$I$10:$I$39))","v":0},{"$f":"IF($D$3<>\"\",SUMIFS('Staff Capacity'!$I$10:$I$39,'Staff Capacity'!$G$10:$G$39,6,'Staff Capacity'!$H$10:$H$39,$D$3),SUMIF('Staff Capacity'!$G$10:$G$39,6,'Staff Capacity'!$I$10:$I$39))","v":0},{"$f":"IF($D$3<>\"\",SUMIFS('Staff Capacity'!$I$10:$I$39,'Staff Capacity'!$G$10:$G$39,6,'Staff Capacity'!$H$10:$H$39,$D$3),SUMIF('Staff Capacity'!$G$10:$G$39,6,'Staff Capacity'!$I$10:$I$39))","v":0},{"$f":"IF($D$3<>\"\",SUMIFS('Staff Capacity'!$I$10:$I$39,'Staff Capacity'!$G$10:$G$39,6,'Staff Capacity'!$H$10:$H$39,$D$3),SUMIF('Staff Capacity'!$G$10:$G$39,6,'Staff Capacity'!$I$10:$I$39))","v":0},{"$f":"IF($D$3<>\"\",SUMIFS('Staff Capacity'!$I$10:$I$39,'Staff Capacity'!$G$10:$G$39,6,'Staff Capacity'!$H$10:$H$39,$D$3),SUMIF('Staff Capacity'!$G$10:$G$39,6,'Staff Capacity'!$I$10:$I$39))","v":0},{"$f":"IF($D$3<>\"\",SUMIFS('Staff Capacity'!$I$10:$I$39,'Staff Capacity'!$G$10:$G$39,6,'Staff Capacity'!$H$10:$H$39,$D$3),SUMIF('Staff Capacity'!$G$10:$G$39,6,'Staff Capacity'!$I$10:$I$39))","v":0},{"$f":"IF($D$3<>\"\",SUMIFS('Staff Capacity'!$I$10:$I$39,'Staff Capacity'!$G$10:$G$39,6,'Staff Capacity'!$H$10:$H$39,$D$3),SUMIF('Staff Capacity'!$G$10:$G$39,6,'Staff Capacity'!$I$10:$I$39))","v":0},{"$f":"IF($D$3<>\"\",SUMIFS('Staff Capacity'!$I$10:$I$39,'Staff Capacity'!$G$10:$G$39,6,'Staff Capacity'!$H$10:$H$39,$D$3),SUMIF('Staff Capacity'!$G$10:$G$39,6,'Staff Capacity'!$I$10:$I$39))","v":0},{"$f":"IF($D$3<>\"\",SUMIFS('Staff Capacity'!$I$10:$I$39,'Staff Capacity'!$G$10:$G$39,6,'Staff Capacity'!$H$10:$H$39,$D$3),SUMIF('Staff Capacity'!$G$10:$G$39,6,'Staff Capacity'!$I$10:$I$39))","v":0},{"$f":"IF($D$3<>\"\",SUMIFS('Staff Capacity'!$I$10:$I$39,'Staff Capacity'!$G$10:$G$39,6,'Staff Capacity'!$H$10:$H$39,$D$3),SUMIF('Staff Capacity'!$G$10:$G$39,6,'Staff Capacity'!$I$10:$I$39))","v":0},{"$f":"IF($D$3<>\"\",SUMIFS('Staff Capacity'!$I$10:$I$39,'Staff Capacity'!$G$10:$G$39,6,'Staff Capacity'!$H$10:$H$39,$D$3),SUMIF('Staff Capacity'!$G$10:$G$39,6,'Staff Capacity'!$I$10:$I$39))","v":0},{"$f":"IF($D$3<>\"\",SUMIFS('Staff Capacity'!$I$10:$I$39,'Staff Capacity'!$G$10:$G$39,6,'Staff Capacity'!$H$10:$H$39,$D$3),SUMIF('Staff Capacity'!$G$10:$G$39,6,'Staff Capacity'!$I$10:$I$39))","v":0},{"$f":"IF($D$3<>\"\",SUMIFS('Staff Capacity'!$I$10:$I$39,'Staff Capacity'!$G$10:$G$39,6,'Staff Capacity'!$H$10:$H$39,$D$3),SUMIF('Staff Capacity'!$G$10:$G$39,6,'Staff Capacity'!$I$10:$I$39))","v":0},{"$f":"IF($D$3<>\"\",SUMIFS('Staff Capacity'!$I$10:$I$39,'Staff Capacity'!$G$10:$G$39,6,'Staff Capacity'!$H$10:$H$39,$D$3),SUMIF('Staff Capacity'!$G$10:$G$39,6,'Staff Capacity'!$I$10:$I$39))","v":0},{"$f":"IF($D$3<>\"\",SUMIFS('Staff Capacity'!$I$10:$I$39,'Staff Capacity'!$G$10:$G$39,6,'Staff Capacity'!$H$10:$H$39,$D$3),SUMIF('Staff Capacity'!$G$10:$G$39,6,'Staff Capacity'!$I$10:$I$39))","v":0},{"$f":"IF($D$3<>\"\",SUMIFS('Staff Capacity'!$I$10:$I$39,'Staff Capacity'!$G$10:$G$39,6,'Staff Capacity'!$H$10:$H$39,$D$3),SUMIF('Staff Capacity'!$G$10:$G$39,6,'Staff Capacity'!$I$10:$I$39))","v":0},{"$f":"IF($D$3<>\"\",SUMIFS('Staff Capacity'!$I$10:$I$39,'Staff Capacity'!$G$10:$G$39,6,'Staff Capacity'!$H$10:$H$39,$D$3),SUMIF('Staff Capacity'!$G$10:$G$39,6,'Staff Capacity'!$I$10:$I$39))","v":0},{"$f":"IF($D$3<>\"\",SUMIFS('Staff Capacity'!$I$10:$I$39,'Staff Capacity'!$G$10:$G$39,6,'Staff Capacity'!$H$10:$H$39,$D$3),SUMIF('Staff Capacity'!$G$10:$G$39,6,'Staff Capacity'!$I$10:$I$39))","v":0},{"$f":"IF($D$3<>\"\",SUMIFS('Staff Capacity'!$I$10:$I$39,'Staff Capacity'!$G$10:$G$39,6,'Staff Capacity'!$H$10:$H$39,$D$3),SUMIF('Staff Capacity'!$G$10:$G$39,6,'Staff Capacity'!$I$10:$I$39))","v":0},{"$f":"IF($D$3<>\"\",SUMIFS('Staff Capacity'!$I$10:$I$39,'Staff Capacity'!$G$10:$G$39,6,'Staff Capacity'!$H$10:$H$39,$D$3),SUMIF('Staff Capacity'!$G$10:$G$39,6,'Staff Capacity'!$I$10:$I$39))","v":0},{"$f":"IF($D$3<>\"\",SUMIFS('Staff Capacity'!$I$10:$I$39,'Staff Capacity'!$G$10:$G$39,6,'Staff Capacity'!$H$10:$H$39,$D$3),SUMIF('Staff Capacity'!$G$10:$G$39,6,'Staff Capacity'!$I$10:$I$39))","v":0},{"$f":"IF($D$3<>\"\",SUMIFS('Staff Capacity'!$I$10:$I$39,'Staff Capacity'!$G$10:$G$39,6,'Staff Capacity'!$H$10:$H$39,$D$3),SUMIF('Staff Capacity'!$G$10:$G$39,6,'Staff Capacity'!$I$10:$I$39))","v":0},{"$f":"IF($D$3<>\"\",SUMIFS('Staff Capacity'!$I$10:$I$39,'Staff Capacity'!$G$10:$G$39,6,'Staff Capacity'!$H$10:$H$39,$D$3),SUMIF('Staff Capacity'!$G$10:$G$39,6,'Staff Capacity'!$I$10:$I$39))","v":0},{"$f":"IF($D$3<>\"\",SUMIFS('Staff Capacity'!$I$10:$I$39,'Staff Capacity'!$G$10:$G$39,6,'Staff Capacity'!$H$10:$H$39,$D$3),SUMIF('Staff Capacity'!$G$10:$G$39,6,'Staff Capacity'!$I$10:$I$39))","v":0},{"$f":"IF($D$3<>\"\",SUMIFS('Staff Capacity'!$I$10:$I$39,'Staff Capacity'!$G$10:$G$39,6,'Staff Capacity'!$H$10:$H$39,$D$3),SUMIF('Staff Capacity'!$G$10:$G$39,6,'Staff Capacity'!$I$10:$I$39))","v":0},{"$f":"IF($D$3<>\"\",SUMIFS('Staff Capacity'!$I$10:$I$39,'Staff Capacity'!$G$10:$G$39,6,'Staff Capacity'!$H$10:$H$39,$D$3),SUMIF('Staff Capacity'!$G$10:$G$39,6,'Staff Capacity'!$I$10:$I$39))","v":0},{"$f":"IF($D$3<>\"\",SUMIFS('Staff Capacity'!$I$10:$I$39,'Staff Capacity'!$G$10:$G$39,6,'Staff Capacity'!$H$10:$H$39,$D$3),SUMIF('Staff Capacity'!$G$10:$G$39,6,'Staff Capacity'!$I$10:$I$39))","v":0},{"$f":"IF($D$3<>\"\",SUMIFS('Staff Capacity'!$I$10:$I$39,'Staff Capacity'!$G$10:$G$39,6,'Staff Capacity'!$H$10:$H$39,$D$3),SUMIF('Staff Capacity'!$G$10:$G$39,6,'Staff Capacity'!$I$10:$I$39))","v":0},{"$f":"IF($D$3<>\"\",SUMIFS('Staff Capacity'!$I$10:$I$39,'Staff Capacity'!$G$10:$G$39,6,'Staff Capacity'!$H$10:$H$39,$D$3),SUMIF('Staff Capacity'!$G$10:$G$39,6,'Staff Capacity'!$I$10:$I$39))","v":0},{"$f":"IF($D$3<>\"\",SUMIFS('Staff Capacity'!$I$10:$I$39,'Staff Capacity'!$G$10:$G$39,6,'Staff Capacity'!$H$10:$H$39,$D$3),SUMIF('Staff Capacity'!$G$10:$G$39,6,'Staff Capacity'!$I$10:$I$39))","v":0},{"$f":"IF($D$3<>\"\",SUMIFS('Staff Capacity'!$I$10:$I$39,'Staff Capacity'!$G$10:$G$39,6,'Staff Capacity'!$H$10:$H$39,$D$3),SUMIF('Staff Capacity'!$G$10:$G$39,6,'Staff Capacity'!$I$10:$I$39))","v":0},{"$f":"IF($D$3<>\"\",SUMIFS('Staff Capacity'!$I$10:$I$39,'Staff Capacity'!$G$10:$G$39,6,'Staff Capacity'!$H$10:$H$39,$D$3),SUMIF('Staff Capacity'!$G$10:$G$39,6,'Staff Capacity'!$I$10:$I$39))","v":0},{"$f":"IF($D$3<>\"\",SUMIFS('Staff Capacity'!$I$10:$I$39,'Staff Capacity'!$G$10:$G$39,6,'Staff Capacity'!$H$10:$H$39,$D$3),SUMIF('Staff Capacity'!$G$10:$G$39,6,'Staff Capacity'!$I$10:$I$39))","v":0},{"$f":"IF($D$3<>\"\",SUMIFS('Staff Capacity'!$I$10:$I$39,'Staff Capacity'!$G$10:$G$39,6,'Staff Capacity'!$H$10:$H$39,$D$3),SUMIF('Staff Capacity'!$G$10:$G$39,6,'Staff Capacity'!$I$10:$I$39))","v":0},{"$f":"IF($D$3<>\"\",SUMIFS('Staff Capacity'!$I$10:$I$39,'Staff Capacity'!$G$10:$G$39,6,'Staff Capacity'!$H$10:$H$39,$D$3),SUMIF('Staff Capacity'!$G$10:$G$39,6,'Staff Capacity'!$I$10:$I$39))","v":0},{"$f":"IF($D$3<>\"\",SUMIFS('Staff Capacity'!$I$10:$I$39,'Staff Capacity'!$G$10:$G$39,6,'Staff Capacity'!$H$10:$H$39,$D$3),SUMIF('Staff Capacity'!$G$10:$G$39,6,'Staff Capacity'!$I$10:$I$39))","v":0},{"$f":"IF($D$3<>\"\",SUMIFS('Staff Capacity'!$I$10:$I$39,'Staff Capacity'!$G$10:$G$39,6,'Staff Capacity'!$H$10:$H$39,$D$3),SUMIF('Staff Capacity'!$G$10:$G$39,6,'Staff Capacity'!$I$10:$I$39))","v":0},{"$f":"IF($D$3<>\"\",SUMIFS('Staff Capacity'!$I$10:$I$39,'Staff Capacity'!$G$10:$G$39,6,'Staff Capacity'!$H$10:$H$39,$D$3),SUMIF('Staff Capacity'!$G$10:$G$39,6,'Staff Capacity'!$I$10:$I$39))","v":0},{"$f":"IF($D$3<>\"\",SUMIFS('Staff Capacity'!$I$10:$I$39,'Staff Capacity'!$G$10:$G$39,6,'Staff Capacity'!$H$10:$H$39,$D$3),SUMIF('Staff Capacity'!$G$10:$G$39,6,'Staff Capacity'!$I$10:$I$39))","v":0},{"$f":"IF($D$3<>\"\",SUMIFS('Staff Capacity'!$I$10:$I$39,'Staff Capacity'!$G$10:$G$39,6,'Staff Capacity'!$H$10:$H$39,$D$3),SUMIF('Staff Capacity'!$G$10:$G$39,6,'Staff Capacity'!$I$10:$I$39))","v":0},{"$f":"IF($D$3<>\"\",SUMIFS('Staff Capacity'!$I$10:$I$39,'Staff Capacity'!$G$10:$G$39,6,'Staff Capacity'!$H$10:$H$39,$D$3),SUMIF('Staff Capacity'!$G$10:$G$39,6,'Staff Capacity'!$I$10:$I$39))","v":0},{"$f":"IF($D$3<>\"\",SUMIFS('Staff Capacity'!$I$10:$I$39,'Staff Capacity'!$G$10:$G$39,6,'Staff Capacity'!$H$10:$H$39,$D$3),SUMIF('Staff Capacity'!$G$10:$G$39,6,'Staff Capacity'!$I$10:$I$39))","v":0},{"$f":"IF($D$3<>\"\",SUMIFS('Staff Capacity'!$I$10:$I$39,'Staff Capacity'!$G$10:$G$39,6,'Staff Capacity'!$H$10:$H$39,$D$3),SUMIF('Staff Capacity'!$G$10:$G$39,6,'Staff Capacity'!$I$10:$I$39))","v":0},{"$f":"IF($D$3<>\"\",SUMIFS('Staff Capacity'!$I$10:$I$39,'Staff Capacity'!$G$10:$G$39,6,'Staff Capacity'!$H$10:$H$39,$D$3),SUMIF('Staff Capacity'!$G$10:$G$39,6,'Staff Capacity'!$I$10:$I$39))","v":0},{"$f":"IF($D$3<>\"\",SUMIFS('Staff Capacity'!$I$10:$I$39,'Staff Capacity'!$G$10:$G$39,6,'Staff Capacity'!$H$10:$H$39,$D$3),SUMIF('Staff Capacity'!$G$10:$G$39,6,'Staff Capacity'!$I$10:$I$39))","v":0},{"$f":"IF($D$3<>\"\",SUMIFS('Staff Capacity'!$I$10:$I$39,'Staff Capacity'!$G$10:$G$39,6,'Staff Capacity'!$H$10:$H$39,$D$3),SUMIF('Staff Capacity'!$G$10:$G$39,6,'Staff Capacity'!$I$10:$I$39))","v":0},{"$f":"IF($D$3<>\"\",SUMIFS('Staff Capacity'!$I$10:$I$39,'Staff Capacity'!$G$10:$G$39,6,'Staff Capacity'!$H$10:$H$39,$D$3),SUMIF('Staff Capacity'!$G$10:$G$39,6,'Staff Capacity'!$I$10:$I$39))","v":0},{"$f":"IF($D$3<>\"\",SUMIFS('Staff Capacity'!$I$10:$I$39,'Staff Capacity'!$G$10:$G$39,6,'Staff Capacity'!$H$10:$H$39,$D$3),SUMIF('Staff Capacity'!$G$10:$G$39,6,'Staff Capacity'!$I$10:$I$39))","v":0},{"$f":"IF($D$3<>\"\",SUMIFS('Staff Capacity'!$I$10:$I$39,'Staff Capacity'!$G$10:$G$39,6,'Staff Capacity'!$H$10:$H$39,$D$3),SUMIF('Staff Capacity'!$G$10:$G$39,6,'Staff Capacity'!$I$10:$I$39))","v":0},{"$f":"IF($D$3<>\"\",SUMIFS('Staff Capacity'!$I$10:$I$39,'Staff Capacity'!$G$10:$G$39,6,'Staff Capacity'!$H$10:$H$39,$D$3),SUMIF('Staff Capacity'!$G$10:$G$39,6,'Staff Capacity'!$I$10:$I$39))","v":0},{"$f":"IF($D$3<>\"\",SUMIFS('Staff Capacity'!$I$10:$I$39,'Staff Capacity'!$G$10:$G$39,6,'Staff Capacity'!$H$10:$H$39,$D$3),SUMIF('Staff Capacity'!$G$10:$G$39,6,'Staff Capacity'!$I$10:$I$39))","v":0},{"$f":"IF($D$3<>\"\",SUMIFS('Staff Capacity'!$I$10:$I$39,'Staff Capacity'!$G$10:$G$39,6,'Staff Capacity'!$H$10:$H$39,$D$3),SUMIF('Staff Capacity'!$G$10:$G$39,6,'Staff Capacity'!$I$10:$I$39))","v":0},{"$f":"IF($D$3<>\"\",SUMIFS('Staff Capacity'!$I$10:$I$39,'Staff Capacity'!$G$10:$G$39,6,'Staff Capacity'!$H$10:$H$39,$D$3),SUMIF('Staff Capacity'!$G$10:$G$39,6,'Staff Capacity'!$I$10:$I$39))","v":0},{"$f":"IF($D$3<>\"\",SUMIFS('Staff Capacity'!$I$10:$I$39,'Staff Capacity'!$G$10:$G$39,6,'Staff Capacity'!$H$10:$H$39,$D$3),SUMIF('Staff Capacity'!$G$10:$G$39,6,'Staff Capacity'!$I$10:$I$39))","v":0},{"$f":"IF($D$3<>\"\",SUMIFS('Staff Capacity'!$I$10:$I$39,'Staff Capacity'!$G$10:$G$39,6,'Staff Capacity'!$H$10:$H$39,$D$3),SUMIF('Staff Capacity'!$G$10:$G$39,6,'Staff Capacity'!$I$10:$I$39))","v":0},{"$f":"IF($D$3<>\"\",SUMIFS('Staff Capacity'!$I$10:$I$39,'Staff Capacity'!$G$10:$G$39,6,'Staff Capacity'!$H$10:$H$39,$D$3),SUMIF('Staff Capacity'!$G$10:$G$39,6,'Staff Capacity'!$I$10:$I$39))","v":0},{"$f":"IF($D$3<>\"\",SUMIFS('Staff Capacity'!$I$10:$I$39,'Staff Capacity'!$G$10:$G$39,6,'Staff Capacity'!$H$10:$H$39,$D$3),SUMIF('Staff Capacity'!$G$10:$G$39,6,'Staff Capacity'!$I$10:$I$39))","v":0},{"$f":"IF($D$3<>\"\",SUMIFS('Staff Capacity'!$I$10:$I$39,'Staff Capacity'!$G$10:$G$39,6,'Staff Capacity'!$H$10:$H$39,$D$3),SUMIF('Staff Capacity'!$G$10:$G$39,6,'Staff Capacity'!$I$10:$I$39))","v":0},{"$f":"IF($D$3<>\"\",SUMIFS('Staff Capacity'!$I$10:$I$39,'Staff Capacity'!$G$10:$G$39,6,'Staff Capacity'!$H$10:$H$39,$D$3),SUMIF('Staff Capacity'!$G$10:$G$39,6,'Staff Capacity'!$I$10:$I$39))","v":0},{"$f":"IF($D$3<>\"\",SUMIFS('Staff Capacity'!$I$10:$I$39,'Staff Capacity'!$G$10:$G$39,6,'Staff Capacity'!$H$10:$H$39,$D$3),SUMIF('Staff Capacity'!$G$10:$G$39,6,'Staff Capacity'!$I$10:$I$39))","v":0},{"$f":"IF($D$3<>\"\",SUMIFS('Staff Capacity'!$I$10:$I$39,'Staff Capacity'!$G$10:$G$39,6,'Staff Capacity'!$H$10:$H$39,$D$3),SUMIF('Staff Capacity'!$G$10:$G$39,6,'Staff Capacity'!$I$10:$I$39))","v":0},{"$f":"IF($D$3<>\"\",SUMIFS('Staff Capacity'!$I$10:$I$39,'Staff Capacity'!$G$10:$G$39,6,'Staff Capacity'!$H$10:$H$39,$D$3),SUMIF('Staff Capacity'!$G$10:$G$39,6,'Staff Capacity'!$I$10:$I$39))","v":0},{"$f":"IF($D$3<>\"\",SUMIFS('Staff Capacity'!$I$10:$I$39,'Staff Capacity'!$G$10:$G$39,6,'Staff Capacity'!$H$10:$H$39,$D$3),SUMIF('Staff Capacity'!$G$10:$G$39,6,'Staff Capacity'!$I$10:$I$39))","v":0},{"$f":"IF($D$3<>\"\",SUMIFS('Staff Capacity'!$I$10:$I$39,'Staff Capacity'!$G$10:$G$39,6,'Staff Capacity'!$H$10:$H$39,$D$3),SUMIF('Staff Capacity'!$G$10:$G$39,6,'Staff Capacity'!$I$10:$I$39))","v":0},{"$f":"IF($D$3<>\"\",SUMIFS('Staff Capacity'!$I$10:$I$39,'Staff Capacity'!$G$10:$G$39,6,'Staff Capacity'!$H$10:$H$39,$D$3),SUMIF('Staff Capacity'!$G$10:$G$39,6,'Staff Capacity'!$I$10:$I$39))","v":0},{"$f":"IF($D$3<>\"\",SUMIFS('Staff Capacity'!$I$10:$I$39,'Staff Capacity'!$G$10:$G$39,6,'Staff Capacity'!$H$10:$H$39,$D$3),SUMIF('Staff Capacity'!$G$10:$G$39,6,'Staff Capacity'!$I$10:$I$39))","v":0},{"$f":"IF($D$3<>\"\",SUMIFS('Staff Capacity'!$I$10:$I$39,'Staff Capacity'!$G$10:$G$39,6,'Staff Capacity'!$H$10:$H$39,$D$3),SUMIF('Staff Capacity'!$G$10:$G$39,6,'Staff Capacity'!$I$10:$I$39))","v":0},{"$f":"IF($D$3<>\"\",SUMIFS('Staff Capacity'!$I$10:$I$39,'Staff Capacity'!$G$10:$G$39,6,'Staff Capacity'!$H$10:$H$39,$D$3),SUMIF('Staff Capacity'!$G$10:$G$39,6,'Staff Capacity'!$I$10:$I$39))","v":0},{"$f":"IF($D$3<>\"\",SUMIFS('Staff Capacity'!$I$10:$I$39,'Staff Capacity'!$G$10:$G$39,6,'Staff Capacity'!$H$10:$H$39,$D$3),SUMIF('Staff Capacity'!$G$10:$G$39,6,'Staff Capacity'!$I$10:$I$39))","v":0},{"$f":"IF($D$3<>\"\",SUMIFS('Staff Capacity'!$I$10:$I$39,'Staff Capacity'!$G$10:$G$39,6,'Staff Capacity'!$H$10:$H$39,$D$3),SUMIF('Staff Capacity'!$G$10:$G$39,6,'Staff Capacity'!$I$10:$I$39))","v":0},{"$f":"IF($D$3<>\"\",SUMIFS('Staff Capacity'!$I$10:$I$39,'Staff Capacity'!$G$10:$G$39,6,'Staff Capacity'!$H$10:$H$39,$D$3),SUMIF('Staff Capacity'!$G$10:$G$39,6,'Staff Capacity'!$I$10:$I$39))","v":0},{"$f":"IF($D$3<>\"\",SUMIFS('Staff Capacity'!$I$10:$I$39,'Staff Capacity'!$G$10:$G$39,6,'Staff Capacity'!$H$10:$H$39,$D$3),SUMIF('Staff Capacity'!$G$10:$G$39,6,'Staff Capacity'!$I$10:$I$39))","v":0},{"$f":"IF($D$3<>\"\",SUMIFS('Staff Capacity'!$I$10:$I$39,'Staff Capacity'!$G$10:$G$39,6,'Staff Capacity'!$H$10:$H$39,$D$3),SUMIF('Staff Capacity'!$G$10:$G$39,6,'Staff Capacity'!$I$10:$I$39))","v":0},{"$f":"IF($D$3<>\"\",SUMIFS('Staff Capacity'!$I$10:$I$39,'Staff Capacity'!$G$10:$G$39,6,'Staff Capacity'!$H$10:$H$39,$D$3),SUMIF('Staff Capacity'!$G$10:$G$39,6,'Staff Capacity'!$I$10:$I$39))","v":0},{"$f":"IF($D$3<>\"\",SUMIFS('Staff Capacity'!$I$10:$I$39,'Staff Capacity'!$G$10:$G$39,6,'Staff Capacity'!$H$10:$H$39,$D$3),SUMIF('Staff Capacity'!$G$10:$G$39,6,'Staff Capacity'!$I$10:$I$39))","v":0},{"$f":"IF($D$3<>\"\",SUMIFS('Staff Capacity'!$I$10:$I$39,'Staff Capacity'!$G$10:$G$39,6,'Staff Capacity'!$H$10:$H$39,$D$3),SUMIF('Staff Capacity'!$G$10:$G$39,6,'Staff Capacity'!$I$10:$I$39))","v":0},{"$f":"IF($D$3<>\"\",SUMIFS('Staff Capacity'!$I$10:$I$39,'Staff Capacity'!$G$10:$G$39,6,'Staff Capacity'!$H$10:$H$39,$D$3),SUMIF('Staff Capacity'!$G$10:$G$39,6,'Staff Capacity'!$I$10:$I$39))","v":0},{"$f":"IF($D$3<>\"\",SUMIFS('Staff Capacity'!$I$10:$I$39,'Staff Capacity'!$G$10:$G$39,6,'Staff Capacity'!$H$10:$H$39,$D$3),SUMIF('Staff Capacity'!$G$10:$G$39,6,'Staff Capacity'!$I$10:$I$39))","v":0},{"$f":"IF($D$3<>\"\",SUMIFS('Staff Capacity'!$I$10:$I$39,'Staff Capacity'!$G$10:$G$39,6,'Staff Capacity'!$H$10:$H$39,$D$3),SUMIF('Staff Capacity'!$G$10:$G$39,6,'Staff Capacity'!$I$10:$I$39))","v":0},{"$f":"IF($D$3<>\"\",SUMIFS('Staff Capacity'!$I$10:$I$39,'Staff Capacity'!$G$10:$G$39,6,'Staff Capacity'!$H$10:$H$39,$D$3),SUMIF('Staff Capacity'!$G$10:$G$39,6,'Staff Capacity'!$I$10:$I$39))","v":0},{"$f":"IF($D$3<>\"\",SUMIFS('Staff Capacity'!$I$10:$I$39,'Staff Capacity'!$G$10:$G$39,6,'Staff Capacity'!$H$10:$H$39,$D$3),SUMIF('Staff Capacity'!$G$10:$G$39,6,'Staff Capacity'!$I$10:$I$39))","v":0},{"$f":"IF($D$3<>\"\",SUMIFS('Staff Capacity'!$I$10:$I$39,'Staff Capacity'!$G$10:$G$39,6,'Staff Capacity'!$H$10:$H$39,$D$3),SUMIF('Staff Capacity'!$G$10:$G$39,6,'Staff Capacity'!$I$10:$I$39))","v":0},{"$f":"IF($D$3<>\"\",SUMIFS('Staff Capacity'!$I$10:$I$39,'Staff Capacity'!$G$10:$G$39,6,'Staff Capacity'!$H$10:$H$39,$D$3),SUMIF('Staff Capacity'!$G$10:$G$39,6,'Staff Capacity'!$I$10:$I$39))","v":0},{"$f":"IF($D$3<>\"\",SUMIFS('Staff Capacity'!$I$10:$I$39,'Staff Capacity'!$G$10:$G$39,6,'Staff Capacity'!$H$10:$H$39,$D$3),SUMIF('Staff Capacity'!$G$10:$G$39,6,'Staff Capacity'!$I$10:$I$39))","v":0},{"$f":"IF($D$3<>\"\",SUMIFS('Staff Capacity'!$I$10:$I$39,'Staff Capacity'!$G$10:$G$39,6,'Staff Capacity'!$H$10:$H$39,$D$3),SUMIF('Staff Capacity'!$G$10:$G$39,6,'Staff Capacity'!$I$10:$I$39))","v":0},{"$f":"IF($D$3<>\"\",SUMIFS('Staff Capacity'!$I$10:$I$39,'Staff Capacity'!$G$10:$G$39,6,'Staff Capacity'!$H$10:$H$39,$D$3),SUMIF('Staff Capacity'!$G$10:$G$39,6,'Staff Capacity'!$I$10:$I$39))","v":0},{"$f":"IF($D$3<>\"\",SUMIFS('Staff Capacity'!$I$10:$I$39,'Staff Capacity'!$G$10:$G$39,6,'Staff Capacity'!$H$10:$H$39,$D$3),SUMIF('Staff Capacity'!$G$10:$G$39,6,'Staff Capacity'!$I$10:$I$39))","v":0},{"$f":"IF($D$3<>\"\",SUMIFS('Staff Capacity'!$I$10:$I$39,'Staff Capacity'!$G$10:$G$39,6,'Staff Capacity'!$H$10:$H$39,$D$3),SUMIF('Staff Capacity'!$G$10:$G$39,6,'Staff Capacity'!$I$10:$I$39))","v":0},{"$f":"IF($D$3<>\"\",SUMIFS('Staff Capacity'!$I$10:$I$39,'Staff Capacity'!$G$10:$G$39,6,'Staff Capacity'!$H$10:$H$39,$D$3),SUMIF('Staff Capacity'!$G$10:$G$39,6,'Staff Capacity'!$I$10:$I$39))","v":0},{"$f":"IF($D$3<>\"\",SUMIFS('Staff Capacity'!$I$10:$I$39,'Staff Capacity'!$G$10:$G$39,6,'Staff Capacity'!$H$10:$H$39,$D$3),SUMIF('Staff Capacity'!$G$10:$G$39,6,'Staff Capacity'!$I$10:$I$39))","v":0},{"$f":"IF($D$3<>\"\",SUMIFS('Staff Capacity'!$I$10:$I$39,'Staff Capacity'!$G$10:$G$39,6,'Staff Capacity'!$H$10:$H$39,$D$3),SUMIF('Staff Capacity'!$G$10:$G$39,6,'Staff Capacity'!$I$10:$I$39))","v":0},{"$f":"IF($D$3<>\"\",SUMIFS('Staff Capacity'!$I$10:$I$39,'Staff Capacity'!$G$10:$G$39,6,'Staff Capacity'!$H$10:$H$39,$D$3),SUMIF('Staff Capacity'!$G$10:$G$39,6,'Staff Capacity'!$I$10:$I$39))","v":0},{"$f":"IF($D$3<>\"\",SUMIFS('Staff Capacity'!$I$10:$I$39,'Staff Capacity'!$G$10:$G$39,6,'Staff Capacity'!$H$10:$H$39,$D$3),SUMIF('Staff Capacity'!$G$10:$G$39,6,'Staff Capacity'!$I$10:$I$39))","v":0},{"$f":"IF($D$3<>\"\",SUMIFS('Staff Capacity'!$I$10:$I$39,'Staff Capacity'!$G$10:$G$39,6,'Staff Capacity'!$H$10:$H$39,$D$3),SUMIF('Staff Capacity'!$G$10:$G$39,6,'Staff Capacity'!$I$10:$I$39))","v":0},{"$f":"IF($D$3<>\"\",SUMIFS('Staff Capacity'!$I$10:$I$39,'Staff Capacity'!$G$10:$G$39,6,'Staff Capacity'!$H$10:$H$39,$D$3),SUMIF('Staff Capacity'!$G$10:$G$39,6,'Staff Capacity'!$I$10:$I$39))","v":0},{"$f":"IF($D$3<>\"\",SUMIFS('Staff Capacity'!$I$10:$I$39,'Staff Capacity'!$G$10:$G$39,6,'Staff Capacity'!$H$10:$H$39,$D$3),SUMIF('Staff Capacity'!$G$10:$G$39,6,'Staff Capacity'!$I$10:$I$39))","v":0},{"$f":"IF($D$3<>\"\",SUMIFS('Staff Capacity'!$I$10:$I$39,'Staff Capacity'!$G$10:$G$39,6,'Staff Capacity'!$H$10:$H$39,$D$3),SUMIF('Staff Capacity'!$G$10:$G$39,6,'Staff Capacity'!$I$10:$I$39))","v":0},{"$f":"IF($D$3<>\"\",SUMIFS('Staff Capacity'!$I$10:$I$39,'Staff Capacity'!$G$10:$G$39,6,'Staff Capacity'!$H$10:$H$39,$D$3),SUMIF('Staff Capacity'!$G$10:$G$39,6,'Staff Capacity'!$I$10:$I$39))","v":0},{"$f":"IF($D$3<>\"\",SUMIFS('Staff Capacity'!$I$10:$I$39,'Staff Capacity'!$G$10:$G$39,6,'Staff Capacity'!$H$10:$H$39,$D$3),SUMIF('Staff Capacity'!$G$10:$G$39,6,'Staff Capacity'!$I$10:$I$39))","v":0},{"$f":"IF($D$3<>\"\",SUMIFS('Staff Capacity'!$I$10:$I$39,'Staff Capacity'!$G$10:$G$39,6,'Staff Capacity'!$H$10:$H$39,$D$3),SUMIF('Staff Capacity'!$G$10:$G$39,6,'Staff Capacity'!$I$10:$I$39))","v":0},{"$f":"IF($D$3<>\"\",SUMIFS('Staff Capacity'!$I$10:$I$39,'Staff Capacity'!$G$10:$G$39,6,'Staff Capacity'!$H$10:$H$39,$D$3),SUMIF('Staff Capacity'!$G$10:$G$39,6,'Staff Capacity'!$I$10:$I$39))","v":0},{"$f":"IF($D$3<>\"\",SUMIFS('Staff Capacity'!$I$10:$I$39,'Staff Capacity'!$G$10:$G$39,6,'Staff Capacity'!$H$10:$H$39,$D$3),SUMIF('Staff Capacity'!$G$10:$G$39,6,'Staff Capacity'!$I$10:$I$39))","v":0},{"$f":"IF($D$3<>\"\",SUMIFS('Staff Capacity'!$I$10:$I$39,'Staff Capacity'!$G$10:$G$39,6,'Staff Capacity'!$H$10:$H$39,$D$3),SUMIF('Staff Capacity'!$G$10:$G$39,6,'Staff Capacity'!$I$10:$I$39))","v":0},{"$f":"IF($D$3<>\"\",SUMIFS('Staff Capacity'!$I$10:$I$39,'Staff Capacity'!$G$10:$G$39,6,'Staff Capacity'!$H$10:$H$39,$D$3),SUMIF('Staff Capacity'!$G$10:$G$39,6,'Staff Capacity'!$I$10:$I$39))","v":0},{"$f":"IF($D$3<>\"\",SUMIFS('Staff Capacity'!$I$10:$I$39,'Staff Capacity'!$G$10:$G$39,6,'Staff Capacity'!$H$10:$H$39,$D$3),SUMIF('Staff Capacity'!$G$10:$G$39,6,'Staff Capacity'!$I$10:$I$39))","v":0},{"$f":"IF($D$3<>\"\",SUMIFS('Staff Capacity'!$I$10:$I$39,'Staff Capacity'!$G$10:$G$39,6,'Staff Capacity'!$H$10:$H$39,$D$3),SUMIF('Staff Capacity'!$G$10:$G$39,6,'Staff Capacity'!$I$10:$I$39))","v":0},{"$f":"IF($D$3<>\"\",SUMIFS('Staff Capacity'!$I$10:$I$39,'Staff Capacity'!$G$10:$G$39,6,'Staff Capacity'!$H$10:$H$39,$D$3),SUMIF('Staff Capacity'!$G$10:$G$39,6,'Staff Capacity'!$I$10:$I$39))","v":0},{"$f":"IF($D$3<>\"\",SUMIFS('Staff Capacity'!$I$10:$I$39,'Staff Capacity'!$G$10:$G$39,6,'Staff Capacity'!$H$10:$H$39,$D$3),SUMIF('Staff Capacity'!$G$10:$G$39,6,'Staff Capacity'!$I$10:$I$39))","v":0},{"$f":"IF($D$3<>\"\",SUMIFS('Staff Capacity'!$I$10:$I$39,'Staff Capacity'!$G$10:$G$39,6,'Staff Capacity'!$H$10:$H$39,$D$3),SUMIF('Staff Capacity'!$G$10:$G$39,6,'Staff Capacity'!$I$10:$I$39))","v":0},{"$f":"IF($D$3<>\"\",SUMIFS('Staff Capacity'!$I$10:$I$39,'Staff Capacity'!$G$10:$G$39,6,'Staff Capacity'!$H$10:$H$39,$D$3),SUMIF('Staff Capacity'!$G$10:$G$39,6,'Staff Capacity'!$I$10:$I$39))","v":0},{"$f":"IF($D$3<>\"\",SUMIFS('Staff Capacity'!$I$10:$I$39,'Staff Capacity'!$G$10:$G$39,6,'Staff Capacity'!$H$10:$H$39,$D$3),SUMIF('Staff Capacity'!$G$10:$G$39,6,'Staff Capacity'!$I$10:$I$39))","v":0},{"$f":"IF($D$3<>\"\",SUMIFS('Staff Capacity'!$I$10:$I$39,'Staff Capacity'!$G$10:$G$39,6,'Staff Capacity'!$H$10:$H$39,$D$3),SUMIF('Staff Capacity'!$G$10:$G$39,6,'Staff Capacity'!$I$10:$I$39))","v":0},{"$f":"IF($D$3<>\"\",SUMIFS('Staff Capacity'!$I$10:$I$39,'Staff Capacity'!$G$10:$G$39,6,'Staff Capacity'!$H$10:$H$39,$D$3),SUMIF('Staff Capacity'!$G$10:$G$39,6,'Staff Capacity'!$I$10:$I$39))","v":0},{"$f":"IF($D$3<>\"\",SUMIFS('Staff Capacity'!$I$10:$I$39,'Staff Capacity'!$G$10:$G$39,6,'Staff Capacity'!$H$10:$H$39,$D$3),SUMIF('Staff Capacity'!$G$10:$G$39,6,'Staff Capacity'!$I$10:$I$39))","v":0},{"$f":"IF($D$3<>\"\",SUMIFS('Staff Capacity'!$I$10:$I$39,'Staff Capacity'!$G$10:$G$39,6,'Staff Capacity'!$H$10:$H$39,$D$3),SUMIF('Staff Capacity'!$G$10:$G$39,6,'Staff Capacity'!$I$10:$I$39))","v":0},{"$f":"IF($D$3<>\"\",SUMIFS('Staff Capacity'!$I$10:$I$39,'Staff Capacity'!$G$10:$G$39,6,'Staff Capacity'!$H$10:$H$39,$D$3),SUMIF('Staff Capacity'!$G$10:$G$39,6,'Staff Capacity'!$I$10:$I$39))","v":0},{"$f":"IF($D$3<>\"\",SUMIFS('Staff Capacity'!$I$10:$I$39,'Staff Capacity'!$G$10:$G$39,6,'Staff Capacity'!$H$10:$H$39,$D$3),SUMIF('Staff Capacity'!$G$10:$G$39,6,'Staff Capacity'!$I$10:$I$39))","v":0},{"$f":"IF($D$3<>\"\",SUMIFS('Staff Capacity'!$I$10:$I$39,'Staff Capacity'!$G$10:$G$39,6,'Staff Capacity'!$H$10:$H$39,$D$3),SUMIF('Staff Capacity'!$G$10:$G$39,6,'Staff Capacity'!$I$10:$I$39))","v":0},{"$f":"IF($D$3<>\"\",SUMIFS('Staff Capacity'!$I$10:$I$39,'Staff Capacity'!$G$10:$G$39,6,'Staff Capacity'!$H$10:$H$39,$D$3),SUMIF('Staff Capacity'!$G$10:$G$39,6,'Staff Capacity'!$I$10:$I$39))","v":0},{"$f":"IF($D$3<>\"\",SUMIFS('Staff Capacity'!$I$10:$I$39,'Staff Capacity'!$G$10:$G$39,6,'Staff Capacity'!$H$10:$H$39,$D$3),SUMIF('Staff Capacity'!$G$10:$G$39,6,'Staff Capacity'!$I$10:$I$39))","v":0},{"$f":"IF($D$3<>\"\",SUMIFS('Staff Capacity'!$I$10:$I$39,'Staff Capacity'!$G$10:$G$39,6,'Staff Capacity'!$H$10:$H$39,$D$3),SUMIF('Staff Capacity'!$G$10:$G$39,6,'Staff Capacity'!$I$10:$I$39))","v":0},{"$f":"IF($D$3<>\"\",SUMIFS('Staff Capacity'!$I$10:$I$39,'Staff Capacity'!$G$10:$G$39,6,'Staff Capacity'!$H$10:$H$39,$D$3),SUMIF('Staff Capacity'!$G$10:$G$39,6,'Staff Capacity'!$I$10:$I$39))","v":0},{"$f":"IF($D$3<>\"\",SUMIFS('Staff Capacity'!$I$10:$I$39,'Staff Capacity'!$G$10:$G$39,6,'Staff Capacity'!$H$10:$H$39,$D$3),SUMIF('Staff Capacity'!$G$10:$G$39,6,'Staff Capacity'!$I$10:$I$39))","v":0},{"$f":"IF($D$3<>\"\",SUMIFS('Staff Capacity'!$I$10:$I$39,'Staff Capacity'!$G$10:$G$39,6,'Staff Capacity'!$H$10:$H$39,$D$3),SUMIF('Staff Capacity'!$G$10:$G$39,6,'Staff Capacity'!$I$10:$I$39))","v":0},{"$f":"IF($D$3<>\"\",SUMIFS('Staff Capacity'!$I$10:$I$39,'Staff Capacity'!$G$10:$G$39,6,'Staff Capacity'!$H$10:$H$39,$D$3),SUMIF('Staff Capacity'!$G$10:$G$39,6,'Staff Capacity'!$I$10:$I$39))","v":0},{"$f":"IF($D$3<>\"\",SUMIFS('Staff Capacity'!$I$10:$I$39,'Staff Capacity'!$G$10:$G$39,6,'Staff Capacity'!$H$10:$H$39,$D$3),SUMIF('Staff Capacity'!$G$10:$G$39,6,'Staff Capacity'!$I$10:$I$39))","v":0},{"$f":"IF($D$3<>\"\",SUMIFS('Staff Capacity'!$I$10:$I$39,'Staff Capacity'!$G$10:$G$39,6,'Staff Capacity'!$H$10:$H$39,$D$3),SUMIF('Staff Capacity'!$G$10:$G$39,6,'Staff Capacity'!$I$10:$I$39))","v":0},{"$f":"IF($D$3<>\"\",SUMIFS('Staff Capacity'!$I$10:$I$39,'Staff Capacity'!$G$10:$G$39,6,'Staff Capacity'!$H$10:$H$39,$D$3),SUMIF('Staff Capacity'!$G$10:$G$39,6,'Staff Capacity'!$I$10:$I$39))","v":0},{"$f":"IF($D$3<>\"\",SUMIFS('Staff Capacity'!$I$10:$I$39,'Staff Capacity'!$G$10:$G$39,6,'Staff Capacity'!$H$10:$H$39,$D$3),SUMIF('Staff Capacity'!$G$10:$G$39,6,'Staff Capacity'!$I$10:$I$39))","v":0},{"$f":"IF($D$3<>\"\",SUMIFS('Staff Capacity'!$I$10:$I$39,'Staff Capacity'!$G$10:$G$39,6,'Staff Capacity'!$H$10:$H$39,$D$3),SUMIF('Staff Capacity'!$G$10:$G$39,6,'Staff Capacity'!$I$10:$I$39))","v":0},{"$f":"IF($D$3<>\"\",SUMIFS('Staff Capacity'!$I$10:$I$39,'Staff Capacity'!$G$10:$G$39,6,'Staff Capacity'!$H$10:$H$39,$D$3),SUMIF('Staff Capacity'!$G$10:$G$39,6,'Staff Capacity'!$I$10:$I$39))","v":0},{"$f":"IF($D$3<>\"\",SUMIFS('Staff Capacity'!$I$10:$I$39,'Staff Capacity'!$G$10:$G$39,6,'Staff Capacity'!$H$10:$H$39,$D$3),SUMIF('Staff Capacity'!$G$10:$G$39,6,'Staff Capacity'!$I$10:$I$39))","v":0},{"$f":"IF($D$3<>\"\",SUMIFS('Staff Capacity'!$I$10:$I$39,'Staff Capacity'!$G$10:$G$39,6,'Staff Capacity'!$H$10:$H$39,$D$3),SUMIF('Staff Capacity'!$G$10:$G$39,6,'Staff Capacity'!$I$10:$I$39))","v":0},{"$f":"IF($D$3<>\"\",SUMIFS('Staff Capacity'!$I$10:$I$39,'Staff Capacity'!$G$10:$G$39,6,'Staff Capacity'!$H$10:$H$39,$D$3),SUMIF('Staff Capacity'!$G$10:$G$39,6,'Staff Capacity'!$I$10:$I$39))","v":0},{"$f":"IF($D$3<>\"\",SUMIFS('Staff Capacity'!$I$10:$I$39,'Staff Capacity'!$G$10:$G$39,6,'Staff Capacity'!$H$10:$H$39,$D$3),SUMIF('Staff Capacity'!$G$10:$G$39,6,'Staff Capacity'!$I$10:$I$39))","v":0},{"$f":"IF($D$3<>\"\",SUMIFS('Staff Capacity'!$I$10:$I$39,'Staff Capacity'!$G$10:$G$39,6,'Staff Capacity'!$H$10:$H$39,$D$3),SUMIF('Staff Capacity'!$G$10:$G$39,6,'Staff Capacity'!$I$10:$I$39))","v":0},{"$f":"IF($D$3<>\"\",SUMIFS('Staff Capacity'!$I$10:$I$39,'Staff Capacity'!$G$10:$G$39,6,'Staff Capacity'!$H$10:$H$39,$D$3),SUMIF('Staff Capacity'!$G$10:$G$39,6,'Staff Capacity'!$I$10:$I$39))","v":0},{"$f":"IF($D$3<>\"\",SUMIFS('Staff Capacity'!$I$10:$I$39,'Staff Capacity'!$G$10:$G$39,6,'Staff Capacity'!$H$10:$H$39,$D$3),SUMIF('Staff Capacity'!$G$10:$G$39,6,'Staff Capacity'!$I$10:$I$39))","v":0},{"$f":"IF($D$3<>\"\",SUMIFS('Staff Capacity'!$I$10:$I$39,'Staff Capacity'!$G$10:$G$39,6,'Staff Capacity'!$H$10:$H$39,$D$3),SUMIF('Staff Capacity'!$G$10:$G$39,6,'Staff Capacity'!$I$10:$I$39))","v":0},{"$f":"IF($D$3<>\"\",SUMIFS('Staff Capacity'!$I$10:$I$39,'Staff Capacity'!$G$10:$G$39,6,'Staff Capacity'!$H$10:$H$39,$D$3),SUMIF('Staff Capacity'!$G$10:$G$39,6,'Staff Capacity'!$I$10:$I$39))","v":0},{"$f":"IF($D$3<>\"\",SUMIFS('Staff Capacity'!$I$10:$I$39,'Staff Capacity'!$G$10:$G$39,6,'Staff Capacity'!$H$10:$H$39,$D$3),SUMIF('Staff Capacity'!$G$10:$G$39,6,'Staff Capacity'!$I$10:$I$39))","v":0},{"$f":"IF($D$3<>\"\",SUMIFS('Staff Capacity'!$I$10:$I$39,'Staff Capacity'!$G$10:$G$39,6,'Staff Capacity'!$H$10:$H$39,$D$3),SUMIF('Staff Capacity'!$G$10:$G$39,6,'Staff Capacity'!$I$10:$I$39))","v":0},{"$f":"IF($D$3<>\"\",SUMIFS('Staff Capacity'!$I$10:$I$39,'Staff Capacity'!$G$10:$G$39,6,'Staff Capacity'!$H$10:$H$39,$D$3),SUMIF('Staff Capacity'!$G$10:$G$39,6,'Staff Capacity'!$I$10:$I$39))","v":0},{"$f":"IF($D$3<>\"\",SUMIFS('Staff Capacity'!$I$10:$I$39,'Staff Capacity'!$G$10:$G$39,6,'Staff Capacity'!$H$10:$H$39,$D$3),SUMIF('Staff Capacity'!$G$10:$G$39,6,'Staff Capacity'!$I$10:$I$39))","v":0},{"$f":"IF($D$3<>\"\",SUMIFS('Staff Capacity'!$I$10:$I$39,'Staff Capacity'!$G$10:$G$39,6,'Staff Capacity'!$H$10:$H$39,$D$3),SUMIF('Staff Capacity'!$G$10:$G$39,6,'Staff Capacity'!$I$10:$I$39))","v":0},{"$f":"IF($D$3<>\"\",SUMIFS('Staff Capacity'!$I$10:$I$39,'Staff Capacity'!$G$10:$G$39,6,'Staff Capacity'!$H$10:$H$39,$D$3),SUMIF('Staff Capacity'!$G$10:$G$39,6,'Staff Capacity'!$I$10:$I$39))","v":0},{"$f":"IF($D$3<>\"\",SUMIFS('Staff Capacity'!$I$10:$I$39,'Staff Capacity'!$G$10:$G$39,6,'Staff Capacity'!$H$10:$H$39,$D$3),SUMIF('Staff Capacity'!$G$10:$G$39,6,'Staff Capacity'!$I$10:$I$39))","v":0},{"$f":"IF($D$3<>\"\",SUMIFS('Staff Capacity'!$I$10:$I$39,'Staff Capacity'!$G$10:$G$39,6,'Staff Capacity'!$H$10:$H$39,$D$3),SUMIF('Staff Capacity'!$G$10:$G$39,6,'Staff Capacity'!$I$10:$I$39))","v":0},{"$f":"IF($D$3<>\"\",SUMIFS('Staff Capacity'!$I$10:$I$39,'Staff Capacity'!$G$10:$G$39,6,'Staff Capacity'!$H$10:$H$39,$D$3),SUMIF('Staff Capacity'!$G$10:$G$39,6,'Staff Capacity'!$I$10:$I$39))","v":0},{"$f":"IF($D$3<>\"\",SUMIFS('Staff Capacity'!$I$10:$I$39,'Staff Capacity'!$G$10:$G$39,6,'Staff Capacity'!$H$10:$H$39,$D$3),SUMIF('Staff Capacity'!$G$10:$G$39,6,'Staff Capacity'!$I$10:$I$39))","v":0},{"$f":"IF($D$3<>\"\",SUMIFS('Staff Capacity'!$I$10:$I$39,'Staff Capacity'!$G$10:$G$39,6,'Staff Capacity'!$H$10:$H$39,$D$3),SUMIF('Staff Capacity'!$G$10:$G$39,6,'Staff Capacity'!$I$10:$I$39))","v":0},{"$f":"IF($D$3<>\"\",SUMIFS('Staff Capacity'!$I$10:$I$39,'Staff Capacity'!$G$10:$G$39,6,'Staff Capacity'!$H$10:$H$39,$D$3),SUMIF('Staff Capacity'!$G$10:$G$39,6,'Staff Capacity'!$I$10:$I$39))","v":0},{"$f":"IF($D$3<>\"\",SUMIFS('Staff Capacity'!$I$10:$I$39,'Staff Capacity'!$G$10:$G$39,6,'Staff Capacity'!$H$10:$H$39,$D$3),SUMIF('Staff Capacity'!$G$10:$G$39,6,'Staff Capacity'!$I$10:$I$39))","v":0},{"$f":"IF($D$3<>\"\",SUMIFS('Staff Capacity'!$I$10:$I$39,'Staff Capacity'!$G$10:$G$39,6,'Staff Capacity'!$H$10:$H$39,$D$3),SUMIF('Staff Capacity'!$G$10:$G$39,6,'Staff Capacity'!$I$10:$I$39))","v":0},{"$f":"IF($D$3<>\"\",SUMIFS('Staff Capacity'!$I$10:$I$39,'Staff Capacity'!$G$10:$G$39,6,'Staff Capacity'!$H$10:$H$39,$D$3),SUMIF('Staff Capacity'!$G$10:$G$39,6,'Staff Capacity'!$I$10:$I$39))","v":0},{"$f":"IF($D$3<>\"\",SUMIFS('Staff Capacity'!$I$10:$I$39,'Staff Capacity'!$G$10:$G$39,6,'Staff Capacity'!$H$10:$H$39,$D$3),SUMIF('Staff Capacity'!$G$10:$G$39,6,'Staff Capacity'!$I$10:$I$39))","v":0},{"$f":"IF($D$3<>\"\",SUMIFS('Staff Capacity'!$I$10:$I$39,'Staff Capacity'!$G$10:$G$39,6,'Staff Capacity'!$H$10:$H$39,$D$3),SUMIF('Staff Capacity'!$G$10:$G$39,6,'Staff Capacity'!$I$10:$I$39))","v":0},{"$f":"IF($D$3<>\"\",SUMIFS('Staff Capacity'!$I$10:$I$39,'Staff Capacity'!$G$10:$G$39,6,'Staff Capacity'!$H$10:$H$39,$D$3),SUMIF('Staff Capacity'!$G$10:$G$39,6,'Staff Capacity'!$I$10:$I$39))","v":0},{"$f":"IF($D$3<>\"\",SUMIFS('Staff Capacity'!$I$10:$I$39,'Staff Capacity'!$G$10:$G$39,6,'Staff Capacity'!$H$10:$H$39,$D$3),SUMIF('Staff Capacity'!$G$10:$G$39,6,'Staff Capacity'!$I$10:$I$39))","v":0},{"$f":"IF($D$3<>\"\",SUMIFS('Staff Capacity'!$I$10:$I$39,'Staff Capacity'!$G$10:$G$39,6,'Staff Capacity'!$H$10:$H$39,$D$3),SUMIF('Staff Capacity'!$G$10:$G$39,6,'Staff Capacity'!$I$10:$I$39))","v":0},{"$f":"IF($D$3<>\"\",SUMIFS('Staff Capacity'!$I$10:$I$39,'Staff Capacity'!$G$10:$G$39,6,'Staff Capacity'!$H$10:$H$39,$D$3),SUMIF('Staff Capacity'!$G$10:$G$39,6,'Staff Capacity'!$I$10:$I$39))","v":0},{"$f":"IF($D$3<>\"\",SUMIFS('Staff Capacity'!$I$10:$I$39,'Staff Capacity'!$G$10:$G$39,6,'Staff Capacity'!$H$10:$H$39,$D$3),SUMIF('Staff Capacity'!$G$10:$G$39,6,'Staff Capacity'!$I$10:$I$39))","v":0},{"$f":"IF($D$3<>\"\",SUMIFS('Staff Capacity'!$I$10:$I$39,'Staff Capacity'!$G$10:$G$39,6,'Staff Capacity'!$H$10:$H$39,$D$3),SUMIF('Staff Capacity'!$G$10:$G$39,6,'Staff Capacity'!$I$10:$I$39))","v":0},{"$f":"IF($D$3<>\"\",SUMIFS('Staff Capacity'!$I$10:$I$39,'Staff Capacity'!$G$10:$G$39,6,'Staff Capacity'!$H$10:$H$39,$D$3),SUMIF('Staff Capacity'!$G$10:$G$39,6,'Staff Capacity'!$I$10:$I$39))","v":0},{"$f":"IF($D$3<>\"\",SUMIFS('Staff Capacity'!$I$10:$I$39,'Staff Capacity'!$G$10:$G$39,6,'Staff Capacity'!$H$10:$H$39,$D$3),SUMIF('Staff Capacity'!$G$10:$G$39,6,'Staff Capacity'!$I$10:$I$39))","v":0},{"$f":"IF($D$3<>\"\",SUMIFS('Staff Capacity'!$I$10:$I$39,'Staff Capacity'!$G$10:$G$39,6,'Staff Capacity'!$H$10:$H$39,$D$3),SUMIF('Staff Capacity'!$G$10:$G$39,6,'Staff Capacity'!$I$10:$I$39))","v":0},{"$f":"IF($D$3<>\"\",SUMIFS('Staff Capacity'!$I$10:$I$39,'Staff Capacity'!$G$10:$G$39,6,'Staff Capacity'!$H$10:$H$39,$D$3),SUMIF('Staff Capacity'!$G$10:$G$39,6,'Staff Capacity'!$I$10:$I$39))","v":0},{"$f":"IF($D$3<>\"\",SUMIFS('Staff Capacity'!$I$10:$I$39,'Staff Capacity'!$G$10:$G$39,6,'Staff Capacity'!$H$10:$H$39,$D$3),SUMIF('Staff Capacity'!$G$10:$G$39,6,'Staff Capacity'!$I$10:$I$39))","v":0},{"$f":"IF($D$3<>\"\",SUMIFS('Staff Capacity'!$I$10:$I$39,'Staff Capacity'!$G$10:$G$39,6,'Staff Capacity'!$H$10:$H$39,$D$3),SUMIF('Staff Capacity'!$G$10:$G$39,6,'Staff Capacity'!$I$10:$I$39))","v":0},{"$f":"IF($D$3<>\"\",SUMIFS('Staff Capacity'!$I$10:$I$39,'Staff Capacity'!$G$10:$G$39,6,'Staff Capacity'!$H$10:$H$39,$D$3),SUMIF('Staff Capacity'!$G$10:$G$39,6,'Staff Capacity'!$I$10:$I$39))","v":0},{"$f":"IF($D$3<>\"\",SUMIFS('Staff Capacity'!$I$10:$I$39,'Staff Capacity'!$G$10:$G$39,6,'Staff Capacity'!$H$10:$H$39,$D$3),SUMIF('Staff Capacity'!$G$10:$G$39,6,'Staff Capacity'!$I$10:$I$39))","v":0},{"$f":"IF($D$3<>\"\",SUMIFS('Staff Capacity'!$I$10:$I$39,'Staff Capacity'!$G$10:$G$39,6,'Staff Capacity'!$H$10:$H$39,$D$3),SUMIF('Staff Capacity'!$G$10:$G$39,6,'Staff Capacity'!$I$10:$I$39))","v":0},{"$f":"IF($D$3<>\"\",SUMIFS('Staff Capacity'!$I$10:$I$39,'Staff Capacity'!$G$10:$G$39,6,'Staff Capacity'!$H$10:$H$39,$D$3),SUMIF('Staff Capacity'!$G$10:$G$39,6,'Staff Capacity'!$I$10:$I$39))","v":0},{"$f":"IF($D$3<>\"\",SUMIFS('Staff Capacity'!$I$10:$I$39,'Staff Capacity'!$G$10:$G$39,6,'Staff Capacity'!$H$10:$H$39,$D$3),SUMIF('Staff Capacity'!$G$10:$G$39,6,'Staff Capacity'!$I$10:$I$39))","v":0},{"$f":"IF($D$3<>\"\",SUMIFS('Staff Capacity'!$I$10:$I$39,'Staff Capacity'!$G$10:$G$39,6,'Staff Capacity'!$H$10:$H$39,$D$3),SUMIF('Staff Capacity'!$G$10:$G$39,6,'Staff Capacity'!$I$10:$I$39))","v":0},{"$f":"IF($D$3<>\"\",SUMIFS('Staff Capacity'!$I$10:$I$39,'Staff Capacity'!$G$10:$G$39,6,'Staff Capacity'!$H$10:$H$39,$D$3),SUMIF('Staff Capacity'!$G$10:$G$39,6,'Staff Capacity'!$I$10:$I$39))","v":0},{"$f":"IF($D$3<>\"\",SUMIFS('Staff Capacity'!$I$10:$I$39,'Staff Capacity'!$G$10:$G$39,6,'Staff Capacity'!$H$10:$H$39,$D$3),SUMIF('Staff Capacity'!$G$10:$G$39,6,'Staff Capacity'!$I$10:$I$39))","v":0},{"$f":"IF($D$3<>\"\",SUMIFS('Staff Capacity'!$I$10:$I$39,'Staff Capacity'!$G$10:$G$39,6,'Staff Capacity'!$H$10:$H$39,$D$3),SUMIF('Staff Capacity'!$G$10:$G$39,6,'Staff Capacity'!$I$10:$I$39))","v":0},{"$f":"IF($D$3<>\"\",SUMIFS('Staff Capacity'!$I$10:$I$39,'Staff Capacity'!$G$10:$G$39,6,'Staff Capacity'!$H$10:$H$39,$D$3),SUMIF('Staff Capacity'!$G$10:$G$39,6,'Staff Capacity'!$I$10:$I$39))","v":0},{"$f":"IF($D$3<>\"\",SUMIFS('Staff Capacity'!$I$10:$I$39,'Staff Capacity'!$G$10:$G$39,6,'Staff Capacity'!$H$10:$H$39,$D$3),SUMIF('Staff Capacity'!$G$10:$G$39,6,'Staff Capacity'!$I$10:$I$39))","v":0},{"$f":"IF($D$3<>\"\",SUMIFS('Staff Capacity'!$I$10:$I$39,'Staff Capacity'!$G$10:$G$39,6,'Staff Capacity'!$H$10:$H$39,$D$3),SUMIF('Staff Capacity'!$G$10:$G$39,6,'Staff Capacity'!$I$10:$I$39))","v":0},{"$f":"IF($D$3<>\"\",SUMIFS('Staff Capacity'!$I$10:$I$39,'Staff Capacity'!$G$10:$G$39,6,'Staff Capacity'!$H$10:$H$39,$D$3),SUMIF('Staff Capacity'!$G$10:$G$39,6,'Staff Capacity'!$I$10:$I$39))","v":0},{"$f":"IF($D$3<>\"\",SUMIFS('Staff Capacity'!$I$10:$I$39,'Staff Capacity'!$G$10:$G$39,6,'Staff Capacity'!$H$10:$H$39,$D$3),SUMIF('Staff Capacity'!$G$10:$G$39,6,'Staff Capacity'!$I$10:$I$39))","v":0},{"$f":"IF($D$3<>\"\",SUMIFS('Staff Capacity'!$I$10:$I$39,'Staff Capacity'!$G$10:$G$39,6,'Staff Capacity'!$H$10:$H$39,$D$3),SUMIF('Staff Capacity'!$G$10:$G$39,6,'Staff Capacity'!$I$10:$I$39))","v":0},{"$f":"IF($D$3<>\"\",SUMIFS('Staff Capacity'!$I$10:$I$39,'Staff Capacity'!$G$10:$G$39,6,'Staff Capacity'!$H$10:$H$39,$D$3),SUMIF('Staff Capacity'!$G$10:$G$39,6,'Staff Capacity'!$I$10:$I$39))","v":0},{"$f":"IF($D$3<>\"\",SUMIFS('Staff Capacity'!$I$10:$I$39,'Staff Capacity'!$G$10:$G$39,6,'Staff Capacity'!$H$10:$H$39,$D$3),SUMIF('Staff Capacity'!$G$10:$G$39,6,'Staff Capacity'!$I$10:$I$39))","v":0},{"$f":"IF($D$3<>\"\",SUMIFS('Staff Capacity'!$I$10:$I$39,'Staff Capacity'!$G$10:$G$39,6,'Staff Capacity'!$H$10:$H$39,$D$3),SUMIF('Staff Capacity'!$G$10:$G$39,6,'Staff Capacity'!$I$10:$I$39))","v":0},{"$f":"IF($D$3<>\"\",SUMIFS('Staff Capacity'!$I$10:$I$39,'Staff Capacity'!$G$10:$G$39,6,'Staff Capacity'!$H$10:$H$39,$D$3),SUMIF('Staff Capacity'!$G$10:$G$39,6,'Staff Capacity'!$I$10:$I$39))","v":0},{"$f":"IF($D$3<>\"\",SUMIFS('Staff Capacity'!$I$10:$I$39,'Staff Capacity'!$G$10:$G$39,6,'Staff Capacity'!$H$10:$H$39,$D$3),SUMIF('Staff Capacity'!$G$10:$G$39,6,'Staff Capacity'!$I$10:$I$39))","v":0},{"$f":"IF($D$3<>\"\",SUMIFS('Staff Capacity'!$I$10:$I$39,'Staff Capacity'!$G$10:$G$39,6,'Staff Capacity'!$H$10:$H$39,$D$3),SUMIF('Staff Capacity'!$G$10:$G$39,6,'Staff Capacity'!$I$10:$I$39))","v":0},{"$f":"IF($D$3<>\"\",SUMIFS('Staff Capacity'!$I$10:$I$39,'Staff Capacity'!$G$10:$G$39,6,'Staff Capacity'!$H$10:$H$39,$D$3),SUMIF('Staff Capacity'!$G$10:$G$39,6,'Staff Capacity'!$I$10:$I$39))","v":0},{"$f":"IF($D$3<>\"\",SUMIFS('Staff Capacity'!$I$10:$I$39,'Staff Capacity'!$G$10:$G$39,6,'Staff Capacity'!$H$10:$H$39,$D$3),SUMIF('Staff Capacity'!$G$10:$G$39,6,'Staff Capacity'!$I$10:$I$39))","v":0},{"$f":"IF($D$3<>\"\",SUMIFS('Staff Capacity'!$I$10:$I$39,'Staff Capacity'!$G$10:$G$39,6,'Staff Capacity'!$H$10:$H$39,$D$3),SUMIF('Staff Capacity'!$G$10:$G$39,6,'Staff Capacity'!$I$10:$I$39))","v":0},{"$f":"IF($D$3<>\"\",SUMIFS('Staff Capacity'!$I$10:$I$39,'Staff Capacity'!$G$10:$G$39,6,'Staff Capacity'!$H$10:$H$39,$D$3),SUMIF('Staff Capacity'!$G$10:$G$39,6,'Staff Capacity'!$I$10:$I$39))","v":0},{"$f":"IF($D$3<>\"\",SUMIFS('Staff Capacity'!$I$10:$I$39,'Staff Capacity'!$G$10:$G$39,6,'Staff Capacity'!$H$10:$H$39,$D$3),SUMIF('Staff Capacity'!$G$10:$G$39,6,'Staff Capacity'!$I$10:$I$39))","v":0},{"$f":"IF($D$3<>\"\",SUMIFS('Staff Capacity'!$I$10:$I$39,'Staff Capacity'!$G$10:$G$39,6,'Staff Capacity'!$H$10:$H$39,$D$3),SUMIF('Staff Capacity'!$G$10:$G$39,6,'Staff Capacity'!$I$10:$I$39))","v":0},{"$f":"IF($D$3<>\"\",SUMIFS('Staff Capacity'!$I$10:$I$39,'Staff Capacity'!$G$10:$G$39,6,'Staff Capacity'!$H$10:$H$39,$D$3),SUMIF('Staff Capacity'!$G$10:$G$39,6,'Staff Capacity'!$I$10:$I$39))","v":0},{"$f":"IF($D$3<>\"\",SUMIFS('Staff Capacity'!$I$10:$I$39,'Staff Capacity'!$G$10:$G$39,6,'Staff Capacity'!$H$10:$H$39,$D$3),SUMIF('Staff Capacity'!$G$10:$G$39,6,'Staff Capacity'!$I$10:$I$39))","v":0},{"$f":"IF($D$3<>\"\",SUMIFS('Staff Capacity'!$I$10:$I$39,'Staff Capacity'!$G$10:$G$39,6,'Staff Capacity'!$H$10:$H$39,$D$3),SUMIF('Staff Capacity'!$G$10:$G$39,6,'Staff Capacity'!$I$10:$I$39))","v":0},{"$f":"IF($D$3<>\"\",SUMIFS('Staff Capacity'!$I$10:$I$39,'Staff Capacity'!$G$10:$G$39,6,'Staff Capacity'!$H$10:$H$39,$D$3),SUMIF('Staff Capacity'!$G$10:$G$39,6,'Staff Capacity'!$I$10:$I$39))","v":0},{"$f":"IF($D$3<>\"\",SUMIFS('Staff Capacity'!$I$10:$I$39,'Staff Capacity'!$G$10:$G$39,6,'Staff Capacity'!$H$10:$H$39,$D$3),SUMIF('Staff Capacity'!$G$10:$G$39,6,'Staff Capacity'!$I$10:$I$39))","v":0},{"$f":"IF($D$3<>\"\",SUMIFS('Staff Capacity'!$I$10:$I$39,'Staff Capacity'!$G$10:$G$39,6,'Staff Capacity'!$H$10:$H$39,$D$3),SUMIF('Staff Capacity'!$G$10:$G$39,6,'Staff Capacity'!$I$10:$I$39))","v":0},{"$f":"IF($D$3<>\"\",SUMIFS('Staff Capacity'!$I$10:$I$39,'Staff Capacity'!$G$10:$G$39,6,'Staff Capacity'!$H$10:$H$39,$D$3),SUMIF('Staff Capacity'!$G$10:$G$39,6,'Staff Capacity'!$I$10:$I$39))","v":0},{"$f":"IF($D$3<>\"\",SUMIFS('Staff Capacity'!$I$10:$I$39,'Staff Capacity'!$G$10:$G$39,6,'Staff Capacity'!$H$10:$H$39,$D$3),SUMIF('Staff Capacity'!$G$10:$G$39,6,'Staff Capacity'!$I$10:$I$39))","v":0},{"$f":"IF($D$3<>\"\",SUMIFS('Staff Capacity'!$I$10:$I$39,'Staff Capacity'!$G$10:$G$39,6,'Staff Capacity'!$H$10:$H$39,$D$3),SUMIF('Staff Capacity'!$G$10:$G$39,6,'Staff Capacity'!$I$10:$I$39))","v":0},{"$f":"IF($D$3<>\"\",SUMIFS('Staff Capacity'!$I$10:$I$39,'Staff Capacity'!$G$10:$G$39,6,'Staff Capacity'!$H$10:$H$39,$D$3),SUMIF('Staff Capacity'!$G$10:$G$39,6,'Staff Capacity'!$I$10:$I$39))","v":0},{"$f":"IF($D$3<>\"\",SUMIFS('Staff Capacity'!$I$10:$I$39,'Staff Capacity'!$G$10:$G$39,6,'Staff Capacity'!$H$10:$H$39,$D$3),SUMIF('Staff Capacity'!$G$10:$G$39,6,'Staff Capacity'!$I$10:$I$39))","v":0},{"$f":"IF($D$3<>\"\",SUMIFS('Staff Capacity'!$I$10:$I$39,'Staff Capacity'!$G$10:$G$39,6,'Staff Capacity'!$H$10:$H$39,$D$3),SUMIF('Staff Capacity'!$G$10:$G$39,6,'Staff Capacity'!$I$10:$I$39))","v":0},{"$f":"IF($D$3<>\"\",SUMIFS('Staff Capacity'!$I$10:$I$39,'Staff Capacity'!$G$10:$G$39,6,'Staff Capacity'!$H$10:$H$39,$D$3),SUMIF('Staff Capacity'!$G$10:$G$39,6,'Staff Capacity'!$I$10:$I$39))","v":0},{"$f":"IF($D$3<>\"\",SUMIFS('Staff Capacity'!$I$10:$I$39,'Staff Capacity'!$G$10:$G$39,6,'Staff Capacity'!$H$10:$H$39,$D$3),SUMIF('Staff Capacity'!$G$10:$G$39,6,'Staff Capacity'!$I$10:$I$39))","v":0},{"$f":"IF($D$3<>\"\",SUMIFS('Staff Capacity'!$I$10:$I$39,'Staff Capacity'!$G$10:$G$39,6,'Staff Capacity'!$H$10:$H$39,$D$3),SUMIF('Staff Capacity'!$G$10:$G$39,6,'Staff Capacity'!$I$10:$I$39))","v":0},{"$f":"IF($D$3<>\"\",SUMIFS('Staff Capacity'!$I$10:$I$39,'Staff Capacity'!$G$10:$G$39,6,'Staff Capacity'!$H$10:$H$39,$D$3),SUMIF('Staff Capacity'!$G$10:$G$39,6,'Staff Capacity'!$I$10:$I$39))","v":0},{"$f":"IF($D$3<>\"\",SUMIFS('Staff Capacity'!$I$10:$I$39,'Staff Capacity'!$G$10:$G$39,6,'Staff Capacity'!$H$10:$H$39,$D$3),SUMIF('Staff Capacity'!$G$10:$G$39,6,'Staff Capacity'!$I$10:$I$39))","v":0},{"$f":"IF($D$3<>\"\",SUMIFS('Staff Capacity'!$I$10:$I$39,'Staff Capacity'!$G$10:$G$39,6,'Staff Capacity'!$H$10:$H$39,$D$3),SUMIF('Staff Capacity'!$G$10:$G$39,6,'Staff Capacity'!$I$10:$I$39))","v":0},{"$f":"IF($D$3<>\"\",SUMIFS('Staff Capacity'!$I$10:$I$39,'Staff Capacity'!$G$10:$G$39,6,'Staff Capacity'!$H$10:$H$39,$D$3),SUMIF('Staff Capacity'!$G$10:$G$39,6,'Staff Capacity'!$I$10:$I$39))","v":0},{"$f":"IF($D$3<>\"\",SUMIFS('Staff Capacity'!$I$10:$I$39,'Staff Capacity'!$G$10:$G$39,6,'Staff Capacity'!$H$10:$H$39,$D$3),SUMIF('Staff Capacity'!$G$10:$G$39,6,'Staff Capacity'!$I$10:$I$39))","v":0},{"$f":"IF($D$3<>\"\",SUMIFS('Staff Capacity'!$I$10:$I$39,'Staff Capacity'!$G$10:$G$39,6,'Staff Capacity'!$H$10:$H$39,$D$3),SUMIF('Staff Capacity'!$G$10:$G$39,6,'Staff Capacity'!$I$10:$I$39))","v":0},{"$f":"IF($D$3<>\"\",SUMIFS('Staff Capacity'!$I$10:$I$39,'Staff Capacity'!$G$10:$G$39,6,'Staff Capacity'!$H$10:$H$39,$D$3),SUMIF('Staff Capacity'!$G$10:$G$39,6,'Staff Capacity'!$I$10:$I$39))","v":0},{"$f":"IF($D$3<>\"\",SUMIFS('Staff Capacity'!$I$10:$I$39,'Staff Capacity'!$G$10:$G$39,6,'Staff Capacity'!$H$10:$H$39,$D$3),SUMIF('Staff Capacity'!$G$10:$G$39,6,'Staff Capacity'!$I$10:$I$39))","v":0},{"$f":"IF($D$3<>\"\",SUMIFS('Staff Capacity'!$I$10:$I$39,'Staff Capacity'!$G$10:$G$39,6,'Staff Capacity'!$H$10:$H$39,$D$3),SUMIF('Staff Capacity'!$G$10:$G$39,6,'Staff Capacity'!$I$10:$I$39))","v":0},{"$f":"IF($D$3<>\"\",SUMIFS('Staff Capacity'!$I$10:$I$39,'Staff Capacity'!$G$10:$G$39,6,'Staff Capacity'!$H$10:$H$39,$D$3),SUMIF('Staff Capacity'!$G$10:$G$39,6,'Staff Capacity'!$I$10:$I$39))","v":0},{"$f":"IF($D$3<>\"\",SUMIFS('Staff Capacity'!$I$10:$I$39,'Staff Capacity'!$G$10:$G$39,6,'Staff Capacity'!$H$10:$H$39,$D$3),SUMIF('Staff Capacity'!$G$10:$G$39,6,'Staff Capacity'!$I$10:$I$39))","v":0},{"$f":"IF($D$3<>\"\",SUMIFS('Staff Capacity'!$I$10:$I$39,'Staff Capacity'!$G$10:$G$39,6,'Staff Capacity'!$H$10:$H$39,$D$3),SUMIF('Staff Capacity'!$G$10:$G$39,6,'Staff Capacity'!$I$10:$I$39))","v":0},{"$f":"IF($D$3<>\"\",SUMIFS('Staff Capacity'!$I$10:$I$39,'Staff Capacity'!$G$10:$G$39,6,'Staff Capacity'!$H$10:$H$39,$D$3),SUMIF('Staff Capacity'!$G$10:$G$39,6,'Staff Capacity'!$I$10:$I$39))","v":0},{"$f":"IF($D$3<>\"\",SUMIFS('Staff Capacity'!$I$10:$I$39,'Staff Capacity'!$G$10:$G$39,6,'Staff Capacity'!$H$10:$H$39,$D$3),SUMIF('Staff Capacity'!$G$10:$G$39,6,'Staff Capacity'!$I$10:$I$39))","v":0},{"$f":"IF($D$3<>\"\",SUMIFS('Staff Capacity'!$I$10:$I$39,'Staff Capacity'!$G$10:$G$39,6,'Staff Capacity'!$H$10:$H$39,$D$3),SUMIF('Staff Capacity'!$G$10:$G$39,6,'Staff Capacity'!$I$10:$I$39))","v":0},{"$f":"IF($D$3<>\"\",SUMIFS('Staff Capacity'!$I$10:$I$39,'Staff Capacity'!$G$10:$G$39,6,'Staff Capacity'!$H$10:$H$39,$D$3),SUMIF('Staff Capacity'!$G$10:$G$39,6,'Staff Capacity'!$I$10:$I$39))","v":0},{"$f":"IF($D$3<>\"\",SUMIFS('Staff Capacity'!$I$10:$I$39,'Staff Capacity'!$G$10:$G$39,6,'Staff Capacity'!$H$10:$H$39,$D$3),SUMIF('Staff Capacity'!$G$10:$G$39,6,'Staff Capacity'!$I$10:$I$39))","v":0},{"$f":"IF($D$3<>\"\",SUMIFS('Staff Capacity'!$I$10:$I$39,'Staff Capacity'!$G$10:$G$39,6,'Staff Capacity'!$H$10:$H$39,$D$3),SUMIF('Staff Capacity'!$G$10:$G$39,6,'Staff Capacity'!$I$10:$I$39))","v":0},{"$f":"IF($D$3<>\"\",SUMIFS('Staff Capacity'!$I$10:$I$39,'Staff Capacity'!$G$10:$G$39,6,'Staff Capacity'!$H$10:$H$39,$D$3),SUMIF('Staff Capacity'!$G$10:$G$39,6,'Staff Capacity'!$I$10:$I$39))","v":0},{"$f":"IF($D$3<>\"\",SUMIFS('Staff Capacity'!$I$10:$I$39,'Staff Capacity'!$G$10:$G$39,6,'Staff Capacity'!$H$10:$H$39,$D$3),SUMIF('Staff Capacity'!$G$10:$G$39,6,'Staff Capacity'!$I$10:$I$39))","v":0},{"$f":"IF($D$3<>\"\",SUMIFS('Staff Capacity'!$I$10:$I$39,'Staff Capacity'!$G$10:$G$39,6,'Staff Capacity'!$H$10:$H$39,$D$3),SUMIF('Staff Capacity'!$G$10:$G$39,6,'Staff Capacity'!$I$10:$I$39))","v":0},{"$f":"IF($D$3<>\"\",SUMIFS('Staff Capacity'!$I$10:$I$39,'Staff Capacity'!$G$10:$G$39,6,'Staff Capacity'!$H$10:$H$39,$D$3),SUMIF('Staff Capacity'!$G$10:$G$39,6,'Staff Capacity'!$I$10:$I$39))","v":0},{"$f":"IF($D$3<>\"\",SUMIFS('Staff Capacity'!$I$10:$I$39,'Staff Capacity'!$G$10:$G$39,6,'Staff Capacity'!$H$10:$H$39,$D$3),SUMIF('Staff Capacity'!$G$10:$G$39,6,'Staff Capacity'!$I$10:$I$39))","v":0},{"$f":"IF($D$3<>\"\",SUMIFS('Staff Capacity'!$I$10:$I$39,'Staff Capacity'!$G$10:$G$39,6,'Staff Capacity'!$H$10:$H$39,$D$3),SUMIF('Staff Capacity'!$G$10:$G$39,6,'Staff Capacity'!$I$10:$I$39))","v":0},{"$f":"IF($D$3<>\"\",SUMIFS('Staff Capacity'!$I$10:$I$39,'Staff Capacity'!$G$10:$G$39,6,'Staff Capacity'!$H$10:$H$39,$D$3),SUMIF('Staff Capacity'!$G$10:$G$39,6,'Staff Capacity'!$I$10:$I$39))","v":0}]
[null,null,null,null,7,{"$f":"IF($D$3<>\"\",SUMIFS('Staff Capacity'!$I$10:$I$39,'Staff Capacity'!$G$10:$G$39,7,'Staff Capacity'!$H$10:$H$39,$D$3),SUMIF('Staff Capacity'!$G$10:$G$39,7,'Staff Capacity'!$I$10:$I$39))","v":0},{"$f":"IF($D$3<>\"\",SUMIFS('Staff Capacity'!$I$10:$I$39,'Staff Capacity'!$G$10:$G$39,7,'Staff Capacity'!$H$10:$H$39,$D$3),SUMIF('Staff Capacity'!$G$10:$G$39,7,'Staff Capacity'!$I$10:$I$39))","v":0},{"$f":"IF($D$3<>\"\",SUMIFS('Staff Capacity'!$I$10:$I$39,'Staff Capacity'!$G$10:$G$39,7,'Staff Capacity'!$H$10:$H$39,$D$3),SUMIF('Staff Capacity'!$G$10:$G$39,7,'Staff Capacity'!$I$10:$I$39))","v":0},{"$f":"IF($D$3<>\"\",SUMIFS('Staff Capacity'!$I$10:$I$39,'Staff Capacity'!$G$10:$G$39,7,'Staff Capacity'!$H$10:$H$39,$D$3),SUMIF('Staff Capacity'!$G$10:$G$39,7,'Staff Capacity'!$I$10:$I$39))","v":0},{"$f":"IF($D$3<>\"\",SUMIFS('Staff Capacity'!$I$10:$I$39,'Staff Capacity'!$G$10:$G$39,7,'Staff Capacity'!$H$10:$H$39,$D$3),SUMIF('Staff Capacity'!$G$10:$G$39,7,'Staff Capacity'!$I$10:$I$39))","v":0},{"$f":"IF($D$3<>\"\",SUMIFS('Staff Capacity'!$I$10:$I$39,'Staff Capacity'!$G$10:$G$39,7,'Staff Capacity'!$H$10:$H$39,$D$3),SUMIF('Staff Capacity'!$G$10:$G$39,7,'Staff Capacity'!$I$10:$I$39))","v":0},{"$f":"IF($D$3<>\"\",SUMIFS('Staff Capacity'!$I$10:$I$39,'Staff Capacity'!$G$10:$G$39,7,'Staff Capacity'!$H$10:$H$39,$D$3),SUMIF('Staff Capacity'!$G$10:$G$39,7,'Staff Capacity'!$I$10:$I$39))","v":0},{"$f":"IF($D$3<>\"\",SUMIFS('Staff Capacity'!$I$10:$I$39,'Staff Capacity'!$G$10:$G$39,7,'Staff Capacity'!$H$10:$H$39,$D$3),SUMIF('Staff Capacity'!$G$10:$G$39,7,'Staff Capacity'!$I$10:$I$39))","v":0},{"$f":"IF($D$3<>\"\",SUMIFS('Staff Capacity'!$I$10:$I$39,'Staff Capacity'!$G$10:$G$39,7,'Staff Capacity'!$H$10:$H$39,$D$3),SUMIF('Staff Capacity'!$G$10:$G$39,7,'Staff Capacity'!$I$10:$I$39))","v":0},{"$f":"IF($D$3<>\"\",SUMIFS('Staff Capacity'!$I$10:$I$39,'Staff Capacity'!$G$10:$G$39,7,'Staff Capacity'!$H$10:$H$39,$D$3),SUMIF('Staff Capacity'!$G$10:$G$39,7,'Staff Capacity'!$I$10:$I$39))","v":0},{"$f":"IF($D$3<>\"\",SUMIFS('Staff Capacity'!$I$10:$I$39,'Staff Capacity'!$G$10:$G$39,7,'Staff Capacity'!$H$10:$H$39,$D$3),SUMIF('Staff Capacity'!$G$10:$G$39,7,'Staff Capacity'!$I$10:$I$39))","v":0},{"$f":"IF($D$3<>\"\",SUMIFS('Staff Capacity'!$I$10:$I$39,'Staff Capacity'!$G$10:$G$39,7,'Staff Capacity'!$H$10:$H$39,$D$3),SUMIF('Staff Capacity'!$G$10:$G$39,7,'Staff Capacity'!$I$10:$I$39))","v":0},{"$f":"IF($D$3<>\"\",SUMIFS('Staff Capacity'!$I$10:$I$39,'Staff Capacity'!$G$10:$G$39,7,'Staff Capacity'!$H$10:$H$39,$D$3),SUMIF('Staff Capacity'!$G$10:$G$39,7,'Staff Capacity'!$I$10:$I$39))","v":0},{"$f":"IF($D$3<>\"\",SUMIFS('Staff Capacity'!$I$10:$I$39,'Staff Capacity'!$G$10:$G$39,7,'Staff Capacity'!$H$10:$H$39,$D$3),SUMIF('Staff Capacity'!$G$10:$G$39,7,'Staff Capacity'!$I$10:$I$39))","v":0},{"$f":"IF($D$3<>\"\",SUMIFS('Staff Capacity'!$I$10:$I$39,'Staff Capacity'!$G$10:$G$39,7,'Staff Capacity'!$H$10:$H$39,$D$3),SUMIF('Staff Capacity'!$G$10:$G$39,7,'Staff Capacity'!$I$10:$I$39))","v":0},{"$f":"IF($D$3<>\"\",SUMIFS('Staff Capacity'!$I$10:$I$39,'Staff Capacity'!$G$10:$G$39,7,'Staff Capacity'!$H$10:$H$39,$D$3),SUMIF('Staff Capacity'!$G$10:$G$39,7,'Staff Capacity'!$I$10:$I$39))","v":0},{"$f":"IF($D$3<>\"\",SUMIFS('Staff Capacity'!$I$10:$I$39,'Staff Capacity'!$G$10:$G$39,7,'Staff Capacity'!$H$10:$H$39,$D$3),SUMIF('Staff Capacity'!$G$10:$G$39,7,'Staff Capacity'!$I$10:$I$39))","v":0},{"$f":"IF($D$3<>\"\",SUMIFS('Staff Capacity'!$I$10:$I$39,'Staff Capacity'!$G$10:$G$39,7,'Staff Capacity'!$H$10:$H$39,$D$3),SUMIF('Staff Capacity'!$G$10:$G$39,7,'Staff Capacity'!$I$10:$I$39))","v":0},{"$f":"IF($D$3<>\"\",SUMIFS('Staff Capacity'!$I$10:$I$39,'Staff Capacity'!$G$10:$G$39,7,'Staff Capacity'!$H$10:$H$39,$D$3),SUMIF('Staff Capacity'!$G$10:$G$39,7,'Staff Capacity'!$I$10:$I$39))","v":0},{"$f":"IF($D$3<>\"\",SUMIFS('Staff Capacity'!$I$10:$I$39,'Staff Capacity'!$G$10:$G$39,7,'Staff Capacity'!$H$10:$H$39,$D$3),SUMIF('Staff Capacity'!$G$10:$G$39,7,'Staff Capacity'!$I$10:$I$39))","v":0},{"$f":"IF($D$3<>\"\",SUMIFS('Staff Capacity'!$I$10:$I$39,'Staff Capacity'!$G$10:$G$39,7,'Staff Capacity'!$H$10:$H$39,$D$3),SUMIF('Staff Capacity'!$G$10:$G$39,7,'Staff Capacity'!$I$10:$I$39))","v":0},{"$f":"IF($D$3<>\"\",SUMIFS('Staff Capacity'!$I$10:$I$39,'Staff Capacity'!$G$10:$G$39,7,'Staff Capacity'!$H$10:$H$39,$D$3),SUMIF('Staff Capacity'!$G$10:$G$39,7,'Staff Capacity'!$I$10:$I$39))","v":0},{"$f":"IF($D$3<>\"\",SUMIFS('Staff Capacity'!$I$10:$I$39,'Staff Capacity'!$G$10:$G$39,7,'Staff Capacity'!$H$10:$H$39,$D$3),SUMIF('Staff Capacity'!$G$10:$G$39,7,'Staff Capacity'!$I$10:$I$39))","v":0},{"$f":"IF($D$3<>\"\",SUMIFS('Staff Capacity'!$I$10:$I$39,'Staff Capacity'!$G$10:$G$39,7,'Staff Capacity'!$H$10:$H$39,$D$3),SUMIF('Staff Capacity'!$G$10:$G$39,7,'Staff Capacity'!$I$10:$I$39))","v":0},{"$f":"IF($D$3<>\"\",SUMIFS('Staff Capacity'!$I$10:$I$39,'Staff Capacity'!$G$10:$G$39,7,'Staff Capacity'!$H$10:$H$39,$D$3),SUMIF('Staff Capacity'!$G$10:$G$39,7,'Staff Capacity'!$I$10:$I$39))","v":0},{"$f":"IF($D$3<>\"\",SUMIFS('Staff Capacity'!$I$10:$I$39,'Staff Capacity'!$G$10:$G$39,7,'Staff Capacity'!$H$10:$H$39,$D$3),SUMIF('Staff Capacity'!$G$10:$G$39,7,'Staff Capacity'!$I$10:$I$39))","v":0},{"$f":"IF($D$3<>\"\",SUMIFS('Staff Capacity'!$I$10:$I$39,'Staff Capacity'!$G$10:$G$39,7,'Staff Capacity'!$H$10:$H$39,$D$3),SUMIF('Staff Capacity'!$G$10:$G$39,7,'Staff Capacity'!$I$10:$I$39))","v":0},{"$f":"IF($D$3<>\"\",SUMIFS('Staff Capacity'!$I$10:$I$39,'Staff Capacity'!$G$10:$G$39,7,'Staff Capacity'!$H$10:$H$39,$D$3),SUMIF('Staff Capacity'!$G$10:$G$39,7,'Staff Capacity'!$I$10:$I$39))","v":0},{"$f":"IF($D$3<>\"\",SUMIFS('Staff Capacity'!$I$10:$I$39,'Staff Capacity'!$G$10:$G$39,7,'Staff Capacity'!$H$10:$H$39,$D$3),SUMIF('Staff Capacity'!$G$10:$G$39,7,'Staff Capacity'!$I$10:$I$39))","v":0},{"$f":"IF($D$3<>\"\",SUMIFS('Staff Capacity'!$I$10:$I$39,'Staff Capacity'!$G$10:$G$39,7,'Staff Capacity'!$H$10:$H$39,$D$3),SUMIF('Staff Capacity'!$G$10:$G$39,7,'Staff Capacity'!$I$10:$I$39))","v":0},{"$f":"IF($D$3<>\"\",SUMIFS('Staff Capacity'!$I$10:$I$39,'Staff Capacity'!$G$10:$G$39,7,'Staff Capacity'!$H$10:$H$39,$D$3),SUMIF('Staff Capacity'!$G$10:$G$39,7,'Staff Capacity'!$I$10:$I$39))","v":0},{"$f":"IF($D$3<>\"\",SUMIFS('Staff Capacity'!$I$10:$I$39,'Staff Capacity'!$G$10:$G$39,7,'Staff Capacity'!$H$10:$H$39,$D$3),SUMIF('Staff Capacity'!$G$10:$G$39,7,'Staff Capacity'!$I$10:$I$39))","v":0},{"$f":"IF($D$3<>\"\",SUMIFS('Staff Capacity'!$I$10:$I$39,'Staff Capacity'!$G$10:$G$39,7,'Staff Capacity'!$H$10:$H$39,$D$3),SUMIF('Staff Capacity'!$G$10:$G$39,7,'Staff Capacity'!$I$10:$I$39))","v":0},{"$f":"IF($D$3<>\"\",SUMIFS('Staff Capacity'!$I$10:$I$39,'Staff Capacity'!$G$10:$G$39,7,'Staff Capacity'!$H$10:$H$39,$D$3),SUMIF('Staff Capacity'!$G$10:$G$39,7,'Staff Capacity'!$I$10:$I$39))","v":0},{"$f":"IF($D$3<>\"\",SUMIFS('Staff Capacity'!$I$10:$I$39,'Staff Capacity'!$G$10:$G$39,7,'Staff Capacity'!$H$10:$H$39,$D$3),SUMIF('Staff Capacity'!$G$10:$G$39,7,'Staff Capacity'!$I$10:$I$39))","v":0},{"$f":"IF($D$3<>\"\",SUMIFS('Staff Capacity'!$I$10:$I$39,'Staff Capacity'!$G$10:$G$39,7,'Staff Capacity'!$H$10:$H$39,$D$3),SUMIF('Staff Capacity'!$G$10:$G$39,7,'Staff Capacity'!$I$10:$I$39))","v":0},{"$f":"IF($D$3<>\"\",SUMIFS('Staff Capacity'!$I$10:$I$39,'Staff Capacity'!$G$10:$G$39,7,'Staff Capacity'!$H$10:$H$39,$D$3),SUMIF('Staff Capacity'!$G$10:$G$39,7,'Staff Capacity'!$I$10:$I$39))","v":0},{"$f":"IF($D$3<>\"\",SUMIFS('Staff Capacity'!$I$10:$I$39,'Staff Capacity'!$G$10:$G$39,7,'Staff Capacity'!$H$10:$H$39,$D$3),SUMIF('Staff Capacity'!$G$10:$G$39,7,'Staff Capacity'!$I$10:$I$39))","v":0},{"$f":"IF($D$3<>\"\",SUMIFS('Staff Capacity'!$I$10:$I$39,'Staff Capacity'!$G$10:$G$39,7,'Staff Capacity'!$H$10:$H$39,$D$3),SUMIF('Staff Capacity'!$G$10:$G$39,7,'Staff Capacity'!$I$10:$I$39))","v":0},{"$f":"IF($D$3<>\"\",SUMIFS('Staff Capacity'!$I$10:$I$39,'Staff Capacity'!$G$10:$G$39,7,'Staff Capacity'!$H$10:$H$39,$D$3),SUMIF('Staff Capacity'!$G$10:$G$39,7,'Staff Capacity'!$I$10:$I$39))","v":0},{"$f":"IF($D$3<>\"\",SUMIFS('Staff Capacity'!$I$10:$I$39,'Staff Capacity'!$G$10:$G$39,7,'Staff Capacity'!$H$10:$H$39,$D$3),SUMIF('Staff Capacity'!$G$10:$G$39,7,'Staff Capacity'!$I$10:$I$39))","v":0},{"$f":"IF($D$3<>\"\",SUMIFS('Staff Capacity'!$I$10:$I$39,'Staff Capacity'!$G$10:$G$39,7,'Staff Capacity'!$H$10:$H$39,$D$3),SUMIF('Staff Capacity'!$G$10:$G$39,7,'Staff Capacity'!$I$10:$I$39))","v":0},{"$f":"IF($D$3<>\"\",SUMIFS('Staff Capacity'!$I$10:$I$39,'Staff Capacity'!$G$10:$G$39,7,'Staff Capacity'!$H$10:$H$39,$D$3),SUMIF('Staff Capacity'!$G$10:$G$39,7,'Staff Capacity'!$I$10:$I$39))","v":0},{"$f":"IF($D$3<>\"\",SUMIFS('Staff Capacity'!$I$10:$I$39,'Staff Capacity'!$G$10:$G$39,7,'Staff Capacity'!$H$10:$H$39,$D$3),SUMIF('Staff Capacity'!$G$10:$G$39,7,'Staff Capacity'!$I$10:$I$39))","v":0},{"$f":"IF($D$3<>\"\",SUMIFS('Staff Capacity'!$I$10:$I$39,'Staff Capacity'!$G$10:$G$39,7,'Staff Capacity'!$H$10:$H$39,$D$3),SUMIF('Staff Capacity'!$G$10:$G$39,7,'Staff Capacity'!$I$10:$I$39))","v":0},{"$f":"IF($D$3<>\"\",SUMIFS('Staff Capacity'!$I$10:$I$39,'Staff Capacity'!$G$10:$G$39,7,'Staff Capacity'!$H$10:$H$39,$D$3),SUMIF('Staff Capacity'!$G$10:$G$39,7,'Staff Capacity'!$I$10:$I$39))","v":0},{"$f":"IF($D$3<>\"\",SUMIFS('Staff Capacity'!$I$10:$I$39,'Staff Capacity'!$G$10:$G$39,7,'Staff Capacity'!$H$10:$H$39,$D$3),SUMIF('Staff Capacity'!$G$10:$G$39,7,'Staff Capacity'!$I$10:$I$39))","v":0},{"$f":"IF($D$3<>\"\",SUMIFS('Staff Capacity'!$I$10:$I$39,'Staff Capacity'!$G$10:$G$39,7,'Staff Capacity'!$H$10:$H$39,$D$3),SUMIF('Staff Capacity'!$G$10:$G$39,7,'Staff Capacity'!$I$10:$I$39))","v":0},{"$f":"IF($D$3<>\"\",SUMIFS('Staff Capacity'!$I$10:$I$39,'Staff Capacity'!$G$10:$G$39,7,'Staff Capacity'!$H$10:$H$39,$D$3),SUMIF('Staff Capacity'!$G$10:$G$39,7,'Staff Capacity'!$I$10:$I$39))","v":0},{"$f":"IF($D$3<>\"\",SUMIFS('Staff Capacity'!$I$10:$I$39,'Staff Capacity'!$G$10:$G$39,7,'Staff Capacity'!$H$10:$H$39,$D$3),SUMIF('Staff Capacity'!$G$10:$G$39,7,'Staff Capacity'!$I$10:$I$39))","v":0},{"$f":"IF($D$3<>\"\",SUMIFS('Staff Capacity'!$I$10:$I$39,'Staff Capacity'!$G$10:$G$39,7,'Staff Capacity'!$H$10:$H$39,$D$3),SUMIF('Staff Capacity'!$G$10:$G$39,7,'Staff Capacity'!$I$10:$I$39))","v":0},{"$f":"IF($D$3<>\"\",SUMIFS('Staff Capacity'!$I$10:$I$39,'Staff Capacity'!$G$10:$G$39,7,'Staff Capacity'!$H$10:$H$39,$D$3),SUMIF('Staff Capacity'!$G$10:$G$39,7,'Staff Capacity'!$I$10:$I$39))","v":0},{"$f":"IF($D$3<>\"\",SUMIFS('Staff Capacity'!$I$10:$I$39,'Staff Capacity'!$G$10:$G$39,7,'Staff Capacity'!$H$10:$H$39,$D$3),SUMIF('Staff Capacity'!$G$10:$G$39,7,'Staff Capacity'!$I$10:$I$39))","v":0},{"$f":"IF($D$3<>\"\",SUMIFS('Staff Capacity'!$I$10:$I$39,'Staff Capacity'!$G$10:$G$39,7,'Staff Capacity'!$H$10:$H$39,$D$3),SUMIF('Staff Capacity'!$G$10:$G$39,7,'Staff Capacity'!$I$10:$I$39))","v":0},{"$f":"IF($D$3<>\"\",SUMIFS('Staff Capacity'!$I$10:$I$39,'Staff Capacity'!$G$10:$G$39,7,'Staff Capacity'!$H$10:$H$39,$D$3),SUMIF('Staff Capacity'!$G$10:$G$39,7,'Staff Capacity'!$I$10:$I$39))","v":0},{"$f":"IF($D$3<>\"\",SUMIFS('Staff Capacity'!$I$10:$I$39,'Staff Capacity'!$G$10:$G$39,7,'Staff Capacity'!$H$10:$H$39,$D$3),SUMIF('Staff Capacity'!$G$10:$G$39,7,'Staff Capacity'!$I$10:$I$39))","v":0},{"$f":"IF($D$3<>\"\",SUMIFS('Staff Capacity'!$I$10:$I$39,'Staff Capacity'!$G$10:$G$39,7,'Staff Capacity'!$H$10:$H$39,$D$3),SUMIF('Staff Capacity'!$G$10:$G$39,7,'Staff Capacity'!$I$10:$I$39))","v":0},{"$f":"IF($D$3<>\"\",SUMIFS('Staff Capacity'!$I$10:$I$39,'Staff Capacity'!$G$10:$G$39,7,'Staff Capacity'!$H$10:$H$39,$D$3),SUMIF('Staff Capacity'!$G$10:$G$39,7,'Staff Capacity'!$I$10:$I$39))","v":0},{"$f":"IF($D$3<>\"\",SUMIFS('Staff Capacity'!$I$10:$I$39,'Staff Capacity'!$G$10:$G$39,7,'Staff Capacity'!$H$10:$H$39,$D$3),SUMIF('Staff Capacity'!$G$10:$G$39,7,'Staff Capacity'!$I$10:$I$39))","v":0},{"$f":"IF($D$3<>\"\",SUMIFS('Staff Capacity'!$I$10:$I$39,'Staff Capacity'!$G$10:$G$39,7,'Staff Capacity'!$H$10:$H$39,$D$3),SUMIF('Staff Capacity'!$G$10:$G$39,7,'Staff Capacity'!$I$10:$I$39))","v":0},{"$f":"IF($D$3<>\"\",SUMIFS('Staff Capacity'!$I$10:$I$39,'Staff Capacity'!$G$10:$G$39,7,'Staff Capacity'!$H$10:$H$39,$D$3),SUMIF('Staff Capacity'!$G$10:$G$39,7,'Staff Capacity'!$I$10:$I$39))","v":0},{"$f":"IF($D$3<>\"\",SUMIFS('Staff Capacity'!$I$10:$I$39,'Staff Capacity'!$G$10:$G$39,7,'Staff Capacity'!$H$10:$H$39,$D$3),SUMIF('Staff Capacity'!$G$10:$G$39,7,'Staff Capacity'!$I$10:$I$39))","v":0},{"$f":"IF($D$3<>\"\",SUMIFS('Staff Capacity'!$I$10:$I$39,'Staff Capacity'!$G$10:$G$39,7,'Staff Capacity'!$H$10:$H$39,$D$3),SUMIF('Staff Capacity'!$G$10:$G$39,7,'Staff Capacity'!$I$10:$I$39))","v":0},{"$f":"IF($D$3<>\"\",SUMIFS('Staff Capacity'!$I$10:$I$39,'Staff Capacity'!$G$10:$G$39,7,'Staff Capacity'!$H$10:$H$39,$D$3),SUMIF('Staff Capacity'!$G$10:$G$39,7,'Staff Capacity'!$I$10:$I$39))","v":0},{"$f":"IF($D$3<>\"\",SUMIFS('Staff Capacity'!$I$10:$I$39,'Staff Capacity'!$G$10:$G$39,7,'Staff Capacity'!$H$10:$H$39,$D$3),SUMIF('Staff Capacity'!$G$10:$G$39,7,'Staff Capacity'!$I$10:$I$39))","v":0},{"$f":"IF($D$3<>\"\",SUMIFS('Staff Capacity'!$I$10:$I$39,'Staff Capacity'!$G$10:$G$39,7,'Staff Capacity'!$H$10:$H$39,$D$3),SUMIF('Staff Capacity'!$G$10:$G$39,7,'Staff Capacity'!$I$10:$I$39))","v":0},{"$f":"IF($D$3<>\"\",SUMIFS('Staff Capacity'!$I$10:$I$39,'Staff Capacity'!$G$10:$G$39,7,'Staff Capacity'!$H$10:$H$39,$D$3),SUMIF('Staff Capacity'!$G$10:$G$39,7,'Staff Capacity'!$I$10:$I$39))","v":0},{"$f":"IF($D$3<>\"\",SUMIFS('Staff Capacity'!$I$10:$I$39,'Staff Capacity'!$G$10:$G$39,7,'Staff Capacity'!$H$10:$H$39,$D$3),SUMIF('Staff Capacity'!$G$10:$G$39,7,'Staff Capacity'!$I$10:$I$39))","v":0},{"$f":"IF($D$3<>\"\",SUMIFS('Staff Capacity'!$I$10:$I$39,'Staff Capacity'!$G$10:$G$39,7,'Staff Capacity'!$H$10:$H$39,$D$3),SUMIF('Staff Capacity'!$G$10:$G$39,7,'Staff Capacity'!$I$10:$I$39))","v":0},{"$f":"IF($D$3<>\"\",SUMIFS('Staff Capacity'!$I$10:$I$39,'Staff Capacity'!$G$10:$G$39,7,'Staff Capacity'!$H$10:$H$39,$D$3),SUMIF('Staff Capacity'!$G$10:$G$39,7,'Staff Capacity'!$I$10:$I$39))","v":0},{"$f":"IF($D$3<>\"\",SUMIFS('Staff Capacity'!$I$10:$I$39,'Staff Capacity'!$G$10:$G$39,7,'Staff Capacity'!$H$10:$H$39,$D$3),SUMIF('Staff Capacity'!$G$10:$G$39,7,'Staff Capacity'!$I$10:$I$39))","v":0},{"$f":"IF($D$3<>\"\",SUMIFS('Staff Capacity'!$I$10:$I$39,'Staff Capacity'!$G$10:$G$39,7,'Staff Capacity'!$H$10:$H$39,$D$3),SUMIF('Staff Capacity'!$G$10:$G$39,7,'Staff Capacity'!$I$10:$I$39))","v":0},{"$f":"IF($D$3<>\"\",SUMIFS('Staff Capacity'!$I$10:$I$39,'Staff Capacity'!$G$10:$G$39,7,'Staff Capacity'!$H$10:$H$39,$D$3),SUMIF('Staff Capacity'!$G$10:$G$39,7,'Staff Capacity'!$I$10:$I$39))","v":0},{"$f":"IF($D$3<>\"\",SUMIFS('Staff Capacity'!$I$10:$I$39,'Staff Capacity'!$G$10:$G$39,7,'Staff Capacity'!$H$10:$H$39,$D$3),SUMIF('Staff Capacity'!$G$10:$G$39,7,'Staff Capacity'!$I$10:$I$39))","v":0},{"$f":"IF($D$3<>\"\",SUMIFS('Staff Capacity'!$I$10:$I$39,'Staff Capacity'!$G$10:$G$39,7,'Staff Capacity'!$H$10:$H$39,$D$3),SUMIF('Staff Capacity'!$G$10:$G$39,7,'Staff Capacity'!$I$10:$I$39))","v":0},{"$f":"IF($D$3<>\"\",SUMIFS('Staff Capacity'!$I$10:$I$39,'Staff Capacity'!$G$10:$G$39,7,'Staff Capacity'!$H$10:$H$39,$D$3),SUMIF('Staff Capacity'!$G$10:$G$39,7,'Staff Capacity'!$I$10:$I$39))","v":0},{"$f":"IF($D$3<>\"\",SUMIFS('Staff Capacity'!$I$10:$I$39,'Staff Capacity'!$G$10:$G$39,7,'Staff Capacity'!$H$10:$H$39,$D$3),SUMIF('Staff Capacity'!$G$10:$G$39,7,'Staff Capacity'!$I$10:$I$39))","v":0},{"$f":"IF($D$3<>\"\",SUMIFS('Staff Capacity'!$I$10:$I$39,'Staff Capacity'!$G$10:$G$39,7,'Staff Capacity'!$H$10:$H$39,$D$3),SUMIF('Staff Capacity'!$G$10:$G$39,7,'Staff Capacity'!$I$10:$I$39))","v":0},{"$f":"IF($D$3<>\"\",SUMIFS('Staff Capacity'!$I$10:$I$39,'Staff Capacity'!$G$10:$G$39,7,'Staff Capacity'!$H$10:$H$39,$D$3),SUMIF('Staff Capacity'!$G$10:$G$39,7,'Staff Capacity'!$I$10:$I$39))","v":0},{"$f":"IF($D$3<>\"\",SUMIFS('Staff Capacity'!$I$10:$I$39,'Staff Capacity'!$G$10:$G$39,7,'Staff Capacity'!$H$10:$H$39,$D$3),SUMIF('Staff Capacity'!$G$10:$G$39,7,'Staff Capacity'!$I$10:$I$39))","v":0},{"$f":"IF($D$3<>\"\",SUMIFS('Staff Capacity'!$I$10:$I$39,'Staff Capacity'!$G$10:$G$39,7,'Staff Capacity'!$H$10:$H$39,$D$3),SUMIF('Staff Capacity'!$G$10:$G$39,7,'Staff Capacity'!$I$10:$I$39))","v":0},{"$f":"IF($D$3<>\"\",SUMIFS('Staff Capacity'!$I$10:$I$39,'Staff Capacity'!$G$10:$G$39,7,'Staff Capacity'!$H$10:$H$39,$D$3),SUMIF('Staff Capacity'!$G$10:$G$39,7,'Staff Capacity'!$I$10:$I$39))","v":0},{"$f":"IF($D$3<>\"\",SUMIFS('Staff Capacity'!$I$10:$I$39,'Staff Capacity'!$G$10:$G$39,7,'Staff Capacity'!$H$10:$H$39,$D$3),SUMIF('Staff Capacity'!$G$10:$G$39,7,'Staff Capacity'!$I$10:$I$39))","v":0},{"$f":"IF($D$3<>\"\",SUMIFS('Staff Capacity'!$I$10:$I$39,'Staff Capacity'!$G$10:$G$39,7,'Staff Capacity'!$H$10:$H$39,$D$3),SUMIF('Staff Capacity'!$G$10:$G$39,7,'Staff Capacity'!$I$10:$I$39))","v":0},{"$f":"IF($D$3<>\"\",SUMIFS('Staff Capacity'!$I$10:$I$39,'Staff Capacity'!$G$10:$G$39,7,'Staff Capacity'!$H$10:$H$39,$D$3),SUMIF('Staff Capacity'!$G$10:$G$39,7,'Staff Capacity'!$I$10:$I$39))","v":0},{"$f":"IF($D$3<>\"\",SUMIFS('Staff Capacity'!$I$10:$I$39,'Staff Capacity'!$G$10:$G$39,7,'Staff Capacity'!$H$10:$H$39,$D$3),SUMIF('Staff Capacity'!$G$10:$G$39,7,'Staff Capacity'!$I$10:$I$39))","v":0},{"$f":"IF($D$3<>\"\",SUMIFS('Staff Capacity'!$I$10:$I$39,'Staff Capacity'!$G$10:$G$39,7,'Staff Capacity'!$H$10:$H$39,$D$3),SUMIF('Staff Capacity'!$G$10:$G$39,7,'Staff Capacity'!$I$10:$I$39))","v":0},{"$f":"IF($D$3<>\"\",SUMIFS('Staff Capacity'!$I$10:$I$39,'Staff Capacity'!$G$10:$G$39,7,'Staff Capacity'!$H$10:$H$39,$D$3),SUMIF('Staff Capacity'!$G$10:$G$39,7,'Staff Capacity'!$I$10:$I$39))","v":0},{"$f":"IF($D$3<>\"\",SUMIFS('Staff Capacity'!$I$10:$I$39,'Staff Capacity'!$G$10:$G$39,7,'Staff Capacity'!$H$10:$H$39,$D$3),SUMIF('Staff Capacity'!$G$10:$G$39,7,'Staff Capacity'!$I$10:$I$39))","v":0},{"$f":"IF($D$3<>\"\",SUMIFS('Staff Capacity'!$I$10:$I$39,'Staff Capacity'!$G$10:$G$39,7,'Staff Capacity'!$H$10:$H$39,$D$3),SUMIF('Staff Capacity'!$G$10:$G$39,7,'Staff Capacity'!$I$10:$I$39))","v":0},{"$f":"IF($D$3<>\"\",SUMIFS('Staff Capacity'!$I$10:$I$39,'Staff Capacity'!$G$10:$G$39,7,'Staff Capacity'!$H$10:$H$39,$D$3),SUMIF('Staff Capacity'!$G$10:$G$39,7,'Staff Capacity'!$I$10:$I$39))","v":0},{"$f":"IF($D$3<>\"\",SUMIFS('Staff Capacity'!$I$10:$I$39,'Staff Capacity'!$G$10:$G$39,7,'Staff Capacity'!$H$10:$H$39,$D$3),SUMIF('Staff Capacity'!$G$10:$G$39,7,'Staff Capacity'!$I$10:$I$39))","v":0},{"$f":"IF($D$3<>\"\",SUMIFS('Staff Capacity'!$I$10:$I$39,'Staff Capacity'!$G$10:$G$39,7,'Staff Capacity'!$H$10:$H$39,$D$3),SUMIF('Staff Capacity'!$G$10:$G$39,7,'Staff Capacity'!$I$10:$I$39))","v":0},{"$f":"IF($D$3<>\"\",SUMIFS('Staff Capacity'!$I$10:$I$39,'Staff Capacity'!$G$10:$G$39,7,'Staff Capacity'!$H$10:$H$39,$D$3),SUMIF('Staff Capacity'!$G$10:$G$39,7,'Staff Capacity'!$I$10:$I$39))","v":0},{"$f":"IF($D$3<>\"\",SUMIFS('Staff Capacity'!$I$10:$I$39,'Staff Capacity'!$G$10:$G$39,7,'Staff Capacity'!$H$10:$H$39,$D$3),SUMIF('Staff Capacity'!$G$10:$G$39,7,'Staff Capacity'!$I$10:$I$39))","v":0},{"$f":"IF($D$3<>\"\",SUMIFS('Staff Capacity'!$I$10:$I$39,'Staff Capacity'!$G$10:$G$39,7,'Staff Capacity'!$H$10:$H$39,$D$3),SUMIF('Staff Capacity'!$G$10:$G$39,7,'Staff Capacity'!$I$10:$I$39))","v":0},{"$f":"IF($D$3<>\"\",SUMIFS('Staff Capacity'!$I$10:$I$39,'Staff Capacity'!$G$10:$G$39,7,'Staff Capacity'!$H$10:$H$39,$D$3),SUMIF('Staff Capacity'!$G$10:$G$39,7,'Staff Capacity'!$I$10:$I$39))","v":0},{"$f":"IF($D$3<>\"\",SUMIFS('Staff Capacity'!$I$10:$I$39,'Staff Capacity'!$G$10:$G$39,7,'Staff Capacity'!$H$10:$H$39,$D$3),SUMIF('Staff Capacity'!$G$10:$G$39,7,'Staff Capacity'!$I$10:$I$39))","v":0},{"$f":"IF($D$3<>\"\",SUMIFS('Staff Capacity'!$I$10:$I$39,'Staff Capacity'!$G$10:$G$39,7,'Staff Capacity'!$H$10:$H$39,$D$3),SUMIF('Staff Capacity'!$G$10:$G$39,7,'Staff Capacity'!$I$10:$I$39))","v":0},{"$f":"IF($D$3<>\"\",SUMIFS('Staff Capacity'!$I$10:$I$39,'Staff Capacity'!$G$10:$G$39,7,'Staff Capacity'!$H$10:$H$39,$D$3),SUMIF('Staff Capacity'!$G$10:$G$39,7,'Staff Capacity'!$I$10:$I$39))","v":0},{"$f":"IF($D$3<>\"\",SUMIFS('Staff Capacity'!$I$10:$I$39,'Staff Capacity'!$G$10:$G$39,7,'Staff Capacity'!$H$10:$H$39,$D$3),SUMIF('Staff Capacity'!$G$10:$G$39,7,'Staff Capacity'!$I$10:$I$39))","v":0},{"$f":"IF($D$3<>\"\",SUMIFS('Staff Capacity'!$I$10:$I$39,'Staff Capacity'!$G$10:$G$39,7,'Staff Capacity'!$H$10:$H$39,$D$3),SUMIF('Staff Capacity'!$G$10:$G$39,7,'Staff Capacity'!$I$10:$I$39))","v":0},{"$f":"IF($D$3<>\"\",SUMIFS('Staff Capacity'!$I$10:$I$39,'Staff Capacity'!$G$10:$G$39,7,'Staff Capacity'!$H$10:$H$39,$D$3),SUMIF('Staff Capacity'!$G$10:$G$39,7,'Staff Capacity'!$I$10:$I$39))","v":0},{"$f":"IF($D$3<>\"\",SUMIFS('Staff Capacity'!$I$10:$I$39,'Staff Capacity'!$G$10:$G$39,7,'Staff Capacity'!$H$10:$H$39,$D$3),SUMIF('Staff Capacity'!$G$10:$G$39,7,'Staff Capacity'!$I$10:$I$39))","v":0},{"$f":"IF($D$3<>\"\",SUMIFS('Staff Capacity'!$I$10:$I$39,'Staff Capacity'!$G$10:$G$39,7,'Staff Capacity'!$H$10:$H$39,$D$3),SUMIF('Staff Capacity'!$G$10:$G$39,7,'Staff Capacity'!$I$10:$I$39))","v":0},{"$f":"IF($D$3<>\"\",SUMIFS('Staff Capacity'!$I$10:$I$39,'Staff Capacity'!$G$10:$G$39,7,'Staff Capacity'!$H$10:$H$39,$D$3),SUMIF('Staff Capacity'!$G$10:$G$39,7,'Staff Capacity'!$I$10:$I$39))","v":0},{"$f":"IF($D$3<>\"\",SUMIFS('Staff Capacity'!$I$10:$I$39,'Staff Capacity'!$G$10:$G$39,7,'Staff Capacity'!$H$10:$H$39,$D$3),SUMIF('Staff Capacity'!$G$10:$G$39,7,'Staff Capacity'!$I$10:$I$39))","v":0},{"$f":"IF($D$3<>\"\",SUMIFS('Staff Capacity'!$I$10:$I$39,'Staff Capacity'!$G$10:$G$39,7,'Staff Capacity'!$H$10:$H$39,$D$3),SUMIF('Staff Capacity'!$G$10:$G$39,7,'Staff Capacity'!$I$10:$I$39))","v":0},{"$f":"IF($D$3<>\"\",SUMIFS('Staff Capacity'!$I$10:$I$39,'Staff Capacity'!$G$10:$G$39,7,'Staff Capacity'!$H$10:$H$39,$D$3),SUMIF('Staff Capacity'!$G$10:$G$39,7,'Staff Capacity'!$I$10:$I$39))","v":0},{"$f":"IF($D$3<>\"\",SUMIFS('Staff Capacity'!$I$10:$I$39,'Staff Capacity'!$G$10:$G$39,7,'Staff Capacity'!$H$10:$H$39,$D$3),SUMIF('Staff Capacity'!$G$10:$G$39,7,'Staff Capacity'!$I$10:$I$39))","v":0},{"$f":"IF($D$3<>\"\",SUMIFS('Staff Capacity'!$I$10:$I$39,'Staff Capacity'!$G$10:$G$39,7,'Staff Capacity'!$H$10:$H$39,$D$3),SUMIF('Staff Capacity'!$G$10:$G$39,7,'Staff Capacity'!$I$10:$I$39))","v":0},{"$f":"IF($D$3<>\"\",SUMIFS('Staff Capacity'!$I$10:$I$39,'Staff Capacity'!$G$10:$G$39,7,'Staff Capacity'!$H$10:$H$39,$D$3),SUMIF('Staff Capacity'!$G$10:$G$39,7,'Staff Capacity'!$I$10:$I$39))","v":0},{"$f":"IF($D$3<>\"\",SUMIFS('Staff Capacity'!$I$10:$I$39,'Staff Capacity'!$G$10:$G$39,7,'Staff Capacity'!$H$10:$H$39,$D$3),SUMIF('Staff Capacity'!$G$10:$G$39,7,'Staff Capacity'!$I$10:$I$39))","v":0},{"$f":"IF($D$3<>\"\",SUMIFS('Staff Capacity'!$I$10:$I$39,'Staff Capacity'!$G$10:$G$39,7,'Staff Capacity'!$H$10:$H$39,$D$3),SUMIF('Staff Capacity'!$G$10:$G$39,7,'Staff Capacity'!$I$10:$I$39))","v":0},{"$f":"IF($D$3<>\"\",SUMIFS('Staff Capacity'!$I$10:$I$39,'Staff Capacity'!$G$10:$G$39,7,'Staff Capacity'!$H$10:$H$39,$D$3),SUMIF('Staff Capacity'!$G$10:$G$39,7,'Staff Capacity'!$I$10:$I$39))","v":0},{"$f":"IF($D$3<>\"\",SUMIFS('Staff Capacity'!$I$10:$I$39,'Staff Capacity'!$G$10:$G$39,7,'Staff Capacity'!$H$10:$H$39,$D$3),SUMIF('Staff Capacity'!$G$10:$G$39,7,'Staff Capacity'!$I$10:$I$39))","v":0},{"$f":"IF($D$3<>\"\",SUMIFS('Staff Capacity'!$I$10:$I$39,'Staff Capacity'!$G$10:$G$39,7,'Staff Capacity'!$H$10:$H$39,$D$3),SUMIF('Staff Capacity'!$G$10:$G$39,7,'Staff Capacity'!$I$10:$I$39))","v":0},{"$f":"IF($D$3<>\"\",SUMIFS('Staff Capacity'!$I$10:$I$39,'Staff Capacity'!$G$10:$G$39,7,'Staff Capacity'!$H$10:$H$39,$D$3),SUMIF('Staff Capacity'!$G$10:$G$39,7,'Staff Capacity'!$I$10:$I$39))","v":0},{"$f":"IF($D$3<>\"\",SUMIFS('Staff Capacity'!$I$10:$I$39,'Staff Capacity'!$G$10:$G$39,7,'Staff Capacity'!$H$10:$H$39,$D$3),SUMIF('Staff Capacity'!$G$10:$G$39,7,'Staff Capacity'!$I$10:$I$39))","v":0},{"$f":"IF($D$3<>\"\",SUMIFS('Staff Capacity'!$I$10:$I$39,'Staff Capacity'!$G$10:$G$39,7,'Staff Capacity'!$H$10:$H$39,$D$3),SUMIF('Staff Capacity'!$G$10:$G$39,7,'Staff Capacity'!$I$10:$I$39))","v":0},{"$f":"IF($D$3<>\"\",SUMIFS('Staff Capacity'!$I$10:$I$39,'Staff Capacity'!$G$10:$G$39,7,'Staff Capacity'!$H$10:$H$39,$D$3),SUMIF('Staff Capacity'!$G$10:$G$39,7,'Staff Capacity'!$I$10:$I$39))","v":0},{"$f":"IF($D$3<>\"\",SUMIFS('Staff Capacity'!$I$10:$I$39,'Staff Capacity'!$G$10:$G$39,7,'Staff Capacity'!$H$10:$H$39,$D$3),SUMIF('Staff Capacity'!$G$10:$G$39,7,'Staff Capacity'!$I$10:$I$39))","v":0},{"$f":"IF($D$3<>\"\",SUMIFS('Staff Capacity'!$I$10:$I$39,'Staff Capacity'!$G$10:$G$39,7,'Staff Capacity'!$H$10:$H$39,$D$3),SUMIF('Staff Capacity'!$G$10:$G$39,7,'Staff Capacity'!$I$10:$I$39))","v":0},{"$f":"IF($D$3<>\"\",SUMIFS('Staff Capacity'!$I$10:$I$39,'Staff Capacity'!$G$10:$G$39,7,'Staff Capacity'!$H$10:$H$39,$D$3),SUMIF('Staff Capacity'!$G$10:$G$39,7,'Staff Capacity'!$I$10:$I$39))","v":0},{"$f":"IF($D$3<>\"\",SUMIFS('Staff Capacity'!$I$10:$I$39,'Staff Capacity'!$G$10:$G$39,7,'Staff Capacity'!$H$10:$H$39,$D$3),SUMIF('Staff Capacity'!$G$10:$G$39,7,'Staff Capacity'!$I$10:$I$39))","v":0},{"$f":"IF($D$3<>\"\",SUMIFS('Staff Capacity'!$I$10:$I$39,'Staff Capacity'!$G$10:$G$39,7,'Staff Capacity'!$H$10:$H$39,$D$3),SUMIF('Staff Capacity'!$G$10:$G$39,7,'Staff Capacity'!$I$10:$I$39))","v":0},{"$f":"IF($D$3<>\"\",SUMIFS('Staff Capacity'!$I$10:$I$39,'Staff Capacity'!$G$10:$G$39,7,'Staff Capacity'!$H$10:$H$39,$D$3),SUMIF('Staff Capacity'!$G$10:$G$39,7,'Staff Capacity'!$I$10:$I$39))","v":0},{"$f":"IF($D$3<>\"\",SUMIFS('Staff Capacity'!$I$10:$I$39,'Staff Capacity'!$G$10:$G$39,7,'Staff Capacity'!$H$10:$H$39,$D$3),SUMIF('Staff Capacity'!$G$10:$G$39,7,'Staff Capacity'!$I$10:$I$39))","v":0},{"$f":"IF($D$3<>\"\",SUMIFS('Staff Capacity'!$I$10:$I$39,'Staff Capacity'!$G$10:$G$39,7,'Staff Capacity'!$H$10:$H$39,$D$3),SUMIF('Staff Capacity'!$G$10:$G$39,7,'Staff Capacity'!$I$10:$I$39))","v":0},{"$f":"IF($D$3<>\"\",SUMIFS('Staff Capacity'!$I$10:$I$39,'Staff Capacity'!$G$10:$G$39,7,'Staff Capacity'!$H$10:$H$39,$D$3),SUMIF('Staff Capacity'!$G$10:$G$39,7,'Staff Capacity'!$I$10:$I$39))","v":0},{"$f":"IF($D$3<>\"\",SUMIFS('Staff Capacity'!$I$10:$I$39,'Staff Capacity'!$G$10:$G$39,7,'Staff Capacity'!$H$10:$H$39,$D$3),SUMIF('Staff Capacity'!$G$10:$G$39,7,'Staff Capacity'!$I$10:$I$39))","v":0},{"$f":"IF($D$3<>\"\",SUMIFS('Staff Capacity'!$I$10:$I$39,'Staff Capacity'!$G$10:$G$39,7,'Staff Capacity'!$H$10:$H$39,$D$3),SUMIF('Staff Capacity'!$G$10:$G$39,7,'Staff Capacity'!$I$10:$I$39))","v":0},{"$f":"IF($D$3<>\"\",SUMIFS('Staff Capacity'!$I$10:$I$39,'Staff Capacity'!$G$10:$G$39,7,'Staff Capacity'!$H$10:$H$39,$D$3),SUMIF('Staff Capacity'!$G$10:$G$39,7,'Staff Capacity'!$I$10:$I$39))","v":0},{"$f":"IF($D$3<>\"\",SUMIFS('Staff Capacity'!$I$10:$I$39,'Staff Capacity'!$G$10:$G$39,7,'Staff Capacity'!$H$10:$H$39,$D$3),SUMIF('Staff Capacity'!$G$10:$G$39,7,'Staff Capacity'!$I$10:$I$39))","v":0},{"$f":"IF($D$3<>\"\",SUMIFS('Staff Capacity'!$I$10:$I$39,'Staff Capacity'!$G$10:$G$39,7,'Staff Capacity'!$H$10:$H$39,$D$3),SUMIF('Staff Capacity'!$G$10:$G$39,7,'Staff Capacity'!$I$10:$I$39))","v":0},{"$f":"IF($D$3<>\"\",SUMIFS('Staff Capacity'!$I$10:$I$39,'Staff Capacity'!$G$10:$G$39,7,'Staff Capacity'!$H$10:$H$39,$D$3),SUMIF('Staff Capacity'!$G$10:$G$39,7,'Staff Capacity'!$I$10:$I$39))","v":0},{"$f":"IF($D$3<>\"\",SUMIFS('Staff Capacity'!$I$10:$I$39,'Staff Capacity'!$G$10:$G$39,7,'Staff Capacity'!$H$10:$H$39,$D$3),SUMIF('Staff Capacity'!$G$10:$G$39,7,'Staff Capacity'!$I$10:$I$39))","v":0},{"$f":"IF($D$3<>\"\",SUMIFS('Staff Capacity'!$I$10:$I$39,'Staff Capacity'!$G$10:$G$39,7,'Staff Capacity'!$H$10:$H$39,$D$3),SUMIF('Staff Capacity'!$G$10:$G$39,7,'Staff Capacity'!$I$10:$I$39))","v":0},{"$f":"IF($D$3<>\"\",SUMIFS('Staff Capacity'!$I$10:$I$39,'Staff Capacity'!$G$10:$G$39,7,'Staff Capacity'!$H$10:$H$39,$D$3),SUMIF('Staff Capacity'!$G$10:$G$39,7,'Staff Capacity'!$I$10:$I$39))","v":0},{"$f":"IF($D$3<>\"\",SUMIFS('Staff Capacity'!$I$10:$I$39,'Staff Capacity'!$G$10:$G$39,7,'Staff Capacity'!$H$10:$H$39,$D$3),SUMIF('Staff Capacity'!$G$10:$G$39,7,'Staff Capacity'!$I$10:$I$39))","v":0},{"$f":"IF($D$3<>\"\",SUMIFS('Staff Capacity'!$I$10:$I$39,'Staff Capacity'!$G$10:$G$39,7,'Staff Capacity'!$H$10:$H$39,$D$3),SUMIF('Staff Capacity'!$G$10:$G$39,7,'Staff Capacity'!$I$10:$I$39))","v":0},{"$f":"IF($D$3<>\"\",SUMIFS('Staff Capacity'!$I$10:$I$39,'Staff Capacity'!$G$10:$G$39,7,'Staff Capacity'!$H$10:$H$39,$D$3),SUMIF('Staff Capacity'!$G$10:$G$39,7,'Staff Capacity'!$I$10:$I$39))","v":0},{"$f":"IF($D$3<>\"\",SUMIFS('Staff Capacity'!$I$10:$I$39,'Staff Capacity'!$G$10:$G$39,7,'Staff Capacity'!$H$10:$H$39,$D$3),SUMIF('Staff Capacity'!$G$10:$G$39,7,'Staff Capacity'!$I$10:$I$39))","v":0},{"$f":"IF($D$3<>\"\",SUMIFS('Staff Capacity'!$I$10:$I$39,'Staff Capacity'!$G$10:$G$39,7,'Staff Capacity'!$H$10:$H$39,$D$3),SUMIF('Staff Capacity'!$G$10:$G$39,7,'Staff Capacity'!$I$10:$I$39))","v":0},{"$f":"IF($D$3<>\"\",SUMIFS('Staff Capacity'!$I$10:$I$39,'Staff Capacity'!$G$10:$G$39,7,'Staff Capacity'!$H$10:$H$39,$D$3),SUMIF('Staff Capacity'!$G$10:$G$39,7,'Staff Capacity'!$I$10:$I$39))","v":0},{"$f":"IF($D$3<>\"\",SUMIFS('Staff Capacity'!$I$10:$I$39,'Staff Capacity'!$G$10:$G$39,7,'Staff Capacity'!$H$10:$H$39,$D$3),SUMIF('Staff Capacity'!$G$10:$G$39,7,'Staff Capacity'!$I$10:$I$39))","v":0},{"$f":"IF($D$3<>\"\",SUMIFS('Staff Capacity'!$I$10:$I$39,'Staff Capacity'!$G$10:$G$39,7,'Staff Capacity'!$H$10:$H$39,$D$3),SUMIF('Staff Capacity'!$G$10:$G$39,7,'Staff Capacity'!$I$10:$I$39))","v":0},{"$f":"IF($D$3<>\"\",SUMIFS('Staff Capacity'!$I$10:$I$39,'Staff Capacity'!$G$10:$G$39,7,'Staff Capacity'!$H$10:$H$39,$D$3),SUMIF('Staff Capacity'!$G$10:$G$39,7,'Staff Capacity'!$I$10:$I$39))","v":0},{"$f":"IF($D$3<>\"\",SUMIFS('Staff Capacity'!$I$10:$I$39,'Staff Capacity'!$G$10:$G$39,7,'Staff Capacity'!$H$10:$H$39,$D$3),SUMIF('Staff Capacity'!$G$10:$G$39,7,'Staff Capacity'!$I$10:$I$39))","v":0},{"$f":"IF($D$3<>\"\",SUMIFS('Staff Capacity'!$I$10:$I$39,'Staff Capacity'!$G$10:$G$39,7,'Staff Capacity'!$H$10:$H$39,$D$3),SUMIF('Staff Capacity'!$G$10:$G$39,7,'Staff Capacity'!$I$10:$I$39))","v":0},{"$f":"IF($D$3<>\"\",SUMIFS('Staff Capacity'!$I$10:$I$39,'Staff Capacity'!$G$10:$G$39,7,'Staff Capacity'!$H$10:$H$39,$D$3),SUMIF('Staff Capacity'!$G$10:$G$39,7,'Staff Capacity'!$I$10:$I$39))","v":0},{"$f":"IF($D$3<>\"\",SUMIFS('Staff Capacity'!$I$10:$I$39,'Staff Capacity'!$G$10:$G$39,7,'Staff Capacity'!$H$10:$H$39,$D$3),SUMIF('Staff Capacity'!$G$10:$G$39,7,'Staff Capacity'!$I$10:$I$39))","v":0},{"$f":"IF($D$3<>\"\",SUMIFS('Staff Capacity'!$I$10:$I$39,'Staff Capacity'!$G$10:$G$39,7,'Staff Capacity'!$H$10:$H$39,$D$3),SUMIF('Staff Capacity'!$G$10:$G$39,7,'Staff Capacity'!$I$10:$I$39))","v":0},{"$f":"IF($D$3<>\"\",SUMIFS('Staff Capacity'!$I$10:$I$39,'Staff Capacity'!$G$10:$G$39,7,'Staff Capacity'!$H$10:$H$39,$D$3),SUMIF('Staff Capacity'!$G$10:$G$39,7,'Staff Capacity'!$I$10:$I$39))","v":0},{"$f":"IF($D$3<>\"\",SUMIFS('Staff Capacity'!$I$10:$I$39,'Staff Capacity'!$G$10:$G$39,7,'Staff Capacity'!$H$10:$H$39,$D$3),SUMIF('Staff Capacity'!$G$10:$G$39,7,'Staff Capacity'!$I$10:$I$39))","v":0},{"$f":"IF($D$3<>\"\",SUMIFS('Staff Capacity'!$I$10:$I$39,'Staff Capacity'!$G$10:$G$39,7,'Staff Capacity'!$H$10:$H$39,$D$3),SUMIF('Staff Capacity'!$G$10:$G$39,7,'Staff Capacity'!$I$10:$I$39))","v":0},{"$f":"IF($D$3<>\"\",SUMIFS('Staff Capacity'!$I$10:$I$39,'Staff Capacity'!$G$10:$G$39,7,'Staff Capacity'!$H$10:$H$39,$D$3),SUMIF('Staff Capacity'!$G$10:$G$39,7,'Staff Capacity'!$I$10:$I$39))","v":0},{"$f":"IF($D$3<>\"\",SUMIFS('Staff Capacity'!$I$10:$I$39,'Staff Capacity'!$G$10:$G$39,7,'Staff Capacity'!$H$10:$H$39,$D$3),SUMIF('Staff Capacity'!$G$10:$G$39,7,'Staff Capacity'!$I$10:$I$39))","v":0},{"$f":"IF($D$3<>\"\",SUMIFS('Staff Capacity'!$I$10:$I$39,'Staff Capacity'!$G$10:$G$39,7,'Staff Capacity'!$H$10:$H$39,$D$3),SUMIF('Staff Capacity'!$G$10:$G$39,7,'Staff Capacity'!$I$10:$I$39))","v":0},{"$f":"IF($D$3<>\"\",SUMIFS('Staff Capacity'!$I$10:$I$39,'Staff Capacity'!$G$10:$G$39,7,'Staff Capacity'!$H$10:$H$39,$D$3),SUMIF('Staff Capacity'!$G$10:$G$39,7,'Staff Capacity'!$I$10:$I$39))","v":0},{"$f":"IF($D$3<>\"\",SUMIFS('Staff Capacity'!$I$10:$I$39,'Staff Capacity'!$G$10:$G$39,7,'Staff Capacity'!$H$10:$H$39,$D$3),SUMIF('Staff Capacity'!$G$10:$G$39,7,'Staff Capacity'!$I$10:$I$39))","v":0},{"$f":"IF($D$3<>\"\",SUMIFS('Staff Capacity'!$I$10:$I$39,'Staff Capacity'!$G$10:$G$39,7,'Staff Capacity'!$H$10:$H$39,$D$3),SUMIF('Staff Capacity'!$G$10:$G$39,7,'Staff Capacity'!$I$10:$I$39))","v":0},{"$f":"IF($D$3<>\"\",SUMIFS('Staff Capacity'!$I$10:$I$39,'Staff Capacity'!$G$10:$G$39,7,'Staff Capacity'!$H$10:$H$39,$D$3),SUMIF('Staff Capacity'!$G$10:$G$39,7,'Staff Capacity'!$I$10:$I$39))","v":0},{"$f":"IF($D$3<>\"\",SUMIFS('Staff Capacity'!$I$10:$I$39,'Staff Capacity'!$G$10:$G$39,7,'Staff Capacity'!$H$10:$H$39,$D$3),SUMIF('Staff Capacity'!$G$10:$G$39,7,'Staff Capacity'!$I$10:$I$39))","v":0},{"$f":"IF($D$3<>\"\",SUMIFS('Staff Capacity'!$I$10:$I$39,'Staff Capacity'!$G$10:$G$39,7,'Staff Capacity'!$H$10:$H$39,$D$3),SUMIF('Staff Capacity'!$G$10:$G$39,7,'Staff Capacity'!$I$10:$I$39))","v":0},{"$f":"IF($D$3<>\"\",SUMIFS('Staff Capacity'!$I$10:$I$39,'Staff Capacity'!$G$10:$G$39,7,'Staff Capacity'!$H$10:$H$39,$D$3),SUMIF('Staff Capacity'!$G$10:$G$39,7,'Staff Capacity'!$I$10:$I$39))","v":0},{"$f":"IF($D$3<>\"\",SUMIFS('Staff Capacity'!$I$10:$I$39,'Staff Capacity'!$G$10:$G$39,7,'Staff Capacity'!$H$10:$H$39,$D$3),SUMIF('Staff Capacity'!$G$10:$G$39,7,'Staff Capacity'!$I$10:$I$39))","v":0},{"$f":"IF($D$3<>\"\",SUMIFS('Staff Capacity'!$I$10:$I$39,'Staff Capacity'!$G$10:$G$39,7,'Staff Capacity'!$H$10:$H$39,$D$3),SUMIF('Staff Capacity'!$G$10:$G$39,7,'Staff Capacity'!$I$10:$I$39))","v":0},{"$f":"IF($D$3<>\"\",SUMIFS('Staff Capacity'!$I$10:$I$39,'Staff Capacity'!$G$10:$G$39,7,'Staff Capacity'!$H$10:$H$39,$D$3),SUMIF('Staff Capacity'!$G$10:$G$39,7,'Staff Capacity'!$I$10:$I$39))","v":0},{"$f":"IF($D$3<>\"\",SUMIFS('Staff Capacity'!$I$10:$I$39,'Staff Capacity'!$G$10:$G$39,7,'Staff Capacity'!$H$10:$H$39,$D$3),SUMIF('Staff Capacity'!$G$10:$G$39,7,'Staff Capacity'!$I$10:$I$39))","v":0},{"$f":"IF($D$3<>\"\",SUMIFS('Staff Capacity'!$I$10:$I$39,'Staff Capacity'!$G$10:$G$39,7,'Staff Capacity'!$H$10:$H$39,$D$3),SUMIF('Staff Capacity'!$G$10:$G$39,7,'Staff Capacity'!$I$10:$I$39))","v":0},{"$f":"IF($D$3<>\"\",SUMIFS('Staff Capacity'!$I$10:$I$39,'Staff Capacity'!$G$10:$G$39,7,'Staff Capacity'!$H$10:$H$39,$D$3),SUMIF('Staff Capacity'!$G$10:$G$39,7,'Staff Capacity'!$I$10:$I$39))","v":0},{"$f":"IF($D$3<>\"\",SUMIFS('Staff Capacity'!$I$10:$I$39,'Staff Capacity'!$G$10:$G$39,7,'Staff Capacity'!$H$10:$H$39,$D$3),SUMIF('Staff Capacity'!$G$10:$G$39,7,'Staff Capacity'!$I$10:$I$39))","v":0},{"$f":"IF($D$3<>\"\",SUMIFS('Staff Capacity'!$I$10:$I$39,'Staff Capacity'!$G$10:$G$39,7,'Staff Capacity'!$H$10:$H$39,$D$3),SUMIF('Staff Capacity'!$G$10:$G$39,7,'Staff Capacity'!$I$10:$I$39))","v":0},{"$f":"IF($D$3<>\"\",SUMIFS('Staff Capacity'!$I$10:$I$39,'Staff Capacity'!$G$10:$G$39,7,'Staff Capacity'!$H$10:$H$39,$D$3),SUMIF('Staff Capacity'!$G$10:$G$39,7,'Staff Capacity'!$I$10:$I$39))","v":0},{"$f":"IF($D$3<>\"\",SUMIFS('Staff Capacity'!$I$10:$I$39,'Staff Capacity'!$G$10:$G$39,7,'Staff Capacity'!$H$10:$H$39,$D$3),SUMIF('Staff Capacity'!$G$10:$G$39,7,'Staff Capacity'!$I$10:$I$39))","v":0},{"$f":"IF($D$3<>\"\",SUMIFS('Staff Capacity'!$I$10:$I$39,'Staff Capacity'!$G$10:$G$39,7,'Staff Capacity'!$H$10:$H$39,$D$3),SUMIF('Staff Capacity'!$G$10:$G$39,7,'Staff Capacity'!$I$10:$I$39))","v":0},{"$f":"IF($D$3<>\"\",SUMIFS('Staff Capacity'!$I$10:$I$39,'Staff Capacity'!$G$10:$G$39,7,'Staff Capacity'!$H$10:$H$39,$D$3),SUMIF('Staff Capacity'!$G$10:$G$39,7,'Staff Capacity'!$I$10:$I$39))","v":0},{"$f":"IF($D$3<>\"\",SUMIFS('Staff Capacity'!$I$10:$I$39,'Staff Capacity'!$G$10:$G$39,7,'Staff Capacity'!$H$10:$H$39,$D$3),SUMIF('Staff Capacity'!$G$10:$G$39,7,'Staff Capacity'!$I$10:$I$39))","v":0},{"$f":"IF($D$3<>\"\",SUMIFS('Staff Capacity'!$I$10:$I$39,'Staff Capacity'!$G$10:$G$39,7,'Staff Capacity'!$H$10:$H$39,$D$3),SUMIF('Staff Capacity'!$G$10:$G$39,7,'Staff Capacity'!$I$10:$I$39))","v":0},{"$f":"IF($D$3<>\"\",SUMIFS('Staff Capacity'!$I$10:$I$39,'Staff Capacity'!$G$10:$G$39,7,'Staff Capacity'!$H$10:$H$39,$D$3),SUMIF('Staff Capacity'!$G$10:$G$39,7,'Staff Capacity'!$I$10:$I$39))","v":0},{"$f":"IF($D$3<>\"\",SUMIFS('Staff Capacity'!$I$10:$I$39,'Staff Capacity'!$G$10:$G$39,7,'Staff Capacity'!$H$10:$H$39,$D$3),SUMIF('Staff Capacity'!$G$10:$G$39,7,'Staff Capacity'!$I$10:$I$39))","v":0},{"$f":"IF($D$3<>\"\",SUMIFS('Staff Capacity'!$I$10:$I$39,'Staff Capacity'!$G$10:$G$39,7,'Staff Capacity'!$H$10:$H$39,$D$3),SUMIF('Staff Capacity'!$G$10:$G$39,7,'Staff Capacity'!$I$10:$I$39))","v":0},{"$f":"IF($D$3<>\"\",SUMIFS('Staff Capacity'!$I$10:$I$39,'Staff Capacity'!$G$10:$G$39,7,'Staff Capacity'!$H$10:$H$39,$D$3),SUMIF('Staff Capacity'!$G$10:$G$39,7,'Staff Capacity'!$I$10:$I$39))","v":0},{"$f":"IF($D$3<>\"\",SUMIFS('Staff Capacity'!$I$10:$I$39,'Staff Capacity'!$G$10:$G$39,7,'Staff Capacity'!$H$10:$H$39,$D$3),SUMIF('Staff Capacity'!$G$10:$G$39,7,'Staff Capacity'!$I$10:$I$39))","v":0},{"$f":"IF($D$3<>\"\",SUMIFS('Staff Capacity'!$I$10:$I$39,'Staff Capacity'!$G$10:$G$39,7,'Staff Capacity'!$H$10:$H$39,$D$3),SUMIF('Staff Capacity'!$G$10:$G$39,7,'Staff Capacity'!$I$10:$I$39))","v":0},{"$f":"IF($D$3<>\"\",SUMIFS('Staff Capacity'!$I$10:$I$39,'Staff Capacity'!$G$10:$G$39,7,'Staff Capacity'!$H$10:$H$39,$D$3),SUMIF('Staff Capacity'!$G$10:$G$39,7,'Staff Capacity'!$I$10:$I$39))","v":0},{"$f":"IF($D$3<>\"\",SUMIFS('Staff Capacity'!$I$10:$I$39,'Staff Capacity'!$G$10:$G$39,7,'Staff Capacity'!$H$10:$H$39,$D$3),SUMIF('Staff Capacity'!$G$10:$G$39,7,'Staff Capacity'!$I$10:$I$39))","v":0},{"$f":"IF($D$3<>\"\",SUMIFS('Staff Capacity'!$I$10:$I$39,'Staff Capacity'!$G$10:$G$39,7,'Staff Capacity'!$H$10:$H$39,$D$3),SUMIF('Staff Capacity'!$G$10:$G$39,7,'Staff Capacity'!$I$10:$I$39))","v":0},{"$f":"IF($D$3<>\"\",SUMIFS('Staff Capacity'!$I$10:$I$39,'Staff Capacity'!$G$10:$G$39,7,'Staff Capacity'!$H$10:$H$39,$D$3),SUMIF('Staff Capacity'!$G$10:$G$39,7,'Staff Capacity'!$I$10:$I$39))","v":0},{"$f":"IF($D$3<>\"\",SUMIFS('Staff Capacity'!$I$10:$I$39,'Staff Capacity'!$G$10:$G$39,7,'Staff Capacity'!$H$10:$H$39,$D$3),SUMIF('Staff Capacity'!$G$10:$G$39,7,'Staff Capacity'!$I$10:$I$39))","v":0},{"$f":"IF($D$3<>\"\",SUMIFS('Staff Capacity'!$I$10:$I$39,'Staff Capacity'!$G$10:$G$39,7,'Staff Capacity'!$H$10:$H$39,$D$3),SUMIF('Staff Capacity'!$G$10:$G$39,7,'Staff Capacity'!$I$10:$I$39))","v":0},{"$f":"IF($D$3<>\"\",SUMIFS('Staff Capacity'!$I$10:$I$39,'Staff Capacity'!$G$10:$G$39,7,'Staff Capacity'!$H$10:$H$39,$D$3),SUMIF('Staff Capacity'!$G$10:$G$39,7,'Staff Capacity'!$I$10:$I$39))","v":0},{"$f":"IF($D$3<>\"\",SUMIFS('Staff Capacity'!$I$10:$I$39,'Staff Capacity'!$G$10:$G$39,7,'Staff Capacity'!$H$10:$H$39,$D$3),SUMIF('Staff Capacity'!$G$10:$G$39,7,'Staff Capacity'!$I$10:$I$39))","v":0},{"$f":"IF($D$3<>\"\",SUMIFS('Staff Capacity'!$I$10:$I$39,'Staff Capacity'!$G$10:$G$39,7,'Staff Capacity'!$H$10:$H$39,$D$3),SUMIF('Staff Capacity'!$G$10:$G$39,7,'Staff Capacity'!$I$10:$I$39))","v":0},{"$f":"IF($D$3<>\"\",SUMIFS('Staff Capacity'!$I$10:$I$39,'Staff Capacity'!$G$10:$G$39,7,'Staff Capacity'!$H$10:$H$39,$D$3),SUMIF('Staff Capacity'!$G$10:$G$39,7,'Staff Capacity'!$I$10:$I$39))","v":0},{"$f":"IF($D$3<>\"\",SUMIFS('Staff Capacity'!$I$10:$I$39,'Staff Capacity'!$G$10:$G$39,7,'Staff Capacity'!$H$10:$H$39,$D$3),SUMIF('Staff Capacity'!$G$10:$G$39,7,'Staff Capacity'!$I$10:$I$39))","v":0},{"$f":"IF($D$3<>\"\",SUMIFS('Staff Capacity'!$I$10:$I$39,'Staff Capacity'!$G$10:$G$39,7,'Staff Capacity'!$H$10:$H$39,$D$3),SUMIF('Staff Capacity'!$G$10:$G$39,7,'Staff Capacity'!$I$10:$I$39))","v":0},{"$f":"IF($D$3<>\"\",SUMIFS('Staff Capacity'!$I$10:$I$39,'Staff Capacity'!$G$10:$G$39,7,'Staff Capacity'!$H$10:$H$39,$D$3),SUMIF('Staff Capacity'!$G$10:$G$39,7,'Staff Capacity'!$I$10:$I$39))","v":0},{"$f":"IF($D$3<>\"\",SUMIFS('Staff Capacity'!$I$10:$I$39,'Staff Capacity'!$G$10:$G$39,7,'Staff Capacity'!$H$10:$H$39,$D$3),SUMIF('Staff Capacity'!$G$10:$G$39,7,'Staff Capacity'!$I$10:$I$39))","v":0},{"$f":"IF($D$3<>\"\",SUMIFS('Staff Capacity'!$I$10:$I$39,'Staff Capacity'!$G$10:$G$39,7,'Staff Capacity'!$H$10:$H$39,$D$3),SUMIF('Staff Capacity'!$G$10:$G$39,7,'Staff Capacity'!$I$10:$I$39))","v":0},{"$f":"IF($D$3<>\"\",SUMIFS('Staff Capacity'!$I$10:$I$39,'Staff Capacity'!$G$10:$G$39,7,'Staff Capacity'!$H$10:$H$39,$D$3),SUMIF('Staff Capacity'!$G$10:$G$39,7,'Staff Capacity'!$I$10:$I$39))","v":0},{"$f":"IF($D$3<>\"\",SUMIFS('Staff Capacity'!$I$10:$I$39,'Staff Capacity'!$G$10:$G$39,7,'Staff Capacity'!$H$10:$H$39,$D$3),SUMIF('Staff Capacity'!$G$10:$G$39,7,'Staff Capacity'!$I$10:$I$39))","v":0},{"$f":"IF($D$3<>\"\",SUMIFS('Staff Capacity'!$I$10:$I$39,'Staff Capacity'!$G$10:$G$39,7,'Staff Capacity'!$H$10:$H$39,$D$3),SUMIF('Staff Capacity'!$G$10:$G$39,7,'Staff Capacity'!$I$10:$I$39))","v":0},{"$f":"IF($D$3<>\"\",SUMIFS('Staff Capacity'!$I$10:$I$39,'Staff Capacity'!$G$10:$G$39,7,'Staff Capacity'!$H$10:$H$39,$D$3),SUMIF('Staff Capacity'!$G$10:$G$39,7,'Staff Capacity'!$I$10:$I$39))","v":0},{"$f":"IF($D$3<>\"\",SUMIFS('Staff Capacity'!$I$10:$I$39,'Staff Capacity'!$G$10:$G$39,7,'Staff Capacity'!$H$10:$H$39,$D$3),SUMIF('Staff Capacity'!$G$10:$G$39,7,'Staff Capacity'!$I$10:$I$39))","v":0},{"$f":"IF($D$3<>\"\",SUMIFS('Staff Capacity'!$I$10:$I$39,'Staff Capacity'!$G$10:$G$39,7,'Staff Capacity'!$H$10:$H$39,$D$3),SUMIF('Staff Capacity'!$G$10:$G$39,7,'Staff Capacity'!$I$10:$I$39))","v":0},{"$f":"IF($D$3<>\"\",SUMIFS('Staff Capacity'!$I$10:$I$39,'Staff Capacity'!$G$10:$G$39,7,'Staff Capacity'!$H$10:$H$39,$D$3),SUMIF('Staff Capacity'!$G$10:$G$39,7,'Staff Capacity'!$I$10:$I$39))","v":0},{"$f":"IF($D$3<>\"\",SUMIFS('Staff Capacity'!$I$10:$I$39,'Staff Capacity'!$G$10:$G$39,7,'Staff Capacity'!$H$10:$H$39,$D$3),SUMIF('Staff Capacity'!$G$10:$G$39,7,'Staff Capacity'!$I$10:$I$39))","v":0},{"$f":"IF($D$3<>\"\",SUMIFS('Staff Capacity'!$I$10:$I$39,'Staff Capacity'!$G$10:$G$39,7,'Staff Capacity'!$H$10:$H$39,$D$3),SUMIF('Staff Capacity'!$G$10:$G$39,7,'Staff Capacity'!$I$10:$I$39))","v":0},{"$f":"IF($D$3<>\"\",SUMIFS('Staff Capacity'!$I$10:$I$39,'Staff Capacity'!$G$10:$G$39,7,'Staff Capacity'!$H$10:$H$39,$D$3),SUMIF('Staff Capacity'!$G$10:$G$39,7,'Staff Capacity'!$I$10:$I$39))","v":0},{"$f":"IF($D$3<>\"\",SUMIFS('Staff Capacity'!$I$10:$I$39,'Staff Capacity'!$G$10:$G$39,7,'Staff Capacity'!$H$10:$H$39,$D$3),SUMIF('Staff Capacity'!$G$10:$G$39,7,'Staff Capacity'!$I$10:$I$39))","v":0},{"$f":"IF($D$3<>\"\",SUMIFS('Staff Capacity'!$I$10:$I$39,'Staff Capacity'!$G$10:$G$39,7,'Staff Capacity'!$H$10:$H$39,$D$3),SUMIF('Staff Capacity'!$G$10:$G$39,7,'Staff Capacity'!$I$10:$I$39))","v":0},{"$f":"IF($D$3<>\"\",SUMIFS('Staff Capacity'!$I$10:$I$39,'Staff Capacity'!$G$10:$G$39,7,'Staff Capacity'!$H$10:$H$39,$D$3),SUMIF('Staff Capacity'!$G$10:$G$39,7,'Staff Capacity'!$I$10:$I$39))","v":0},{"$f":"IF($D$3<>\"\",SUMIFS('Staff Capacity'!$I$10:$I$39,'Staff Capacity'!$G$10:$G$39,7,'Staff Capacity'!$H$10:$H$39,$D$3),SUMIF('Staff Capacity'!$G$10:$G$39,7,'Staff Capacity'!$I$10:$I$39))","v":0},{"$f":"IF($D$3<>\"\",SUMIFS('Staff Capacity'!$I$10:$I$39,'Staff Capacity'!$G$10:$G$39,7,'Staff Capacity'!$H$10:$H$39,$D$3),SUMIF('Staff Capacity'!$G$10:$G$39,7,'Staff Capacity'!$I$10:$I$39))","v":0},{"$f":"IF($D$3<>\"\",SUMIFS('Staff Capacity'!$I$10:$I$39,'Staff Capacity'!$G$10:$G$39,7,'Staff Capacity'!$H$10:$H$39,$D$3),SUMIF('Staff Capacity'!$G$10:$G$39,7,'Staff Capacity'!$I$10:$I$39))","v":0},{"$f":"IF($D$3<>\"\",SUMIFS('Staff Capacity'!$I$10:$I$39,'Staff Capacity'!$G$10:$G$39,7,'Staff Capacity'!$H$10:$H$39,$D$3),SUMIF('Staff Capacity'!$G$10:$G$39,7,'Staff Capacity'!$I$10:$I$39))","v":0},{"$f":"IF($D$3<>\"\",SUMIFS('Staff Capacity'!$I$10:$I$39,'Staff Capacity'!$G$10:$G$39,7,'Staff Capacity'!$H$10:$H$39,$D$3),SUMIF('Staff Capacity'!$G$10:$G$39,7,'Staff Capacity'!$I$10:$I$39))","v":0},{"$f":"IF($D$3<>\"\",SUMIFS('Staff Capacity'!$I$10:$I$39,'Staff Capacity'!$G$10:$G$39,7,'Staff Capacity'!$H$10:$H$39,$D$3),SUMIF('Staff Capacity'!$G$10:$G$39,7,'Staff Capacity'!$I$10:$I$39))","v":0},{"$f":"IF($D$3<>\"\",SUMIFS('Staff Capacity'!$I$10:$I$39,'Staff Capacity'!$G$10:$G$39,7,'Staff Capacity'!$H$10:$H$39,$D$3),SUMIF('Staff Capacity'!$G$10:$G$39,7,'Staff Capacity'!$I$10:$I$39))","v":0},{"$f":"IF($D$3<>\"\",SUMIFS('Staff Capacity'!$I$10:$I$39,'Staff Capacity'!$G$10:$G$39,7,'Staff Capacity'!$H$10:$H$39,$D$3),SUMIF('Staff Capacity'!$G$10:$G$39,7,'Staff Capacity'!$I$10:$I$39))","v":0},{"$f":"IF($D$3<>\"\",SUMIFS('Staff Capacity'!$I$10:$I$39,'Staff Capacity'!$G$10:$G$39,7,'Staff Capacity'!$H$10:$H$39,$D$3),SUMIF('Staff Capacity'!$G$10:$G$39,7,'Staff Capacity'!$I$10:$I$39))","v":0},{"$f":"IF($D$3<>\"\",SUMIFS('Staff Capacity'!$I$10:$I$39,'Staff Capacity'!$G$10:$G$39,7,'Staff Capacity'!$H$10:$H$39,$D$3),SUMIF('Staff Capacity'!$G$10:$G$39,7,'Staff Capacity'!$I$10:$I$39))","v":0},{"$f":"IF($D$3<>\"\",SUMIFS('Staff Capacity'!$I$10:$I$39,'Staff Capacity'!$G$10:$G$39,7,'Staff Capacity'!$H$10:$H$39,$D$3),SUMIF('Staff Capacity'!$G$10:$G$39,7,'Staff Capacity'!$I$10:$I$39))","v":0},{"$f":"IF($D$3<>\"\",SUMIFS('Staff Capacity'!$I$10:$I$39,'Staff Capacity'!$G$10:$G$39,7,'Staff Capacity'!$H$10:$H$39,$D$3),SUMIF('Staff Capacity'!$G$10:$G$39,7,'Staff Capacity'!$I$10:$I$39))","v":0},{"$f":"IF($D$3<>\"\",SUMIFS('Staff Capacity'!$I$10:$I$39,'Staff Capacity'!$G$10:$G$39,7,'Staff Capacity'!$H$10:$H$39,$D$3),SUMIF('Staff Capacity'!$G$10:$G$39,7,'Staff Capacity'!$I$10:$I$39))","v":0},{"$f":"IF($D$3<>\"\",SUMIFS('Staff Capacity'!$I$10:$I$39,'Staff Capacity'!$G$10:$G$39,7,'Staff Capacity'!$H$10:$H$39,$D$3),SUMIF('Staff Capacity'!$G$10:$G$39,7,'Staff Capacity'!$I$10:$I$39))","v":0},{"$f":"IF($D$3<>\"\",SUMIFS('Staff Capacity'!$I$10:$I$39,'Staff Capacity'!$G$10:$G$39,7,'Staff Capacity'!$H$10:$H$39,$D$3),SUMIF('Staff Capacity'!$G$10:$G$39,7,'Staff Capacity'!$I$10:$I$39))","v":0},{"$f":"IF($D$3<>\"\",SUMIFS('Staff Capacity'!$I$10:$I$39,'Staff Capacity'!$G$10:$G$39,7,'Staff Capacity'!$H$10:$H$39,$D$3),SUMIF('Staff Capacity'!$G$10:$G$39,7,'Staff Capacity'!$I$10:$I$39))","v":0},{"$f":"IF($D$3<>\"\",SUMIFS('Staff Capacity'!$I$10:$I$39,'Staff Capacity'!$G$10:$G$39,7,'Staff Capacity'!$H$10:$H$39,$D$3),SUMIF('Staff Capacity'!$G$10:$G$39,7,'Staff Capacity'!$I$10:$I$39))","v":0},{"$f":"IF($D$3<>\"\",SUMIFS('Staff Capacity'!$I$10:$I$39,'Staff Capacity'!$G$10:$G$39,7,'Staff Capacity'!$H$10:$H$39,$D$3),SUMIF('Staff Capacity'!$G$10:$G$39,7,'Staff Capacity'!$I$10:$I$39))","v":0},{"$f":"IF($D$3<>\"\",SUMIFS('Staff Capacity'!$I$10:$I$39,'Staff Capacity'!$G$10:$G$39,7,'Staff Capacity'!$H$10:$H$39,$D$3),SUMIF('Staff Capacity'!$G$10:$G$39,7,'Staff Capacity'!$I$10:$I$39))","v":0},{"$f":"IF($D$3<>\"\",SUMIFS('Staff Capacity'!$I$10:$I$39,'Staff Capacity'!$G$10:$G$39,7,'Staff Capacity'!$H$10:$H$39,$D$3),SUMIF('Staff Capacity'!$G$10:$G$39,7,'Staff Capacity'!$I$10:$I$39))","v":0},{"$f":"IF($D$3<>\"\",SUMIFS('Staff Capacity'!$I$10:$I$39,'Staff Capacity'!$G$10:$G$39,7,'Staff Capacity'!$H$10:$H$39,$D$3),SUMIF('Staff Capacity'!$G$10:$G$39,7,'Staff Capacity'!$I$10:$I$39))","v":0},{"$f":"IF($D$3<>\"\",SUMIFS('Staff Capacity'!$I$10:$I$39,'Staff Capacity'!$G$10:$G$39,7,'Staff Capacity'!$H$10:$H$39,$D$3),SUMIF('Staff Capacity'!$G$10:$G$39,7,'Staff Capacity'!$I$10:$I$39))","v":0},{"$f":"IF($D$3<>\"\",SUMIFS('Staff Capacity'!$I$10:$I$39,'Staff Capacity'!$G$10:$G$39,7,'Staff Capacity'!$H$10:$H$39,$D$3),SUMIF('Staff Capacity'!$G$10:$G$39,7,'Staff Capacity'!$I$10:$I$39))","v":0},{"$f":"IF($D$3<>\"\",SUMIFS('Staff Capacity'!$I$10:$I$39,'Staff Capacity'!$G$10:$G$39,7,'Staff Capacity'!$H$10:$H$39,$D$3),SUMIF('Staff Capacity'!$G$10:$G$39,7,'Staff Capacity'!$I$10:$I$39))","v":0},{"$f":"IF($D$3<>\"\",SUMIFS('Staff Capacity'!$I$10:$I$39,'Staff Capacity'!$G$10:$G$39,7,'Staff Capacity'!$H$10:$H$39,$D$3),SUMIF('Staff Capacity'!$G$10:$G$39,7,'Staff Capacity'!$I$10:$I$39))","v":0},{"$f":"IF($D$3<>\"\",SUMIFS('Staff Capacity'!$I$10:$I$39,'Staff Capacity'!$G$10:$G$39,7,'Staff Capacity'!$H$10:$H$39,$D$3),SUMIF('Staff Capacity'!$G$10:$G$39,7,'Staff Capacity'!$I$10:$I$39))","v":0},{"$f":"IF($D$3<>\"\",SUMIFS('Staff Capacity'!$I$10:$I$39,'Staff Capacity'!$G$10:$G$39,7,'Staff Capacity'!$H$10:$H$39,$D$3),SUMIF('Staff Capacity'!$G$10:$G$39,7,'Staff Capacity'!$I$10:$I$39))","v":0},{"$f":"IF($D$3<>\"\",SUMIFS('Staff Capacity'!$I$10:$I$39,'Staff Capacity'!$G$10:$G$39,7,'Staff Capacity'!$H$10:$H$39,$D$3),SUMIF('Staff Capacity'!$G$10:$G$39,7,'Staff Capacity'!$I$10:$I$39))","v":0},{"$f":"IF($D$3<>\"\",SUMIFS('Staff Capacity'!$I$10:$I$39,'Staff Capacity'!$G$10:$G$39,7,'Staff Capacity'!$H$10:$H$39,$D$3),SUMIF('Staff Capacity'!$G$10:$G$39,7,'Staff Capacity'!$I$10:$I$39))","v":0},{"$f":"IF($D$3<>\"\",SUMIFS('Staff Capacity'!$I$10:$I$39,'Staff Capacity'!$G$10:$G$39,7,'Staff Capacity'!$H$10:$H$39,$D$3),SUMIF('Staff Capacity'!$G$10:$G$39,7,'Staff Capacity'!$I$10:$I$39))","v":0},{"$f":"IF($D$3<>\"\",SUMIFS('Staff Capacity'!$I$10:$I$39,'Staff Capacity'!$G$10:$G$39,7,'Staff Capacity'!$H$10:$H$39,$D$3),SUMIF('Staff Capacity'!$G$10:$G$39,7,'Staff Capacity'!$I$10:$I$39))","v":0},{"$f":"IF($D$3<>\"\",SUMIFS('Staff Capacity'!$I$10:$I$39,'Staff Capacity'!$G$10:$G$39,7,'Staff Capacity'!$H$10:$H$39,$D$3),SUMIF('Staff Capacity'!$G$10:$G$39,7,'Staff Capacity'!$I$10:$I$39))","v":0},{"$f":"IF($D$3<>\"\",SUMIFS('Staff Capacity'!$I$10:$I$39,'Staff Capacity'!$G$10:$G$39,7,'Staff Capacity'!$H$10:$H$39,$D$3),SUMIF('Staff Capacity'!$G$10:$G$39,7,'Staff Capacity'!$I$10:$I$39))","v":0},{"$f":"IF($D$3<>\"\",SUMIFS('Staff Capacity'!$I$10:$I$39,'Staff Capacity'!$G$10:$G$39,7,'Staff Capacity'!$H$10:$H$39,$D$3),SUMIF('Staff Capacity'!$G$10:$G$39,7,'Staff Capacity'!$I$10:$I$39))","v":0},{"$f":"IF($D$3<>\"\",SUMIFS('Staff Capacity'!$I$10:$I$39,'Staff Capacity'!$G$10:$G$39,7,'Staff Capacity'!$H$10:$H$39,$D$3),SUMIF('Staff Capacity'!$G$10:$G$39,7,'Staff Capacity'!$I$10:$I$39))","v":0},{"$f":"IF($D$3<>\"\",SUMIFS('Staff Capacity'!$I$10:$I$39,'Staff Capacity'!$G$10:$G$39,7,'Staff Capacity'!$H$10:$H$39,$D$3),SUMIF('Staff Capacity'!$G$10:$G$39,7,'Staff Capacity'!$I$10:$I$39))","v":0},{"$f":"IF($D$3<>\"\",SUMIFS('Staff Capacity'!$I$10:$I$39,'Staff Capacity'!$G$10:$G$39,7,'Staff Capacity'!$H$10:$H$39,$D$3),SUMIF('Staff Capacity'!$G$10:$G$39,7,'Staff Capacity'!$I$10:$I$39))","v":0},{"$f":"IF($D$3<>\"\",SUMIFS('Staff Capacity'!$I$10:$I$39,'Staff Capacity'!$G$10:$G$39,7,'Staff Capacity'!$H$10:$H$39,$D$3),SUMIF('Staff Capacity'!$G$10:$G$39,7,'Staff Capacity'!$I$10:$I$39))","v":0},{"$f":"IF($D$3<>\"\",SUMIFS('Staff Capacity'!$I$10:$I$39,'Staff Capacity'!$G$10:$G$39,7,'Staff Capacity'!$H$10:$H$39,$D$3),SUMIF('Staff Capacity'!$G$10:$G$39,7,'Staff Capacity'!$I$10:$I$39))","v":0},{"$f":"IF($D$3<>\"\",SUMIFS('Staff Capacity'!$I$10:$I$39,'Staff Capacity'!$G$10:$G$39,7,'Staff Capacity'!$H$10:$H$39,$D$3),SUMIF('Staff Capacity'!$G$10:$G$39,7,'Staff Capacity'!$I$10:$I$39))","v":0},{"$f":"IF($D$3<>\"\",SUMIFS('Staff Capacity'!$I$10:$I$39,'Staff Capacity'!$G$10:$G$39,7,'Staff Capacity'!$H$10:$H$39,$D$3),SUMIF('Staff Capacity'!$G$10:$G$39,7,'Staff Capacity'!$I$10:$I$39))","v":0},{"$f":"IF($D$3<>\"\",SUMIFS('Staff Capacity'!$I$10:$I$39,'Staff Capacity'!$G$10:$G$39,7,'Staff Capacity'!$H$10:$H$39,$D$3),SUMIF('Staff Capacity'!$G$10:$G$39,7,'Staff Capacity'!$I$10:$I$39))","v":0},{"$f":"IF($D$3<>\"\",SUMIFS('Staff Capacity'!$I$10:$I$39,'Staff Capacity'!$G$10:$G$39,7,'Staff Capacity'!$H$10:$H$39,$D$3),SUMIF('Staff Capacity'!$G$10:$G$39,7,'Staff Capacity'!$I$10:$I$39))","v":0},{"$f":"IF($D$3<>\"\",SUMIFS('Staff Capacity'!$I$10:$I$39,'Staff Capacity'!$G$10:$G$39,7,'Staff Capacity'!$H$10:$H$39,$D$3),SUMIF('Staff Capacity'!$G$10:$G$39,7,'Staff Capacity'!$I$10:$I$39))","v":0},{"$f":"IF($D$3<>\"\",SUMIFS('Staff Capacity'!$I$10:$I$39,'Staff Capacity'!$G$10:$G$39,7,'Staff Capacity'!$H$10:$H$39,$D$3),SUMIF('Staff Capacity'!$G$10:$G$39,7,'Staff Capacity'!$I$10:$I$39))","v":0},{"$f":"IF($D$3<>\"\",SUMIFS('Staff Capacity'!$I$10:$I$39,'Staff Capacity'!$G$10:$G$39,7,'Staff Capacity'!$H$10:$H$39,$D$3),SUMIF('Staff Capacity'!$G$10:$G$39,7,'Staff Capacity'!$I$10:$I$39))","v":0}]
[null,null,null,null,"8a",{"$f":"IF($D$3<>\"\",SUMIFS('Staff Capacity'!$I$10:$I$39,'Staff Capacity'!$G$10:$G$39,\"8a\",'Staff Capacity'!$H$10:$H$39,$D$3),SUMIF('Staff Capacity'!$G$10:$G$39,\"8a\",'Staff Capacity'!$I$10:$I$39))","v":0},{"$f":"IF($D$3<>\"\",SUMIFS('Staff Capacity'!$I$10:$I$39,'Staff Capacity'!$G$10:$G$39,\"8a\",'Staff Capacity'!$H$10:$H$39,$D$3),SUMIF('Staff Capacity'!$G$10:$G$39,\"8a\",'Staff Capacity'!$I$10:$I$39))","v":0},{"$f":"IF($D$3<>\"\",SUMIFS('Staff Capacity'!$I$10:$I$39,'Staff Capacity'!$G$10:$G$39,\"8a\",'Staff Capacity'!$H$10:$H$39,$D$3),SUMIF('Staff Capacity'!$G$10:$G$39,\"8a\",'Staff Capacity'!$I$10:$I$39))","v":0},{"$f":"IF($D$3<>\"\",SUMIFS('Staff Capacity'!$I$10:$I$39,'Staff Capacity'!$G$10:$G$39,\"8a\",'Staff Capacity'!$H$10:$H$39,$D$3),SUMIF('Staff Capacity'!$G$10:$G$39,\"8a\",'Staff Capacity'!$I$10:$I$39))","v":0},{"$f":"IF($D$3<>\"\",SUMIFS('Staff Capacity'!$I$10:$I$39,'Staff Capacity'!$G$10:$G$39,\"8a\",'Staff Capacity'!$H$10:$H$39,$D$3),SUMIF('Staff Capacity'!$G$10:$G$39,\"8a\",'Staff Capacity'!$I$10:$I$39))","v":0},{"$f":"IF($D$3<>\"\",SUMIFS('Staff Capacity'!$I$10:$I$39,'Staff Capacity'!$G$10:$G$39,\"8a\",'Staff Capacity'!$H$10:$H$39,$D$3),SUMIF('Staff Capacity'!$G$10:$G$39,\"8a\",'Staff Capacity'!$I$10:$I$39))","v":0},{"$f":"IF($D$3<>\"\",SUMIFS('Staff Capacity'!$I$10:$I$39,'Staff Capacity'!$G$10:$G$39,\"8a\",'Staff Capacity'!$H$10:$H$39,$D$3),SUMIF('Staff Capacity'!$G$10:$G$39,\"8a\",'Staff Capacity'!$I$10:$I$39))","v":0},{"$f":"IF($D$3<>\"\",SUMIFS('Staff Capacity'!$I$10:$I$39,'Staff Capacity'!$G$10:$G$39,\"8a\",'Staff Capacity'!$H$10:$H$39,$D$3),SUMIF('Staff Capacity'!$G$10:$G$39,\"8a\",'Staff Capacity'!$I$10:$I$39))","v":0},{"$f":"IF($D$3<>\"\",SUMIFS('Staff Capacity'!$I$10:$I$39,'Staff Capacity'!$G$10:$G$39,\"8a\",'Staff Capacity'!$H$10:$H$39,$D$3),SUMIF('Staff Capacity'!$G$10:$G$39,\"8a\",'Staff Capacity'!$I$10:$I$39))","v":0},{"$f":"IF($D$3<>\"\",SUMIFS('Staff Capacity'!$I$10:$I$39,'Staff Capacity'!$G$10:$G$39,\"8a\",'Staff Capacity'!$H$10:$H$39,$D$3),SUMIF('Staff Capacity'!$G$10:$G$39,\"8a\",'Staff Capacity'!$I$10:$I$39))","v":0},{"$f":"IF($D$3<>\"\",SUMIFS('Staff Capacity'!$I$10:$I$39,'Staff Capacity'!$G$10:$G$39,\"8a\",'Staff Capacity'!$H$10:$H$39,$D$3),SUMIF('Staff Capacity'!$G$10:$G$39,\"8a\",'Staff Capacity'!$I$10:$I$39))","v":0},{"$f":"IF($D$3<>\"\",SUMIFS('Staff Capacity'!$I$10:$I$39,'Staff Capacity'!$G$10:$G$39,\"8a\",'Staff Capacity'!$H$10:$H$39,$D$3),SUMIF('Staff Capacity'!$G$10:$G$39,\"8a\",'Staff Capacity'!$I$10:$I$39))","v":0},{"$f":"IF($D$3<>\"\",SUMIFS('Staff Capacity'!$I$10:$I$39,'Staff Capacity'!$G$10:$G$39,\"8a\",'Staff Capacity'!$H$10:$H$39,$D$3),SUMIF('Staff Capacity'!$G$10:$G$39,\"8a\",'Staff Capacity'!$I$10:$I$39))","v":0},{"$f":"IF($D$3<>\"\",SUMIFS('Staff Capacity'!$I$10:$I$39,'Staff Capacity'!$G$10:$G$39,\"8a\",'Staff Capacity'!$H$10:$H$39,$D$3),SUMIF('Staff Capacity'!$G$10:$G$39,\"8a\",'Staff Capacity'!$I$10:$I$39))","v":0},{"$f":"IF($D$3<>\"\",SUMIFS('Staff Capacity'!$I$10:$I$39,'Staff Capacity'!$G$10:$G$39,\"8a\",'Staff Capacity'!$H$10:$H$39,$D$3),SUMIF('Staff Capacity'!$G$10:$G$39,\"8a\",'Staff Capacity'!$I$10:$I$39))","v":0},{"$f":"IF($D$3<>\"\",SUMIFS('Staff Capacity'!$I$10:$I$39,'Staff Capacity'!$G$10:$G$39,\"8a\",'Staff Capacity'!$H$10:$H$39,$D$3),SUMIF('Staff Capacity'!$G$10:$G$39,\"8a\",'Staff Capacity'!$I$10:$I$39))","v":0},{"$f":"IF($D$3<>\"\",SUMIFS('Staff Capacity'!$I$10:$I$39,'Staff Capacity'!$G$10:$G$39,\"8a\",'Staff Capacity'!$H$10:$H$39,$D$3),SUMIF('Staff Capacity'!$G$10:$G$39,\"8a\",'Staff Capacity'!$I$10:$I$39))","v":0},{"$f":"IF($D$3<>\"\",SUMIFS('Staff Capacity'!$I$10:$I$39,'Staff Capacity'!$G$10:$G$39,\"8a\",'Staff Capacity'!$H$10:$H$39,$D$3),SUMIF('Staff Capacity'!$G$10:$G$39,\"8a\",'Staff Capacity'!$I$10:$I$39))","v":0},{"$f":"IF($D$3<>\"\",SUMIFS('Staff Capacity'!$I$10:$I$39,'Staff Capacity'!$G$10:$G$39,\"8a\",'Staff Capacity'!$H$10:$H$39,$D$3),SUMIF('Staff Capacity'!$G$10:$G$39,\"8a\",'Staff Capacity'!$I$10:$I$39))","v":0},{"$f":"IF($D$3<>\"\",SUMIFS('Staff Capacity'!$I$10:$I$39,'Staff Capacity'!$G$10:$G$39,\"8a\",'Staff Capacity'!$H$10:$H$39,$D$3),SUMIF('Staff Capacity'!$G$10:$G$39,\"8a\",'Staff Capacity'!$I$10:$I$39))","v":0},{"$f":"IF($D$3<>\"\",SUMIFS('Staff Capacity'!$I$10:$I$39,'Staff Capacity'!$G$10:$G$39,\"8a\",'Staff Capacity'!$H$10:$H$39,$D$3),SUMIF('Staff Capacity'!$G$10:$G$39,\"8a\",'Staff Capacity'!$I$10:$I$39))","v":0},{"$f":"IF($D$3<>\"\",SUMIFS('Staff Capacity'!$I$10:$I$39,'Staff Capacity'!$G$10:$G$39,\"8a\",'Staff Capacity'!$H$10:$H$39,$D$3),SUMIF('Staff Capacity'!$G$10:$G$39,\"8a\",'Staff Capacity'!$I$10:$I$39))","v":0},{"$f":"IF($D$3<>\"\",SUMIFS('Staff Capacity'!$I$10:$I$39,'Staff Capacity'!$G$10:$G$39,\"8a\",'Staff Capacity'!$H$10:$H$39,$D$3),SUMIF('Staff Capacity'!$G$10:$G$39,\"8a\",'Staff Capacity'!$I$10:$I$39))","v":0},{"$f":"IF($D$3<>\"\",SUMIFS('Staff Capacity'!$I$10:$I$39,'Staff Capacity'!$G$10:$G$39,\"8a\",'Staff Capacity'!$H$10:$H$39,$D$3),SUMIF('Staff Capacity'!$G$10:$G$39,\"8a\",'Staff Capacity'!$I$10:$I$39))","v":0},{"$f":"IF($D$3<>\"\",SUMIFS('Staff Capacity'!$I$10:$I$39,'Staff Capacity'!$G$10:$G$39,\"8a\",'Staff Capacity'!$H$10:$H$39,$D$3),SUMIF('Staff Capacity'!$G$10:$G$39,\"8a\",'Staff Capacity'!$I$10:$I$39))","v":0},{"$f":"IF($D$3<>\"\",SUMIFS('Staff Capacity'!$I$10:$I$39,'Staff Capacity'!$G$10:$G$39,\"8a\",'Staff Capacity'!$H$10:$H$39,$D$3),SUMIF('Staff Capacity'!$G$10:$G$39,\"8a\",'Staff Capacity'!$I$10:$I$39))","v":0},{"$f":"IF($D$3<>\"\",SUMIFS('Staff Capacity'!$I$10:$I$39,'Staff Capacity'!$G$10:$G$39,\"8a\",'Staff Capacity'!$H$10:$H$39,$D$3),SUMIF('Staff Capacity'!$G$10:$G$39,\"8a\",'Staff Capacity'!$I$10:$I$39))","v":0},{"$f":"IF($D$3<>\"\",SUMIFS('Staff Capacity'!$I$10:$I$39,'Staff Capacity'!$G$10:$G$39,\"8a\",'Staff Capacity'!$H$10:$H$39,$D$3),SUMIF('Staff Capacity'!$G$10:$G$39,\"8a\",'Staff Capacity'!$I$10:$I$39))","v":0},{"$f":"IF($D$3<>\"\",SUMIFS('Staff Capacity'!$I$10:$I$39,'Staff Capacity'!$G$10:$G$39,\"8a\",'Staff Capacity'!$H$10:$H$39,$D$3),SUMIF('Staff Capacity'!$G$10:$G$39,\"8a\",'Staff Capacity'!$I$10:$I$39))","v":0},{"$f":"IF($D$3<>\"\",SUMIFS('Staff Capacity'!$I$10:$I$39,'Staff Capacity'!$G$10:$G$39,\"8a\",'Staff Capacity'!$H$10:$H$39,$D$3),SUMIF('Staff Capacity'!$G$10:$G$39,\"8a\",'Staff Capacity'!$I$10:$I$39))","v":0},{"$f":"IF($D$3<>\"\",SUMIFS('Staff Capacity'!$I$10:$I$39,'Staff Capacity'!$G$10:$G$39,\"8a\",'Staff Capacity'!$H$10:$H$39,$D$3),SUMIF('Staff Capacity'!$G$10:$G$39,\"8a\",'Staff Capacity'!$I$10:$I$39))","v":0},{"$f":"IF($D$3<>\"\",SUMIFS('Staff Capacity'!$I$10:$I$39,'Staff Capacity'!$G$10:$G$39,\"8a\",'Staff Capacity'!$H$10:$H$39,$D$3),SUMIF('Staff Capacity'!$G$10:$G$39,\"8a\",'Staff Capacity'!$I$10:$I$39))","v":0},{"$f":"IF($D$3<>\"\",SUMIFS('Staff Capacity'!$I$10:$I$39,'Staff Capacity'!$G$10:$G$39,\"8a\",'Staff Capacity'!$H$10:$H$39,$D$3),SUMIF('Staff Capacity'!$G$10:$G$39,\"8a\",'Staff Capacity'!$I$10:$I$39))","v":0},{"$f":"IF($D$3<>\"\",SUMIFS('Staff Capacity'!$I$10:$I$39,'Staff Capacity'!$G$10:$G$39,\"8a\",'Staff Capacity'!$H$10:$H$39,$D$3),SUMIF('Staff Capacity'!$G$10:$G$39,\"8a\",'Staff Capacity'!$I$10:$I$39))","v":0},{"$f":"IF($D$3<>\"\",SUMIFS('Staff Capacity'!$I$10:$I$39,'Staff Capacity'!$G$10:$G$39,\"8a\",'Staff Capacity'!$H$10:$H$39,$D$3),SUMIF('Staff Capacity'!$G$10:$G$39,\"8a\",'Staff Capacity'!$I$10:$I$39))","v":0},{"$f":"IF($D$3<>\"\",SUMIFS('Staff Capacity'!$I$10:$I$39,'Staff Capacity'!$G$10:$G$39,\"8a\",'Staff Capacity'!$H$10:$H$39,$D$3),SUMIF('Staff Capacity'!$G$10:$G$39,\"8a\",'Staff Capacity'!$I$10:$I$39))","v":0},{"$f":"IF($D$3<>\"\",SUMIFS('Staff Capacity'!$I$10:$I$39,'Staff Capacity'!$G$10:$G$39,\"8a\",'Staff Capacity'!$H$10:$H$39,$D$3),SUMIF('Staff Capacity'!$G$10:$G$39,\"8a\",'Staff Capacity'!$I$10:$I$39))","v":0},{"$f":"IF($D$3<>\"\",SUMIFS('Staff Capacity'!$I$10:$I$39,'Staff Capacity'!$G$10:$G$39,\"8a\",'Staff Capacity'!$H$10:$H$39,$D$3),SUMIF('Staff Capacity'!$G$10:$G$39,\"8a\",'Staff Capacity'!$I$10:$I$39))","v":0},{"$f":"IF($D$3<>\"\",SUMIFS('Staff Capacity'!$I$10:$I$39,'Staff Capacity'!$G$10:$G$39,\"8a\",'Staff Capacity'!$H$10:$H$39,$D$3),SUMIF('Staff Capacity'!$G$10:$G$39,\"8a\",'Staff Capacity'!$I$10:$I$39))","v":0},{"$f":"IF($D$3<>\"\",SUMIFS('Staff Capacity'!$I$10:$I$39,'Staff Capacity'!$G$10:$G$39,\"8a\",'Staff Capacity'!$H$10:$H$39,$D$3),SUMIF('Staff Capacity'!$G$10:$G$39,\"8a\",'Staff Capacity'!$I$10:$I$39))","v":0},{"$f":"IF($D$3<>\"\",SUMIFS('Staff Capacity'!$I$10:$I$39,'Staff Capacity'!$G$10:$G$39,\"8a\",'Staff Capacity'!$H$10:$H$39,$D$3),SUMIF('Staff Capacity'!$G$10:$G$39,\"8a\",'Staff Capacity'!$I$10:$I$39))","v":0},{"$f":"IF($D$3<>\"\",SUMIFS('Staff Capacity'!$I$10:$I$39,'Staff Capacity'!$G$10:$G$39,\"8a\",'Staff Capacity'!$H$10:$H$39,$D$3),SUMIF('Staff Capacity'!$G$10:$G$39,\"8a\",'Staff Capacity'!$I$10:$I$39))","v":0},{"$f":"IF($D$3<>\"\",SUMIFS('Staff Capacity'!$I$10:$I$39,'Staff Capacity'!$G$10:$G$39,\"8a\",'Staff Capacity'!$H$10:$H$39,$D$3),SUMIF('Staff Capacity'!$G$10:$G$39,\"8a\",'Staff Capacity'!$I$10:$I$39))","v":0},{"$f":"IF($D$3<>\"\",SUMIFS('Staff Capacity'!$I$10:$I$39,'Staff Capacity'!$G$10:$G$39,\"8a\",'Staff Capacity'!$H$10:$H$39,$D$3),SUMIF('Staff Capacity'!$G$10:$G$39,\"8a\",'Staff Capacity'!$I$10:$I$39))","v":0},{"$f":"IF($D$3<>\"\",SUMIFS('Staff Capacity'!$I$10:$I$39,'Staff Capacity'!$G$10:$G$39,\"8a\",'Staff Capacity'!$H$10:$H$39,$D$3),SUMIF('Staff Capacity'!$G$10:$G$39,\"8a\",'Staff Capacity'!$I$10:$I$39))","v":0},{"$f":"IF($D$3<>\"\",SUMIFS('Staff Capacity'!$I$10:$I$39,'Staff Capacity'!$G$10:$G$39,\"8a\",'Staff Capacity'!$H$10:$H$39,$D$3),SUMIF('Staff Capacity'!$G$10:$G$39,\"8a\",'Staff Capacity'!$I$10:$I$39))","v":0},{"$f":"IF($D$3<>\"\",SUMIFS('Staff Capacity'!$I$10:$I$39,'Staff Capacity'!$G$10:$G$39,\"8a\",'Staff Capacity'!$H$10:$H$39,$D$3),SUMIF('Staff Capacity'!$G$10:$G$39,\"8a\",'Staff Capacity'!$I$10:$I$39))","v":0},{"$f":"IF($D$3<>\"\",SUMIFS('Staff Capacity'!$I$10:$I$39,'Staff Capacity'!$G$10:$G$39,\"8a\",'Staff Capacity'!$H$10:$H$39,$D$3),SUMIF('Staff Capacity'!$G$10:$G$39,\"8a\",'Staff Capacity'!$I$10:$I$39))","v":0},{"$f":"IF($D$3<>\"\",SUMIFS('Staff Capacity'!$I$10:$I$39,'Staff Capacity'!$G$10:$G$39,\"8a\",'Staff Capacity'!$H$10:$H$39,$D$3),SUMIF('Staff Capacity'!$G$10:$G$39,\"8a\",'Staff Capacity'!$I$10:$I$39))","v":0},{"$f":"IF($D$3<>\"\",SUMIFS('Staff Capacity'!$I$10:$I$39,'Staff Capacity'!$G$10:$G$39,\"8a\",'Staff Capacity'!$H$10:$H$39,$D$3),SUMIF('Staff Capacity'!$G$10:$G$39,\"8a\",'Staff Capacity'!$I$10:$I$39))","v":0},{"$f":"IF($D$3<>\"\",SUMIFS('Staff Capacity'!$I$10:$I$39,'Staff Capacity'!$G$10:$G$39,\"8a\",'Staff Capacity'!$H$10:$H$39,$D$3),SUMIF('Staff Capacity'!$G$10:$G$39,\"8a\",'Staff Capacity'!$I$10:$I$39))","v":0},{"$f":"IF($D$3<>\"\",SUMIFS('Staff Capacity'!$I$10:$I$39,'Staff Capacity'!$G$10:$G$39,\"8a\",'Staff Capacity'!$H$10:$H$39,$D$3),SUMIF('Staff Capacity'!$G$10:$G$39,\"8a\",'Staff Capacity'!$I$10:$I$39))","v":0},{"$f":"IF($D$3<>\"\",SUMIFS('Staff Capacity'!$I$10:$I$39,'Staff Capacity'!$G$10:$G$39,\"8a\",'Staff Capacity'!$H$10:$H$39,$D$3),SUMIF('Staff Capacity'!$G$10:$G$39,\"8a\",'Staff Capacity'!$I$10:$I$39))","v":0},{"$f":"IF($D$3<>\"\",SUMIFS('Staff Capacity'!$I$10:$I$39,'Staff Capacity'!$G$10:$G$39,\"8a\",'Staff Capacity'!$H$10:$H$39,$D$3),SUMIF('Staff Capacity'!$G$10:$G$39,\"8a\",'Staff Capacity'!$I$10:$I$39))","v":0},{"$f":"IF($D$3<>\"\",SUMIFS('Staff Capacity'!$I$10:$I$39,'Staff Capacity'!$G$10:$G$39,\"8a\",'Staff Capacity'!$H$10:$H$39,$D$3),SUMIF('Staff Capacity'!$G$10:$G$39,\"8a\",'Staff Capacity'!$I$10:$I$39))","v":0},{"$f":"IF($D$3<>\"\",SUMIFS('Staff Capacity'!$I$10:$I$39,'Staff Capacity'!$G$10:$G$39,\"8a\",'Staff Capacity'!$H$10:$H$39,$D$3),SUMIF('Staff Capacity'!$G$10:$G$39,\"8a\",'Staff Capacity'!$I$10:$I$39))","v":0},{"$f":"IF($D$3<>\"\",SUMIFS('Staff Capacity'!$I$10:$I$39,'Staff Capacity'!$G$10:$G$39,\"8a\",'Staff Capacity'!$H$10:$H$39,$D$3),SUMIF('Staff Capacity'!$G$10:$G$39,\"8a\",'Staff Capacity'!$I$10:$I$39))","v":0},{"$f":"IF($D$3<>\"\",SUMIFS('Staff Capacity'!$I$10:$I$39,'Staff Capacity'!$G$10:$G$39,\"8a\",'Staff Capacity'!$H$10:$H$39,$D$3),SUMIF('Staff Capacity'!$G$10:$G$39,\"8a\",'Staff Capacity'!$I$10:$I$39))","v":0},{"$f":"IF($D$3<>\"\",SUMIFS('Staff Capacity'!$I$10:$I$39,'Staff Capacity'!$G$10:$G$39,\"8a\",'Staff Capacity'!$H$10:$H$39,$D$3),SUMIF('Staff Capacity'!$G$10:$G$39,\"8a\",'Staff Capacity'!$I$10:$I$39))","v":0},{"$f":"IF($D$3<>\"\",SUMIFS('Staff Capacity'!$I$10:$I$39,'Staff Capacity'!$G$10:$G$39,\"8a\",'Staff Capacity'!$H$10:$H$39,$D$3),SUMIF('Staff Capacity'!$G$10:$G$39,\"8a\",'Staff Capacity'!$I$10:$I$39))","v":0},{"$f":"IF($D$3<>\"\",SUMIFS('Staff Capacity'!$I$10:$I$39,'Staff Capacity'!$G$10:$G$39,\"8a\",'Staff Capacity'!$H$10:$H$39,$D$3),SUMIF('Staff Capacity'!$G$10:$G$39,\"8a\",'Staff Capacity'!$I$10:$I$39))","v":0},{"$f":"IF($D$3<>\"\",SUMIFS('Staff Capacity'!$I$10:$I$39,'Staff Capacity'!$G$10:$G$39,\"8a\",'Staff Capacity'!$H$10:$H$39,$D$3),SUMIF('Staff Capacity'!$G$10:$G$39,\"8a\",'Staff Capacity'!$I$10:$I$39))","v":0},{"$f":"IF($D$3<>\"\",SUMIFS('Staff Capacity'!$I$10:$I$39,'Staff Capacity'!$G$10:$G$39,\"8a\",'Staff Capacity'!$H$10:$H$39,$D$3),SUMIF('Staff Capacity'!$G$10:$G$39,\"8a\",'Staff Capacity'!$I$10:$I$39))","v":0},{"$f":"IF($D$3<>\"\",SUMIFS('Staff Capacity'!$I$10:$I$39,'Staff Capacity'!$G$10:$G$39,\"8a\",'Staff Capacity'!$H$10:$H$39,$D$3),SUMIF('Staff Capacity'!$G$10:$G$39,\"8a\",'Staff Capacity'!$I$10:$I$39))","v":0},{"$f":"IF($D$3<>\"\",SUMIFS('Staff Capacity'!$I$10:$I$39,'Staff Capacity'!$G$10:$G$39,\"8a\",'Staff Capacity'!$H$10:$H$39,$D$3),SUMIF('Staff Capacity'!$G$10:$G$39,\"8a\",'Staff Capacity'!$I$10:$I$39))","v":0},{"$f":"IF($D$3<>\"\",SUMIFS('Staff Capacity'!$I$10:$I$39,'Staff Capacity'!$G$10:$G$39,\"8a\",'Staff Capacity'!$H$10:$H$39,$D$3),SUMIF('Staff Capacity'!$G$10:$G$39,\"8a\",'Staff Capacity'!$I$10:$I$39))","v":0},{"$f":"IF($D$3<>\"\",SUMIFS('Staff Capacity'!$I$10:$I$39,'Staff Capacity'!$G$10:$G$39,\"8a\",'Staff Capacity'!$H$10:$H$39,$D$3),SUMIF('Staff Capacity'!$G$10:$G$39,\"8a\",'Staff Capacity'!$I$10:$I$39))","v":0},{"$f":"IF($D$3<>\"\",SUMIFS('Staff Capacity'!$I$10:$I$39,'Staff Capacity'!$G$10:$G$39,\"8a\",'Staff Capacity'!$H$10:$H$39,$D$3),SUMIF('Staff Capacity'!$G$10:$G$39,\"8a\",'Staff Capacity'!$I$10:$I$39))","v":0},{"$f":"IF($D$3<>\"\",SUMIFS('Staff Capacity'!$I$10:$I$39,'Staff Capacity'!$G$10:$G$39,\"8a\",'Staff Capacity'!$H$10:$H$39,$D$3),SUMIF('Staff Capacity'!$G$10:$G$39,\"8a\",'Staff Capacity'!$I$10:$I$39))","v":0},{"$f":"IF($D$3<>\"\",SUMIFS('Staff Capacity'!$I$10:$I$39,'Staff Capacity'!$G$10:$G$39,\"8a\",'Staff Capacity'!$H$10:$H$39,$D$3),SUMIF('Staff Capacity'!$G$10:$G$39,\"8a\",'Staff Capacity'!$I$10:$I$39))","v":0},{"$f":"IF($D$3<>\"\",SUMIFS('Staff Capacity'!$I$10:$I$39,'Staff Capacity'!$G$10:$G$39,\"8a\",'Staff Capacity'!$H$10:$H$39,$D$3),SUMIF('Staff Capacity'!$G$10:$G$39,\"8a\",'Staff Capacity'!$I$10:$I$39))","v":0},{"$f":"IF($D$3<>\"\",SUMIFS('Staff Capacity'!$I$10:$I$39,'Staff Capacity'!$G$10:$G$39,\"8a\",'Staff Capacity'!$H$10:$H$39,$D$3),SUMIF('Staff Capacity'!$G$10:$G$39,\"8a\",'Staff Capacity'!$I$10:$I$39))","v":0},{"$f":"IF($D$3<>\"\",SUMIFS('Staff Capacity'!$I$10:$I$39,'Staff Capacity'!$G$10:$G$39,\"8a\",'Staff Capacity'!$H$10:$H$39,$D$3),SUMIF('Staff Capacity'!$G$10:$G$39,\"8a\",'Staff Capacity'!$I$10:$I$39))","v":0},{"$f":"IF($D$3<>\"\",SUMIFS('Staff Capacity'!$I$10:$I$39,'Staff Capacity'!$G$10:$G$39,\"8a\",'Staff Capacity'!$H$10:$H$39,$D$3),SUMIF('Staff Capacity'!$G$10:$G$39,\"8a\",'Staff Capacity'!$I$10:$I$39))","v":0},{"$f":"IF($D$3<>\"\",SUMIFS('Staff Capacity'!$I$10:$I$39,'Staff Capacity'!$G$10:$G$39,\"8a\",'Staff Capacity'!$H$10:$H$39,$D$3),SUMIF('Staff Capacity'!$G$10:$G$39,\"8a\",'Staff Capacity'!$I$10:$I$39))","v":0},{"$f":"IF($D$3<>\"\",SUMIFS('Staff Capacity'!$I$10:$I$39,'Staff Capacity'!$G$10:$G$39,\"8a\",'Staff Capacity'!$H$10:$H$39,$D$3),SUMIF('Staff Capacity'!$G$10:$G$39,\"8a\",'Staff Capacity'!$I$10:$I$39))","v":0},{"$f":"IF($D$3<>\"\",SUMIFS('Staff Capacity'!$I$10:$I$39,'Staff Capacity'!$G$10:$G$39,\"8a\",'Staff Capacity'!$H$10:$H$39,$D$3),SUMIF('Staff Capacity'!$G$10:$G$39,\"8a\",'Staff Capacity'!$I$10:$I$39))","v":0},{"$f":"IF($D$3<>\"\",SUMIFS('Staff Capacity'!$I$10:$I$39,'Staff Capacity'!$G$10:$G$39,\"8a\",'Staff Capacity'!$H$10:$H$39,$D$3),SUMIF('Staff Capacity'!$G$10:$G$39,\"8a\",'Staff Capacity'!$I$10:$I$39))","v":0},{"$f":"IF($D$3<>\"\",SUMIFS('Staff Capacity'!$I$10:$I$39,'Staff Capacity'!$G$10:$G$39,\"8a\",'Staff Capacity'!$H$10:$H$39,$D$3),SUMIF('Staff Capacity'!$G$10:$G$39,\"8a\",'Staff Capacity'!$I$10:$I$39))","v":0},{"$f":"IF($D$3<>\"\",SUMIFS('Staff Capacity'!$I$10:$I$39,'Staff Capacity'!$G$10:$G$39,\"8a\",'Staff Capacity'!$H$10:$H$39,$D$3),SUMIF('Staff Capacity'!$G$10:$G$39,\"8a\",'Staff Capacity'!$I$10:$I$39))","v":0},{"$f":"IF($D$3<>\"\",SUMIFS('Staff Capacity'!$I$10:$I$39,'Staff Capacity'!$G$10:$G$39,\"8a\",'Staff Capacity'!$H$10:$H$39,$D$3),SUMIF('Staff Capacity'!$G$10:$G$39,\"8a\",'Staff Capacity'!$I$10:$I$39))","v":0},{"$f":"IF($D$3<>\"\",SUMIFS('Staff Capacity'!$I$10:$I$39,'Staff Capacity'!$G$10:$G$39,\"8a\",'Staff Capacity'!$H$10:$H$39,$D$3),SUMIF('Staff Capacity'!$G$10:$G$39,\"8a\",'Staff Capacity'!$I$10:$I$39))","v":0},{"$f":"IF($D$3<>\"\",SUMIFS('Staff Capacity'!$I$10:$I$39,'Staff Capacity'!$G$10:$G$39,\"8a\",'Staff Capacity'!$H$10:$H$39,$D$3),SUMIF('Staff Capacity'!$G$10:$G$39,\"8a\",'Staff Capacity'!$I$10:$I$39))","v":0},{"$f":"IF($D$3<>\"\",SUMIFS('Staff Capacity'!$I$10:$I$39,'Staff Capacity'!$G$10:$G$39,\"8a\",'Staff Capacity'!$H$10:$H$39,$D$3),SUMIF('Staff Capacity'!$G$10:$G$39,\"8a\",'Staff Capacity'!$I$10:$I$39))","v":0},{"$f":"IF($D$3<>\"\",SUMIFS('Staff Capacity'!$I$10:$I$39,'Staff Capacity'!$G$10:$G$39,\"8a\",'Staff Capacity'!$H$10:$H$39,$D$3),SUMIF('Staff Capacity'!$G$10:$G$39,\"8a\",'Staff Capacity'!$I$10:$I$39))","v":0},{"$f":"IF($D$3<>\"\",SUMIFS('Staff Capacity'!$I$10:$I$39,'Staff Capacity'!$G$10:$G$39,\"8a\",'Staff Capacity'!$H$10:$H$39,$D$3),SUMIF('Staff Capacity'!$G$10:$G$39,\"8a\",'Staff Capacity'!$I$10:$I$39))","v":0},{"$f":"IF($D$3<>\"\",SUMIFS('Staff Capacity'!$I$10:$I$39,'Staff Capacity'!$G$10:$G$39,\"8a\",'Staff Capacity'!$H$10:$H$39,$D$3),SUMIF('Staff Capacity'!$G$10:$G$39,\"8a\",'Staff Capacity'!$I$10:$I$39))","v":0},{"$f":"IF($D$3<>\"\",SUMIFS('Staff Capacity'!$I$10:$I$39,'Staff Capacity'!$G$10:$G$39,\"8a\",'Staff Capacity'!$H$10:$H$39,$D$3),SUMIF('Staff Capacity'!$G$10:$G$39,\"8a\",'Staff Capacity'!$I$10:$I$39))","v":0},{"$f":"IF($D$3<>\"\",SUMIFS('Staff Capacity'!$I$10:$I$39,'Staff Capacity'!$G$10:$G$39,\"8a\",'Staff Capacity'!$H$10:$H$39,$D$3),SUMIF('Staff Capacity'!$G$10:$G$39,\"8a\",'Staff Capacity'!$I$10:$I$39))","v":0},{"$f":"IF($D$3<>\"\",SUMIFS('Staff Capacity'!$I$10:$I$39,'Staff Capacity'!$G$10:$G$39,\"8a\",'Staff Capacity'!$H$10:$H$39,$D$3),SUMIF('Staff Capacity'!$G$10:$G$39,\"8a\",'Staff Capacity'!$I$10:$I$39))","v":0},{"$f":"IF($D$3<>\"\",SUMIFS('Staff Capacity'!$I$10:$I$39,'Staff Capacity'!$G$10:$G$39,\"8a\",'Staff Capacity'!$H$10:$H$39,$D$3),SUMIF('Staff Capacity'!$G$10:$G$39,\"8a\",'Staff Capacity'!$I$10:$I$39))","v":0},{"$f":"IF($D$3<>\"\",SUMIFS('Staff Capacity'!$I$10:$I$39,'Staff Capacity'!$G$10:$G$39,\"8a\",'Staff Capacity'!$H$10:$H$39,$D$3),SUMIF('Staff Capacity'!$G$10:$G$39,\"8a\",'Staff Capacity'!$I$10:$I$39))","v":0},{"$f":"IF($D$3<>\"\",SUMIFS('Staff Capacity'!$I$10:$I$39,'Staff Capacity'!$G$10:$G$39,\"8a\",'Staff Capacity'!$H$10:$H$39,$D$3),SUMIF('Staff Capacity'!$G$10:$G$39,\"8a\",'Staff Capacity'!$I$10:$I$39))","v":0},{"$f":"IF($D$3<>\"\",SUMIFS('Staff Capacity'!$I$10:$I$39,'Staff Capacity'!$G$10:$G$39,\"8a\",'Staff Capacity'!$H$10:$H$39,$D$3),SUMIF('Staff Capacity'!$G$10:$G$39,\"8a\",'Staff Capacity'!$I$10:$I$39))","v":0},{"$f":"IF($D$3<>\"\",SUMIFS('Staff Capacity'!$I$10:$I$39,'Staff Capacity'!$G$10:$G$39,\"8a\",'Staff Capacity'!$H$10:$H$39,$D$3),SUMIF('Staff Capacity'!$G$10:$G$39,\"8a\",'Staff Capacity'!$I$10:$I$39))","v":0},{"$f":"IF($D$3<>\"\",SUMIFS('Staff Capacity'!$I$10:$I$39,'Staff Capacity'!$G$10:$G$39,\"8a\",'Staff Capacity'!$H$10:$H$39,$D$3),SUMIF('Staff Capacity'!$G$10:$G$39,\"8a\",'Staff Capacity'!$I$10:$I$39))","v":0},{"$f":"IF($D$3<>\"\",SUMIFS('Staff Capacity'!$I$10:$I$39,'Staff Capacity'!$G$10:$G$39,\"8a\",'Staff Capacity'!$H$10:$H$39,$D$3),SUMIF('Staff Capacity'!$G$10:$G$39,\"8a\",'Staff Capacity'!$I$10:$I$39))","v":0},{"$f":"IF($D$3<>\"\",SUMIFS('Staff Capacity'!$I$10:$I$39,'Staff Capacity'!$G$10:$G$39,\"8a\",'Staff Capacity'!$H$10:$H$39,$D$3),SUMIF('Staff Capacity'!$G$10:$G$39,\"8a\",'Staff Capacity'!$I$10:$I$39))","v":0},{"$f":"IF($D$3<>\"\",SUMIFS('Staff Capacity'!$I$10:$I$39,'Staff Capacity'!$G$10:$G$39,\"8a\",'Staff Capacity'!$H$10:$H$39,$D$3),SUMIF('Staff Capacity'!$G$10:$G$39,\"8a\",'Staff Capacity'!$I$10:$I$39))","v":0},{"$f":"IF($D$3<>\"\",SUMIFS('Staff Capacity'!$I$10:$I$39,'Staff Capacity'!$G$10:$G$39,\"8a\",'Staff Capacity'!$H$10:$H$39,$D$3),SUMIF('Staff Capacity'!$G$10:$G$39,\"8a\",'Staff Capacity'!$I$10:$I$39))","v":0},{"$f":"IF($D$3<>\"\",SUMIFS('Staff Capacity'!$I$10:$I$39,'Staff Capacity'!$G$10:$G$39,\"8a\",'Staff Capacity'!$H$10:$H$39,$D$3),SUMIF('Staff Capacity'!$G$10:$G$39,\"8a\",'Staff Capacity'!$I$10:$I$39))","v":0},{"$f":"IF($D$3<>\"\",SUMIFS('Staff Capacity'!$I$10:$I$39,'Staff Capacity'!$G$10:$G$39,\"8a\",'Staff Capacity'!$H$10:$H$39,$D$3),SUMIF('Staff Capacity'!$G$10:$G$39,\"8a\",'Staff Capacity'!$I$10:$I$39))","v":0},{"$f":"IF($D$3<>\"\",SUMIFS('Staff Capacity'!$I$10:$I$39,'Staff Capacity'!$G$10:$G$39,\"8a\",'Staff Capacity'!$H$10:$H$39,$D$3),SUMIF('Staff Capacity'!$G$10:$G$39,\"8a\",'Staff Capacity'!$I$10:$I$39))","v":0},{"$f":"IF($D$3<>\"\",SUMIFS('Staff Capacity'!$I$10:$I$39,'Staff Capacity'!$G$10:$G$39,\"8a\",'Staff Capacity'!$H$10:$H$39,$D$3),SUMIF('Staff Capacity'!$G$10:$G$39,\"8a\",'Staff Capacity'!$I$10:$I$39))","v":0},{"$f":"IF($D$3<>\"\",SUMIFS('Staff Capacity'!$I$10:$I$39,'Staff Capacity'!$G$10:$G$39,\"8a\",'Staff Capacity'!$H$10:$H$39,$D$3),SUMIF('Staff Capacity'!$G$10:$G$39,\"8a\",'Staff Capacity'!$I$10:$I$39))","v":0},{"$f":"IF($D$3<>\"\",SUMIFS('Staff Capacity'!$I$10:$I$39,'Staff Capacity'!$G$10:$G$39,\"8a\",'Staff Capacity'!$H$10:$H$39,$D$3),SUMIF('Staff Capacity'!$G$10:$G$39,\"8a\",'Staff Capacity'!$I$10:$I$39))","v":0},{"$f":"IF($D$3<>\"\",SUMIFS('Staff Capacity'!$I$10:$I$39,'Staff Capacity'!$G$10:$G$39,\"8a\",'Staff Capacity'!$H$10:$H$39,$D$3),SUMIF('Staff Capacity'!$G$10:$G$39,\"8a\",'Staff Capacity'!$I$10:$I$39))","v":0},{"$f":"IF($D$3<>\"\",SUMIFS('Staff Capacity'!$I$10:$I$39,'Staff Capacity'!$G$10:$G$39,\"8a\",'Staff Capacity'!$H$10:$H$39,$D$3),SUMIF('Staff Capacity'!$G$10:$G$39,\"8a\",'Staff Capacity'!$I$10:$I$39))","v":0},{"$f":"IF($D$3<>\"\",SUMIFS('Staff Capacity'!$I$10:$I$39,'Staff Capacity'!$G$10:$G$39,\"8a\",'Staff Capacity'!$H$10:$H$39,$D$3),SUMIF('Staff Capacity'!$G$10:$G$39,\"8a\",'Staff Capacity'!$I$10:$I$39))","v":0},{"$f":"IF($D$3<>\"\",SUMIFS('Staff Capacity'!$I$10:$I$39,'Staff Capacity'!$G$10:$G$39,\"8a\",'Staff Capacity'!$H$10:$H$39,$D$3),SUMIF('Staff Capacity'!$G$10:$G$39,\"8a\",'Staff Capacity'!$I$10:$I$39))","v":0},{"$f":"IF($D$3<>\"\",SUMIFS('Staff Capacity'!$I$10:$I$39,'Staff Capacity'!$G$10:$G$39,\"8a\",'Staff Capacity'!$H$10:$H$39,$D$3),SUMIF('Staff Capacity'!$G$10:$G$39,\"8a\",'Staff Capacity'!$I$10:$I$39))","v":0},{"$f":"IF($D$3<>\"\",SUMIFS('Staff Capacity'!$I$10:$I$39,'Staff Capacity'!$G$10:$G$39,\"8a\",'Staff Capacity'!$H$10:$H$39,$D$3),SUMIF('Staff Capacity'!$G$10:$G$39,\"8a\",'Staff Capacity'!$I$10:$I$39))","v":0},{"$f":"IF($D$3<>\"\",SUMIFS('Staff Capacity'!$I$10:$I$39,'Staff Capacity'!$G$10:$G$39,\"8a\",'Staff Capacity'!$H$10:$H$39,$D$3),SUMIF('Staff Capacity'!$G$10:$G$39,\"8a\",'Staff Capacity'!$I$10:$I$39))","v":0},{"$f":"IF($D$3<>\"\",SUMIFS('Staff Capacity'!$I$10:$I$39,'Staff Capacity'!$G$10:$G$39,\"8a\",'Staff Capacity'!$H$10:$H$39,$D$3),SUMIF('Staff Capacity'!$G$10:$G$39,\"8a\",'Staff Capacity'!$I$10:$I$39))","v":0},{"$f":"IF($D$3<>\"\",SUMIFS('Staff Capacity'!$I$10:$I$39,'Staff Capacity'!$G$10:$G$39,\"8a\",'Staff Capacity'!$H$10:$H$39,$D$3),SUMIF('Staff Capacity'!$G$10:$G$39,\"8a\",'Staff Capacity'!$I$10:$I$39))","v":0},{"$f":"IF($D$3<>\"\",SUMIFS('Staff Capacity'!$I$10:$I$39,'Staff Capacity'!$G$10:$G$39,\"8a\",'Staff Capacity'!$H$10:$H$39,$D$3),SUMIF('Staff Capacity'!$G$10:$G$39,\"8a\",'Staff Capacity'!$I$10:$I$39))","v":0},{"$f":"IF($D$3<>\"\",SUMIFS('Staff Capacity'!$I$10:$I$39,'Staff Capacity'!$G$10:$G$39,\"8a\",'Staff Capacity'!$H$10:$H$39,$D$3),SUMIF('Staff Capacity'!$G$10:$G$39,\"8a\",'Staff Capacity'!$I$10:$I$39))","v":0},{"$f":"IF($D$3<>\"\",SUMIFS('Staff Capacity'!$I$10:$I$39,'Staff Capacity'!$G$10:$G$39,\"8a\",'Staff Capacity'!$H$10:$H$39,$D$3),SUMIF('Staff Capacity'!$G$10:$G$39,\"8a\",'Staff Capacity'!$I$10:$I$39))","v":0},{"$f":"IF($D$3<>\"\",SUMIFS('Staff Capacity'!$I$10:$I$39,'Staff Capacity'!$G$10:$G$39,\"8a\",'Staff Capacity'!$H$10:$H$39,$D$3),SUMIF('Staff Capacity'!$G$10:$G$39,\"8a\",'Staff Capacity'!$I$10:$I$39))","v":0},{"$f":"IF($D$3<>\"\",SUMIFS('Staff Capacity'!$I$10:$I$39,'Staff Capacity'!$G$10:$G$39,\"8a\",'Staff Capacity'!$H$10:$H$39,$D$3),SUMIF('Staff Capacity'!$G$10:$G$39,\"8a\",'Staff Capacity'!$I$10:$I$39))","v":0},{"$f":"IF($D$3<>\"\",SUMIFS('Staff Capacity'!$I$10:$I$39,'Staff Capacity'!$G$10:$G$39,\"8a\",'Staff Capacity'!$H$10:$H$39,$D$3),SUMIF('Staff Capacity'!$G$10:$G$39,\"8a\",'Staff Capacity'!$I$10:$I$39))","v":0},{"$f":"IF($D$3<>\"\",SUMIFS('Staff Capacity'!$I$10:$I$39,'Staff Capacity'!$G$10:$G$39,\"8a\",'Staff Capacity'!$H$10:$H$39,$D$3),SUMIF('Staff Capacity'!$G$10:$G$39,\"8a\",'Staff Capacity'!$I$10:$I$39))","v":0},{"$f":"IF($D$3<>\"\",SUMIFS('Staff Capacity'!$I$10:$I$39,'Staff Capacity'!$G$10:$G$39,\"8a\",'Staff Capacity'!$H$10:$H$39,$D$3),SUMIF('Staff Capacity'!$G$10:$G$39,\"8a\",'Staff Capacity'!$I$10:$I$39))","v":0},{"$f":"IF($D$3<>\"\",SUMIFS('Staff Capacity'!$I$10:$I$39,'Staff Capacity'!$G$10:$G$39,\"8a\",'Staff Capacity'!$H$10:$H$39,$D$3),SUMIF('Staff Capacity'!$G$10:$G$39,\"8a\",'Staff Capacity'!$I$10:$I$39))","v":0},{"$f":"IF($D$3<>\"\",SUMIFS('Staff Capacity'!$I$10:$I$39,'Staff Capacity'!$G$10:$G$39,\"8a\",'Staff Capacity'!$H$10:$H$39,$D$3),SUMIF('Staff Capacity'!$G$10:$G$39,\"8a\",'Staff Capacity'!$I$10:$I$39))","v":0},{"$f":"IF($D$3<>\"\",SUMIFS('Staff Capacity'!$I$10:$I$39,'Staff Capacity'!$G$10:$G$39,\"8a\",'Staff Capacity'!$H$10:$H$39,$D$3),SUMIF('Staff Capacity'!$G$10:$G$39,\"8a\",'Staff Capacity'!$I$10:$I$39))","v":0},{"$f":"IF($D$3<>\"\",SUMIFS('Staff Capacity'!$I$10:$I$39,'Staff Capacity'!$G$10:$G$39,\"8a\",'Staff Capacity'!$H$10:$H$39,$D$3),SUMIF('Staff Capacity'!$G$10:$G$39,\"8a\",'Staff Capacity'!$I$10:$I$39))","v":0},{"$f":"IF($D$3<>\"\",SUMIFS('Staff Capacity'!$I$10:$I$39,'Staff Capacity'!$G$10:$G$39,\"8a\",'Staff Capacity'!$H$10:$H$39,$D$3),SUMIF('Staff Capacity'!$G$10:$G$39,\"8a\",'Staff Capacity'!$I$10:$I$39))","v":0},{"$f":"IF($D$3<>\"\",SUMIFS('Staff Capacity'!$I$10:$I$39,'Staff Capacity'!$G$10:$G$39,\"8a\",'Staff Capacity'!$H$10:$H$39,$D$3),SUMIF('Staff Capacity'!$G$10:$G$39,\"8a\",'Staff Capacity'!$I$10:$I$39))","v":0},{"$f":"IF($D$3<>\"\",SUMIFS('Staff Capacity'!$I$10:$I$39,'Staff Capacity'!$G$10:$G$39,\"8a\",'Staff Capacity'!$H$10:$H$39,$D$3),SUMIF('Staff Capacity'!$G$10:$G$39,\"8a\",'Staff Capacity'!$I$10:$I$39))","v":0},{"$f":"IF($D$3<>\"\",SUMIFS('Staff Capacity'!$I$10:$I$39,'Staff Capacity'!$G$10:$G$39,\"8a\",'Staff Capacity'!$H$10:$H$39,$D$3),SUMIF('Staff Capacity'!$G$10:$G$39,\"8a\",'Staff Capacity'!$I$10:$I$39))","v":0},{"$f":"IF($D$3<>\"\",SUMIFS('Staff Capacity'!$I$10:$I$39,'Staff Capacity'!$G$10:$G$39,\"8a\",'Staff Capacity'!$H$10:$H$39,$D$3),SUMIF('Staff Capacity'!$G$10:$G$39,\"8a\",'Staff Capacity'!$I$10:$I$39))","v":0},{"$f":"IF($D$3<>\"\",SUMIFS('Staff Capacity'!$I$10:$I$39,'Staff Capacity'!$G$10:$G$39,\"8a\",'Staff Capacity'!$H$10:$H$39,$D$3),SUMIF('Staff Capacity'!$G$10:$G$39,\"8a\",'Staff Capacity'!$I$10:$I$39))","v":0},{"$f":"IF($D$3<>\"\",SUMIFS('Staff Capacity'!$I$10:$I$39,'Staff Capacity'!$G$10:$G$39,\"8a\",'Staff Capacity'!$H$10:$H$39,$D$3),SUMIF('Staff Capacity'!$G$10:$G$39,\"8a\",'Staff Capacity'!$I$10:$I$39))","v":0},{"$f":"IF($D$3<>\"\",SUMIFS('Staff Capacity'!$I$10:$I$39,'Staff Capacity'!$G$10:$G$39,\"8a\",'Staff Capacity'!$H$10:$H$39,$D$3),SUMIF('Staff Capacity'!$G$10:$G$39,\"8a\",'Staff Capacity'!$I$10:$I$39))","v":0},{"$f":"IF($D$3<>\"\",SUMIFS('Staff Capacity'!$I$10:$I$39,'Staff Capacity'!$G$10:$G$39,\"8a\",'Staff Capacity'!$H$10:$H$39,$D$3),SUMIF('Staff Capacity'!$G$10:$G$39,\"8a\",'Staff Capacity'!$I$10:$I$39))","v":0},{"$f":"IF($D$3<>\"\",SUMIFS('Staff Capacity'!$I$10:$I$39,'Staff Capacity'!$G$10:$G$39,\"8a\",'Staff Capacity'!$H$10:$H$39,$D$3),SUMIF('Staff Capacity'!$G$10:$G$39,\"8a\",'Staff Capacity'!$I$10:$I$39))","v":0},{"$f":"IF($D$3<>\"\",SUMIFS('Staff Capacity'!$I$10:$I$39,'Staff Capacity'!$G$10:$G$39,\"8a\",'Staff Capacity'!$H$10:$H$39,$D$3),SUMIF('Staff Capacity'!$G$10:$G$39,\"8a\",'Staff Capacity'!$I$10:$I$39))","v":0},{"$f":"IF($D$3<>\"\",SUMIFS('Staff Capacity'!$I$10:$I$39,'Staff Capacity'!$G$10:$G$39,\"8a\",'Staff Capacity'!$H$10:$H$39,$D$3),SUMIF('Staff Capacity'!$G$10:$G$39,\"8a\",'Staff Capacity'!$I$10:$I$39))","v":0},{"$f":"IF($D$3<>\"\",SUMIFS('Staff Capacity'!$I$10:$I$39,'Staff Capacity'!$G$10:$G$39,\"8a\",'Staff Capacity'!$H$10:$H$39,$D$3),SUMIF('Staff Capacity'!$G$10:$G$39,\"8a\",'Staff Capacity'!$I$10:$I$39))","v":0},{"$f":"IF($D$3<>\"\",SUMIFS('Staff Capacity'!$I$10:$I$39,'Staff Capacity'!$G$10:$G$39,\"8a\",'Staff Capacity'!$H$10:$H$39,$D$3),SUMIF('Staff Capacity'!$G$10:$G$39,\"8a\",'Staff Capacity'!$I$10:$I$39))","v":0},{"$f":"IF($D$3<>\"\",SUMIFS('Staff Capacity'!$I$10:$I$39,'Staff Capacity'!$G$10:$G$39,\"8a\",'Staff Capacity'!$H$10:$H$39,$D$3),SUMIF('Staff Capacity'!$G$10:$G$39,\"8a\",'Staff Capacity'!$I$10:$I$39))","v":0},{"$f":"IF($D$3<>\"\",SUMIFS('Staff Capacity'!$I$10:$I$39,'Staff Capacity'!$G$10:$G$39,\"8a\",'Staff Capacity'!$H$10:$H$39,$D$3),SUMIF('Staff Capacity'!$G$10:$G$39,\"8a\",'Staff Capacity'!$I$10:$I$39))","v":0},{"$f":"IF($D$3<>\"\",SUMIFS('Staff Capacity'!$I$10:$I$39,'Staff Capacity'!$G$10:$G$39,\"8a\",'Staff Capacity'!$H$10:$H$39,$D$3),SUMIF('Staff Capacity'!$G$10:$G$39,\"8a\",'Staff Capacity'!$I$10:$I$39))","v":0},{"$f":"IF($D$3<>\"\",SUMIFS('Staff Capacity'!$I$10:$I$39,'Staff Capacity'!$G$10:$G$39,\"8a\",'Staff Capacity'!$H$10:$H$39,$D$3),SUMIF('Staff Capacity'!$G$10:$G$39,\"8a\",'Staff Capacity'!$I$10:$I$39))","v":0},{"$f":"IF($D$3<>\"\",SUMIFS('Staff Capacity'!$I$10:$I$39,'Staff Capacity'!$G$10:$G$39,\"8a\",'Staff Capacity'!$H$10:$H$39,$D$3),SUMIF('Staff Capacity'!$G$10:$G$39,\"8a\",'Staff Capacity'!$I$10:$I$39))","v":0},{"$f":"IF($D$3<>\"\",SUMIFS('Staff Capacity'!$I$10:$I$39,'Staff Capacity'!$G$10:$G$39,\"8a\",'Staff Capacity'!$H$10:$H$39,$D$3),SUMIF('Staff Capacity'!$G$10:$G$39,\"8a\",'Staff Capacity'!$I$10:$I$39))","v":0},{"$f":"IF($D$3<>\"\",SUMIFS('Staff Capacity'!$I$10:$I$39,'Staff Capacity'!$G$10:$G$39,\"8a\",'Staff Capacity'!$H$10:$H$39,$D$3),SUMIF('Staff Capacity'!$G$10:$G$39,\"8a\",'Staff Capacity'!$I$10:$I$39))","v":0},{"$f":"IF($D$3<>\"\",SUMIFS('Staff Capacity'!$I$10:$I$39,'Staff Capacity'!$G$10:$G$39,\"8a\",'Staff Capacity'!$H$10:$H$39,$D$3),SUMIF('Staff Capacity'!$G$10:$G$39,\"8a\",'Staff Capacity'!$I$10:$I$39))","v":0},{"$f":"IF($D$3<>\"\",SUMIFS('Staff Capacity'!$I$10:$I$39,'Staff Capacity'!$G$10:$G$39,\"8a\",'Staff Capacity'!$H$10:$H$39,$D$3),SUMIF('Staff Capacity'!$G$10:$G$39,\"8a\",'Staff Capacity'!$I$10:$I$39))","v":0},{"$f":"IF($D$3<>\"\",SUMIFS('Staff Capacity'!$I$10:$I$39,'Staff Capacity'!$G$10:$G$39,\"8a\",'Staff Capacity'!$H$10:$H$39,$D$3),SUMIF('Staff Capacity'!$G$10:$G$39,\"8a\",'Staff Capacity'!$I$10:$I$39))","v":0},{"$f":"IF($D$3<>\"\",SUMIFS('Staff Capacity'!$I$10:$I$39,'Staff Capacity'!$G$10:$G$39,\"8a\",'Staff Capacity'!$H$10:$H$39,$D$3),SUMIF('Staff Capacity'!$G$10:$G$39,\"8a\",'Staff Capacity'!$I$10:$I$39))","v":0},{"$f":"IF($D$3<>\"\",SUMIFS('Staff Capacity'!$I$10:$I$39,'Staff Capacity'!$G$10:$G$39,\"8a\",'Staff Capacity'!$H$10:$H$39,$D$3),SUMIF('Staff Capacity'!$G$10:$G$39,\"8a\",'Staff Capacity'!$I$10:$I$39))","v":0},{"$f":"IF($D$3<>\"\",SUMIFS('Staff Capacity'!$I$10:$I$39,'Staff Capacity'!$G$10:$G$39,\"8a\",'Staff Capacity'!$H$10:$H$39,$D$3),SUMIF('Staff Capacity'!$G$10:$G$39,\"8a\",'Staff Capacity'!$I$10:$I$39))","v":0},{"$f":"IF($D$3<>\"\",SUMIFS('Staff Capacity'!$I$10:$I$39,'Staff Capacity'!$G$10:$G$39,\"8a\",'Staff Capacity'!$H$10:$H$39,$D$3),SUMIF('Staff Capacity'!$G$10:$G$39,\"8a\",'Staff Capacity'!$I$10:$I$39))","v":0},{"$f":"IF($D$3<>\"\",SUMIFS('Staff Capacity'!$I$10:$I$39,'Staff Capacity'!$G$10:$G$39,\"8a\",'Staff Capacity'!$H$10:$H$39,$D$3),SUMIF('Staff Capacity'!$G$10:$G$39,\"8a\",'Staff Capacity'!$I$10:$I$39))","v":0},{"$f":"IF($D$3<>\"\",SUMIFS('Staff Capacity'!$I$10:$I$39,'Staff Capacity'!$G$10:$G$39,\"8a\",'Staff Capacity'!$H$10:$H$39,$D$3),SUMIF('Staff Capacity'!$G$10:$G$39,\"8a\",'Staff Capacity'!$I$10:$I$39))","v":0},{"$f":"IF($D$3<>\"\",SUMIFS('Staff Capacity'!$I$10:$I$39,'Staff Capacity'!$G$10:$G$39,\"8a\",'Staff Capacity'!$H$10:$H$39,$D$3),SUMIF('Staff Capacity'!$G$10:$G$39,\"8a\",'Staff Capacity'!$I$10:$I$39))","v":0},{"$f":"IF($D$3<>\"\",SUMIFS('Staff Capacity'!$I$10:$I$39,'Staff Capacity'!$G$10:$G$39,\"8a\",'Staff Capacity'!$H$10:$H$39,$D$3),SUMIF('Staff Capacity'!$G$10:$G$39,\"8a\",'Staff Capacity'!$I$10:$I$39))","v":0},{"$f":"IF($D$3<>\"\",SUMIFS('Staff Capacity'!$I$10:$I$39,'Staff Capacity'!$G$10:$G$39,\"8a\",'Staff Capacity'!$H$10:$H$39,$D$3),SUMIF('Staff Capacity'!$G$10:$G$39,\"8a\",'Staff Capacity'!$I$10:$I$39))","v":0},{"$f":"IF($D$3<>\"\",SUMIFS('Staff Capacity'!$I$10:$I$39,'Staff Capacity'!$G$10:$G$39,\"8a\",'Staff Capacity'!$H$10:$H$39,$D$3),SUMIF('Staff Capacity'!$G$10:$G$39,\"8a\",'Staff Capacity'!$I$10:$I$39))","v":0},{"$f":"IF($D$3<>\"\",SUMIFS('Staff Capacity'!$I$10:$I$39,'Staff Capacity'!$G$10:$G$39,\"8a\",'Staff Capacity'!$H$10:$H$39,$D$3),SUMIF('Staff Capacity'!$G$10:$G$39,\"8a\",'Staff Capacity'!$I$10:$I$39))","v":0},{"$f":"IF($D$3<>\"\",SUMIFS('Staff Capacity'!$I$10:$I$39,'Staff Capacity'!$G$10:$G$39,\"8a\",'Staff Capacity'!$H$10:$H$39,$D$3),SUMIF('Staff Capacity'!$G$10:$G$39,\"8a\",'Staff Capacity'!$I$10:$I$39))","v":0},{"$f":"IF($D$3<>\"\",SUMIFS('Staff Capacity'!$I$10:$I$39,'Staff Capacity'!$G$10:$G$39,\"8a\",'Staff Capacity'!$H$10:$H$39,$D$3),SUMIF('Staff Capacity'!$G$10:$G$39,\"8a\",'Staff Capacity'!$I$10:$I$39))","v":0},{"$f":"IF($D$3<>\"\",SUMIFS('Staff Capacity'!$I$10:$I$39,'Staff Capacity'!$G$10:$G$39,\"8a\",'Staff Capacity'!$H$10:$H$39,$D$3),SUMIF('Staff Capacity'!$G$10:$G$39,\"8a\",'Staff Capacity'!$I$10:$I$39))","v":0},{"$f":"IF($D$3<>\"\",SUMIFS('Staff Capacity'!$I$10:$I$39,'Staff Capacity'!$G$10:$G$39,\"8a\",'Staff Capacity'!$H$10:$H$39,$D$3),SUMIF('Staff Capacity'!$G$10:$G$39,\"8a\",'Staff Capacity'!$I$10:$I$39))","v":0},{"$f":"IF($D$3<>\"\",SUMIFS('Staff Capacity'!$I$10:$I$39,'Staff Capacity'!$G$10:$G$39,\"8a\",'Staff Capacity'!$H$10:$H$39,$D$3),SUMIF('Staff Capacity'!$G$10:$G$39,\"8a\",'Staff Capacity'!$I$10:$I$39))","v":0},{"$f":"IF($D$3<>\"\",SUMIFS('Staff Capacity'!$I$10:$I$39,'Staff Capacity'!$G$10:$G$39,\"8a\",'Staff Capacity'!$H$10:$H$39,$D$3),SUMIF('Staff Capacity'!$G$10:$G$39,\"8a\",'Staff Capacity'!$I$10:$I$39))","v":0},{"$f":"IF($D$3<>\"\",SUMIFS('Staff Capacity'!$I$10:$I$39,'Staff Capacity'!$G$10:$G$39,\"8a\",'Staff Capacity'!$H$10:$H$39,$D$3),SUMIF('Staff Capacity'!$G$10:$G$39,\"8a\",'Staff Capacity'!$I$10:$I$39))","v":0},{"$f":"IF($D$3<>\"\",SUMIFS('Staff Capacity'!$I$10:$I$39,'Staff Capacity'!$G$10:$G$39,\"8a\",'Staff Capacity'!$H$10:$H$39,$D$3),SUMIF('Staff Capacity'!$G$10:$G$39,\"8a\",'Staff Capacity'!$I$10:$I$39))","v":0},{"$f":"IF($D$3<>\"\",SUMIFS('Staff Capacity'!$I$10:$I$39,'Staff Capacity'!$G$10:$G$39,\"8a\",'Staff Capacity'!$H$10:$H$39,$D$3),SUMIF('Staff Capacity'!$G$10:$G$39,\"8a\",'Staff Capacity'!$I$10:$I$39))","v":0},{"$f":"IF($D$3<>\"\",SUMIFS('Staff Capacity'!$I$10:$I$39,'Staff Capacity'!$G$10:$G$39,\"8a\",'Staff Capacity'!$H$10:$H$39,$D$3),SUMIF('Staff Capacity'!$G$10:$G$39,\"8a\",'Staff Capacity'!$I$10:$I$39))","v":0},{"$f":"IF($D$3<>\"\",SUMIFS('Staff Capacity'!$I$10:$I$39,'Staff Capacity'!$G$10:$G$39,\"8a\",'Staff Capacity'!$H$10:$H$39,$D$3),SUMIF('Staff Capacity'!$G$10:$G$39,\"8a\",'Staff Capacity'!$I$10:$I$39))","v":0},{"$f":"IF($D$3<>\"\",SUMIFS('Staff Capacity'!$I$10:$I$39,'Staff Capacity'!$G$10:$G$39,\"8a\",'Staff Capacity'!$H$10:$H$39,$D$3),SUMIF('Staff Capacity'!$G$10:$G$39,\"8a\",'Staff Capacity'!$I$10:$I$39))","v":0},{"$f":"IF($D$3<>\"\",SUMIFS('Staff Capacity'!$I$10:$I$39,'Staff Capacity'!$G$10:$G$39,\"8a\",'Staff Capacity'!$H$10:$H$39,$D$3),SUMIF('Staff Capacity'!$G$10:$G$39,\"8a\",'Staff Capacity'!$I$10:$I$39))","v":0},{"$f":"IF($D$3<>\"\",SUMIFS('Staff Capacity'!$I$10:$I$39,'Staff Capacity'!$G$10:$G$39,\"8a\",'Staff Capacity'!$H$10:$H$39,$D$3),SUMIF('Staff Capacity'!$G$10:$G$39,\"8a\",'Staff Capacity'!$I$10:$I$39))","v":0},{"$f":"IF($D$3<>\"\",SUMIFS('Staff Capacity'!$I$10:$I$39,'Staff Capacity'!$G$10:$G$39,\"8a\",'Staff Capacity'!$H$10:$H$39,$D$3),SUMIF('Staff Capacity'!$G$10:$G$39,\"8a\",'Staff Capacity'!$I$10:$I$39))","v":0},{"$f":"IF($D$3<>\"\",SUMIFS('Staff Capacity'!$I$10:$I$39,'Staff Capacity'!$G$10:$G$39,\"8a\",'Staff Capacity'!$H$10:$H$39,$D$3),SUMIF('Staff Capacity'!$G$10:$G$39,\"8a\",'Staff Capacity'!$I$10:$I$39))","v":0},{"$f":"IF($D$3<>\"\",SUMIFS('Staff Capacity'!$I$10:$I$39,'Staff Capacity'!$G$10:$G$39,\"8a\",'Staff Capacity'!$H$10:$H$39,$D$3),SUMIF('Staff Capacity'!$G$10:$G$39,\"8a\",'Staff Capacity'!$I$10:$I$39))","v":0},{"$f":"IF($D$3<>\"\",SUMIFS('Staff Capacity'!$I$10:$I$39,'Staff Capacity'!$G$10:$G$39,\"8a\",'Staff Capacity'!$H$10:$H$39,$D$3),SUMIF('Staff Capacity'!$G$10:$G$39,\"8a\",'Staff Capacity'!$I$10:$I$39))","v":0},{"$f":"IF($D$3<>\"\",SUMIFS('Staff Capacity'!$I$10:$I$39,'Staff Capacity'!$G$10:$G$39,\"8a\",'Staff Capacity'!$H$10:$H$39,$D$3),SUMIF('Staff Capacity'!$G$10:$G$39,\"8a\",'Staff Capacity'!$I$10:$I$39))","v":0},{"$f":"IF($D$3<>\"\",SUMIFS('Staff Capacity'!$I$10:$I$39,'Staff Capacity'!$G$10:$G$39,\"8a\",'Staff Capacity'!$H$10:$H$39,$D$3),SUMIF('Staff Capacity'!$G$10:$G$39,\"8a\",'Staff Capacity'!$I$10:$I$39))","v":0},{"$f":"IF($D$3<>\"\",SUMIFS('Staff Capacity'!$I$10:$I$39,'Staff Capacity'!$G$10:$G$39,\"8a\",'Staff Capacity'!$H$10:$H$39,$D$3),SUMIF('Staff Capacity'!$G$10:$G$39,\"8a\",'Staff Capacity'!$I$10:$I$39))","v":0},{"$f":"IF($D$3<>\"\",SUMIFS('Staff Capacity'!$I$10:$I$39,'Staff Capacity'!$G$10:$G$39,\"8a\",'Staff Capacity'!$H$10:$H$39,$D$3),SUMIF('Staff Capacity'!$G$10:$G$39,\"8a\",'Staff Capacity'!$I$10:$I$39))","v":0},{"$f":"IF($D$3<>\"\",SUMIFS('Staff Capacity'!$I$10:$I$39,'Staff Capacity'!$G$10:$G$39,\"8a\",'Staff Capacity'!$H$10:$H$39,$D$3),SUMIF('Staff Capacity'!$G$10:$G$39,\"8a\",'Staff Capacity'!$I$10:$I$39))","v":0},{"$f":"IF($D$3<>\"\",SUMIFS('Staff Capacity'!$I$10:$I$39,'Staff Capacity'!$G$10:$G$39,\"8a\",'Staff Capacity'!$H$10:$H$39,$D$3),SUMIF('Staff Capacity'!$G$10:$G$39,\"8a\",'Staff Capacity'!$I$10:$I$39))","v":0},{"$f":"IF($D$3<>\"\",SUMIFS('Staff Capacity'!$I$10:$I$39,'Staff Capacity'!$G$10:$G$39,\"8a\",'Staff Capacity'!$H$10:$H$39,$D$3),SUMIF('Staff Capacity'!$G$10:$G$39,\"8a\",'Staff Capacity'!$I$10:$I$39))","v":0},{"$f":"IF($D$3<>\"\",SUMIFS('Staff Capacity'!$I$10:$I$39,'Staff Capacity'!$G$10:$G$39,\"8a\",'Staff Capacity'!$H$10:$H$39,$D$3),SUMIF('Staff Capacity'!$G$10:$G$39,\"8a\",'Staff Capacity'!$I$10:$I$39))","v":0},{"$f":"IF($D$3<>\"\",SUMIFS('Staff Capacity'!$I$10:$I$39,'Staff Capacity'!$G$10:$G$39,\"8a\",'Staff Capacity'!$H$10:$H$39,$D$3),SUMIF('Staff Capacity'!$G$10:$G$39,\"8a\",'Staff Capacity'!$I$10:$I$39))","v":0},{"$f":"IF($D$3<>\"\",SUMIFS('Staff Capacity'!$I$10:$I$39,'Staff Capacity'!$G$10:$G$39,\"8a\",'Staff Capacity'!$H$10:$H$39,$D$3),SUMIF('Staff Capacity'!$G$10:$G$39,\"8a\",'Staff Capacity'!$I$10:$I$39))","v":0},{"$f":"IF($D$3<>\"\",SUMIFS('Staff Capacity'!$I$10:$I$39,'Staff Capacity'!$G$10:$G$39,\"8a\",'Staff Capacity'!$H$10:$H$39,$D$3),SUMIF('Staff Capacity'!$G$10:$G$39,\"8a\",'Staff Capacity'!$I$10:$I$39))","v":0},{"$f":"IF($D$3<>\"\",SUMIFS('Staff Capacity'!$I$10:$I$39,'Staff Capacity'!$G$10:$G$39,\"8a\",'Staff Capacity'!$H$10:$H$39,$D$3),SUMIF('Staff Capacity'!$G$10:$G$39,\"8a\",'Staff Capacity'!$I$10:$I$39))","v":0},{"$f":"IF($D$3<>\"\",SUMIFS('Staff Capacity'!$I$10:$I$39,'Staff Capacity'!$G$10:$G$39,\"8a\",'Staff Capacity'!$H$10:$H$39,$D$3),SUMIF('Staff Capacity'!$G$10:$G$39,\"8a\",'Staff Capacity'!$I$10:$I$39))","v":0},{"$f":"IF($D$3<>\"\",SUMIFS('Staff Capacity'!$I$10:$I$39,'Staff Capacity'!$G$10:$G$39,\"8a\",'Staff Capacity'!$H$10:$H$39,$D$3),SUMIF('Staff Capacity'!$G$10:$G$39,\"8a\",'Staff Capacity'!$I$10:$I$39))","v":0},{"$f":"IF($D$3<>\"\",SUMIFS('Staff Capacity'!$I$10:$I$39,'Staff Capacity'!$G$10:$G$39,\"8a\",'Staff Capacity'!$H$10:$H$39,$D$3),SUMIF('Staff Capacity'!$G$10:$G$39,\"8a\",'Staff Capacity'!$I$10:$I$39))","v":0},{"$f":"IF($D$3<>\"\",SUMIFS('Staff Capacity'!$I$10:$I$39,'Staff Capacity'!$G$10:$G$39,\"8a\",'Staff Capacity'!$H$10:$H$39,$D$3),SUMIF('Staff Capacity'!$G$10:$G$39,\"8a\",'Staff Capacity'!$I$10:$I$39))","v":0},{"$f":"IF($D$3<>\"\",SUMIFS('Staff Capacity'!$I$10:$I$39,'Staff Capacity'!$G$10:$G$39,\"8a\",'Staff Capacity'!$H$10:$H$39,$D$3),SUMIF('Staff Capacity'!$G$10:$G$39,\"8a\",'Staff Capacity'!$I$10:$I$39))","v":0},{"$f":"IF($D$3<>\"\",SUMIFS('Staff Capacity'!$I$10:$I$39,'Staff Capacity'!$G$10:$G$39,\"8a\",'Staff Capacity'!$H$10:$H$39,$D$3),SUMIF('Staff Capacity'!$G$10:$G$39,\"8a\",'Staff Capacity'!$I$10:$I$39))","v":0},{"$f":"IF($D$3<>\"\",SUMIFS('Staff Capacity'!$I$10:$I$39,'Staff Capacity'!$G$10:$G$39,\"8a\",'Staff Capacity'!$H$10:$H$39,$D$3),SUMIF('Staff Capacity'!$G$10:$G$39,\"8a\",'Staff Capacity'!$I$10:$I$39))","v":0},{"$f":"IF($D$3<>\"\",SUMIFS('Staff Capacity'!$I$10:$I$39,'Staff Capacity'!$G$10:$G$39,\"8a\",'Staff Capacity'!$H$10:$H$39,$D$3),SUMIF('Staff Capacity'!$G$10:$G$39,\"8a\",'Staff Capacity'!$I$10:$I$39))","v":0},{"$f":"IF($D$3<>\"\",SUMIFS('Staff Capacity'!$I$10:$I$39,'Staff Capacity'!$G$10:$G$39,\"8a\",'Staff Capacity'!$H$10:$H$39,$D$3),SUMIF('Staff Capacity'!$G$10:$G$39,\"8a\",'Staff Capacity'!$I$10:$I$39))","v":0},{"$f":"IF($D$3<>\"\",SUMIFS('Staff Capacity'!$I$10:$I$39,'Staff Capacity'!$G$10:$G$39,\"8a\",'Staff Capacity'!$H$10:$H$39,$D$3),SUMIF('Staff Capacity'!$G$10:$G$39,\"8a\",'Staff Capacity'!$I$10:$I$39))","v":0},{"$f":"IF($D$3<>\"\",SUMIFS('Staff Capacity'!$I$10:$I$39,'Staff Capacity'!$G$10:$G$39,\"8a\",'Staff Capacity'!$H$10:$H$39,$D$3),SUMIF('Staff Capacity'!$G$10:$G$39,\"8a\",'Staff Capacity'!$I$10:$I$39))","v":0},{"$f":"IF($D$3<>\"\",SUMIFS('Staff Capacity'!$I$10:$I$39,'Staff Capacity'!$G$10:$G$39,\"8a\",'Staff Capacity'!$H$10:$H$39,$D$3),SUMIF('Staff Capacity'!$G$10:$G$39,\"8a\",'Staff Capacity'!$I$10:$I$39))","v":0},{"$f":"IF($D$3<>\"\",SUMIFS('Staff Capacity'!$I$10:$I$39,'Staff Capacity'!$G$10:$G$39,\"8a\",'Staff Capacity'!$H$10:$H$39,$D$3),SUMIF('Staff Capacity'!$G$10:$G$39,\"8a\",'Staff Capacity'!$I$10:$I$39))","v":0},{"$f":"IF($D$3<>\"\",SUMIFS('Staff Capacity'!$I$10:$I$39,'Staff Capacity'!$G$10:$G$39,\"8a\",'Staff Capacity'!$H$10:$H$39,$D$3),SUMIF('Staff Capacity'!$G$10:$G$39,\"8a\",'Staff Capacity'!$I$10:$I$39))","v":0},{"$f":"IF($D$3<>\"\",SUMIFS('Staff Capacity'!$I$10:$I$39,'Staff Capacity'!$G$10:$G$39,\"8a\",'Staff Capacity'!$H$10:$H$39,$D$3),SUMIF('Staff Capacity'!$G$10:$G$39,\"8a\",'Staff Capacity'!$I$10:$I$39))","v":0},{"$f":"IF($D$3<>\"\",SUMIFS('Staff Capacity'!$I$10:$I$39,'Staff Capacity'!$G$10:$G$39,\"8a\",'Staff Capacity'!$H$10:$H$39,$D$3),SUMIF('Staff Capacity'!$G$10:$G$39,\"8a\",'Staff Capacity'!$I$10:$I$39))","v":0},{"$f":"IF($D$3<>\"\",SUMIFS('Staff Capacity'!$I$10:$I$39,'Staff Capacity'!$G$10:$G$39,\"8a\",'Staff Capacity'!$H$10:$H$39,$D$3),SUMIF('Staff Capacity'!$G$10:$G$39,\"8a\",'Staff Capacity'!$I$10:$I$39))","v":0},{"$f":"IF($D$3<>\"\",SUMIFS('Staff Capacity'!$I$10:$I$39,'Staff Capacity'!$G$10:$G$39,\"8a\",'Staff Capacity'!$H$10:$H$39,$D$3),SUMIF('Staff Capacity'!$G$10:$G$39,\"8a\",'Staff Capacity'!$I$10:$I$39))","v":0},{"$f":"IF($D$3<>\"\",SUMIFS('Staff Capacity'!$I$10:$I$39,'Staff Capacity'!$G$10:$G$39,\"8a\",'Staff Capacity'!$H$10:$H$39,$D$3),SUMIF('Staff Capacity'!$G$10:$G$39,\"8a\",'Staff Capacity'!$I$10:$I$39))","v":0},{"$f":"IF($D$3<>\"\",SUMIFS('Staff Capacity'!$I$10:$I$39,'Staff Capacity'!$G$10:$G$39,\"8a\",'Staff Capacity'!$H$10:$H$39,$D$3),SUMIF('Staff Capacity'!$G$10:$G$39,\"8a\",'Staff Capacity'!$I$10:$I$39))","v":0},{"$f":"IF($D$3<>\"\",SUMIFS('Staff Capacity'!$I$10:$I$39,'Staff Capacity'!$G$10:$G$39,\"8a\",'Staff Capacity'!$H$10:$H$39,$D$3),SUMIF('Staff Capacity'!$G$10:$G$39,\"8a\",'Staff Capacity'!$I$10:$I$39))","v":0},{"$f":"IF($D$3<>\"\",SUMIFS('Staff Capacity'!$I$10:$I$39,'Staff Capacity'!$G$10:$G$39,\"8a\",'Staff Capacity'!$H$10:$H$39,$D$3),SUMIF('Staff Capacity'!$G$10:$G$39,\"8a\",'Staff Capacity'!$I$10:$I$39))","v":0},{"$f":"IF($D$3<>\"\",SUMIFS('Staff Capacity'!$I$10:$I$39,'Staff Capacity'!$G$10:$G$39,\"8a\",'Staff Capacity'!$H$10:$H$39,$D$3),SUMIF('Staff Capacity'!$G$10:$G$39,\"8a\",'Staff Capacity'!$I$10:$I$39))","v":0},{"$f":"IF($D$3<>\"\",SUMIFS('Staff Capacity'!$I$10:$I$39,'Staff Capacity'!$G$10:$G$39,\"8a\",'Staff Capacity'!$H$10:$H$39,$D$3),SUMIF('Staff Capacity'!$G$10:$G$39,\"8a\",'Staff Capacity'!$I$10:$I$39))","v":0},{"$f":"IF($D$3<>\"\",SUMIFS('Staff Capacity'!$I$10:$I$39,'Staff Capacity'!$G$10:$G$39,\"8a\",'Staff Capacity'!$H$10:$H$39,$D$3),SUMIF('Staff Capacity'!$G$10:$G$39,\"8a\",'Staff Capacity'!$I$10:$I$39))","v":0},{"$f":"IF($D$3<>\"\",SUMIFS('Staff Capacity'!$I$10:$I$39,'Staff Capacity'!$G$10:$G$39,\"8a\",'Staff Capacity'!$H$10:$H$39,$D$3),SUMIF('Staff Capacity'!$G$10:$G$39,\"8a\",'Staff Capacity'!$I$10:$I$39))","v":0},{"$f":"IF($D$3<>\"\",SUMIFS('Staff Capacity'!$I$10:$I$39,'Staff Capacity'!$G$10:$G$39,\"8a\",'Staff Capacity'!$H$10:$H$39,$D$3),SUMIF('Staff Capacity'!$G$10:$G$39,\"8a\",'Staff Capacity'!$I$10:$I$39))","v":0},{"$f":"IF($D$3<>\"\",SUMIFS('Staff Capacity'!$I$10:$I$39,'Staff Capacity'!$G$10:$G$39,\"8a\",'Staff Capacity'!$H$10:$H$39,$D$3),SUMIF('Staff Capacity'!$G$10:$G$39,\"8a\",'Staff Capacity'!$I$10:$I$39))","v":0},{"$f":"IF($D$3<>\"\",SUMIFS('Staff Capacity'!$I$10:$I$39,'Staff Capacity'!$G$10:$G$39,\"8a\",'Staff Capacity'!$H$10:$H$39,$D$3),SUMIF('Staff Capacity'!$G$10:$G$39,\"8a\",'Staff Capacity'!$I$10:$I$39))","v":0},{"$f":"IF($D$3<>\"\",SUMIFS('Staff Capacity'!$I$10:$I$39,'Staff Capacity'!$G$10:$G$39,\"8a\",'Staff Capacity'!$H$10:$H$39,$D$3),SUMIF('Staff Capacity'!$G$10:$G$39,\"8a\",'Staff Capacity'!$I$10:$I$39))","v":0},{"$f":"IF($D$3<>\"\",SUMIFS('Staff Capacity'!$I$10:$I$39,'Staff Capacity'!$G$10:$G$39,\"8a\",'Staff Capacity'!$H$10:$H$39,$D$3),SUMIF('Staff Capacity'!$G$10:$G$39,\"8a\",'Staff Capacity'!$I$10:$I$39))","v":0},{"$f":"IF($D$3<>\"\",SUMIFS('Staff Capacity'!$I$10:$I$39,'Staff Capacity'!$G$10:$G$39,\"8a\",'Staff Capacity'!$H$10:$H$39,$D$3),SUMIF('Staff Capacity'!$G$10:$G$39,\"8a\",'Staff Capacity'!$I$10:$I$39))","v":0},{"$f":"IF($D$3<>\"\",SUMIFS('Staff Capacity'!$I$10:$I$39,'Staff Capacity'!$G$10:$G$39,\"8a\",'Staff Capacity'!$H$10:$H$39,$D$3),SUMIF('Staff Capacity'!$G$10:$G$39,\"8a\",'Staff Capacity'!$I$10:$I$39))","v":0},{"$f":"IF($D$3<>\"\",SUMIFS('Staff Capacity'!$I$10:$I$39,'Staff Capacity'!$G$10:$G$39,\"8a\",'Staff Capacity'!$H$10:$H$39,$D$3),SUMIF('Staff Capacity'!$G$10:$G$39,\"8a\",'Staff Capacity'!$I$10:$I$39))","v":0},{"$f":"IF($D$3<>\"\",SUMIFS('Staff Capacity'!$I$10:$I$39,'Staff Capacity'!$G$10:$G$39,\"8a\",'Staff Capacity'!$H$10:$H$39,$D$3),SUMIF('Staff Capacity'!$G$10:$G$39,\"8a\",'Staff Capacity'!$I$10:$I$39))","v":0},{"$f":"IF($D$3<>\"\",SUMIFS('Staff Capacity'!$I$10:$I$39,'Staff Capacity'!$G$10:$G$39,\"8a\",'Staff Capacity'!$H$10:$H$39,$D$3),SUMIF('Staff Capacity'!$G$10:$G$39,\"8a\",'Staff Capacity'!$I$10:$I$39))","v":0},{"$f":"IF($D$3<>\"\",SUMIFS('Staff Capacity'!$I$10:$I$39,'Staff Capacity'!$G$10:$G$39,\"8a\",'Staff Capacity'!$H$10:$H$39,$D$3),SUMIF('Staff Capacity'!$G$10:$G$39,\"8a\",'Staff Capacity'!$I$10:$I$39))","v":0},{"$f":"IF($D$3<>\"\",SUMIFS('Staff Capacity'!$I$10:$I$39,'Staff Capacity'!$G$10:$G$39,\"8a\",'Staff Capacity'!$H$10:$H$39,$D$3),SUMIF('Staff Capacity'!$G$10:$G$39,\"8a\",'Staff Capacity'!$I$10:$I$39))","v":0},{"$f":"IF($D$3<>\"\",SUMIFS('Staff Capacity'!$I$10:$I$39,'Staff Capacity'!$G$10:$G$39,\"8a\",'Staff Capacity'!$H$10:$H$39,$D$3),SUMIF('Staff Capacity'!$G$10:$G$39,\"8a\",'Staff Capacity'!$I$10:$I$39))","v":0},{"$f":"IF($D$3<>\"\",SUMIFS('Staff Capacity'!$I$10:$I$39,'Staff Capacity'!$G$10:$G$39,\"8a\",'Staff Capacity'!$H$10:$H$39,$D$3),SUMIF('Staff Capacity'!$G$10:$G$39,\"8a\",'Staff Capacity'!$I$10:$I$39))","v":0},{"$f":"IF($D$3<>\"\",SUMIFS('Staff Capacity'!$I$10:$I$39,'Staff Capacity'!$G$10:$G$39,\"8a\",'Staff Capacity'!$H$10:$H$39,$D$3),SUMIF('Staff Capacity'!$G$10:$G$39,\"8a\",'Staff Capacity'!$I$10:$I$39))","v":0},{"$f":"IF($D$3<>\"\",SUMIFS('Staff Capacity'!$I$10:$I$39,'Staff Capacity'!$G$10:$G$39,\"8a\",'Staff Capacity'!$H$10:$H$39,$D$3),SUMIF('Staff Capacity'!$G$10:$G$39,\"8a\",'Staff Capacity'!$I$10:$I$39))","v":0},{"$f":"IF($D$3<>\"\",SUMIFS('Staff Capacity'!$I$10:$I$39,'Staff Capacity'!$G$10:$G$39,\"8a\",'Staff Capacity'!$H$10:$H$39,$D$3),SUMIF('Staff Capacity'!$G$10:$G$39,\"8a\",'Staff Capacity'!$I$10:$I$39))","v":0},{"$f":"IF($D$3<>\"\",SUMIFS('Staff Capacity'!$I$10:$I$39,'Staff Capacity'!$G$10:$G$39,\"8a\",'Staff Capacity'!$H$10:$H$39,$D$3),SUMIF('Staff Capacity'!$G$10:$G$39,\"8a\",'Staff Capacity'!$I$10:$I$39))","v":0},{"$f":"IF($D$3<>\"\",SUMIFS('Staff Capacity'!$I$10:$I$39,'Staff Capacity'!$G$10:$G$39,\"8a\",'Staff Capacity'!$H$10:$H$39,$D$3),SUMIF('Staff Capacity'!$G$10:$G$39,\"8a\",'Staff Capacity'!$I$10:$I$39))","v":0},{"$f":"IF($D$3<>\"\",SUMIFS('Staff Capacity'!$I$10:$I$39,'Staff Capacity'!$G$10:$G$39,\"8a\",'Staff Capacity'!$H$10:$H$39,$D$3),SUMIF('Staff Capacity'!$G$10:$G$39,\"8a\",'Staff Capacity'!$I$10:$I$39))","v":0},{"$f":"IF($D$3<>\"\",SUMIFS('Staff Capacity'!$I$10:$I$39,'Staff Capacity'!$G$10:$G$39,\"8a\",'Staff Capacity'!$H$10:$H$39,$D$3),SUMIF('Staff Capacity'!$G$10:$G$39,\"8a\",'Staff Capacity'!$I$10:$I$39))","v":0},{"$f":"IF($D$3<>\"\",SUMIFS('Staff Capacity'!$I$10:$I$39,'Staff Capacity'!$G$10:$G$39,\"8a\",'Staff Capacity'!$H$10:$H$39,$D$3),SUMIF('Staff Capacity'!$G$10:$G$39,\"8a\",'Staff Capacity'!$I$10:$I$39))","v":0},{"$f":"IF($D$3<>\"\",SUMIFS('Staff Capacity'!$I$10:$I$39,'Staff Capacity'!$G$10:$G$39,\"8a\",'Staff Capacity'!$H$10:$H$39,$D$3),SUMIF('Staff Capacity'!$G$10:$G$39,\"8a\",'Staff Capacity'!$I$10:$I$39))","v":0},{"$f":"IF($D$3<>\"\",SUMIFS('Staff Capacity'!$I$10:$I$39,'Staff Capacity'!$G$10:$G$39,\"8a\",'Staff Capacity'!$H$10:$H$39,$D$3),SUMIF('Staff Capacity'!$G$10:$G$39,\"8a\",'Staff Capacity'!$I$10:$I$39))","v":0},{"$f":"IF($D$3<>\"\",SUMIFS('Staff Capacity'!$I$10:$I$39,'Staff Capacity'!$G$10:$G$39,\"8a\",'Staff Capacity'!$H$10:$H$39,$D$3),SUMIF('Staff Capacity'!$G$10:$G$39,\"8a\",'Staff Capacity'!$I$10:$I$39))","v":0},{"$f":"IF($D$3<>\"\",SUMIFS('Staff Capacity'!$I$10:$I$39,'Staff Capacity'!$G$10:$G$39,\"8a\",'Staff Capacity'!$H$10:$H$39,$D$3),SUMIF('Staff Capacity'!$G$10:$G$39,\"8a\",'Staff Capacity'!$I$10:$I$39))","v":0},{"$f":"IF($D$3<>\"\",SUMIFS('Staff Capacity'!$I$10:$I$39,'Staff Capacity'!$G$10:$G$39,\"8a\",'Staff Capacity'!$H$10:$H$39,$D$3),SUMIF('Staff Capacity'!$G$10:$G$39,\"8a\",'Staff Capacity'!$I$10:$I$39))","v":0},{"$f":"IF($D$3<>\"\",SUMIFS('Staff Capacity'!$I$10:$I$39,'Staff Capacity'!$G$10:$G$39,\"8a\",'Staff Capacity'!$H$10:$H$39,$D$3),SUMIF('Staff Capacity'!$G$10:$G$39,\"8a\",'Staff Capacity'!$I$10:$I$39))","v":0},{"$f":"IF($D$3<>\"\",SUMIFS('Staff Capacity'!$I$10:$I$39,'Staff Capacity'!$G$10:$G$39,\"8a\",'Staff Capacity'!$H$10:$H$39,$D$3),SUMIF('Staff Capacity'!$G$10:$G$39,\"8a\",'Staff Capacity'!$I$10:$I$39))","v":0},{"$f":"IF($D$3<>\"\",SUMIFS('Staff Capacity'!$I$10:$I$39,'Staff Capacity'!$G$10:$G$39,\"8a\",'Staff Capacity'!$H$10:$H$39,$D$3),SUMIF('Staff Capacity'!$G$10:$G$39,\"8a\",'Staff Capacity'!$I$10:$I$39))","v":0},{"$f":"IF($D$3<>\"\",SUMIFS('Staff Capacity'!$I$10:$I$39,'Staff Capacity'!$G$10:$G$39,\"8a\",'Staff Capacity'!$H$10:$H$39,$D$3),SUMIF('Staff Capacity'!$G$10:$G$39,\"8a\",'Staff Capacity'!$I$10:$I$39))","v":0},{"$f":"IF($D$3<>\"\",SUMIFS('Staff Capacity'!$I$10:$I$39,'Staff Capacity'!$G$10:$G$39,\"8a\",'Staff Capacity'!$H$10:$H$39,$D$3),SUMIF('Staff Capacity'!$G$10:$G$39,\"8a\",'Staff Capacity'!$I$10:$I$39))","v":0},{"$f":"IF($D$3<>\"\",SUMIFS('Staff Capacity'!$I$10:$I$39,'Staff Capacity'!$G$10:$G$39,\"8a\",'Staff Capacity'!$H$10:$H$39,$D$3),SUMIF('Staff Capacity'!$G$10:$G$39,\"8a\",'Staff Capacity'!$I$10:$I$39))","v":0},{"$f":"IF($D$3<>\"\",SUMIFS('Staff Capacity'!$I$10:$I$39,'Staff Capacity'!$G$10:$G$39,\"8a\",'Staff Capacity'!$H$10:$H$39,$D$3),SUMIF('Staff Capacity'!$G$10:$G$39,\"8a\",'Staff Capacity'!$I$10:$I$39))","v":0},{"$f":"IF($D$3<>\"\",SUMIFS('Staff Capacity'!$I$10:$I$39,'Staff Capacity'!$G$10:$G$39,\"8a\",'Staff Capacity'!$H$10:$H$39,$D$3),SUMIF('Staff Capacity'!$G$10:$G$39,\"8a\",'Staff Capacity'!$I$10:$I$39))","v":0},{"$f":"IF($D$3<>\"\",SUMIFS('Staff Capacity'!$I$10:$I$39,'Staff Capacity'!$G$10:$G$39,\"8a\",'Staff Capacity'!$H$10:$H$39,$D$3),SUMIF('Staff Capacity'!$G$10:$G$39,\"8a\",'Staff Capacity'!$I$10:$I$39))","v":0},{"$f":"IF($D$3<>\"\",SUMIFS('Staff Capacity'!$I$10:$I$39,'Staff Capacity'!$G$10:$G$39,\"8a\",'Staff Capacity'!$H$10:$H$39,$D$3),SUMIF('Staff Capacity'!$G$10:$G$39,\"8a\",'Staff Capacity'!$I$10:$I$39))","v":0},{"$f":"IF($D$3<>\"\",SUMIFS('Staff Capacity'!$I$10:$I$39,'Staff Capacity'!$G$10:$G$39,\"8a\",'Staff Capacity'!$H$10:$H$39,$D$3),SUMIF('Staff Capacity'!$G$10:$G$39,\"8a\",'Staff Capacity'!$I$10:$I$39))","v":0},{"$f":"IF($D$3<>\"\",SUMIFS('Staff Capacity'!$I$10:$I$39,'Staff Capacity'!$G$10:$G$39,\"8a\",'Staff Capacity'!$H$10:$H$39,$D$3),SUMIF('Staff Capacity'!$G$10:$G$39,\"8a\",'Staff Capacity'!$I$10:$I$39))","v":0},{"$f":"IF($D$3<>\"\",SUMIFS('Staff Capacity'!$I$10:$I$39,'Staff Capacity'!$G$10:$G$39,\"8a\",'Staff Capacity'!$H$10:$H$39,$D$3),SUMIF('Staff Capacity'!$G$10:$G$39,\"8a\",'Staff Capacity'!$I$10:$I$39))","v":0},{"$f":"IF($D$3<>\"\",SUMIFS('Staff Capacity'!$I$10:$I$39,'Staff Capacity'!$G$10:$G$39,\"8a\",'Staff Capacity'!$H$10:$H$39,$D$3),SUMIF('Staff Capacity'!$G$10:$G$39,\"8a\",'Staff Capacity'!$I$10:$I$39))","v":0},{"$f":"IF($D$3<>\"\",SUMIFS('Staff Capacity'!$I$10:$I$39,'Staff Capacity'!$G$10:$G$39,\"8a\",'Staff Capacity'!$H$10:$H$39,$D$3),SUMIF('Staff Capacity'!$G$10:$G$39,\"8a\",'Staff Capacity'!$I$10:$I$39))","v":0}]
[null,null,null,null,"8b",{"$f":"IF($D$3<>\"\",SUMIFS('Staff Capacity'!$I$10:$I$39,'Staff Capacity'!$G$10:$G$39,\"8b\",'Staff Capacity'!$H$10:$H$39,$D$3),SUMIF('Staff Capacity'!$G$10:$G$39,\"8b\",'Staff Capacity'!$I$10:$I$39))","v":0},{"$f":"IF($D$3<>\"\",SUMIFS('Staff Capacity'!$I$10:$I$39,'Staff Capacity'!$G$10:$G$39,\"8b\",'Staff Capacity'!$H$10:$H$39,$D$3),SUMIF('Staff Capacity'!$G$10:$G$39,\"8b\",'Staff Capacity'!$I$10:$I$39))","v":0},{"$f":"IF($D$3<>\"\",SUMIFS('Staff Capacity'!$I$10:$I$39,'Staff Capacity'!$G$10:$G$39,\"8b\",'Staff Capacity'!$H$10:$H$39,$D$3),SUMIF('Staff Capacity'!$G$10:$G$39,\"8b\",'Staff Capacity'!$I$10:$I$39))","v":0},{"$f":"IF($D$3<>\"\",SUMIFS('Staff Capacity'!$I$10:$I$39,'Staff Capacity'!$G$10:$G$39,\"8b\",'Staff Capacity'!$H$10:$H$39,$D$3),SUMIF('Staff Capacity'!$G$10:$G$39,\"8b\",'Staff Capacity'!$I$10:$I$39))","v":0},{"$f":"IF($D$3<>\"\",SUMIFS('Staff Capacity'!$I$10:$I$39,'Staff Capacity'!$G$10:$G$39,\"8b\",'Staff Capacity'!$H$10:$H$39,$D$3),SUMIF('Staff Capacity'!$G$10:$G$39,\"8b\",'Staff Capacity'!$I$10:$I$39))","v":0},{"$f":"IF($D$3<>\"\",SUMIFS('Staff Capacity'!$I$10:$I$39,'Staff Capacity'!$G$10:$G$39,\"8b\",'Staff Capacity'!$H$10:$H$39,$D$3),SUMIF('Staff Capacity'!$G$10:$G$39,\"8b\",'Staff Capacity'!$I$10:$I$39))","v":0},{"$f":"IF($D$3<>\"\",SUMIFS('Staff Capacity'!$I$10:$I$39,'Staff Capacity'!$G$10:$G$39,\"8b\",'Staff Capacity'!$H$10:$H$39,$D$3),SUMIF('Staff Capacity'!$G$10:$G$39,\"8b\",'Staff Capacity'!$I$10:$I$39))","v":0},{"$f":"IF($D$3<>\"\",SUMIFS('Staff Capacity'!$I$10:$I$39,'Staff Capacity'!$G$10:$G$39,\"8b\",'Staff Capacity'!$H$10:$H$39,$D$3),SUMIF('Staff Capacity'!$G$10:$G$39,\"8b\",'Staff Capacity'!$I$10:$I$39))","v":0},{"$f":"IF($D$3<>\"\",SUMIFS('Staff Capacity'!$I$10:$I$39,'Staff Capacity'!$G$10:$G$39,\"8b\",'Staff Capacity'!$H$10:$H$39,$D$3),SUMIF('Staff Capacity'!$G$10:$G$39,\"8b\",'Staff Capacity'!$I$10:$I$39))","v":0},{"$f":"IF($D$3<>\"\",SUMIFS('Staff Capacity'!$I$10:$I$39,'Staff Capacity'!$G$10:$G$39,\"8b\",'Staff Capacity'!$H$10:$H$39,$D$3),SUMIF('Staff Capacity'!$G$10:$G$39,\"8b\",'Staff Capacity'!$I$10:$I$39))","v":0},{"$f":"IF($D$3<>\"\",SUMIFS('Staff Capacity'!$I$10:$I$39,'Staff Capacity'!$G$10:$G$39,\"8b\",'Staff Capacity'!$H$10:$H$39,$D$3),SUMIF('Staff Capacity'!$G$10:$G$39,\"8b\",'Staff Capacity'!$I$10:$I$39))","v":0},{"$f":"IF($D$3<>\"\",SUMIFS('Staff Capacity'!$I$10:$I$39,'Staff Capacity'!$G$10:$G$39,\"8b\",'Staff Capacity'!$H$10:$H$39,$D$3),SUMIF('Staff Capacity'!$G$10:$G$39,\"8b\",'Staff Capacity'!$I$10:$I$39))","v":0},{"$f":"IF($D$3<>\"\",SUMIFS('Staff Capacity'!$I$10:$I$39,'Staff Capacity'!$G$10:$G$39,\"8b\",'Staff Capacity'!$H$10:$H$39,$D$3),SUMIF('Staff Capacity'!$G$10:$G$39,\"8b\",'Staff Capacity'!$I$10:$I$39))","v":0},{"$f":"IF($D$3<>\"\",SUMIFS('Staff Capacity'!$I$10:$I$39,'Staff Capacity'!$G$10:$G$39,\"8b\",'Staff Capacity'!$H$10:$H$39,$D$3),SUMIF('Staff Capacity'!$G$10:$G$39,\"8b\",'Staff Capacity'!$I$10:$I$39))","v":0},{"$f":"IF($D$3<>\"\",SUMIFS('Staff Capacity'!$I$10:$I$39,'Staff Capacity'!$G$10:$G$39,\"8b\",'Staff Capacity'!$H$10:$H$39,$D$3),SUMIF('Staff Capacity'!$G$10:$G$39,\"8b\",'Staff Capacity'!$I$10:$I$39))","v":0},{"$f":"IF($D$3<>\"\",SUMIFS('Staff Capacity'!$I$10:$I$39,'Staff Capacity'!$G$10:$G$39,\"8b\",'Staff Capacity'!$H$10:$H$39,$D$3),SUMIF('Staff Capacity'!$G$10:$G$39,\"8b\",'Staff Capacity'!$I$10:$I$39))","v":0},{"$f":"IF($D$3<>\"\",SUMIFS('Staff Capacity'!$I$10:$I$39,'Staff Capacity'!$G$10:$G$39,\"8b\",'Staff Capacity'!$H$10:$H$39,$D$3),SUMIF('Staff Capacity'!$G$10:$G$39,\"8b\",'Staff Capacity'!$I$10:$I$39))","v":0},{"$f":"IF($D$3<>\"\",SUMIFS('Staff Capacity'!$I$10:$I$39,'Staff Capacity'!$G$10:$G$39,\"8b\",'Staff Capacity'!$H$10:$H$39,$D$3),SUMIF('Staff Capacity'!$G$10:$G$39,\"8b\",'Staff Capacity'!$I$10:$I$39))","v":0},{"$f":"IF($D$3<>\"\",SUMIFS('Staff Capacity'!$I$10:$I$39,'Staff Capacity'!$G$10:$G$39,\"8b\",'Staff Capacity'!$H$10:$H$39,$D$3),SUMIF('Staff Capacity'!$G$10:$G$39,\"8b\",'Staff Capacity'!$I$10:$I$39))","v":0},{"$f":"IF($D$3<>\"\",SUMIFS('Staff Capacity'!$I$10:$I$39,'Staff Capacity'!$G$10:$G$39,\"8b\",'Staff Capacity'!$H$10:$H$39,$D$3),SUMIF('Staff Capacity'!$G$10:$G$39,\"8b\",'Staff Capacity'!$I$10:$I$39))","v":0},{"$f":"IF($D$3<>\"\",SUMIFS('Staff Capacity'!$I$10:$I$39,'Staff Capacity'!$G$10:$G$39,\"8b\",'Staff Capacity'!$H$10:$H$39,$D$3),SUMIF('Staff Capacity'!$G$10:$G$39,\"8b\",'Staff Capacity'!$I$10:$I$39))","v":0},{"$f":"IF($D$3<>\"\",SUMIFS('Staff Capacity'!$I$10:$I$39,'Staff Capacity'!$G$10:$G$39,\"8b\",'Staff Capacity'!$H$10:$H$39,$D$3),SUMIF('Staff Capacity'!$G$10:$G$39,\"8b\",'Staff Capacity'!$I$10:$I$39))","v":0},{"$f":"IF($D$3<>\"\",SUMIFS('Staff Capacity'!$I$10:$I$39,'Staff Capacity'!$G$10:$G$39,\"8b\",'Staff Capacity'!$H$10:$H$39,$D$3),SUMIF('Staff Capacity'!$G$10:$G$39,\"8b\",'Staff Capacity'!$I$10:$I$39))","v":0},{"$f":"IF($D$3<>\"\",SUMIFS('Staff Capacity'!$I$10:$I$39,'Staff Capacity'!$G$10:$G$39,\"8b\",'Staff Capacity'!$H$10:$H$39,$D$3),SUMIF('Staff Capacity'!$G$10:$G$39,\"8b\",'Staff Capacity'!$I$10:$I$39))","v":0},{"$f":"IF($D$3<>\"\",SUMIFS('Staff Capacity'!$I$10:$I$39,'Staff Capacity'!$G$10:$G$39,\"8b\",'Staff Capacity'!$H$10:$H$39,$D$3),SUMIF('Staff Capacity'!$G$10:$G$39,\"8b\",'Staff Capacity'!$I$10:$I$39))","v":0},{"$f":"IF($D$3<>\"\",SUMIFS('Staff Capacity'!$I$10:$I$39,'Staff Capacity'!$G$10:$G$39,\"8b\",'Staff Capacity'!$H$10:$H$39,$D$3),SUMIF('Staff Capacity'!$G$10:$G$39,\"8b\",'Staff Capacity'!$I$10:$I$39))","v":0},{"$f":"IF($D$3<>\"\",SUMIFS('Staff Capacity'!$I$10:$I$39,'Staff Capacity'!$G$10:$G$39,\"8b\",'Staff Capacity'!$H$10:$H$39,$D$3),SUMIF('Staff Capacity'!$G$10:$G$39,\"8b\",'Staff Capacity'!$I$10:$I$39))","v":0},{"$f":"IF($D$3<>\"\",SUMIFS('Staff Capacity'!$I$10:$I$39,'Staff Capacity'!$G$10:$G$39,\"8b\",'Staff Capacity'!$H$10:$H$39,$D$3),SUMIF('Staff Capacity'!$G$10:$G$39,\"8b\",'Staff Capacity'!$I$10:$I$39))","v":0},{"$f":"IF($D$3<>\"\",SUMIFS('Staff Capacity'!$I$10:$I$39,'Staff Capacity'!$G$10:$G$39,\"8b\",'Staff Capacity'!$H$10:$H$39,$D$3),SUMIF('Staff Capacity'!$G$10:$G$39,\"8b\",'Staff Capacity'!$I$10:$I$39))","v":0},{"$f":"IF($D$3<>\"\",SUMIFS('Staff Capacity'!$I$10:$I$39,'Staff Capacity'!$G$10:$G$39,\"8b\",'Staff Capacity'!$H$10:$H$39,$D$3),SUMIF('Staff Capacity'!$G$10:$G$39,\"8b\",'Staff Capacity'!$I$10:$I$39))","v":0},{"$f":"IF($D$3<>\"\",SUMIFS('Staff Capacity'!$I$10:$I$39,'Staff Capacity'!$G$10:$G$39,\"8b\",'Staff Capacity'!$H$10:$H$39,$D$3),SUMIF('Staff Capacity'!$G$10:$G$39,\"8b\",'Staff Capacity'!$I$10:$I$39))","v":0},{"$f":"IF($D$3<>\"\",SUMIFS('Staff Capacity'!$I$10:$I$39,'Staff Capacity'!$G$10:$G$39,\"8b\",'Staff Capacity'!$H$10:$H$39,$D$3),SUMIF('Staff Capacity'!$G$10:$G$39,\"8b\",'Staff Capacity'!$I$10:$I$39))","v":0},{"$f":"IF($D$3<>\"\",SUMIFS('Staff Capacity'!$I$10:$I$39,'Staff Capacity'!$G$10:$G$39,\"8b\",'Staff Capacity'!$H$10:$H$39,$D$3),SUMIF('Staff Capacity'!$G$10:$G$39,\"8b\",'Staff Capacity'!$I$10:$I$39))","v":0},{"$f":"IF($D$3<>\"\",SUMIFS('Staff Capacity'!$I$10:$I$39,'Staff Capacity'!$G$10:$G$39,\"8b\",'Staff Capacity'!$H$10:$H$39,$D$3),SUMIF('Staff Capacity'!$G$10:$G$39,\"8b\",'Staff Capacity'!$I$10:$I$39))","v":0},{"$f":"IF($D$3<>\"\",SUMIFS('Staff Capacity'!$I$10:$I$39,'Staff Capacity'!$G$10:$G$39,\"8b\",'Staff Capacity'!$H$10:$H$39,$D$3),SUMIF('Staff Capacity'!$G$10:$G$39,\"8b\",'Staff Capacity'!$I$10:$I$39))","v":0},{"$f":"IF($D$3<>\"\",SUMIFS('Staff Capacity'!$I$10:$I$39,'Staff Capacity'!$G$10:$G$39,\"8b\",'Staff Capacity'!$H$10:$H$39,$D$3),SUMIF('Staff Capacity'!$G$10:$G$39,\"8b\",'Staff Capacity'!$I$10:$I$39))","v":0},{"$f":"IF($D$3<>\"\",SUMIFS('Staff Capacity'!$I$10:$I$39,'Staff Capacity'!$G$10:$G$39,\"8b\",'Staff Capacity'!$H$10:$H$39,$D$3),SUMIF('Staff Capacity'!$G$10:$G$39,\"8b\",'Staff Capacity'!$I$10:$I$39))","v":0},{"$f":"IF($D$3<>\"\",SUMIFS('Staff Capacity'!$I$10:$I$39,'Staff Capacity'!$G$10:$G$39,\"8b\",'Staff Capacity'!$H$10:$H$39,$D$3),SUMIF('Staff Capacity'!$G$10:$G$39,\"8b\",'Staff Capacity'!$I$10:$I$39))","v":0},{"$f":"IF($D$3<>\"\",SUMIFS('Staff Capacity'!$I$10:$I$39,'Staff Capacity'!$G$10:$G$39,\"8b\",'Staff Capacity'!$H$10:$H$39,$D$3),SUMIF('Staff Capacity'!$G$10:$G$39,\"8b\",'Staff Capacity'!$I$10:$I$39))","v":0},{"$f":"IF($D$3<>\"\",SUMIFS('Staff Capacity'!$I$10:$I$39,'Staff Capacity'!$G$10:$G$39,\"8b\",'Staff Capacity'!$H$10:$H$39,$D$3),SUMIF('Staff Capacity'!$G$10:$G$39,\"8b\",'Staff Capacity'!$I$10:$I$39))","v":0},{"$f":"IF($D$3<>\"\",SUMIFS('Staff Capacity'!$I$10:$I$39,'Staff Capacity'!$G$10:$G$39,\"8b\",'Staff Capacity'!$H$10:$H$39,$D$3),SUMIF('Staff Capacity'!$G$10:$G$39,\"8b\",'Staff Capacity'!$I$10:$I$39))","v":0},{"$f":"IF($D$3<>\"\",SUMIFS('Staff Capacity'!$I$10:$I$39,'Staff Capacity'!$G$10:$G$39,\"8b\",'Staff Capacity'!$H$10:$H$39,$D$3),SUMIF('Staff Capacity'!$G$10:$G$39,\"8b\",'Staff Capacity'!$I$10:$I$39))","v":0},{"$f":"IF($D$3<>\"\",SUMIFS('Staff Capacity'!$I$10:$I$39,'Staff Capacity'!$G$10:$G$39,\"8b\",'Staff Capacity'!$H$10:$H$39,$D$3),SUMIF('Staff Capacity'!$G$10:$G$39,\"8b\",'Staff Capacity'!$I$10:$I$39))","v":0},{"$f":"IF($D$3<>\"\",SUMIFS('Staff Capacity'!$I$10:$I$39,'Staff Capacity'!$G$10:$G$39,\"8b\",'Staff Capacity'!$H$10:$H$39,$D$3),SUMIF('Staff Capacity'!$G$10:$G$39,\"8b\",'Staff Capacity'!$I$10:$I$39))","v":0},{"$f":"IF($D$3<>\"\",SUMIFS('Staff Capacity'!$I$10:$I$39,'Staff Capacity'!$G$10:$G$39,\"8b\",'Staff Capacity'!$H$10:$H$39,$D$3),SUMIF('Staff Capacity'!$G$10:$G$39,\"8b\",'Staff Capacity'!$I$10:$I$39))","v":0},{"$f":"IF($D$3<>\"\",SUMIFS('Staff Capacity'!$I$10:$I$39,'Staff Capacity'!$G$10:$G$39,\"8b\",'Staff Capacity'!$H$10:$H$39,$D$3),SUMIF('Staff Capacity'!$G$10:$G$39,\"8b\",'Staff Capacity'!$I$10:$I$39))","v":0},{"$f":"IF($D$3<>\"\",SUMIFS('Staff Capacity'!$I$10:$I$39,'Staff Capacity'!$G$10:$G$39,\"8b\",'Staff Capacity'!$H$10:$H$39,$D$3),SUMIF('Staff Capacity'!$G$10:$G$39,\"8b\",'Staff Capacity'!$I$10:$I$39))","v":0},{"$f":"IF($D$3<>\"\",SUMIFS('Staff Capacity'!$I$10:$I$39,'Staff Capacity'!$G$10:$G$39,\"8b\",'Staff Capacity'!$H$10:$H$39,$D$3),SUMIF('Staff Capacity'!$G$10:$G$39,\"8b\",'Staff Capacity'!$I$10:$I$39))","v":0},{"$f":"IF($D$3<>\"\",SUMIFS('Staff Capacity'!$I$10:$I$39,'Staff Capacity'!$G$10:$G$39,\"8b\",'Staff Capacity'!$H$10:$H$39,$D$3),SUMIF('Staff Capacity'!$G$10:$G$39,\"8b\",'Staff Capacity'!$I$10:$I$39))","v":0},{"$f":"IF($D$3<>\"\",SUMIFS('Staff Capacity'!$I$10:$I$39,'Staff Capacity'!$G$10:$G$39,\"8b\",'Staff Capacity'!$H$10:$H$39,$D$3),SUMIF('Staff Capacity'!$G$10:$G$39,\"8b\",'Staff Capacity'!$I$10:$I$39))","v":0},{"$f":"IF($D$3<>\"\",SUMIFS('Staff Capacity'!$I$10:$I$39,'Staff Capacity'!$G$10:$G$39,\"8b\",'Staff Capacity'!$H$10:$H$39,$D$3),SUMIF('Staff Capacity'!$G$10:$G$39,\"8b\",'Staff Capacity'!$I$10:$I$39))","v":0},{"$f":"IF($D$3<>\"\",SUMIFS('Staff Capacity'!$I$10:$I$39,'Staff Capacity'!$G$10:$G$39,\"8b\",'Staff Capacity'!$H$10:$H$39,$D$3),SUMIF('Staff Capacity'!$G$10:$G$39,\"8b\",'Staff Capacity'!$I$10:$I$39))","v":0},{"$f":"IF($D$3<>\"\",SUMIFS('Staff Capacity'!$I$10:$I$39,'Staff Capacity'!$G$10:$G$39,\"8b\",'Staff Capacity'!$H$10:$H$39,$D$3),SUMIF('Staff Capacity'!$G$10:$G$39,\"8b\",'Staff Capacity'!$I$10:$I$39))","v":0},{"$f":"IF($D$3<>\"\",SUMIFS('Staff Capacity'!$I$10:$I$39,'Staff Capacity'!$G$10:$G$39,\"8b\",'Staff Capacity'!$H$10:$H$39,$D$3),SUMIF('Staff Capacity'!$G$10:$G$39,\"8b\",'Staff Capacity'!$I$10:$I$39))","v":0},{"$f":"IF($D$3<>\"\",SUMIFS('Staff Capacity'!$I$10:$I$39,'Staff Capacity'!$G$10:$G$39,\"8b\",'Staff Capacity'!$H$10:$H$39,$D$3),SUMIF('Staff Capacity'!$G$10:$G$39,\"8b\",'Staff Capacity'!$I$10:$I$39))","v":0},{"$f":"IF($D$3<>\"\",SUMIFS('Staff Capacity'!$I$10:$I$39,'Staff Capacity'!$G$10:$G$39,\"8b\",'Staff Capacity'!$H$10:$H$39,$D$3),SUMIF('Staff Capacity'!$G$10:$G$39,\"8b\",'Staff Capacity'!$I$10:$I$39))","v":0},{"$f":"IF($D$3<>\"\",SUMIFS('Staff Capacity'!$I$10:$I$39,'Staff Capacity'!$G$10:$G$39,\"8b\",'Staff Capacity'!$H$10:$H$39,$D$3),SUMIF('Staff Capacity'!$G$10:$G$39,\"8b\",'Staff Capacity'!$I$10:$I$39))","v":0},{"$f":"IF($D$3<>\"\",SUMIFS('Staff Capacity'!$I$10:$I$39,'Staff Capacity'!$G$10:$G$39,\"8b\",'Staff Capacity'!$H$10:$H$39,$D$3),SUMIF('Staff Capacity'!$G$10:$G$39,\"8b\",'Staff Capacity'!$I$10:$I$39))","v":0},{"$f":"IF($D$3<>\"\",SUMIFS('Staff Capacity'!$I$10:$I$39,'Staff Capacity'!$G$10:$G$39,\"8b\",'Staff Capacity'!$H$10:$H$39,$D$3),SUMIF('Staff Capacity'!$G$10:$G$39,\"8b\",'Staff Capacity'!$I$10:$I$39))","v":0},{"$f":"IF($D$3<>\"\",SUMIFS('Staff Capacity'!$I$10:$I$39,'Staff Capacity'!$G$10:$G$39,\"8b\",'Staff Capacity'!$H$10:$H$39,$D$3),SUMIF('Staff Capacity'!$G$10:$G$39,\"8b\",'Staff Capacity'!$I$10:$I$39))","v":0},{"$f":"IF($D$3<>\"\",SUMIFS('Staff Capacity'!$I$10:$I$39,'Staff Capacity'!$G$10:$G$39,\"8b\",'Staff Capacity'!$H$10:$H$39,$D$3),SUMIF('Staff Capacity'!$G$10:$G$39,\"8b\",'Staff Capacity'!$I$10:$I$39))","v":0},{"$f":"IF($D$3<>\"\",SUMIFS('Staff Capacity'!$I$10:$I$39,'Staff Capacity'!$G$10:$G$39,\"8b\",'Staff Capacity'!$H$10:$H$39,$D$3),SUMIF('Staff Capacity'!$G$10:$G$39,\"8b\",'Staff Capacity'!$I$10:$I$39))","v":0},{"$f":"IF($D$3<>\"\",SUMIFS('Staff Capacity'!$I$10:$I$39,'Staff Capacity'!$G$10:$G$39,\"8b\",'Staff Capacity'!$H$10:$H$39,$D$3),SUMIF('Staff Capacity'!$G$10:$G$39,\"8b\",'Staff Capacity'!$I$10:$I$39))","v":0},{"$f":"IF($D$3<>\"\",SUMIFS('Staff Capacity'!$I$10:$I$39,'Staff Capacity'!$G$10:$G$39,\"8b\",'Staff Capacity'!$H$10:$H$39,$D$3),SUMIF('Staff Capacity'!$G$10:$G$39,\"8b\",'Staff Capacity'!$I$10:$I$39))","v":0},{"$f":"IF($D$3<>\"\",SUMIFS('Staff Capacity'!$I$10:$I$39,'Staff Capacity'!$G$10:$G$39,\"8b\",'Staff Capacity'!$H$10:$H$39,$D$3),SUMIF('Staff Capacity'!$G$10:$G$39,\"8b\",'Staff Capacity'!$I$10:$I$39))","v":0},{"$f":"IF($D$3<>\"\",SUMIFS('Staff Capacity'!$I$10:$I$39,'Staff Capacity'!$G$10:$G$39,\"8b\",'Staff Capacity'!$H$10:$H$39,$D$3),SUMIF('Staff Capacity'!$G$10:$G$39,\"8b\",'Staff Capacity'!$I$10:$I$39))","v":0},{"$f":"IF($D$3<>\"\",SUMIFS('Staff Capacity'!$I$10:$I$39,'Staff Capacity'!$G$10:$G$39,\"8b\",'Staff Capacity'!$H$10:$H$39,$D$3),SUMIF('Staff Capacity'!$G$10:$G$39,\"8b\",'Staff Capacity'!$I$10:$I$39))","v":0},{"$f":"IF($D$3<>\"\",SUMIFS('Staff Capacity'!$I$10:$I$39,'Staff Capacity'!$G$10:$G$39,\"8b\",'Staff Capacity'!$H$10:$H$39,$D$3),SUMIF('Staff Capacity'!$G$10:$G$39,\"8b\",'Staff Capacity'!$I$10:$I$39))","v":0},{"$f":"IF($D$3<>\"\",SUMIFS('Staff Capacity'!$I$10:$I$39,'Staff Capacity'!$G$10:$G$39,\"8b\",'Staff Capacity'!$H$10:$H$39,$D$3),SUMIF('Staff Capacity'!$G$10:$G$39,\"8b\",'Staff Capacity'!$I$10:$I$39))","v":0},{"$f":"IF($D$3<>\"\",SUMIFS('Staff Capacity'!$I$10:$I$39,'Staff Capacity'!$G$10:$G$39,\"8b\",'Staff Capacity'!$H$10:$H$39,$D$3),SUMIF('Staff Capacity'!$G$10:$G$39,\"8b\",'Staff Capacity'!$I$10:$I$39))","v":0},{"$f":"IF($D$3<>\"\",SUMIFS('Staff Capacity'!$I$10:$I$39,'Staff Capacity'!$G$10:$G$39,\"8b\",'Staff Capacity'!$H$10:$H$39,$D$3),SUMIF('Staff Capacity'!$G$10:$G$39,\"8b\",'Staff Capacity'!$I$10:$I$39))","v":0},{"$f":"IF($D$3<>\"\",SUMIFS('Staff Capacity'!$I$10:$I$39,'Staff Capacity'!$G$10:$G$39,\"8b\",'Staff Capacity'!$H$10:$H$39,$D$3),SUMIF('Staff Capacity'!$G$10:$G$39,\"8b\",'Staff Capacity'!$I$10:$I$39))","v":0},{"$f":"IF($D$3<>\"\",SUMIFS('Staff Capacity'!$I$10:$I$39,'Staff Capacity'!$G$10:$G$39,\"8b\",'Staff Capacity'!$H$10:$H$39,$D$3),SUMIF('Staff Capacity'!$G$10:$G$39,\"8b\",'Staff Capacity'!$I$10:$I$39))","v":0},{"$f":"IF($D$3<>\"\",SUMIFS('Staff Capacity'!$I$10:$I$39,'Staff Capacity'!$G$10:$G$39,\"8b\",'Staff Capacity'!$H$10:$H$39,$D$3),SUMIF('Staff Capacity'!$G$10:$G$39,\"8b\",'Staff Capacity'!$I$10:$I$39))","v":0},{"$f":"IF($D$3<>\"\",SUMIFS('Staff Capacity'!$I$10:$I$39,'Staff Capacity'!$G$10:$G$39,\"8b\",'Staff Capacity'!$H$10:$H$39,$D$3),SUMIF('Staff Capacity'!$G$10:$G$39,\"8b\",'Staff Capacity'!$I$10:$I$39))","v":0},{"$f":"IF($D$3<>\"\",SUMIFS('Staff Capacity'!$I$10:$I$39,'Staff Capacity'!$G$10:$G$39,\"8b\",'Staff Capacity'!$H$10:$H$39,$D$3),SUMIF('Staff Capacity'!$G$10:$G$39,\"8b\",'Staff Capacity'!$I$10:$I$39))","v":0},{"$f":"IF($D$3<>\"\",SUMIFS('Staff Capacity'!$I$10:$I$39,'Staff Capacity'!$G$10:$G$39,\"8b\",'Staff Capacity'!$H$10:$H$39,$D$3),SUMIF('Staff Capacity'!$G$10:$G$39,\"8b\",'Staff Capacity'!$I$10:$I$39))","v":0},{"$f":"IF($D$3<>\"\",SUMIFS('Staff Capacity'!$I$10:$I$39,'Staff Capacity'!$G$10:$G$39,\"8b\",'Staff Capacity'!$H$10:$H$39,$D$3),SUMIF('Staff Capacity'!$G$10:$G$39,\"8b\",'Staff Capacity'!$I$10:$I$39))","v":0},{"$f":"IF($D$3<>\"\",SUMIFS('Staff Capacity'!$I$10:$I$39,'Staff Capacity'!$G$10:$G$39,\"8b\",'Staff Capacity'!$H$10:$H$39,$D$3),SUMIF('Staff Capacity'!$G$10:$G$39,\"8b\",'Staff Capacity'!$I$10:$I$39))","v":0},{"$f":"IF($D$3<>\"\",SUMIFS('Staff Capacity'!$I$10:$I$39,'Staff Capacity'!$G$10:$G$39,\"8b\",'Staff Capacity'!$H$10:$H$39,$D$3),SUMIF('Staff Capacity'!$G$10:$G$39,\"8b\",'Staff Capacity'!$I$10:$I$39))","v":0},{"$f":"IF($D$3<>\"\",SUMIFS('Staff Capacity'!$I$10:$I$39,'Staff Capacity'!$G$10:$G$39,\"8b\",'Staff Capacity'!$H$10:$H$39,$D$3),SUMIF('Staff Capacity'!$G$10:$G$39,\"8b\",'Staff Capacity'!$I$10:$I$39))","v":0},{"$f":"IF($D$3<>\"\",SUMIFS('Staff Capacity'!$I$10:$I$39,'Staff Capacity'!$G$10:$G$39,\"8b\",'Staff Capacity'!$H$10:$H$39,$D$3),SUMIF('Staff Capacity'!$G$10:$G$39,\"8b\",'Staff Capacity'!$I$10:$I$39))","v":0},{"$f":"IF($D$3<>\"\",SUMIFS('Staff Capacity'!$I$10:$I$39,'Staff Capacity'!$G$10:$G$39,\"8b\",'Staff Capacity'!$H$10:$H$39,$D$3),SUMIF('Staff Capacity'!$G$10:$G$39,\"8b\",'Staff Capacity'!$I$10:$I$39))","v":0},{"$f":"IF($D$3<>\"\",SUMIFS('Staff Capacity'!$I$10:$I$39,'Staff Capacity'!$G$10:$G$39,\"8b\",'Staff Capacity'!$H$10:$H$39,$D$3),SUMIF('Staff Capacity'!$G$10:$G$39,\"8b\",'Staff Capacity'!$I$10:$I$39))","v":0},{"$f":"IF($D$3<>\"\",SUMIFS('Staff Capacity'!$I$10:$I$39,'Staff Capacity'!$G$10:$G$39,\"8b\",'Staff Capacity'!$H$10:$H$39,$D$3),SUMIF('Staff Capacity'!$G$10:$G$39,\"8b\",'Staff Capacity'!$I$10:$I$39))","v":0},{"$f":"IF($D$3<>\"\",SUMIFS('Staff Capacity'!$I$10:$I$39,'Staff Capacity'!$G$10:$G$39,\"8b\",'Staff Capacity'!$H$10:$H$39,$D$3),SUMIF('Staff Capacity'!$G$10:$G$39,\"8b\",'Staff Capacity'!$I$10:$I$39))","v":0},{"$f":"IF($D$3<>\"\",SUMIFS('Staff Capacity'!$I$10:$I$39,'Staff Capacity'!$G$10:$G$39,\"8b\",'Staff Capacity'!$H$10:$H$39,$D$3),SUMIF('Staff Capacity'!$G$10:$G$39,\"8b\",'Staff Capacity'!$I$10:$I$39))","v":0},{"$f":"IF($D$3<>\"\",SUMIFS('Staff Capacity'!$I$10:$I$39,'Staff Capacity'!$G$10:$G$39,\"8b\",'Staff Capacity'!$H$10:$H$39,$D$3),SUMIF('Staff Capacity'!$G$10:$G$39,\"8b\",'Staff Capacity'!$I$10:$I$39))","v":0},{"$f":"IF($D$3<>\"\",SUMIFS('Staff Capacity'!$I$10:$I$39,'Staff Capacity'!$G$10:$G$39,\"8b\",'Staff Capacity'!$H$10:$H$39,$D$3),SUMIF('Staff Capacity'!$G$10:$G$39,\"8b\",'Staff Capacity'!$I$10:$I$39))","v":0},{"$f":"IF($D$3<>\"\",SUMIFS('Staff Capacity'!$I$10:$I$39,'Staff Capacity'!$G$10:$G$39,\"8b\",'Staff Capacity'!$H$10:$H$39,$D$3),SUMIF('Staff Capacity'!$G$10:$G$39,\"8b\",'Staff Capacity'!$I$10:$I$39))","v":0},{"$f":"IF($D$3<>\"\",SUMIFS('Staff Capacity'!$I$10:$I$39,'Staff Capacity'!$G$10:$G$39,\"8b\",'Staff Capacity'!$H$10:$H$39,$D$3),SUMIF('Staff Capacity'!$G$10:$G$39,\"8b\",'Staff Capacity'!$I$10:$I$39))","v":0},{"$f":"IF($D$3<>\"\",SUMIFS('Staff Capacity'!$I$10:$I$39,'Staff Capacity'!$G$10:$G$39,\"8b\",'Staff Capacity'!$H$10:$H$39,$D$3),SUMIF('Staff Capacity'!$G$10:$G$39,\"8b\",'Staff Capacity'!$I$10:$I$39))","v":0},{"$f":"IF($D$3<>\"\",SUMIFS('Staff Capacity'!$I$10:$I$39,'Staff Capacity'!$G$10:$G$39,\"8b\",'Staff Capacity'!$H$10:$H$39,$D$3),SUMIF('Staff Capacity'!$G$10:$G$39,\"8b\",'Staff Capacity'!$I$10:$I$39))","v":0},{"$f":"IF($D$3<>\"\",SUMIFS('Staff Capacity'!$I$10:$I$39,'Staff Capacity'!$G$10:$G$39,\"8b\",'Staff Capacity'!$H$10:$H$39,$D$3),SUMIF('Staff Capacity'!$G$10:$G$39,\"8b\",'Staff Capacity'!$I$10:$I$39))","v":0},{"$f":"IF($D$3<>\"\",SUMIFS('Staff Capacity'!$I$10:$I$39,'Staff Capacity'!$G$10:$G$39,\"8b\",'Staff Capacity'!$H$10:$H$39,$D$3),SUMIF('Staff Capacity'!$G$10:$G$39,\"8b\",'Staff Capacity'!$I$10:$I$39))","v":0},{"$f":"IF($D$3<>\"\",SUMIFS('Staff Capacity'!$I$10:$I$39,'Staff Capacity'!$G$10:$G$39,\"8b\",'Staff Capacity'!$H$10:$H$39,$D$3),SUMIF('Staff Capacity'!$G$10:$G$39,\"8b\",'Staff Capacity'!$I$10:$I$39))","v":0},{"$f":"IF($D$3<>\"\",SUMIFS('Staff Capacity'!$I$10:$I$39,'Staff Capacity'!$G$10:$G$39,\"8b\",'Staff Capacity'!$H$10:$H$39,$D$3),SUMIF('Staff Capacity'!$G$10:$G$39,\"8b\",'Staff Capacity'!$I$10:$I$39))","v":0},{"$f":"IF($D$3<>\"\",SUMIFS('Staff Capacity'!$I$10:$I$39,'Staff Capacity'!$G$10:$G$39,\"8b\",'Staff Capacity'!$H$10:$H$39,$D$3),SUMIF('Staff Capacity'!$G$10:$G$39,\"8b\",'Staff Capacity'!$I$10:$I$39))","v":0},{"$f":"IF($D$3<>\"\",SUMIFS('Staff Capacity'!$I$10:$I$39,'Staff Capacity'!$G$10:$G$39,\"8b\",'Staff Capacity'!$H$10:$H$39,$D$3),SUMIF('Staff Capacity'!$G$10:$G$39,\"8b\",'Staff Capacity'!$I$10:$I$39))","v":0},{"$f":"IF($D$3<>\"\",SUMIFS('Staff Capacity'!$I$10:$I$39,'Staff Capacity'!$G$10:$G$39,\"8b\",'Staff Capacity'!$H$10:$H$39,$D$3),SUMIF('Staff Capacity'!$G$10:$G$39,\"8b\",'Staff Capacity'!$I$10:$I$39))","v":0},{"$f":"IF($D$3<>\"\",SUMIFS('Staff Capacity'!$I$10:$I$39,'Staff Capacity'!$G$10:$G$39,\"8b\",'Staff Capacity'!$H$10:$H$39,$D$3),SUMIF('Staff Capacity'!$G$10:$G$39,\"8b\",'Staff Capacity'!$I$10:$I$39))","v":0},{"$f":"IF($D$3<>\"\",SUMIFS('Staff Capacity'!$I$10:$I$39,'Staff Capacity'!$G$10:$G$39,\"8b\",'Staff Capacity'!$H$10:$H$39,$D$3),SUMIF('Staff Capacity'!$G$10:$G$39,\"8b\",'Staff Capacity'!$I$10:$I$39))","v":0},{"$f":"IF($D$3<>\"\",SUMIFS('Staff Capacity'!$I$10:$I$39,'Staff Capacity'!$G$10:$G$39,\"8b\",'Staff Capacity'!$H$10:$H$39,$D$3),SUMIF('Staff Capacity'!$G$10:$G$39,\"8b\",'Staff Capacity'!$I$10:$I$39))","v":0},{"$f":"IF($D$3<>\"\",SUMIFS('Staff Capacity'!$I$10:$I$39,'Staff Capacity'!$G$10:$G$39,\"8b\",'Staff Capacity'!$H$10:$H$39,$D$3),SUMIF('Staff Capacity'!$G$10:$G$39,\"8b\",'Staff Capacity'!$I$10:$I$39))","v":0},{"$f":"IF($D$3<>\"\",SUMIFS('Staff Capacity'!$I$10:$I$39,'Staff Capacity'!$G$10:$G$39,\"8b\",'Staff Capacity'!$H$10:$H$39,$D$3),SUMIF('Staff Capacity'!$G$10:$G$39,\"8b\",'Staff Capacity'!$I$10:$I$39))","v":0},{"$f":"IF($D$3<>\"\",SUMIFS('Staff Capacity'!$I$10:$I$39,'Staff Capacity'!$G$10:$G$39,\"8b\",'Staff Capacity'!$H$10:$H$39,$D$3),SUMIF('Staff Capacity'!$G$10:$G$39,\"8b\",'Staff Capacity'!$I$10:$I$39))","v":0},{"$f":"IF($D$3<>\"\",SUMIFS('Staff Capacity'!$I$10:$I$39,'Staff Capacity'!$G$10:$G$39,\"8b\",'Staff Capacity'!$H$10:$H$39,$D$3),SUMIF('Staff Capacity'!$G$10:$G$39,\"8b\",'Staff Capacity'!$I$10:$I$39))","v":0},{"$f":"IF($D$3<>\"\",SUMIFS('Staff Capacity'!$I$10:$I$39,'Staff Capacity'!$G$10:$G$39,\"8b\",'Staff Capacity'!$H$10:$H$39,$D$3),SUMIF('Staff Capacity'!$G$10:$G$39,\"8b\",'Staff Capacity'!$I$10:$I$39))","v":0},{"$f":"IF($D$3<>\"\",SUMIFS('Staff Capacity'!$I$10:$I$39,'Staff Capacity'!$G$10:$G$39,\"8b\",'Staff Capacity'!$H$10:$H$39,$D$3),SUMIF('Staff Capacity'!$G$10:$G$39,\"8b\",'Staff Capacity'!$I$10:$I$39))","v":0},{"$f":"IF($D$3<>\"\",SUMIFS('Staff Capacity'!$I$10:$I$39,'Staff Capacity'!$G$10:$G$39,\"8b\",'Staff Capacity'!$H$10:$H$39,$D$3),SUMIF('Staff Capacity'!$G$10:$G$39,\"8b\",'Staff Capacity'!$I$10:$I$39))","v":0},{"$f":"IF($D$3<>\"\",SUMIFS('Staff Capacity'!$I$10:$I$39,'Staff Capacity'!$G$10:$G$39,\"8b\",'Staff Capacity'!$H$10:$H$39,$D$3),SUMIF('Staff Capacity'!$G$10:$G$39,\"8b\",'Staff Capacity'!$I$10:$I$39))","v":0},{"$f":"IF($D$3<>\"\",SUMIFS('Staff Capacity'!$I$10:$I$39,'Staff Capacity'!$G$10:$G$39,\"8b\",'Staff Capacity'!$H$10:$H$39,$D$3),SUMIF('Staff Capacity'!$G$10:$G$39,\"8b\",'Staff Capacity'!$I$10:$I$39))","v":0},{"$f":"IF($D$3<>\"\",SUMIFS('Staff Capacity'!$I$10:$I$39,'Staff Capacity'!$G$10:$G$39,\"8b\",'Staff Capacity'!$H$10:$H$39,$D$3),SUMIF('Staff Capacity'!$G$10:$G$39,\"8b\",'Staff Capacity'!$I$10:$I$39))","v":0},{"$f":"IF($D$3<>\"\",SUMIFS('Staff Capacity'!$I$10:$I$39,'Staff Capacity'!$G$10:$G$39,\"8b\",'Staff Capacity'!$H$10:$H$39,$D$3),SUMIF('Staff Capacity'!$G$10:$G$39,\"8b\",'Staff Capacity'!$I$10:$I$39))","v":0},{"$f":"IF($D$3<>\"\",SUMIFS('Staff Capacity'!$I$10:$I$39,'Staff Capacity'!$G$10:$G$39,\"8b\",'Staff Capacity'!$H$10:$H$39,$D$3),SUMIF('Staff Capacity'!$G$10:$G$39,\"8b\",'Staff Capacity'!$I$10:$I$39))","v":0},{"$f":"IF($D$3<>\"\",SUMIFS('Staff Capacity'!$I$10:$I$39,'Staff Capacity'!$G$10:$G$39,\"8b\",'Staff Capacity'!$H$10:$H$39,$D$3),SUMIF('Staff Capacity'!$G$10:$G$39,\"8b\",'Staff Capacity'!$I$10:$I$39))","v":0},{"$f":"IF($D$3<>\"\",SUMIFS('Staff Capacity'!$I$10:$I$39,'Staff Capacity'!$G$10:$G$39,\"8b\",'Staff Capacity'!$H$10:$H$39,$D$3),SUMIF('Staff Capacity'!$G$10:$G$39,\"8b\",'Staff Capacity'!$I$10:$I$39))","v":0},{"$f":"IF($D$3<>\"\",SUMIFS('Staff Capacity'!$I$10:$I$39,'Staff Capacity'!$G$10:$G$39,\"8b\",'Staff Capacity'!$H$10:$H$39,$D$3),SUMIF('Staff Capacity'!$G$10:$G$39,\"8b\",'Staff Capacity'!$I$10:$I$39))","v":0},{"$f":"IF($D$3<>\"\",SUMIFS('Staff Capacity'!$I$10:$I$39,'Staff Capacity'!$G$10:$G$39,\"8b\",'Staff Capacity'!$H$10:$H$39,$D$3),SUMIF('Staff Capacity'!$G$10:$G$39,\"8b\",'Staff Capacity'!$I$10:$I$39))","v":0},{"$f":"IF($D$3<>\"\",SUMIFS('Staff Capacity'!$I$10:$I$39,'Staff Capacity'!$G$10:$G$39,\"8b\",'Staff Capacity'!$H$10:$H$39,$D$3),SUMIF('Staff Capacity'!$G$10:$G$39,\"8b\",'Staff Capacity'!$I$10:$I$39))","v":0},{"$f":"IF($D$3<>\"\",SUMIFS('Staff Capacity'!$I$10:$I$39,'Staff Capacity'!$G$10:$G$39,\"8b\",'Staff Capacity'!$H$10:$H$39,$D$3),SUMIF('Staff Capacity'!$G$10:$G$39,\"8b\",'Staff Capacity'!$I$10:$I$39))","v":0},{"$f":"IF($D$3<>\"\",SUMIFS('Staff Capacity'!$I$10:$I$39,'Staff Capacity'!$G$10:$G$39,\"8b\",'Staff Capacity'!$H$10:$H$39,$D$3),SUMIF('Staff Capacity'!$G$10:$G$39,\"8b\",'Staff Capacity'!$I$10:$I$39))","v":0},{"$f":"IF($D$3<>\"\",SUMIFS('Staff Capacity'!$I$10:$I$39,'Staff Capacity'!$G$10:$G$39,\"8b\",'Staff Capacity'!$H$10:$H$39,$D$3),SUMIF('Staff Capacity'!$G$10:$G$39,\"8b\",'Staff Capacity'!$I$10:$I$39))","v":0},{"$f":"IF($D$3<>\"\",SUMIFS('Staff Capacity'!$I$10:$I$39,'Staff Capacity'!$G$10:$G$39,\"8b\",'Staff Capacity'!$H$10:$H$39,$D$3),SUMIF('Staff Capacity'!$G$10:$G$39,\"8b\",'Staff Capacity'!$I$10:$I$39))","v":0},{"$f":"IF($D$3<>\"\",SUMIFS('Staff Capacity'!$I$10:$I$39,'Staff Capacity'!$G$10:$G$39,\"8b\",'Staff Capacity'!$H$10:$H$39,$D$3),SUMIF('Staff Capacity'!$G$10:$G$39,\"8b\",'Staff Capacity'!$I$10:$I$39))","v":0},{"$f":"IF($D$3<>\"\",SUMIFS('Staff Capacity'!$I$10:$I$39,'Staff Capacity'!$G$10:$G$39,\"8b\",'Staff Capacity'!$H$10:$H$39,$D$3),SUMIF('Staff Capacity'!$G$10:$G$39,\"8b\",'Staff Capacity'!$I$10:$I$39))","v":0},{"$f":"IF($D$3<>\"\",SUMIFS('Staff Capacity'!$I$10:$I$39,'Staff Capacity'!$G$10:$G$39,\"8b\",'Staff Capacity'!$H$10:$H$39,$D$3),SUMIF('Staff Capacity'!$G$10:$G$39,\"8b\",'Staff Capacity'!$I$10:$I$39))","v":0},{"$f":"IF($D$3<>\"\",SUMIFS('Staff Capacity'!$I$10:$I$39,'Staff Capacity'!$G$10:$G$39,\"8b\",'Staff Capacity'!$H$10:$H$39,$D$3),SUMIF('Staff Capacity'!$G$10:$G$39,\"8b\",'Staff Capacity'!$I$10:$I$39))","v":0},{"$f":"IF($D$3<>\"\",SUMIFS('Staff Capacity'!$I$10:$I$39,'Staff Capacity'!$G$10:$G$39,\"8b\",'Staff Capacity'!$H$10:$H$39,$D$3),SUMIF('Staff Capacity'!$G$10:$G$39,\"8b\",'Staff Capacity'!$I$10:$I$39))","v":0},{"$f":"IF($D$3<>\"\",SUMIFS('Staff Capacity'!$I$10:$I$39,'Staff Capacity'!$G$10:$G$39,\"8b\",'Staff Capacity'!$H$10:$H$39,$D$3),SUMIF('Staff Capacity'!$G$10:$G$39,\"8b\",'Staff Capacity'!$I$10:$I$39))","v":0},{"$f":"IF($D$3<>\"\",SUMIFS('Staff Capacity'!$I$10:$I$39,'Staff Capacity'!$G$10:$G$39,\"8b\",'Staff Capacity'!$H$10:$H$39,$D$3),SUMIF('Staff Capacity'!$G$10:$G$39,\"8b\",'Staff Capacity'!$I$10:$I$39))","v":0},{"$f":"IF($D$3<>\"\",SUMIFS('Staff Capacity'!$I$10:$I$39,'Staff Capacity'!$G$10:$G$39,\"8b\",'Staff Capacity'!$H$10:$H$39,$D$3),SUMIF('Staff Capacity'!$G$10:$G$39,\"8b\",'Staff Capacity'!$I$10:$I$39))","v":0},{"$f":"IF($D$3<>\"\",SUMIFS('Staff Capacity'!$I$10:$I$39,'Staff Capacity'!$G$10:$G$39,\"8b\",'Staff Capacity'!$H$10:$H$39,$D$3),SUMIF('Staff Capacity'!$G$10:$G$39,\"8b\",'Staff Capacity'!$I$10:$I$39))","v":0},{"$f":"IF($D$3<>\"\",SUMIFS('Staff Capacity'!$I$10:$I$39,'Staff Capacity'!$G$10:$G$39,\"8b\",'Staff Capacity'!$H$10:$H$39,$D$3),SUMIF('Staff Capacity'!$G$10:$G$39,\"8b\",'Staff Capacity'!$I$10:$I$39))","v":0},{"$f":"IF($D$3<>\"\",SUMIFS('Staff Capacity'!$I$10:$I$39,'Staff Capacity'!$G$10:$G$39,\"8b\",'Staff Capacity'!$H$10:$H$39,$D$3),SUMIF('Staff Capacity'!$G$10:$G$39,\"8b\",'Staff Capacity'!$I$10:$I$39))","v":0},{"$f":"IF($D$3<>\"\",SUMIFS('Staff Capacity'!$I$10:$I$39,'Staff Capacity'!$G$10:$G$39,\"8b\",'Staff Capacity'!$H$10:$H$39,$D$3),SUMIF('Staff Capacity'!$G$10:$G$39,\"8b\",'Staff Capacity'!$I$10:$I$39))","v":0},{"$f":"IF($D$3<>\"\",SUMIFS('Staff Capacity'!$I$10:$I$39,'Staff Capacity'!$G$10:$G$39,\"8b\",'Staff Capacity'!$H$10:$H$39,$D$3),SUMIF('Staff Capacity'!$G$10:$G$39,\"8b\",'Staff Capacity'!$I$10:$I$39))","v":0},{"$f":"IF($D$3<>\"\",SUMIFS('Staff Capacity'!$I$10:$I$39,'Staff Capacity'!$G$10:$G$39,\"8b\",'Staff Capacity'!$H$10:$H$39,$D$3),SUMIF('Staff Capacity'!$G$10:$G$39,\"8b\",'Staff Capacity'!$I$10:$I$39))","v":0},{"$f":"IF($D$3<>\"\",SUMIFS('Staff Capacity'!$I$10:$I$39,'Staff Capacity'!$G$10:$G$39,\"8b\",'Staff Capacity'!$H$10:$H$39,$D$3),SUMIF('Staff Capacity'!$G$10:$G$39,\"8b\",'Staff Capacity'!$I$10:$I$39))","v":0},{"$f":"IF($D$3<>\"\",SUMIFS('Staff Capacity'!$I$10:$I$39,'Staff Capacity'!$G$10:$G$39,\"8b\",'Staff Capacity'!$H$10:$H$39,$D$3),SUMIF('Staff Capacity'!$G$10:$G$39,\"8b\",'Staff Capacity'!$I$10:$I$39))","v":0},{"$f":"IF($D$3<>\"\",SUMIFS('Staff Capacity'!$I$10:$I$39,'Staff Capacity'!$G$10:$G$39,\"8b\",'Staff Capacity'!$H$10:$H$39,$D$3),SUMIF('Staff Capacity'!$G$10:$G$39,\"8b\",'Staff Capacity'!$I$10:$I$39))","v":0},{"$f":"IF($D$3<>\"\",SUMIFS('Staff Capacity'!$I$10:$I$39,'Staff Capacity'!$G$10:$G$39,\"8b\",'Staff Capacity'!$H$10:$H$39,$D$3),SUMIF('Staff Capacity'!$G$10:$G$39,\"8b\",'Staff Capacity'!$I$10:$I$39))","v":0},{"$f":"IF($D$3<>\"\",SUMIFS('Staff Capacity'!$I$10:$I$39,'Staff Capacity'!$G$10:$G$39,\"8b\",'Staff Capacity'!$H$10:$H$39,$D$3),SUMIF('Staff Capacity'!$G$10:$G$39,\"8b\",'Staff Capacity'!$I$10:$I$39))","v":0},{"$f":"IF($D$3<>\"\",SUMIFS('Staff Capacity'!$I$10:$I$39,'Staff Capacity'!$G$10:$G$39,\"8b\",'Staff Capacity'!$H$10:$H$39,$D$3),SUMIF('Staff Capacity'!$G$10:$G$39,\"8b\",'Staff Capacity'!$I$10:$I$39))","v":0},{"$f":"IF($D$3<>\"\",SUMIFS('Staff Capacity'!$I$10:$I$39,'Staff Capacity'!$G$10:$G$39,\"8b\",'Staff Capacity'!$H$10:$H$39,$D$3),SUMIF('Staff Capacity'!$G$10:$G$39,\"8b\",'Staff Capacity'!$I$10:$I$39))","v":0},{"$f":"IF($D$3<>\"\",SUMIFS('Staff Capacity'!$I$10:$I$39,'Staff Capacity'!$G$10:$G$39,\"8b\",'Staff Capacity'!$H$10:$H$39,$D$3),SUMIF('Staff Capacity'!$G$10:$G$39,\"8b\",'Staff Capacity'!$I$10:$I$39))","v":0},{"$f":"IF($D$3<>\"\",SUMIFS('Staff Capacity'!$I$10:$I$39,'Staff Capacity'!$G$10:$G$39,\"8b\",'Staff Capacity'!$H$10:$H$39,$D$3),SUMIF('Staff Capacity'!$G$10:$G$39,\"8b\",'Staff Capacity'!$I$10:$I$39))","v":0},{"$f":"IF($D$3<>\"\",SUMIFS('Staff Capacity'!$I$10:$I$39,'Staff Capacity'!$G$10:$G$39,\"8b\",'Staff Capacity'!$H$10:$H$39,$D$3),SUMIF('Staff Capacity'!$G$10:$G$39,\"8b\",'Staff Capacity'!$I$10:$I$39))","v":0},{"$f":"IF($D$3<>\"\",SUMIFS('Staff Capacity'!$I$10:$I$39,'Staff Capacity'!$G$10:$G$39,\"8b\",'Staff Capacity'!$H$10:$H$39,$D$3),SUMIF('Staff Capacity'!$G$10:$G$39,\"8b\",'Staff Capacity'!$I$10:$I$39))","v":0},{"$f":"IF($D$3<>\"\",SUMIFS('Staff Capacity'!$I$10:$I$39,'Staff Capacity'!$G$10:$G$39,\"8b\",'Staff Capacity'!$H$10:$H$39,$D$3),SUMIF('Staff Capacity'!$G$10:$G$39,\"8b\",'Staff Capacity'!$I$10:$I$39))","v":0},{"$f":"IF($D$3<>\"\",SUMIFS('Staff Capacity'!$I$10:$I$39,'Staff Capacity'!$G$10:$G$39,\"8b\",'Staff Capacity'!$H$10:$H$39,$D$3),SUMIF('Staff Capacity'!$G$10:$G$39,\"8b\",'Staff Capacity'!$I$10:$I$39))","v":0},{"$f":"IF($D$3<>\"\",SUMIFS('Staff Capacity'!$I$10:$I$39,'Staff Capacity'!$G$10:$G$39,\"8b\",'Staff Capacity'!$H$10:$H$39,$D$3),SUMIF('Staff Capacity'!$G$10:$G$39,\"8b\",'Staff Capacity'!$I$10:$I$39))","v":0},{"$f":"IF($D$3<>\"\",SUMIFS('Staff Capacity'!$I$10:$I$39,'Staff Capacity'!$G$10:$G$39,\"8b\",'Staff Capacity'!$H$10:$H$39,$D$3),SUMIF('Staff Capacity'!$G$10:$G$39,\"8b\",'Staff Capacity'!$I$10:$I$39))","v":0},{"$f":"IF($D$3<>\"\",SUMIFS('Staff Capacity'!$I$10:$I$39,'Staff Capacity'!$G$10:$G$39,\"8b\",'Staff Capacity'!$H$10:$H$39,$D$3),SUMIF('Staff Capacity'!$G$10:$G$39,\"8b\",'Staff Capacity'!$I$10:$I$39))","v":0},{"$f":"IF($D$3<>\"\",SUMIFS('Staff Capacity'!$I$10:$I$39,'Staff Capacity'!$G$10:$G$39,\"8b\",'Staff Capacity'!$H$10:$H$39,$D$3),SUMIF('Staff Capacity'!$G$10:$G$39,\"8b\",'Staff Capacity'!$I$10:$I$39))","v":0},{"$f":"IF($D$3<>\"\",SUMIFS('Staff Capacity'!$I$10:$I$39,'Staff Capacity'!$G$10:$G$39,\"8b\",'Staff Capacity'!$H$10:$H$39,$D$3),SUMIF('Staff Capacity'!$G$10:$G$39,\"8b\",'Staff Capacity'!$I$10:$I$39))","v":0},{"$f":"IF($D$3<>\"\",SUMIFS('Staff Capacity'!$I$10:$I$39,'Staff Capacity'!$G$10:$G$39,\"8b\",'Staff Capacity'!$H$10:$H$39,$D$3),SUMIF('Staff Capacity'!$G$10:$G$39,\"8b\",'Staff Capacity'!$I$10:$I$39))","v":0},{"$f":"IF($D$3<>\"\",SUMIFS('Staff Capacity'!$I$10:$I$39,'Staff Capacity'!$G$10:$G$39,\"8b\",'Staff Capacity'!$H$10:$H$39,$D$3),SUMIF('Staff Capacity'!$G$10:$G$39,\"8b\",'Staff Capacity'!$I$10:$I$39))","v":0},{"$f":"IF($D$3<>\"\",SUMIFS('Staff Capacity'!$I$10:$I$39,'Staff Capacity'!$G$10:$G$39,\"8b\",'Staff Capacity'!$H$10:$H$39,$D$3),SUMIF('Staff Capacity'!$G$10:$G$39,\"8b\",'Staff Capacity'!$I$10:$I$39))","v":0},{"$f":"IF($D$3<>\"\",SUMIFS('Staff Capacity'!$I$10:$I$39,'Staff Capacity'!$G$10:$G$39,\"8b\",'Staff Capacity'!$H$10:$H$39,$D$3),SUMIF('Staff Capacity'!$G$10:$G$39,\"8b\",'Staff Capacity'!$I$10:$I$39))","v":0},{"$f":"IF($D$3<>\"\",SUMIFS('Staff Capacity'!$I$10:$I$39,'Staff Capacity'!$G$10:$G$39,\"8b\",'Staff Capacity'!$H$10:$H$39,$D$3),SUMIF('Staff Capacity'!$G$10:$G$39,\"8b\",'Staff Capacity'!$I$10:$I$39))","v":0},{"$f":"IF($D$3<>\"\",SUMIFS('Staff Capacity'!$I$10:$I$39,'Staff Capacity'!$G$10:$G$39,\"8b\",'Staff Capacity'!$H$10:$H$39,$D$3),SUMIF('Staff Capacity'!$G$10:$G$39,\"8b\",'Staff Capacity'!$I$10:$I$39))","v":0},{"$f":"IF($D$3<>\"\",SUMIFS('Staff Capacity'!$I$10:$I$39,'Staff Capacity'!$G$10:$G$39,\"8b\",'Staff Capacity'!$H$10:$H$39,$D$3),SUMIF('Staff Capacity'!$G$10:$G$39,\"8b\",'Staff Capacity'!$I$10:$I$39))","v":0},{"$f":"IF($D$3<>\"\",SUMIFS('Staff Capacity'!$I$10:$I$39,'Staff Capacity'!$G$10:$G$39,\"8b\",'Staff Capacity'!$H$10:$H$39,$D$3),SUMIF('Staff Capacity'!$G$10:$G$39,\"8b\",'Staff Capacity'!$I$10:$I$39))","v":0},{"$f":"IF($D$3<>\"\",SUMIFS('Staff Capacity'!$I$10:$I$39,'Staff Capacity'!$G$10:$G$39,\"8b\",'Staff Capacity'!$H$10:$H$39,$D$3),SUMIF('Staff Capacity'!$G$10:$G$39,\"8b\",'Staff Capacity'!$I$10:$I$39))","v":0},{"$f":"IF($D$3<>\"\",SUMIFS('Staff Capacity'!$I$10:$I$39,'Staff Capacity'!$G$10:$G$39,\"8b\",'Staff Capacity'!$H$10:$H$39,$D$3),SUMIF('Staff Capacity'!$G$10:$G$39,\"8b\",'Staff Capacity'!$I$10:$I$39))","v":0},{"$f":"IF($D$3<>\"\",SUMIFS('Staff Capacity'!$I$10:$I$39,'Staff Capacity'!$G$10:$G$39,\"8b\",'Staff Capacity'!$H$10:$H$39,$D$3),SUMIF('Staff Capacity'!$G$10:$G$39,\"8b\",'Staff Capacity'!$I$10:$I$39))","v":0},{"$f":"IF($D$3<>\"\",SUMIFS('Staff Capacity'!$I$10:$I$39,'Staff Capacity'!$G$10:$G$39,\"8b\",'Staff Capacity'!$H$10:$H$39,$D$3),SUMIF('Staff Capacity'!$G$10:$G$39,\"8b\",'Staff Capacity'!$I$10:$I$39))","v":0},{"$f":"IF($D$3<>\"\",SUMIFS('Staff Capacity'!$I$10:$I$39,'Staff Capacity'!$G$10:$G$39,\"8b\",'Staff Capacity'!$H$10:$H$39,$D$3),SUMIF('Staff Capacity'!$G$10:$G$39,\"8b\",'Staff Capacity'!$I$10:$I$39))","v":0},{"$f":"IF($D$3<>\"\",SUMIFS('Staff Capacity'!$I$10:$I$39,'Staff Capacity'!$G$10:$G$39,\"8b\",'Staff Capacity'!$H$10:$H$39,$D$3),SUMIF('Staff Capacity'!$G$10:$G$39,\"8b\",'Staff Capacity'!$I$10:$I$39))","v":0},{"$f":"IF($D$3<>\"\",SUMIFS('Staff Capacity'!$I$10:$I$39,'Staff Capacity'!$G$10:$G$39,\"8b\",'Staff Capacity'!$H$10:$H$39,$D$3),SUMIF('Staff Capacity'!$G$10:$G$39,\"8b\",'Staff Capacity'!$I$10:$I$39))","v":0},{"$f":"IF($D$3<>\"\",SUMIFS('Staff Capacity'!$I$10:$I$39,'Staff Capacity'!$G$10:$G$39,\"8b\",'Staff Capacity'!$H$10:$H$39,$D$3),SUMIF('Staff Capacity'!$G$10:$G$39,\"8b\",'Staff Capacity'!$I$10:$I$39))","v":0},{"$f":"IF($D$3<>\"\",SUMIFS('Staff Capacity'!$I$10:$I$39,'Staff Capacity'!$G$10:$G$39,\"8b\",'Staff Capacity'!$H$10:$H$39,$D$3),SUMIF('Staff Capacity'!$G$10:$G$39,\"8b\",'Staff Capacity'!$I$10:$I$39))","v":0},{"$f":"IF($D$3<>\"\",SUMIFS('Staff Capacity'!$I$10:$I$39,'Staff Capacity'!$G$10:$G$39,\"8b\",'Staff Capacity'!$H$10:$H$39,$D$3),SUMIF('Staff Capacity'!$G$10:$G$39,\"8b\",'Staff Capacity'!$I$10:$I$39))","v":0},{"$f":"IF($D$3<>\"\",SUMIFS('Staff Capacity'!$I$10:$I$39,'Staff Capacity'!$G$10:$G$39,\"8b\",'Staff Capacity'!$H$10:$H$39,$D$3),SUMIF('Staff Capacity'!$G$10:$G$39,\"8b\",'Staff Capacity'!$I$10:$I$39))","v":0},{"$f":"IF($D$3<>\"\",SUMIFS('Staff Capacity'!$I$10:$I$39,'Staff Capacity'!$G$10:$G$39,\"8b\",'Staff Capacity'!$H$10:$H$39,$D$3),SUMIF('Staff Capacity'!$G$10:$G$39,\"8b\",'Staff Capacity'!$I$10:$I$39))","v":0},{"$f":"IF($D$3<>\"\",SUMIFS('Staff Capacity'!$I$10:$I$39,'Staff Capacity'!$G$10:$G$39,\"8b\",'Staff Capacity'!$H$10:$H$39,$D$3),SUMIF('Staff Capacity'!$G$10:$G$39,\"8b\",'Staff Capacity'!$I$10:$I$39))","v":0},{"$f":"IF($D$3<>\"\",SUMIFS('Staff Capacity'!$I$10:$I$39,'Staff Capacity'!$G$10:$G$39,\"8b\",'Staff Capacity'!$H$10:$H$39,$D$3),SUMIF('Staff Capacity'!$G$10:$G$39,\"8b\",'Staff Capacity'!$I$10:$I$39))","v":0},{"$f":"IF($D$3<>\"\",SUMIFS('Staff Capacity'!$I$10:$I$39,'Staff Capacity'!$G$10:$G$39,\"8b\",'Staff Capacity'!$H$10:$H$39,$D$3),SUMIF('Staff Capacity'!$G$10:$G$39,\"8b\",'Staff Capacity'!$I$10:$I$39))","v":0},{"$f":"IF($D$3<>\"\",SUMIFS('Staff Capacity'!$I$10:$I$39,'Staff Capacity'!$G$10:$G$39,\"8b\",'Staff Capacity'!$H$10:$H$39,$D$3),SUMIF('Staff Capacity'!$G$10:$G$39,\"8b\",'Staff Capacity'!$I$10:$I$39))","v":0},{"$f":"IF($D$3<>\"\",SUMIFS('Staff Capacity'!$I$10:$I$39,'Staff Capacity'!$G$10:$G$39,\"8b\",'Staff Capacity'!$H$10:$H$39,$D$3),SUMIF('Staff Capacity'!$G$10:$G$39,\"8b\",'Staff Capacity'!$I$10:$I$39))","v":0},{"$f":"IF($D$3<>\"\",SUMIFS('Staff Capacity'!$I$10:$I$39,'Staff Capacity'!$G$10:$G$39,\"8b\",'Staff Capacity'!$H$10:$H$39,$D$3),SUMIF('Staff Capacity'!$G$10:$G$39,\"8b\",'Staff Capacity'!$I$10:$I$39))","v":0},{"$f":"IF($D$3<>\"\",SUMIFS('Staff Capacity'!$I$10:$I$39,'Staff Capacity'!$G$10:$G$39,\"8b\",'Staff Capacity'!$H$10:$H$39,$D$3),SUMIF('Staff Capacity'!$G$10:$G$39,\"8b\",'Staff Capacity'!$I$10:$I$39))","v":0},{"$f":"IF($D$3<>\"\",SUMIFS('Staff Capacity'!$I$10:$I$39,'Staff Capacity'!$G$10:$G$39,\"8b\",'Staff Capacity'!$H$10:$H$39,$D$3),SUMIF('Staff Capacity'!$G$10:$G$39,\"8b\",'Staff Capacity'!$I$10:$I$39))","v":0},{"$f":"IF($D$3<>\"\",SUMIFS('Staff Capacity'!$I$10:$I$39,'Staff Capacity'!$G$10:$G$39,\"8b\",'Staff Capacity'!$H$10:$H$39,$D$3),SUMIF('Staff Capacity'!$G$10:$G$39,\"8b\",'Staff Capacity'!$I$10:$I$39))","v":0},{"$f":"IF($D$3<>\"\",SUMIFS('Staff Capacity'!$I$10:$I$39,'Staff Capacity'!$G$10:$G$39,\"8b\",'Staff Capacity'!$H$10:$H$39,$D$3),SUMIF('Staff Capacity'!$G$10:$G$39,\"8b\",'Staff Capacity'!$I$10:$I$39))","v":0},{"$f":"IF($D$3<>\"\",SUMIFS('Staff Capacity'!$I$10:$I$39,'Staff Capacity'!$G$10:$G$39,\"8b\",'Staff Capacity'!$H$10:$H$39,$D$3),SUMIF('Staff Capacity'!$G$10:$G$39,\"8b\",'Staff Capacity'!$I$10:$I$39))","v":0},{"$f":"IF($D$3<>\"\",SUMIFS('Staff Capacity'!$I$10:$I$39,'Staff Capacity'!$G$10:$G$39,\"8b\",'Staff Capacity'!$H$10:$H$39,$D$3),SUMIF('Staff Capacity'!$G$10:$G$39,\"8b\",'Staff Capacity'!$I$10:$I$39))","v":0},{"$f":"IF($D$3<>\"\",SUMIFS('Staff Capacity'!$I$10:$I$39,'Staff Capacity'!$G$10:$G$39,\"8b\",'Staff Capacity'!$H$10:$H$39,$D$3),SUMIF('Staff Capacity'!$G$10:$G$39,\"8b\",'Staff Capacity'!$I$10:$I$39))","v":0},{"$f":"IF($D$3<>\"\",SUMIFS('Staff Capacity'!$I$10:$I$39,'Staff Capacity'!$G$10:$G$39,\"8b\",'Staff Capacity'!$H$10:$H$39,$D$3),SUMIF('Staff Capacity'!$G$10:$G$39,\"8b\",'Staff Capacity'!$I$10:$I$39))","v":0},{"$f":"IF($D$3<>\"\",SUMIFS('Staff Capacity'!$I$10:$I$39,'Staff Capacity'!$G$10:$G$39,\"8b\",'Staff Capacity'!$H$10:$H$39,$D$3),SUMIF('Staff Capacity'!$G$10:$G$39,\"8b\",'Staff Capacity'!$I$10:$I$39))","v":0},{"$f":"IF($D$3<>\"\",SUMIFS('Staff Capacity'!$I$10:$I$39,'Staff Capacity'!$G$10:$G$39,\"8b\",'Staff Capacity'!$H$10:$H$39,$D$3),SUMIF('Staff Capacity'!$G$10:$G$39,\"8b\",'Staff Capacity'!$I$10:$I$39))","v":0},{"$f":"IF($D$3<>\"\",SUMIFS('Staff Capacity'!$I$10:$I$39,'Staff Capacity'!$G$10:$G$39,\"8b\",'Staff Capacity'!$H$10:$H$39,$D$3),SUMIF('Staff Capacity'!$G$10:$G$39,\"8b\",'Staff Capacity'!$I$10:$I$39))","v":0},{"$f":"IF($D$3<>\"\",SUMIFS('Staff Capacity'!$I$10:$I$39,'Staff Capacity'!$G$10:$G$39,\"8b\",'Staff Capacity'!$H$10:$H$39,$D$3),SUMIF('Staff Capacity'!$G$10:$G$39,\"8b\",'Staff Capacity'!$I$10:$I$39))","v":0},{"$f":"IF($D$3<>\"\",SUMIFS('Staff Capacity'!$I$10:$I$39,'Staff Capacity'!$G$10:$G$39,\"8b\",'Staff Capacity'!$H$10:$H$39,$D$3),SUMIF('Staff Capacity'!$G$10:$G$39,\"8b\",'Staff Capacity'!$I$10:$I$39))","v":0},{"$f":"IF($D$3<>\"\",SUMIFS('Staff Capacity'!$I$10:$I$39,'Staff Capacity'!$G$10:$G$39,\"8b\",'Staff Capacity'!$H$10:$H$39,$D$3),SUMIF('Staff Capacity'!$G$10:$G$39,\"8b\",'Staff Capacity'!$I$10:$I$39))","v":0},{"$f":"IF($D$3<>\"\",SUMIFS('Staff Capacity'!$I$10:$I$39,'Staff Capacity'!$G$10:$G$39,\"8b\",'Staff Capacity'!$H$10:$H$39,$D$3),SUMIF('Staff Capacity'!$G$10:$G$39,\"8b\",'Staff Capacity'!$I$10:$I$39))","v":0},{"$f":"IF($D$3<>\"\",SUMIFS('Staff Capacity'!$I$10:$I$39,'Staff Capacity'!$G$10:$G$39,\"8b\",'Staff Capacity'!$H$10:$H$39,$D$3),SUMIF('Staff Capacity'!$G$10:$G$39,\"8b\",'Staff Capacity'!$I$10:$I$39))","v":0},{"$f":"IF($D$3<>\"\",SUMIFS('Staff Capacity'!$I$10:$I$39,'Staff Capacity'!$G$10:$G$39,\"8b\",'Staff Capacity'!$H$10:$H$39,$D$3),SUMIF('Staff Capacity'!$G$10:$G$39,\"8b\",'Staff Capacity'!$I$10:$I$39))","v":0},{"$f":"IF($D$3<>\"\",SUMIFS('Staff Capacity'!$I$10:$I$39,'Staff Capacity'!$G$10:$G$39,\"8b\",'Staff Capacity'!$H$10:$H$39,$D$3),SUMIF('Staff Capacity'!$G$10:$G$39,\"8b\",'Staff Capacity'!$I$10:$I$39))","v":0},{"$f":"IF($D$3<>\"\",SUMIFS('Staff Capacity'!$I$10:$I$39,'Staff Capacity'!$G$10:$G$39,\"8b\",'Staff Capacity'!$H$10:$H$39,$D$3),SUMIF('Staff Capacity'!$G$10:$G$39,\"8b\",'Staff Capacity'!$I$10:$I$39))","v":0},{"$f":"IF($D$3<>\"\",SUMIFS('Staff Capacity'!$I$10:$I$39,'Staff Capacity'!$G$10:$G$39,\"8b\",'Staff Capacity'!$H$10:$H$39,$D$3),SUMIF('Staff Capacity'!$G$10:$G$39,\"8b\",'Staff Capacity'!$I$10:$I$39))","v":0},{"$f":"IF($D$3<>\"\",SUMIFS('Staff Capacity'!$I$10:$I$39,'Staff Capacity'!$G$10:$G$39,\"8b\",'Staff Capacity'!$H$10:$H$39,$D$3),SUMIF('Staff Capacity'!$G$10:$G$39,\"8b\",'Staff Capacity'!$I$10:$I$39))","v":0},{"$f":"IF($D$3<>\"\",SUMIFS('Staff Capacity'!$I$10:$I$39,'Staff Capacity'!$G$10:$G$39,\"8b\",'Staff Capacity'!$H$10:$H$39,$D$3),SUMIF('Staff Capacity'!$G$10:$G$39,\"8b\",'Staff Capacity'!$I$10:$I$39))","v":0},{"$f":"IF($D$3<>\"\",SUMIFS('Staff Capacity'!$I$10:$I$39,'Staff Capacity'!$G$10:$G$39,\"8b\",'Staff Capacity'!$H$10:$H$39,$D$3),SUMIF('Staff Capacity'!$G$10:$G$39,\"8b\",'Staff Capacity'!$I$10:$I$39))","v":0},{"$f":"IF($D$3<>\"\",SUMIFS('Staff Capacity'!$I$10:$I$39,'Staff Capacity'!$G$10:$G$39,\"8b\",'Staff Capacity'!$H$10:$H$39,$D$3),SUMIF('Staff Capacity'!$G$10:$G$39,\"8b\",'Staff Capacity'!$I$10:$I$39))","v":0},{"$f":"IF($D$3<>\"\",SUMIFS('Staff Capacity'!$I$10:$I$39,'Staff Capacity'!$G$10:$G$39,\"8b\",'Staff Capacity'!$H$10:$H$39,$D$3),SUMIF('Staff Capacity'!$G$10:$G$39,\"8b\",'Staff Capacity'!$I$10:$I$39))","v":0},{"$f":"IF($D$3<>\"\",SUMIFS('Staff Capacity'!$I$10:$I$39,'Staff Capacity'!$G$10:$G$39,\"8b\",'Staff Capacity'!$H$10:$H$39,$D$3),SUMIF('Staff Capacity'!$G$10:$G$39,\"8b\",'Staff Capacity'!$I$10:$I$39))","v":0},{"$f":"IF($D$3<>\"\",SUMIFS('Staff Capacity'!$I$10:$I$39,'Staff Capacity'!$G$10:$G$39,\"8b\",'Staff Capacity'!$H$10:$H$39,$D$3),SUMIF('Staff Capacity'!$G$10:$G$39,\"8b\",'Staff Capacity'!$I$10:$I$39))","v":0},{"$f":"IF($D$3<>\"\",SUMIFS('Staff Capacity'!$I$10:$I$39,'Staff Capacity'!$G$10:$G$39,\"8b\",'Staff Capacity'!$H$10:$H$39,$D$3),SUMIF('Staff Capacity'!$G$10:$G$39,\"8b\",'Staff Capacity'!$I$10:$I$39))","v":0},{"$f":"IF($D$3<>\"\",SUMIFS('Staff Capacity'!$I$10:$I$39,'Staff Capacity'!$G$10:$G$39,\"8b\",'Staff Capacity'!$H$10:$H$39,$D$3),SUMIF('Staff Capacity'!$G$10:$G$39,\"8b\",'Staff Capacity'!$I$10:$I$39))","v":0},{"$f":"IF($D$3<>\"\",SUMIFS('Staff Capacity'!$I$10:$I$39,'Staff Capacity'!$G$10:$G$39,\"8b\",'Staff Capacity'!$H$10:$H$39,$D$3),SUMIF('Staff Capacity'!$G$10:$G$39,\"8b\",'Staff Capacity'!$I$10:$I$39))","v":0},{"$f":"IF($D$3<>\"\",SUMIFS('Staff Capacity'!$I$10:$I$39,'Staff Capacity'!$G$10:$G$39,\"8b\",'Staff Capacity'!$H$10:$H$39,$D$3),SUMIF('Staff Capacity'!$G$10:$G$39,\"8b\",'Staff Capacity'!$I$10:$I$39))","v":0},{"$f":"IF($D$3<>\"\",SUMIFS('Staff Capacity'!$I$10:$I$39,'Staff Capacity'!$G$10:$G$39,\"8b\",'Staff Capacity'!$H$10:$H$39,$D$3),SUMIF('Staff Capacity'!$G$10:$G$39,\"8b\",'Staff Capacity'!$I$10:$I$39))","v":0},{"$f":"IF($D$3<>\"\",SUMIFS('Staff Capacity'!$I$10:$I$39,'Staff Capacity'!$G$10:$G$39,\"8b\",'Staff Capacity'!$H$10:$H$39,$D$3),SUMIF('Staff Capacity'!$G$10:$G$39,\"8b\",'Staff Capacity'!$I$10:$I$39))","v":0},{"$f":"IF($D$3<>\"\",SUMIFS('Staff Capacity'!$I$10:$I$39,'Staff Capacity'!$G$10:$G$39,\"8b\",'Staff Capacity'!$H$10:$H$39,$D$3),SUMIF('Staff Capacity'!$G$10:$G$39,\"8b\",'Staff Capacity'!$I$10:$I$39))","v":0},{"$f":"IF($D$3<>\"\",SUMIFS('Staff Capacity'!$I$10:$I$39,'Staff Capacity'!$G$10:$G$39,\"8b\",'Staff Capacity'!$H$10:$H$39,$D$3),SUMIF('Staff Capacity'!$G$10:$G$39,\"8b\",'Staff Capacity'!$I$10:$I$39))","v":0},{"$f":"IF($D$3<>\"\",SUMIFS('Staff Capacity'!$I$10:$I$39,'Staff Capacity'!$G$10:$G$39,\"8b\",'Staff Capacity'!$H$10:$H$39,$D$3),SUMIF('Staff Capacity'!$G$10:$G$39,\"8b\",'Staff Capacity'!$I$10:$I$39))","v":0},{"$f":"IF($D$3<>\"\",SUMIFS('Staff Capacity'!$I$10:$I$39,'Staff Capacity'!$G$10:$G$39,\"8b\",'Staff Capacity'!$H$10:$H$39,$D$3),SUMIF('Staff Capacity'!$G$10:$G$39,\"8b\",'Staff Capacity'!$I$10:$I$39))","v":0},{"$f":"IF($D$3<>\"\",SUMIFS('Staff Capacity'!$I$10:$I$39,'Staff Capacity'!$G$10:$G$39,\"8b\",'Staff Capacity'!$H$10:$H$39,$D$3),SUMIF('Staff Capacity'!$G$10:$G$39,\"8b\",'Staff Capacity'!$I$10:$I$39))","v":0},{"$f":"IF($D$3<>\"\",SUMIFS('Staff Capacity'!$I$10:$I$39,'Staff Capacity'!$G$10:$G$39,\"8b\",'Staff Capacity'!$H$10:$H$39,$D$3),SUMIF('Staff Capacity'!$G$10:$G$39,\"8b\",'Staff Capacity'!$I$10:$I$39))","v":0},{"$f":"IF($D$3<>\"\",SUMIFS('Staff Capacity'!$I$10:$I$39,'Staff Capacity'!$G$10:$G$39,\"8b\",'Staff Capacity'!$H$10:$H$39,$D$3),SUMIF('Staff Capacity'!$G$10:$G$39,\"8b\",'Staff Capacity'!$I$10:$I$39))","v":0},{"$f":"IF($D$3<>\"\",SUMIFS('Staff Capacity'!$I$10:$I$39,'Staff Capacity'!$G$10:$G$39,\"8b\",'Staff Capacity'!$H$10:$H$39,$D$3),SUMIF('Staff Capacity'!$G$10:$G$39,\"8b\",'Staff Capacity'!$I$10:$I$39))","v":0},{"$f":"IF($D$3<>\"\",SUMIFS('Staff Capacity'!$I$10:$I$39,'Staff Capacity'!$G$10:$G$39,\"8b\",'Staff Capacity'!$H$10:$H$39,$D$3),SUMIF('Staff Capacity'!$G$10:$G$39,\"8b\",'Staff Capacity'!$I$10:$I$39))","v":0},{"$f":"IF($D$3<>\"\",SUMIFS('Staff Capacity'!$I$10:$I$39,'Staff Capacity'!$G$10:$G$39,\"8b\",'Staff Capacity'!$H$10:$H$39,$D$3),SUMIF('Staff Capacity'!$G$10:$G$39,\"8b\",'Staff Capacity'!$I$10:$I$39))","v":0},{"$f":"IF($D$3<>\"\",SUMIFS('Staff Capacity'!$I$10:$I$39,'Staff Capacity'!$G$10:$G$39,\"8b\",'Staff Capacity'!$H$10:$H$39,$D$3),SUMIF('Staff Capacity'!$G$10:$G$39,\"8b\",'Staff Capacity'!$I$10:$I$39))","v":0},{"$f":"IF($D$3<>\"\",SUMIFS('Staff Capacity'!$I$10:$I$39,'Staff Capacity'!$G$10:$G$39,\"8b\",'Staff Capacity'!$H$10:$H$39,$D$3),SUMIF('Staff Capacity'!$G$10:$G$39,\"8b\",'Staff Capacity'!$I$10:$I$39))","v":0},{"$f":"IF($D$3<>\"\",SUMIFS('Staff Capacity'!$I$10:$I$39,'Staff Capacity'!$G$10:$G$39,\"8b\",'Staff Capacity'!$H$10:$H$39,$D$3),SUMIF('Staff Capacity'!$G$10:$G$39,\"8b\",'Staff Capacity'!$I$10:$I$39))","v":0},{"$f":"IF($D$3<>\"\",SUMIFS('Staff Capacity'!$I$10:$I$39,'Staff Capacity'!$G$10:$G$39,\"8b\",'Staff Capacity'!$H$10:$H$39,$D$3),SUMIF('Staff Capacity'!$G$10:$G$39,\"8b\",'Staff Capacity'!$I$10:$I$39))","v":0},{"$f":"IF($D$3<>\"\",SUMIFS('Staff Capacity'!$I$10:$I$39,'Staff Capacity'!$G$10:$G$39,\"8b\",'Staff Capacity'!$H$10:$H$39,$D$3),SUMIF('Staff Capacity'!$G$10:$G$39,\"8b\",'Staff Capacity'!$I$10:$I$39))","v":0},{"$f":"IF($D$3<>\"\",SUMIFS('Staff Capacity'!$I$10:$I$39,'Staff Capacity'!$G$10:$G$39,\"8b\",'Staff Capacity'!$H$10:$H$39,$D$3),SUMIF('Staff Capacity'!$G$10:$G$39,\"8b\",'Staff Capacity'!$I$10:$I$39))","v":0},{"$f":"IF($D$3<>\"\",SUMIFS('Staff Capacity'!$I$10:$I$39,'Staff Capacity'!$G$10:$G$39,\"8b\",'Staff Capacity'!$H$10:$H$39,$D$3),SUMIF('Staff Capacity'!$G$10:$G$39,\"8b\",'Staff Capacity'!$I$10:$I$39))","v":0},{"$f":"IF($D$3<>\"\",SUMIFS('Staff Capacity'!$I$10:$I$39,'Staff Capacity'!$G$10:$G$39,\"8b\",'Staff Capacity'!$H$10:$H$39,$D$3),SUMIF('Staff Capacity'!$G$10:$G$39,\"8b\",'Staff Capacity'!$I$10:$I$39))","v":0},{"$f":"IF($D$3<>\"\",SUMIFS('Staff Capacity'!$I$10:$I$39,'Staff Capacity'!$G$10:$G$39,\"8b\",'Staff Capacity'!$H$10:$H$39,$D$3),SUMIF('Staff Capacity'!$G$10:$G$39,\"8b\",'Staff Capacity'!$I$10:$I$39))","v":0},{"$f":"IF($D$3<>\"\",SUMIFS('Staff Capacity'!$I$10:$I$39,'Staff Capacity'!$G$10:$G$39,\"8b\",'Staff Capacity'!$H$10:$H$39,$D$3),SUMIF('Staff Capacity'!$G$10:$G$39,\"8b\",'Staff Capacity'!$I$10:$I$39))","v":0},{"$f":"IF($D$3<>\"\",SUMIFS('Staff Capacity'!$I$10:$I$39,'Staff Capacity'!$G$10:$G$39,\"8b\",'Staff Capacity'!$H$10:$H$39,$D$3),SUMIF('Staff Capacity'!$G$10:$G$39,\"8b\",'Staff Capacity'!$I$10:$I$39))","v":0},{"$f":"IF($D$3<>\"\",SUMIFS('Staff Capacity'!$I$10:$I$39,'Staff Capacity'!$G$10:$G$39,\"8b\",'Staff Capacity'!$H$10:$H$39,$D$3),SUMIF('Staff Capacity'!$G$10:$G$39,\"8b\",'Staff Capacity'!$I$10:$I$39))","v":0},{"$f":"IF($D$3<>\"\",SUMIFS('Staff Capacity'!$I$10:$I$39,'Staff Capacity'!$G$10:$G$39,\"8b\",'Staff Capacity'!$H$10:$H$39,$D$3),SUMIF('Staff Capacity'!$G$10:$G$39,\"8b\",'Staff Capacity'!$I$10:$I$39))","v":0},{"$f":"IF($D$3<>\"\",SUMIFS('Staff Capacity'!$I$10:$I$39,'Staff Capacity'!$G$10:$G$39,\"8b\",'Staff Capacity'!$H$10:$H$39,$D$3),SUMIF('Staff Capacity'!$G$10:$G$39,\"8b\",'Staff Capacity'!$I$10:$I$39))","v":0},{"$f":"IF($D$3<>\"\",SUMIFS('Staff Capacity'!$I$10:$I$39,'Staff Capacity'!$G$10:$G$39,\"8b\",'Staff Capacity'!$H$10:$H$39,$D$3),SUMIF('Staff Capacity'!$G$10:$G$39,\"8b\",'Staff Capacity'!$I$10:$I$39))","v":0},{"$f":"IF($D$3<>\"\",SUMIFS('Staff Capacity'!$I$10:$I$39,'Staff Capacity'!$G$10:$G$39,\"8b\",'Staff Capacity'!$H$10:$H$39,$D$3),SUMIF('Staff Capacity'!$G$10:$G$39,\"8b\",'Staff Capacity'!$I$10:$I$39))","v":0},{"$f":"IF($D$3<>\"\",SUMIFS('Staff Capacity'!$I$10:$I$39,'Staff Capacity'!$G$10:$G$39,\"8b\",'Staff Capacity'!$H$10:$H$39,$D$3),SUMIF('Staff Capacity'!$G$10:$G$39,\"8b\",'Staff Capacity'!$I$10:$I$39))","v":0},{"$f":"IF($D$3<>\"\",SUMIFS('Staff Capacity'!$I$10:$I$39,'Staff Capacity'!$G$10:$G$39,\"8b\",'Staff Capacity'!$H$10:$H$39,$D$3),SUMIF('Staff Capacity'!$G$10:$G$39,\"8b\",'Staff Capacity'!$I$10:$I$39))","v":0},{"$f":"IF($D$3<>\"\",SUMIFS('Staff Capacity'!$I$10:$I$39,'Staff Capacity'!$G$10:$G$39,\"8b\",'Staff Capacity'!$H$10:$H$39,$D$3),SUMIF('Staff Capacity'!$G$10:$G$39,\"8b\",'Staff Capacity'!$I$10:$I$39))","v":0},{"$f":"IF($D$3<>\"\",SUMIFS('Staff Capacity'!$I$10:$I$39,'Staff Capacity'!$G$10:$G$39,\"8b\",'Staff Capacity'!$H$10:$H$39,$D$3),SUMIF('Staff Capacity'!$G$10:$G$39,\"8b\",'Staff Capacity'!$I$10:$I$39))","v":0},{"$f":"IF($D$3<>\"\",SUMIFS('Staff Capacity'!$I$10:$I$39,'Staff Capacity'!$G$10:$G$39,\"8b\",'Staff Capacity'!$H$10:$H$39,$D$3),SUMIF('Staff Capacity'!$G$10:$G$39,\"8b\",'Staff Capacity'!$I$10:$I$39))","v":0},{"$f":"IF($D$3<>\"\",SUMIFS('Staff Capacity'!$I$10:$I$39,'Staff Capacity'!$G$10:$G$39,\"8b\",'Staff Capacity'!$H$10:$H$39,$D$3),SUMIF('Staff Capacity'!$G$10:$G$39,\"8b\",'Staff Capacity'!$I$10:$I$39))","v":0},{"$f":"IF($D$3<>\"\",SUMIFS('Staff Capacity'!$I$10:$I$39,'Staff Capacity'!$G$10:$G$39,\"8b\",'Staff Capacity'!$H$10:$H$39,$D$3),SUMIF('Staff Capacity'!$G$10:$G$39,\"8b\",'Staff Capacity'!$I$10:$I$39))","v":0},{"$f":"IF($D$3<>\"\",SUMIFS('Staff Capacity'!$I$10:$I$39,'Staff Capacity'!$G$10:$G$39,\"8b\",'Staff Capacity'!$H$10:$H$39,$D$3),SUMIF('Staff Capacity'!$G$10:$G$39,\"8b\",'Staff Capacity'!$I$10:$I$39))","v":0},{"$f":"IF($D$3<>\"\",SUMIFS('Staff Capacity'!$I$10:$I$39,'Staff Capacity'!$G$10:$G$39,\"8b\",'Staff Capacity'!$H$10:$H$39,$D$3),SUMIF('Staff Capacity'!$G$10:$G$39,\"8b\",'Staff Capacity'!$I$10:$I$39))","v":0},{"$f":"IF($D$3<>\"\",SUMIFS('Staff Capacity'!$I$10:$I$39,'Staff Capacity'!$G$10:$G$39,\"8b\",'Staff Capacity'!$H$10:$H$39,$D$3),SUMIF('Staff Capacity'!$G$10:$G$39,\"8b\",'Staff Capacity'!$I$10:$I$39))","v":0},{"$f":"IF($D$3<>\"\",SUMIFS('Staff Capacity'!$I$10:$I$39,'Staff Capacity'!$G$10:$G$39,\"8b\",'Staff Capacity'!$H$10:$H$39,$D$3),SUMIF('Staff Capacity'!$G$10:$G$39,\"8b\",'Staff Capacity'!$I$10:$I$39))","v":0},{"$f":"IF($D$3<>\"\",SUMIFS('Staff Capacity'!$I$10:$I$39,'Staff Capacity'!$G$10:$G$39,\"8b\",'Staff Capacity'!$H$10:$H$39,$D$3),SUMIF('Staff Capacity'!$G$10:$G$39,\"8b\",'Staff Capacity'!$I$10:$I$39))","v":0},{"$f":"IF($D$3<>\"\",SUMIFS('Staff Capacity'!$I$10:$I$39,'Staff Capacity'!$G$10:$G$39,\"8b\",'Staff Capacity'!$H$10:$H$39,$D$3),SUMIF('Staff Capacity'!$G$10:$G$39,\"8b\",'Staff Capacity'!$I$10:$I$39))","v":0},{"$f":"IF($D$3<>\"\",SUMIFS('Staff Capacity'!$I$10:$I$39,'Staff Capacity'!$G$10:$G$39,\"8b\",'Staff Capacity'!$H$10:$H$39,$D$3),SUMIF('Staff Capacity'!$G$10:$G$39,\"8b\",'Staff Capacity'!$I$10:$I$39))","v":0},{"$f":"IF($D$3<>\"\",SUMIFS('Staff Capacity'!$I$10:$I$39,'Staff Capacity'!$G$10:$G$39,\"8b\",'Staff Capacity'!$H$10:$H$39,$D$3),SUMIF('Staff Capacity'!$G$10:$G$39,\"8b\",'Staff Capacity'!$I$10:$I$39))","v":0},{"$f":"IF($D$3<>\"\",SUMIFS('Staff Capacity'!$I$10:$I$39,'Staff Capacity'!$G$10:$G$39,\"8b\",'Staff Capacity'!$H$10:$H$39,$D$3),SUMIF('Staff Capacity'!$G$10:$G$39,\"8b\",'Staff Capacity'!$I$10:$I$39))","v":0},{"$f":"IF($D$3<>\"\",SUMIFS('Staff Capacity'!$I$10:$I$39,'Staff Capacity'!$G$10:$G$39,\"8b\",'Staff Capacity'!$H$10:$H$39,$D$3),SUMIF('Staff Capacity'!$G$10:$G$39,\"8b\",'Staff Capacity'!$I$10:$I$39))","v":0},{"$f":"IF($D$3<>\"\",SUMIFS('Staff Capacity'!$I$10:$I$39,'Staff Capacity'!$G$10:$G$39,\"8b\",'Staff Capacity'!$H$10:$H$39,$D$3),SUMIF('Staff Capacity'!$G$10:$G$39,\"8b\",'Staff Capacity'!$I$10:$I$39))","v":0},{"$f":"IF($D$3<>\"\",SUMIFS('Staff Capacity'!$I$10:$I$39,'Staff Capacity'!$G$10:$G$39,\"8b\",'Staff Capacity'!$H$10:$H$39,$D$3),SUMIF('Staff Capacity'!$G$10:$G$39,\"8b\",'Staff Capacity'!$I$10:$I$39))","v":0}]
[null,null,null,null,"8c",{"$f":"IF($D$3<>\"\",SUMIFS('Staff Capacity'!$I$10:$I$39,'Staff Capacity'!$G$10:$G$39,\"8c\",'Staff Capacity'!$H$10:$H$39,$D$3),SUMIF('Staff Capacity'!$G$10:$G$39,\"8c\",'Staff Capacity'!$I$10:$I$39))","v":0},{"$f":"IF($D$3<>\"\",SUMIFS('Staff Capacity'!$I$10:$I$39,'Staff Capacity'!$G$10:$G$39,\"8c\",'Staff Capacity'!$H$10:$H$39,$D$3),SUMIF('Staff Capacity'!$G$10:$G$39,\"8c\",'Staff Capacity'!$I$10:$I$39))","v":0},{"$f":"IF($D$3<>\"\",SUMIFS('Staff Capacity'!$I$10:$I$39,'Staff Capacity'!$G$10:$G$39,\"8c\",'Staff Capacity'!$H$10:$H$39,$D$3),SUMIF('Staff Capacity'!$G$10:$G$39,\"8c\",'Staff Capacity'!$I$10:$I$39))","v":0},{"$f":"IF($D$3<>\"\",SUMIFS('Staff Capacity'!$I$10:$I$39,'Staff Capacity'!$G$10:$G$39,\"8c\",'Staff Capacity'!$H$10:$H$39,$D$3),SUMIF('Staff Capacity'!$G$10:$G$39,\"8c\",'Staff Capacity'!$I$10:$I$39))","v":0},{"$f":"IF($D$3<>\"\",SUMIFS('Staff Capacity'!$I$10:$I$39,'Staff Capacity'!$G$10:$G$39,\"8c\",'Staff Capacity'!$H$10:$H$39,$D$3),SUMIF('Staff Capacity'!$G$10:$G$39,\"8c\",'Staff Capacity'!$I$10:$I$39))","v":0},{"$f":"IF($D$3<>\"\",SUMIFS('Staff Capacity'!$I$10:$I$39,'Staff Capacity'!$G$10:$G$39,\"8c\",'Staff Capacity'!$H$10:$H$39,$D$3),SUMIF('Staff Capacity'!$G$10:$G$39,\"8c\",'Staff Capacity'!$I$10:$I$39))","v":0},{"$f":"IF($D$3<>\"\",SUMIFS('Staff Capacity'!$I$10:$I$39,'Staff Capacity'!$G$10:$G$39,\"8c\",'Staff Capacity'!$H$10:$H$39,$D$3),SUMIF('Staff Capacity'!$G$10:$G$39,\"8c\",'Staff Capacity'!$I$10:$I$39))","v":0},{"$f":"IF($D$3<>\"\",SUMIFS('Staff Capacity'!$I$10:$I$39,'Staff Capacity'!$G$10:$G$39,\"8c\",'Staff Capacity'!$H$10:$H$39,$D$3),SUMIF('Staff Capacity'!$G$10:$G$39,\"8c\",'Staff Capacity'!$I$10:$I$39))","v":0},{"$f":"IF($D$3<>\"\",SUMIFS('Staff Capacity'!$I$10:$I$39,'Staff Capacity'!$G$10:$G$39,\"8c\",'Staff Capacity'!$H$10:$H$39,$D$3),SUMIF('Staff Capacity'!$G$10:$G$39,\"8c\",'Staff Capacity'!$I$10:$I$39))","v":0},{"$f":"IF($D$3<>\"\",SUMIFS('Staff Capacity'!$I$10:$I$39,'Staff Capacity'!$G$10:$G$39,\"8c\",'Staff Capacity'!$H$10:$H$39,$D$3),SUMIF('Staff Capacity'!$G$10:$G$39,\"8c\",'Staff Capacity'!$I$10:$I$39))","v":0},{"$f":"IF($D$3<>\"\",SUMIFS('Staff Capacity'!$I$10:$I$39,'Staff Capacity'!$G$10:$G$39,\"8c\",'Staff Capacity'!$H$10:$H$39,$D$3),SUMIF('Staff Capacity'!$G$10:$G$39,\"8c\",'Staff Capacity'!$I$10:$I$39))","v":0},{"$f":"IF($D$3<>\"\",SUMIFS('Staff Capacity'!$I$10:$I$39,'Staff Capacity'!$G$10:$G$39,\"8c\",'Staff Capacity'!$H$10:$H$39,$D$3),SUMIF('Staff Capacity'!$G$10:$G$39,\"8c\",'Staff Capacity'!$I$10:$I$39))","v":0},{"$f":"IF($D$3<>\"\",SUMIFS('Staff Capacity'!$I$10:$I$39,'Staff Capacity'!$G$10:$G$39,\"8c\",'Staff Capacity'!$H$10:$H$39,$D$3),SUMIF('Staff Capacity'!$G$10:$G$39,\"8c\",'Staff Capacity'!$I$10:$I$39))","v":0},{"$f":"IF($D$3<>\"\",SUMIFS('Staff Capacity'!$I$10:$I$39,'Staff Capacity'!$G$10:$G$39,\"8c\",'Staff Capacity'!$H$10:$H$39,$D$3),SUMIF('Staff Capacity'!$G$10:$G$39,\"8c\",'Staff Capacity'!$I$10:$I$39))","v":0},{"$f":"IF($D$3<>\"\",SUMIFS('Staff Capacity'!$I$10:$I$39,'Staff Capacity'!$G$10:$G$39,\"8c\",'Staff Capacity'!$H$10:$H$39,$D$3),SUMIF('Staff Capacity'!$G$10:$G$39,\"8c\",'Staff Capacity'!$I$10:$I$39))","v":0},{"$f":"IF($D$3<>\"\",SUMIFS('Staff Capacity'!$I$10:$I$39,'Staff Capacity'!$G$10:$G$39,\"8c\",'Staff Capacity'!$H$10:$H$39,$D$3),SUMIF('Staff Capacity'!$G$10:$G$39,\"8c\",'Staff Capacity'!$I$10:$I$39))","v":0},{"$f":"IF($D$3<>\"\",SUMIFS('Staff Capacity'!$I$10:$I$39,'Staff Capacity'!$G$10:$G$39,\"8c\",'Staff Capacity'!$H$10:$H$39,$D$3),SUMIF('Staff Capacity'!$G$10:$G$39,\"8c\",'Staff Capacity'!$I$10:$I$39))","v":0},{"$f":"IF($D$3<>\"\",SUMIFS('Staff Capacity'!$I$10:$I$39,'Staff Capacity'!$G$10:$G$39,\"8c\",'Staff Capacity'!$H$10:$H$39,$D$3),SUMIF('Staff Capacity'!$G$10:$G$39,\"8c\",'Staff Capacity'!$I$10:$I$39))","v":0},{"$f":"IF($D$3<>\"\",SUMIFS('Staff Capacity'!$I$10:$I$39,'Staff Capacity'!$G$10:$G$39,\"8c\",'Staff Capacity'!$H$10:$H$39,$D$3),SUMIF('Staff Capacity'!$G$10:$G$39,\"8c\",'Staff Capacity'!$I$10:$I$39))","v":0},{"$f":"IF($D$3<>\"\",SUMIFS('Staff Capacity'!$I$10:$I$39,'Staff Capacity'!$G$10:$G$39,\"8c\",'Staff Capacity'!$H$10:$H$39,$D$3),SUMIF('Staff Capacity'!$G$10:$G$39,\"8c\",'Staff Capacity'!$I$10:$I$39))","v":0},{"$f":"IF($D$3<>\"\",SUMIFS('Staff Capacity'!$I$10:$I$39,'Staff Capacity'!$G$10:$G$39,\"8c\",'Staff Capacity'!$H$10:$H$39,$D$3),SUMIF('Staff Capacity'!$G$10:$G$39,\"8c\",'Staff Capacity'!$I$10:$I$39))","v":0},{"$f":"IF($D$3<>\"\",SUMIFS('Staff Capacity'!$I$10:$I$39,'Staff Capacity'!$G$10:$G$39,\"8c\",'Staff Capacity'!$H$10:$H$39,$D$3),SUMIF('Staff Capacity'!$G$10:$G$39,\"8c\",'Staff Capacity'!$I$10:$I$39))","v":0},{"$f":"IF($D$3<>\"\",SUMIFS('Staff Capacity'!$I$10:$I$39,'Staff Capacity'!$G$10:$G$39,\"8c\",'Staff Capacity'!$H$10:$H$39,$D$3),SUMIF('Staff Capacity'!$G$10:$G$39,\"8c\",'Staff Capacity'!$I$10:$I$39))","v":0},{"$f":"IF($D$3<>\"\",SUMIFS('Staff Capacity'!$I$10:$I$39,'Staff Capacity'!$G$10:$G$39,\"8c\",'Staff Capacity'!$H$10:$H$39,$D$3),SUMIF('Staff Capacity'!$G$10:$G$39,\"8c\",'Staff Capacity'!$I$10:$I$39))","v":0},{"$f":"IF($D$3<>\"\",SUMIFS('Staff Capacity'!$I$10:$I$39,'Staff Capacity'!$G$10:$G$39,\"8c\",'Staff Capacity'!$H$10:$H$39,$D$3),SUMIF('Staff Capacity'!$G$10:$G$39,\"8c\",'Staff Capacity'!$I$10:$I$39))","v":0},{"$f":"IF($D$3<>\"\",SUMIFS('Staff Capacity'!$I$10:$I$39,'Staff Capacity'!$G$10:$G$39,\"8c\",'Staff Capacity'!$H$10:$H$39,$D$3),SUMIF('Staff Capacity'!$G$10:$G$39,\"8c\",'Staff Capacity'!$I$10:$I$39))","v":0},{"$f":"IF($D$3<>\"\",SUMIFS('Staff Capacity'!$I$10:$I$39,'Staff Capacity'!$G$10:$G$39,\"8c\",'Staff Capacity'!$H$10:$H$39,$D$3),SUMIF('Staff Capacity'!$G$10:$G$39,\"8c\",'Staff Capacity'!$I$10:$I$39))","v":0},{"$f":"IF($D$3<>\"\",SUMIFS('Staff Capacity'!$I$10:$I$39,'Staff Capacity'!$G$10:$G$39,\"8c\",'Staff Capacity'!$H$10:$H$39,$D$3),SUMIF('Staff Capacity'!$G$10:$G$39,\"8c\",'Staff Capacity'!$I$10:$I$39))","v":0},{"$f":"IF($D$3<>\"\",SUMIFS('Staff Capacity'!$I$10:$I$39,'Staff Capacity'!$G$10:$G$39,\"8c\",'Staff Capacity'!$H$10:$H$39,$D$3),SUMIF('Staff Capacity'!$G$10:$G$39,\"8c\",'Staff Capacity'!$I$10:$I$39))","v":0},{"$f":"IF($D$3<>\"\",SUMIFS('Staff Capacity'!$I$10:$I$39,'Staff Capacity'!$G$10:$G$39,\"8c\",'Staff Capacity'!$H$10:$H$39,$D$3),SUMIF('Staff Capacity'!$G$10:$G$39,\"8c\",'Staff Capacity'!$I$10:$I$39))","v":0},{"$f":"IF($D$3<>\"\",SUMIFS('Staff Capacity'!$I$10:$I$39,'Staff Capacity'!$G$10:$G$39,\"8c\",'Staff Capacity'!$H$10:$H$39,$D$3),SUMIF('Staff Capacity'!$G$10:$G$39,\"8c\",'Staff Capacity'!$I$10:$I$39))","v":0},{"$f":"IF($D$3<>\"\",SUMIFS('Staff Capacity'!$I$10:$I$39,'Staff Capacity'!$G$10:$G$39,\"8c\",'Staff Capacity'!$H$10:$H$39,$D$3),SUMIF('Staff Capacity'!$G$10:$G$39,\"8c\",'Staff Capacity'!$I$10:$I$39))","v":0},{"$f":"IF($D$3<>\"\",SUMIFS('Staff Capacity'!$I$10:$I$39,'Staff Capacity'!$G$10:$G$39,\"8c\",'Staff Capacity'!$H$10:$H$39,$D$3),SUMIF('Staff Capacity'!$G$10:$G$39,\"8c\",'Staff Capacity'!$I$10:$I$39))","v":0},{"$f":"IF($D$3<>\"\",SUMIFS('Staff Capacity'!$I$10:$I$39,'Staff Capacity'!$G$10:$G$39,\"8c\",'Staff Capacity'!$H$10:$H$39,$D$3),SUMIF('Staff Capacity'!$G$10:$G$39,\"8c\",'Staff Capacity'!$I$10:$I$39))","v":0},{"$f":"IF($D$3<>\"\",SUMIFS('Staff Capacity'!$I$10:$I$39,'Staff Capacity'!$G$10:$G$39,\"8c\",'Staff Capacity'!$H$10:$H$39,$D$3),SUMIF('Staff Capacity'!$G$10:$G$39,\"8c\",'Staff Capacity'!$I$10:$I$39))","v":0},{"$f":"IF($D$3<>\"\",SUMIFS('Staff Capacity'!$I$10:$I$39,'Staff Capacity'!$G$10:$G$39,\"8c\",'Staff Capacity'!$H$10:$H$39,$D$3),SUMIF('Staff Capacity'!$G$10:$G$39,\"8c\",'Staff Capacity'!$I$10:$I$39))","v":0},{"$f":"IF($D$3<>\"\",SUMIFS('Staff Capacity'!$I$10:$I$39,'Staff Capacity'!$G$10:$G$39,\"8c\",'Staff Capacity'!$H$10:$H$39,$D$3),SUMIF('Staff Capacity'!$G$10:$G$39,\"8c\",'Staff Capacity'!$I$10:$I$39))","v":0},{"$f":"IF($D$3<>\"\",SUMIFS('Staff Capacity'!$I$10:$I$39,'Staff Capacity'!$G$10:$G$39,\"8c\",'Staff Capacity'!$H$10:$H$39,$D$3),SUMIF('Staff Capacity'!$G$10:$G$39,\"8c\",'Staff Capacity'!$I$10:$I$39))","v":0},{"$f":"IF($D$3<>\"\",SUMIFS('Staff Capacity'!$I$10:$I$39,'Staff Capacity'!$G$10:$G$39,\"8c\",'Staff Capacity'!$H$10:$H$39,$D$3),SUMIF('Staff Capacity'!$G$10:$G$39,\"8c\",'Staff Capacity'!$I$10:$I$39))","v":0},{"$f":"IF($D$3<>\"\",SUMIFS('Staff Capacity'!$I$10:$I$39,'Staff Capacity'!$G$10:$G$39,\"8c\",'Staff Capacity'!$H$10:$H$39,$D$3),SUMIF('Staff Capacity'!$G$10:$G$39,\"8c\",'Staff Capacity'!$I$10:$I$39))","v":0},{"$f":"IF($D$3<>\"\",SUMIFS('Staff Capacity'!$I$10:$I$39,'Staff Capacity'!$G$10:$G$39,\"8c\",'Staff Capacity'!$H$10:$H$39,$D$3),SUMIF('Staff Capacity'!$G$10:$G$39,\"8c\",'Staff Capacity'!$I$10:$I$39))","v":0},{"$f":"IF($D$3<>\"\",SUMIFS('Staff Capacity'!$I$10:$I$39,'Staff Capacity'!$G$10:$G$39,\"8c\",'Staff Capacity'!$H$10:$H$39,$D$3),SUMIF('Staff Capacity'!$G$10:$G$39,\"8c\",'Staff Capacity'!$I$10:$I$39))","v":0},{"$f":"IF($D$3<>\"\",SUMIFS('Staff Capacity'!$I$10:$I$39,'Staff Capacity'!$G$10:$G$39,\"8c\",'Staff Capacity'!$H$10:$H$39,$D$3),SUMIF('Staff Capacity'!$G$10:$G$39,\"8c\",'Staff Capacity'!$I$10:$I$39))","v":0},{"$f":"IF($D$3<>\"\",SUMIFS('Staff Capacity'!$I$10:$I$39,'Staff Capacity'!$G$10:$G$39,\"8c\",'Staff Capacity'!$H$10:$H$39,$D$3),SUMIF('Staff Capacity'!$G$10:$G$39,\"8c\",'Staff Capacity'!$I$10:$I$39))","v":0},{"$f":"IF($D$3<>\"\",SUMIFS('Staff Capacity'!$I$10:$I$39,'Staff Capacity'!$G$10:$G$39,\"8c\",'Staff Capacity'!$H$10:$H$39,$D$3),SUMIF('Staff Capacity'!$G$10:$G$39,\"8c\",'Staff Capacity'!$I$10:$I$39))","v":0},{"$f":"IF($D$3<>\"\",SUMIFS('Staff Capacity'!$I$10:$I$39,'Staff Capacity'!$G$10:$G$39,\"8c\",'Staff Capacity'!$H$10:$H$39,$D$3),SUMIF('Staff Capacity'!$G$10:$G$39,\"8c\",'Staff Capacity'!$I$10:$I$39))","v":0},{"$f":"IF($D$3<>\"\",SUMIFS('Staff Capacity'!$I$10:$I$39,'Staff Capacity'!$G$10:$G$39,\"8c\",'Staff Capacity'!$H$10:$H$39,$D$3),SUMIF('Staff Capacity'!$G$10:$G$39,\"8c\",'Staff Capacity'!$I$10:$I$39))","v":0},{"$f":"IF($D$3<>\"\",SUMIFS('Staff Capacity'!$I$10:$I$39,'Staff Capacity'!$G$10:$G$39,\"8c\",'Staff Capacity'!$H$10:$H$39,$D$3),SUMIF('Staff Capacity'!$G$10:$G$39,\"8c\",'Staff Capacity'!$I$10:$I$39))","v":0},{"$f":"IF($D$3<>\"\",SUMIFS('Staff Capacity'!$I$10:$I$39,'Staff Capacity'!$G$10:$G$39,\"8c\",'Staff Capacity'!$H$10:$H$39,$D$3),SUMIF('Staff Capacity'!$G$10:$G$39,\"8c\",'Staff Capacity'!$I$10:$I$39))","v":0},{"$f":"IF($D$3<>\"\",SUMIFS('Staff Capacity'!$I$10:$I$39,'Staff Capacity'!$G$10:$G$39,\"8c\",'Staff Capacity'!$H$10:$H$39,$D$3),SUMIF('Staff Capacity'!$G$10:$G$39,\"8c\",'Staff Capacity'!$I$10:$I$39))","v":0},{"$f":"IF($D$3<>\"\",SUMIFS('Staff Capacity'!$I$10:$I$39,'Staff Capacity'!$G$10:$G$39,\"8c\",'Staff Capacity'!$H$10:$H$39,$D$3),SUMIF('Staff Capacity'!$G$10:$G$39,\"8c\",'Staff Capacity'!$I$10:$I$39))","v":0},{"$f":"IF($D$3<>\"\",SUMIFS('Staff Capacity'!$I$10:$I$39,'Staff Capacity'!$G$10:$G$39,\"8c\",'Staff Capacity'!$H$10:$H$39,$D$3),SUMIF('Staff Capacity'!$G$10:$G$39,\"8c\",'Staff Capacity'!$I$10:$I$39))","v":0},{"$f":"IF($D$3<>\"\",SUMIFS('Staff Capacity'!$I$10:$I$39,'Staff Capacity'!$G$10:$G$39,\"8c\",'Staff Capacity'!$H$10:$H$39,$D$3),SUMIF('Staff Capacity'!$G$10:$G$39,\"8c\",'Staff Capacity'!$I$10:$I$39))","v":0},{"$f":"IF($D$3<>\"\",SUMIFS('Staff Capacity'!$I$10:$I$39,'Staff Capacity'!$G$10:$G$39,\"8c\",'Staff Capacity'!$H$10:$H$39,$D$3),SUMIF('Staff Capacity'!$G$10:$G$39,\"8c\",'Staff Capacity'!$I$10:$I$39))","v":0},{"$f":"IF($D$3<>\"\",SUMIFS('Staff Capacity'!$I$10:$I$39,'Staff Capacity'!$G$10:$G$39,\"8c\",'Staff Capacity'!$H$10:$H$39,$D$3),SUMIF('Staff Capacity'!$G$10:$G$39,\"8c\",'Staff Capacity'!$I$10:$I$39))","v":0},{"$f":"IF($D$3<>\"\",SUMIFS('Staff Capacity'!$I$10:$I$39,'Staff Capacity'!$G$10:$G$39,\"8c\",'Staff Capacity'!$H$10:$H$39,$D$3),SUMIF('Staff Capacity'!$G$10:$G$39,\"8c\",'Staff Capacity'!$I$10:$I$39))","v":0},{"$f":"IF($D$3<>\"\",SUMIFS('Staff Capacity'!$I$10:$I$39,'Staff Capacity'!$G$10:$G$39,\"8c\",'Staff Capacity'!$H$10:$H$39,$D$3),SUMIF('Staff Capacity'!$G$10:$G$39,\"8c\",'Staff Capacity'!$I$10:$I$39))","v":0},{"$f":"IF($D$3<>\"\",SUMIFS('Staff Capacity'!$I$10:$I$39,'Staff Capacity'!$G$10:$G$39,\"8c\",'Staff Capacity'!$H$10:$H$39,$D$3),SUMIF('Staff Capacity'!$G$10:$G$39,\"8c\",'Staff Capacity'!$I$10:$I$39))","v":0},{"$f":"IF($D$3<>\"\",SUMIFS('Staff Capacity'!$I$10:$I$39,'Staff Capacity'!$G$10:$G$39,\"8c\",'Staff Capacity'!$H$10:$H$39,$D$3),SUMIF('Staff Capacity'!$G$10:$G$39,\"8c\",'Staff Capacity'!$I$10:$I$39))","v":0},{"$f":"IF($D$3<>\"\",SUMIFS('Staff Capacity'!$I$10:$I$39,'Staff Capacity'!$G$10:$G$39,\"8c\",'Staff Capacity'!$H$10:$H$39,$D$3),SUMIF('Staff Capacity'!$G$10:$G$39,\"8c\",'Staff Capacity'!$I$10:$I$39))","v":0},{"$f":"IF($D$3<>\"\",SUMIFS('Staff Capacity'!$I$10:$I$39,'Staff Capacity'!$G$10:$G$39,\"8c\",'Staff Capacity'!$H$10:$H$39,$D$3),SUMIF('Staff Capacity'!$G$10:$G$39,\"8c\",'Staff Capacity'!$I$10:$I$39))","v":0},{"$f":"IF($D$3<>\"\",SUMIFS('Staff Capacity'!$I$10:$I$39,'Staff Capacity'!$G$10:$G$39,\"8c\",'Staff Capacity'!$H$10:$H$39,$D$3),SUMIF('Staff Capacity'!$G$10:$G$39,\"8c\",'Staff Capacity'!$I$10:$I$39))","v":0},{"$f":"IF($D$3<>\"\",SUMIFS('Staff Capacity'!$I$10:$I$39,'Staff Capacity'!$G$10:$G$39,\"8c\",'Staff Capacity'!$H$10:$H$39,$D$3),SUMIF('Staff Capacity'!$G$10:$G$39,\"8c\",'Staff Capacity'!$I$10:$I$39))","v":0},{"$f":"IF($D$3<>\"\",SUMIFS('Staff Capacity'!$I$10:$I$39,'Staff Capacity'!$G$10:$G$39,\"8c\",'Staff Capacity'!$H$10:$H$39,$D$3),SUMIF('Staff Capacity'!$G$10:$G$39,\"8c\",'Staff Capacity'!$I$10:$I$39))","v":0},{"$f":"IF($D$3<>\"\",SUMIFS('Staff Capacity'!$I$10:$I$39,'Staff Capacity'!$G$10:$G$39,\"8c\",'Staff Capacity'!$H$10:$H$39,$D$3),SUMIF('Staff Capacity'!$G$10:$G$39,\"8c\",'Staff Capacity'!$I$10:$I$39))","v":0},{"$f":"IF($D$3<>\"\",SUMIFS('Staff Capacity'!$I$10:$I$39,'Staff Capacity'!$G$10:$G$39,\"8c\",'Staff Capacity'!$H$10:$H$39,$D$3),SUMIF('Staff Capacity'!$G$10:$G$39,\"8c\",'Staff Capacity'!$I$10:$I$39))","v":0},{"$f":"IF($D$3<>\"\",SUMIFS('Staff Capacity'!$I$10:$I$39,'Staff Capacity'!$G$10:$G$39,\"8c\",'Staff Capacity'!$H$10:$H$39,$D$3),SUMIF('Staff Capacity'!$G$10:$G$39,\"8c\",'Staff Capacity'!$I$10:$I$39))","v":0},{"$f":"IF($D$3<>\"\",SUMIFS('Staff Capacity'!$I$10:$I$39,'Staff Capacity'!$G$10:$G$39,\"8c\",'Staff Capacity'!$H$10:$H$39,$D$3),SUMIF('Staff Capacity'!$G$10:$G$39,\"8c\",'Staff Capacity'!$I$10:$I$39))","v":0},{"$f":"IF($D$3<>\"\",SUMIFS('Staff Capacity'!$I$10:$I$39,'Staff Capacity'!$G$10:$G$39,\"8c\",'Staff Capacity'!$H$10:$H$39,$D$3),SUMIF('Staff Capacity'!$G$10:$G$39,\"8c\",'Staff Capacity'!$I$10:$I$39))","v":0},{"$f":"IF($D$3<>\"\",SUMIFS('Staff Capacity'!$I$10:$I$39,'Staff Capacity'!$G$10:$G$39,\"8c\",'Staff Capacity'!$H$10:$H$39,$D$3),SUMIF('Staff Capacity'!$G$10:$G$39,\"8c\",'Staff Capacity'!$I$10:$I$39))","v":0},{"$f":"IF($D$3<>\"\",SUMIFS('Staff Capacity'!$I$10:$I$39,'Staff Capacity'!$G$10:$G$39,\"8c\",'Staff Capacity'!$H$10:$H$39,$D$3),SUMIF('Staff Capacity'!$G$10:$G$39,\"8c\",'Staff Capacity'!$I$10:$I$39))","v":0},{"$f":"IF($D$3<>\"\",SUMIFS('Staff Capacity'!$I$10:$I$39,'Staff Capacity'!$G$10:$G$39,\"8c\",'Staff Capacity'!$H$10:$H$39,$D$3),SUMIF('Staff Capacity'!$G$10:$G$39,\"8c\",'Staff Capacity'!$I$10:$I$39))","v":0},{"$f":"IF($D$3<>\"\",SUMIFS('Staff Capacity'!$I$10:$I$39,'Staff Capacity'!$G$10:$G$39,\"8c\",'Staff Capacity'!$H$10:$H$39,$D$3),SUMIF('Staff Capacity'!$G$10:$G$39,\"8c\",'Staff Capacity'!$I$10:$I$39))","v":0},{"$f":"IF($D$3<>\"\",SUMIFS('Staff Capacity'!$I$10:$I$39,'Staff Capacity'!$G$10:$G$39,\"8c\",'Staff Capacity'!$H$10:$H$39,$D$3),SUMIF('Staff Capacity'!$G$10:$G$39,\"8c\",'Staff Capacity'!$I$10:$I$39))","v":0},{"$f":"IF($D$3<>\"\",SUMIFS('Staff Capacity'!$I$10:$I$39,'Staff Capacity'!$G$10:$G$39,\"8c\",'Staff Capacity'!$H$10:$H$39,$D$3),SUMIF('Staff Capacity'!$G$10:$G$39,\"8c\",'Staff Capacity'!$I$10:$I$39))","v":0},{"$f":"IF($D$3<>\"\",SUMIFS('Staff Capacity'!$I$10:$I$39,'Staff Capacity'!$G$10:$G$39,\"8c\",'Staff Capacity'!$H$10:$H$39,$D$3),SUMIF('Staff Capacity'!$G$10:$G$39,\"8c\",'Staff Capacity'!$I$10:$I$39))","v":0},{"$f":"IF($D$3<>\"\",SUMIFS('Staff Capacity'!$I$10:$I$39,'Staff Capacity'!$G$10:$G$39,\"8c\",'Staff Capacity'!$H$10:$H$39,$D$3),SUMIF('Staff Capacity'!$G$10:$G$39,\"8c\",'Staff Capacity'!$I$10:$I$39))","v":0},{"$f":"IF($D$3<>\"\",SUMIFS('Staff Capacity'!$I$10:$I$39,'Staff Capacity'!$G$10:$G$39,\"8c\",'Staff Capacity'!$H$10:$H$39,$D$3),SUMIF('Staff Capacity'!$G$10:$G$39,\"8c\",'Staff Capacity'!$I$10:$I$39))","v":0},{"$f":"IF($D$3<>\"\",SUMIFS('Staff Capacity'!$I$10:$I$39,'Staff Capacity'!$G$10:$G$39,\"8c\",'Staff Capacity'!$H$10:$H$39,$D$3),SUMIF('Staff Capacity'!$G$10:$G$39,\"8c\",'Staff Capacity'!$I$10:$I$39))","v":0},{"$f":"IF($D$3<>\"\",SUMIFS('Staff Capacity'!$I$10:$I$39,'Staff Capacity'!$G$10:$G$39,\"8c\",'Staff Capacity'!$H$10:$H$39,$D$3),SUMIF('Staff Capacity'!$G$10:$G$39,\"8c\",'Staff Capacity'!$I$10:$I$39))","v":0},{"$f":"IF($D$3<>\"\",SUMIFS('Staff Capacity'!$I$10:$I$39,'Staff Capacity'!$G$10:$G$39,\"8c\",'Staff Capacity'!$H$10:$H$39,$D$3),SUMIF('Staff Capacity'!$G$10:$G$39,\"8c\",'Staff Capacity'!$I$10:$I$39))","v":0},{"$f":"IF($D$3<>\"\",SUMIFS('Staff Capacity'!$I$10:$I$39,'Staff Capacity'!$G$10:$G$39,\"8c\",'Staff Capacity'!$H$10:$H$39,$D$3),SUMIF('Staff Capacity'!$G$10:$G$39,\"8c\",'Staff Capacity'!$I$10:$I$39))","v":0},{"$f":"IF($D$3<>\"\",SUMIFS('Staff Capacity'!$I$10:$I$39,'Staff Capacity'!$G$10:$G$39,\"8c\",'Staff Capacity'!$H$10:$H$39,$D$3),SUMIF('Staff Capacity'!$G$10:$G$39,\"8c\",'Staff Capacity'!$I$10:$I$39))","v":0},{"$f":"IF($D$3<>\"\",SUMIFS('Staff Capacity'!$I$10:$I$39,'Staff Capacity'!$G$10:$G$39,\"8c\",'Staff Capacity'!$H$10:$H$39,$D$3),SUMIF('Staff Capacity'!$G$10:$G$39,\"8c\",'Staff Capacity'!$I$10:$I$39))","v":0},{"$f":"IF($D$3<>\"\",SUMIFS('Staff Capacity'!$I$10:$I$39,'Staff Capacity'!$G$10:$G$39,\"8c\",'Staff Capacity'!$H$10:$H$39,$D$3),SUMIF('Staff Capacity'!$G$10:$G$39,\"8c\",'Staff Capacity'!$I$10:$I$39))","v":0},{"$f":"IF($D$3<>\"\",SUMIFS('Staff Capacity'!$I$10:$I$39,'Staff Capacity'!$G$10:$G$39,\"8c\",'Staff Capacity'!$H$10:$H$39,$D$3),SUMIF('Staff Capacity'!$G$10:$G$39,\"8c\",'Staff Capacity'!$I$10:$I$39))","v":0},{"$f":"IF($D$3<>\"\",SUMIFS('Staff Capacity'!$I$10:$I$39,'Staff Capacity'!$G$10:$G$39,\"8c\",'Staff Capacity'!$H$10:$H$39,$D$3),SUMIF('Staff Capacity'!$G$10:$G$39,\"8c\",'Staff Capacity'!$I$10:$I$39))","v":0},{"$f":"IF($D$3<>\"\",SUMIFS('Staff Capacity'!$I$10:$I$39,'Staff Capacity'!$G$10:$G$39,\"8c\",'Staff Capacity'!$H$10:$H$39,$D$3),SUMIF('Staff Capacity'!$G$10:$G$39,\"8c\",'Staff Capacity'!$I$10:$I$39))","v":0},{"$f":"IF($D$3<>\"\",SUMIFS('Staff Capacity'!$I$10:$I$39,'Staff Capacity'!$G$10:$G$39,\"8c\",'Staff Capacity'!$H$10:$H$39,$D$3),SUMIF('Staff Capacity'!$G$10:$G$39,\"8c\",'Staff Capacity'!$I$10:$I$39))","v":0},{"$f":"IF($D$3<>\"\",SUMIFS('Staff Capacity'!$I$10:$I$39,'Staff Capacity'!$G$10:$G$39,\"8c\",'Staff Capacity'!$H$10:$H$39,$D$3),SUMIF('Staff Capacity'!$G$10:$G$39,\"8c\",'Staff Capacity'!$I$10:$I$39))","v":0},{"$f":"IF($D$3<>\"\",SUMIFS('Staff Capacity'!$I$10:$I$39,'Staff Capacity'!$G$10:$G$39,\"8c\",'Staff Capacity'!$H$10:$H$39,$D$3),SUMIF('Staff Capacity'!$G$10:$G$39,\"8c\",'Staff Capacity'!$I$10:$I$39))","v":0},{"$f":"IF($D$3<>\"\",SUMIFS('Staff Capacity'!$I$10:$I$39,'Staff Capacity'!$G$10:$G$39,\"8c\",'Staff Capacity'!$H$10:$H$39,$D$3),SUMIF('Staff Capacity'!$G$10:$G$39,\"8c\",'Staff Capacity'!$I$10:$I$39))","v":0},{"$f":"IF($D$3<>\"\",SUMIFS('Staff Capacity'!$I$10:$I$39,'Staff Capacity'!$G$10:$G$39,\"8c\",'Staff Capacity'!$H$10:$H$39,$D$3),SUMIF('Staff Capacity'!$G$10:$G$39,\"8c\",'Staff Capacity'!$I$10:$I$39))","v":0},{"$f":"IF($D$3<>\"\",SUMIFS('Staff Capacity'!$I$10:$I$39,'Staff Capacity'!$G$10:$G$39,\"8c\",'Staff Capacity'!$H$10:$H$39,$D$3),SUMIF('Staff Capacity'!$G$10:$G$39,\"8c\",'Staff Capacity'!$I$10:$I$39))","v":0},{"$f":"IF($D$3<>\"\",SUMIFS('Staff Capacity'!$I$10:$I$39,'Staff Capacity'!$G$10:$G$39,\"8c\",'Staff Capacity'!$H$10:$H$39,$D$3),SUMIF('Staff Capacity'!$G$10:$G$39,\"8c\",'Staff Capacity'!$I$10:$I$39))","v":0},{"$f":"IF($D$3<>\"\",SUMIFS('Staff Capacity'!$I$10:$I$39,'Staff Capacity'!$G$10:$G$39,\"8c\",'Staff Capacity'!$H$10:$H$39,$D$3),SUMIF('Staff Capacity'!$G$10:$G$39,\"8c\",'Staff Capacity'!$I$10:$I$39))","v":0},{"$f":"IF($D$3<>\"\",SUMIFS('Staff Capacity'!$I$10:$I$39,'Staff Capacity'!$G$10:$G$39,\"8c\",'Staff Capacity'!$H$10:$H$39,$D$3),SUMIF('Staff Capacity'!$G$10:$G$39,\"8c\",'Staff Capacity'!$I$10:$I$39))","v":0},{"$f":"IF($D$3<>\"\",SUMIFS('Staff Capacity'!$I$10:$I$39,'Staff Capacity'!$G$10:$G$39,\"8c\",'Staff Capacity'!$H$10:$H$39,$D$3),SUMIF('Staff Capacity'!$G$10:$G$39,\"8c\",'Staff Capacity'!$I$10:$I$39))","v":0},{"$f":"IF($D$3<>\"\",SUMIFS('Staff Capacity'!$I$10:$I$39,'Staff Capacity'!$G$10:$G$39,\"8c\",'Staff Capacity'!$H$10:$H$39,$D$3),SUMIF('Staff Capacity'!$G$10:$G$39,\"8c\",'Staff Capacity'!$I$10:$I$39))","v":0},{"$f":"IF($D$3<>\"\",SUMIFS('Staff Capacity'!$I$10:$I$39,'Staff Capacity'!$G$10:$G$39,\"8c\",'Staff Capacity'!$H$10:$H$39,$D$3),SUMIF('Staff Capacity'!$G$10:$G$39,\"8c\",'Staff Capacity'!$I$10:$I$39))","v":0},{"$f":"IF($D$3<>\"\",SUMIFS('Staff Capacity'!$I$10:$I$39,'Staff Capacity'!$G$10:$G$39,\"8c\",'Staff Capacity'!$H$10:$H$39,$D$3),SUMIF('Staff Capacity'!$G$10:$G$39,\"8c\",'Staff Capacity'!$I$10:$I$39))","v":0},{"$f":"IF($D$3<>\"\",SUMIFS('Staff Capacity'!$I$10:$I$39,'Staff Capacity'!$G$10:$G$39,\"8c\",'Staff Capacity'!$H$10:$H$39,$D$3),SUMIF('Staff Capacity'!$G$10:$G$39,\"8c\",'Staff Capacity'!$I$10:$I$39))","v":0},{"$f":"IF($D$3<>\"\",SUMIFS('Staff Capacity'!$I$10:$I$39,'Staff Capacity'!$G$10:$G$39,\"8c\",'Staff Capacity'!$H$10:$H$39,$D$3),SUMIF('Staff Capacity'!$G$10:$G$39,\"8c\",'Staff Capacity'!$I$10:$I$39))","v":0},{"$f":"IF($D$3<>\"\",SUMIFS('Staff Capacity'!$I$10:$I$39,'Staff Capacity'!$G$10:$G$39,\"8c\",'Staff Capacity'!$H$10:$H$39,$D$3),SUMIF('Staff Capacity'!$G$10:$G$39,\"8c\",'Staff Capacity'!$I$10:$I$39))","v":0},{"$f":"IF($D$3<>\"\",SUMIFS('Staff Capacity'!$I$10:$I$39,'Staff Capacity'!$G$10:$G$39,\"8c\",'Staff Capacity'!$H$10:$H$39,$D$3),SUMIF('Staff Capacity'!$G$10:$G$39,\"8c\",'Staff Capacity'!$I$10:$I$39))","v":0},{"$f":"IF($D$3<>\"\",SUMIFS('Staff Capacity'!$I$10:$I$39,'Staff Capacity'!$G$10:$G$39,\"8c\",'Staff Capacity'!$H$10:$H$39,$D$3),SUMIF('Staff Capacity'!$G$10:$G$39,\"8c\",'Staff Capacity'!$I$10:$I$39))","v":0},{"$f":"IF($D$3<>\"\",SUMIFS('Staff Capacity'!$I$10:$I$39,'Staff Capacity'!$G$10:$G$39,\"8c\",'Staff Capacity'!$H$10:$H$39,$D$3),SUMIF('Staff Capacity'!$G$10:$G$39,\"8c\",'Staff Capacity'!$I$10:$I$39))","v":0},{"$f":"IF($D$3<>\"\",SUMIFS('Staff Capacity'!$I$10:$I$39,'Staff Capacity'!$G$10:$G$39,\"8c\",'Staff Capacity'!$H$10:$H$39,$D$3),SUMIF('Staff Capacity'!$G$10:$G$39,\"8c\",'Staff Capacity'!$I$10:$I$39))","v":0},{"$f":"IF($D$3<>\"\",SUMIFS('Staff Capacity'!$I$10:$I$39,'Staff Capacity'!$G$10:$G$39,\"8c\",'Staff Capacity'!$H$10:$H$39,$D$3),SUMIF('Staff Capacity'!$G$10:$G$39,\"8c\",'Staff Capacity'!$I$10:$I$39))","v":0},{"$f":"IF($D$3<>\"\",SUMIFS('Staff Capacity'!$I$10:$I$39,'Staff Capacity'!$G$10:$G$39,\"8c\",'Staff Capacity'!$H$10:$H$39,$D$3),SUMIF('Staff Capacity'!$G$10:$G$39,\"8c\",'Staff Capacity'!$I$10:$I$39))","v":0},{"$f":"IF($D$3<>\"\",SUMIFS('Staff Capacity'!$I$10:$I$39,'Staff Capacity'!$G$10:$G$39,\"8c\",'Staff Capacity'!$H$10:$H$39,$D$3),SUMIF('Staff Capacity'!$G$10:$G$39,\"8c\",'Staff Capacity'!$I$10:$I$39))","v":0},{"$f":"IF($D$3<>\"\",SUMIFS('Staff Capacity'!$I$10:$I$39,'Staff Capacity'!$G$10:$G$39,\"8c\",'Staff Capacity'!$H$10:$H$39,$D$3),SUMIF('Staff Capacity'!$G$10:$G$39,\"8c\",'Staff Capacity'!$I$10:$I$39))","v":0},{"$f":"IF($D$3<>\"\",SUMIFS('Staff Capacity'!$I$10:$I$39,'Staff Capacity'!$G$10:$G$39,\"8c\",'Staff Capacity'!$H$10:$H$39,$D$3),SUMIF('Staff Capacity'!$G$10:$G$39,\"8c\",'Staff Capacity'!$I$10:$I$39))","v":0},{"$f":"IF($D$3<>\"\",SUMIFS('Staff Capacity'!$I$10:$I$39,'Staff Capacity'!$G$10:$G$39,\"8c\",'Staff Capacity'!$H$10:$H$39,$D$3),SUMIF('Staff Capacity'!$G$10:$G$39,\"8c\",'Staff Capacity'!$I$10:$I$39))","v":0},{"$f":"IF($D$3<>\"\",SUMIFS('Staff Capacity'!$I$10:$I$39,'Staff Capacity'!$G$10:$G$39,\"8c\",'Staff Capacity'!$H$10:$H$39,$D$3),SUMIF('Staff Capacity'!$G$10:$G$39,\"8c\",'Staff Capacity'!$I$10:$I$39))","v":0},{"$f":"IF($D$3<>\"\",SUMIFS('Staff Capacity'!$I$10:$I$39,'Staff Capacity'!$G$10:$G$39,\"8c\",'Staff Capacity'!$H$10:$H$39,$D$3),SUMIF('Staff Capacity'!$G$10:$G$39,\"8c\",'Staff Capacity'!$I$10:$I$39))","v":0},{"$f":"IF($D$3<>\"\",SUMIFS('Staff Capacity'!$I$10:$I$39,'Staff Capacity'!$G$10:$G$39,\"8c\",'Staff Capacity'!$H$10:$H$39,$D$3),SUMIF('Staff Capacity'!$G$10:$G$39,\"8c\",'Staff Capacity'!$I$10:$I$39))","v":0},{"$f":"IF($D$3<>\"\",SUMIFS('Staff Capacity'!$I$10:$I$39,'Staff Capacity'!$G$10:$G$39,\"8c\",'Staff Capacity'!$H$10:$H$39,$D$3),SUMIF('Staff Capacity'!$G$10:$G$39,\"8c\",'Staff Capacity'!$I$10:$I$39))","v":0},{"$f":"IF($D$3<>\"\",SUMIFS('Staff Capacity'!$I$10:$I$39,'Staff Capacity'!$G$10:$G$39,\"8c\",'Staff Capacity'!$H$10:$H$39,$D$3),SUMIF('Staff Capacity'!$G$10:$G$39,\"8c\",'Staff Capacity'!$I$10:$I$39))","v":0},{"$f":"IF($D$3<>\"\",SUMIFS('Staff Capacity'!$I$10:$I$39,'Staff Capacity'!$G$10:$G$39,\"8c\",'Staff Capacity'!$H$10:$H$39,$D$3),SUMIF('Staff Capacity'!$G$10:$G$39,\"8c\",'Staff Capacity'!$I$10:$I$39))","v":0},{"$f":"IF($D$3<>\"\",SUMIFS('Staff Capacity'!$I$10:$I$39,'Staff Capacity'!$G$10:$G$39,\"8c\",'Staff Capacity'!$H$10:$H$39,$D$3),SUMIF('Staff Capacity'!$G$10:$G$39,\"8c\",'Staff Capacity'!$I$10:$I$39))","v":0},{"$f":"IF($D$3<>\"\",SUMIFS('Staff Capacity'!$I$10:$I$39,'Staff Capacity'!$G$10:$G$39,\"8c\",'Staff Capacity'!$H$10:$H$39,$D$3),SUMIF('Staff Capacity'!$G$10:$G$39,\"8c\",'Staff Capacity'!$I$10:$I$39))","v":0},{"$f":"IF($D$3<>\"\",SUMIFS('Staff Capacity'!$I$10:$I$39,'Staff Capacity'!$G$10:$G$39,\"8c\",'Staff Capacity'!$H$10:$H$39,$D$3),SUMIF('Staff Capacity'!$G$10:$G$39,\"8c\",'Staff Capacity'!$I$10:$I$39))","v":0},{"$f":"IF($D$3<>\"\",SUMIFS('Staff Capacity'!$I$10:$I$39,'Staff Capacity'!$G$10:$G$39,\"8c\",'Staff Capacity'!$H$10:$H$39,$D$3),SUMIF('Staff Capacity'!$G$10:$G$39,\"8c\",'Staff Capacity'!$I$10:$I$39))","v":0},{"$f":"IF($D$3<>\"\",SUMIFS('Staff Capacity'!$I$10:$I$39,'Staff Capacity'!$G$10:$G$39,\"8c\",'Staff Capacity'!$H$10:$H$39,$D$3),SUMIF('Staff Capacity'!$G$10:$G$39,\"8c\",'Staff Capacity'!$I$10:$I$39))","v":0},{"$f":"IF($D$3<>\"\",SUMIFS('Staff Capacity'!$I$10:$I$39,'Staff Capacity'!$G$10:$G$39,\"8c\",'Staff Capacity'!$H$10:$H$39,$D$3),SUMIF('Staff Capacity'!$G$10:$G$39,\"8c\",'Staff Capacity'!$I$10:$I$39))","v":0},{"$f":"IF($D$3<>\"\",SUMIFS('Staff Capacity'!$I$10:$I$39,'Staff Capacity'!$G$10:$G$39,\"8c\",'Staff Capacity'!$H$10:$H$39,$D$3),SUMIF('Staff Capacity'!$G$10:$G$39,\"8c\",'Staff Capacity'!$I$10:$I$39))","v":0},{"$f":"IF($D$3<>\"\",SUMIFS('Staff Capacity'!$I$10:$I$39,'Staff Capacity'!$G$10:$G$39,\"8c\",'Staff Capacity'!$H$10:$H$39,$D$3),SUMIF('Staff Capacity'!$G$10:$G$39,\"8c\",'Staff Capacity'!$I$10:$I$39))","v":0},{"$f":"IF($D$3<>\"\",SUMIFS('Staff Capacity'!$I$10:$I$39,'Staff Capacity'!$G$10:$G$39,\"8c\",'Staff Capacity'!$H$10:$H$39,$D$3),SUMIF('Staff Capacity'!$G$10:$G$39,\"8c\",'Staff Capacity'!$I$10:$I$39))","v":0},{"$f":"IF($D$3<>\"\",SUMIFS('Staff Capacity'!$I$10:$I$39,'Staff Capacity'!$G$10:$G$39,\"8c\",'Staff Capacity'!$H$10:$H$39,$D$3),SUMIF('Staff Capacity'!$G$10:$G$39,\"8c\",'Staff Capacity'!$I$10:$I$39))","v":0},{"$f":"IF($D$3<>\"\",SUMIFS('Staff Capacity'!$I$10:$I$39,'Staff Capacity'!$G$10:$G$39,\"8c\",'Staff Capacity'!$H$10:$H$39,$D$3),SUMIF('Staff Capacity'!$G$10:$G$39,\"8c\",'Staff Capacity'!$I$10:$I$39))","v":0},{"$f":"IF($D$3<>\"\",SUMIFS('Staff Capacity'!$I$10:$I$39,'Staff Capacity'!$G$10:$G$39,\"8c\",'Staff Capacity'!$H$10:$H$39,$D$3),SUMIF('Staff Capacity'!$G$10:$G$39,\"8c\",'Staff Capacity'!$I$10:$I$39))","v":0},{"$f":"IF($D$3<>\"\",SUMIFS('Staff Capacity'!$I$10:$I$39,'Staff Capacity'!$G$10:$G$39,\"8c\",'Staff Capacity'!$H$10:$H$39,$D$3),SUMIF('Staff Capacity'!$G$10:$G$39,\"8c\",'Staff Capacity'!$I$10:$I$39))","v":0},{"$f":"IF($D$3<>\"\",SUMIFS('Staff Capacity'!$I$10:$I$39,'Staff Capacity'!$G$10:$G$39,\"8c\",'Staff Capacity'!$H$10:$H$39,$D$3),SUMIF('Staff Capacity'!$G$10:$G$39,\"8c\",'Staff Capacity'!$I$10:$I$39))","v":0},{"$f":"IF($D$3<>\"\",SUMIFS('Staff Capacity'!$I$10:$I$39,'Staff Capacity'!$G$10:$G$39,\"8c\",'Staff Capacity'!$H$10:$H$39,$D$3),SUMIF('Staff Capacity'!$G$10:$G$39,\"8c\",'Staff Capacity'!$I$10:$I$39))","v":0},{"$f":"IF($D$3<>\"\",SUMIFS('Staff Capacity'!$I$10:$I$39,'Staff Capacity'!$G$10:$G$39,\"8c\",'Staff Capacity'!$H$10:$H$39,$D$3),SUMIF('Staff Capacity'!$G$10:$G$39,\"8c\",'Staff Capacity'!$I$10:$I$39))","v":0},{"$f":"IF($D$3<>\"\",SUMIFS('Staff Capacity'!$I$10:$I$39,'Staff Capacity'!$G$10:$G$39,\"8c\",'Staff Capacity'!$H$10:$H$39,$D$3),SUMIF('Staff Capacity'!$G$10:$G$39,\"8c\",'Staff Capacity'!$I$10:$I$39))","v":0},{"$f":"IF($D$3<>\"\",SUMIFS('Staff Capacity'!$I$10:$I$39,'Staff Capacity'!$G$10:$G$39,\"8c\",'Staff Capacity'!$H$10:$H$39,$D$3),SUMIF('Staff Capacity'!$G$10:$G$39,\"8c\",'Staff Capacity'!$I$10:$I$39))","v":0},{"$f":"IF($D$3<>\"\",SUMIFS('Staff Capacity'!$I$10:$I$39,'Staff Capacity'!$G$10:$G$39,\"8c\",'Staff Capacity'!$H$10:$H$39,$D$3),SUMIF('Staff Capacity'!$G$10:$G$39,\"8c\",'Staff Capacity'!$I$10:$I$39))","v":0},{"$f":"IF($D$3<>\"\",SUMIFS('Staff Capacity'!$I$10:$I$39,'Staff Capacity'!$G$10:$G$39,\"8c\",'Staff Capacity'!$H$10:$H$39,$D$3),SUMIF('Staff Capacity'!$G$10:$G$39,\"8c\",'Staff Capacity'!$I$10:$I$39))","v":0},{"$f":"IF($D$3<>\"\",SUMIFS('Staff Capacity'!$I$10:$I$39,'Staff Capacity'!$G$10:$G$39,\"8c\",'Staff Capacity'!$H$10:$H$39,$D$3),SUMIF('Staff Capacity'!$G$10:$G$39,\"8c\",'Staff Capacity'!$I$10:$I$39))","v":0},{"$f":"IF($D$3<>\"\",SUMIFS('Staff Capacity'!$I$10:$I$39,'Staff Capacity'!$G$10:$G$39,\"8c\",'Staff Capacity'!$H$10:$H$39,$D$3),SUMIF('Staff Capacity'!$G$10:$G$39,\"8c\",'Staff Capacity'!$I$10:$I$39))","v":0},{"$f":"IF($D$3<>\"\",SUMIFS('Staff Capacity'!$I$10:$I$39,'Staff Capacity'!$G$10:$G$39,\"8c\",'Staff Capacity'!$H$10:$H$39,$D$3),SUMIF('Staff Capacity'!$G$10:$G$39,\"8c\",'Staff Capacity'!$I$10:$I$39))","v":0},{"$f":"IF($D$3<>\"\",SUMIFS('Staff Capacity'!$I$10:$I$39,'Staff Capacity'!$G$10:$G$39,\"8c\",'Staff Capacity'!$H$10:$H$39,$D$3),SUMIF('Staff Capacity'!$G$10:$G$39,\"8c\",'Staff Capacity'!$I$10:$I$39))","v":0},{"$f":"IF($D$3<>\"\",SUMIFS('Staff Capacity'!$I$10:$I$39,'Staff Capacity'!$G$10:$G$39,\"8c\",'Staff Capacity'!$H$10:$H$39,$D$3),SUMIF('Staff Capacity'!$G$10:$G$39,\"8c\",'Staff Capacity'!$I$10:$I$39))","v":0},{"$f":"IF($D$3<>\"\",SUMIFS('Staff Capacity'!$I$10:$I$39,'Staff Capacity'!$G$10:$G$39,\"8c\",'Staff Capacity'!$H$10:$H$39,$D$3),SUMIF('Staff Capacity'!$G$10:$G$39,\"8c\",'Staff Capacity'!$I$10:$I$39))","v":0},{"$f":"IF($D$3<>\"\",SUMIFS('Staff Capacity'!$I$10:$I$39,'Staff Capacity'!$G$10:$G$39,\"8c\",'Staff Capacity'!$H$10:$H$39,$D$3),SUMIF('Staff Capacity'!$G$10:$G$39,\"8c\",'Staff Capacity'!$I$10:$I$39))","v":0},{"$f":"IF($D$3<>\"\",SUMIFS('Staff Capacity'!$I$10:$I$39,'Staff Capacity'!$G$10:$G$39,\"8c\",'Staff Capacity'!$H$10:$H$39,$D$3),SUMIF('Staff Capacity'!$G$10:$G$39,\"8c\",'Staff Capacity'!$I$10:$I$39))","v":0},{"$f":"IF($D$3<>\"\",SUMIFS('Staff Capacity'!$I$10:$I$39,'Staff Capacity'!$G$10:$G$39,\"8c\",'Staff Capacity'!$H$10:$H$39,$D$3),SUMIF('Staff Capacity'!$G$10:$G$39,\"8c\",'Staff Capacity'!$I$10:$I$39))","v":0},{"$f":"IF($D$3<>\"\",SUMIFS('Staff Capacity'!$I$10:$I$39,'Staff Capacity'!$G$10:$G$39,\"8c\",'Staff Capacity'!$H$10:$H$39,$D$3),SUMIF('Staff Capacity'!$G$10:$G$39,\"8c\",'Staff Capacity'!$I$10:$I$39))","v":0},{"$f":"IF($D$3<>\"\",SUMIFS('Staff Capacity'!$I$10:$I$39,'Staff Capacity'!$G$10:$G$39,\"8c\",'Staff Capacity'!$H$10:$H$39,$D$3),SUMIF('Staff Capacity'!$G$10:$G$39,\"8c\",'Staff Capacity'!$I$10:$I$39))","v":0},{"$f":"IF($D$3<>\"\",SUMIFS('Staff Capacity'!$I$10:$I$39,'Staff Capacity'!$G$10:$G$39,\"8c\",'Staff Capacity'!$H$10:$H$39,$D$3),SUMIF('Staff Capacity'!$G$10:$G$39,\"8c\",'Staff Capacity'!$I$10:$I$39))","v":0},{"$f":"IF($D$3<>\"\",SUMIFS('Staff Capacity'!$I$10:$I$39,'Staff Capacity'!$G$10:$G$39,\"8c\",'Staff Capacity'!$H$10:$H$39,$D$3),SUMIF('Staff Capacity'!$G$10:$G$39,\"8c\",'Staff Capacity'!$I$10:$I$39))","v":0},{"$f":"IF($D$3<>\"\",SUMIFS('Staff Capacity'!$I$10:$I$39,'Staff Capacity'!$G$10:$G$39,\"8c\",'Staff Capacity'!$H$10:$H$39,$D$3),SUMIF('Staff Capacity'!$G$10:$G$39,\"8c\",'Staff Capacity'!$I$10:$I$39))","v":0},{"$f":"IF($D$3<>\"\",SUMIFS('Staff Capacity'!$I$10:$I$39,'Staff Capacity'!$G$10:$G$39,\"8c\",'Staff Capacity'!$H$10:$H$39,$D$3),SUMIF('Staff Capacity'!$G$10:$G$39,\"8c\",'Staff Capacity'!$I$10:$I$39))","v":0},{"$f":"IF($D$3<>\"\",SUMIFS('Staff Capacity'!$I$10:$I$39,'Staff Capacity'!$G$10:$G$39,\"8c\",'Staff Capacity'!$H$10:$H$39,$D$3),SUMIF('Staff Capacity'!$G$10:$G$39,\"8c\",'Staff Capacity'!$I$10:$I$39))","v":0},{"$f":"IF($D$3<>\"\",SUMIFS('Staff Capacity'!$I$10:$I$39,'Staff Capacity'!$G$10:$G$39,\"8c\",'Staff Capacity'!$H$10:$H$39,$D$3),SUMIF('Staff Capacity'!$G$10:$G$39,\"8c\",'Staff Capacity'!$I$10:$I$39))","v":0},{"$f":"IF($D$3<>\"\",SUMIFS('Staff Capacity'!$I$10:$I$39,'Staff Capacity'!$G$10:$G$39,\"8c\",'Staff Capacity'!$H$10:$H$39,$D$3),SUMIF('Staff Capacity'!$G$10:$G$39,\"8c\",'Staff Capacity'!$I$10:$I$39))","v":0},{"$f":"IF($D$3<>\"\",SUMIFS('Staff Capacity'!$I$10:$I$39,'Staff Capacity'!$G$10:$G$39,\"8c\",'Staff Capacity'!$H$10:$H$39,$D$3),SUMIF('Staff Capacity'!$G$10:$G$39,\"8c\",'Staff Capacity'!$I$10:$I$39))","v":0},{"$f":"IF($D$3<>\"\",SUMIFS('Staff Capacity'!$I$10:$I$39,'Staff Capacity'!$G$10:$G$39,\"8c\",'Staff Capacity'!$H$10:$H$39,$D$3),SUMIF('Staff Capacity'!$G$10:$G$39,\"8c\",'Staff Capacity'!$I$10:$I$39))","v":0},{"$f":"IF($D$3<>\"\",SUMIFS('Staff Capacity'!$I$10:$I$39,'Staff Capacity'!$G$10:$G$39,\"8c\",'Staff Capacity'!$H$10:$H$39,$D$3),SUMIF('Staff Capacity'!$G$10:$G$39,\"8c\",'Staff Capacity'!$I$10:$I$39))","v":0},{"$f":"IF($D$3<>\"\",SUMIFS('Staff Capacity'!$I$10:$I$39,'Staff Capacity'!$G$10:$G$39,\"8c\",'Staff Capacity'!$H$10:$H$39,$D$3),SUMIF('Staff Capacity'!$G$10:$G$39,\"8c\",'Staff Capacity'!$I$10:$I$39))","v":0},{"$f":"IF($D$3<>\"\",SUMIFS('Staff Capacity'!$I$10:$I$39,'Staff Capacity'!$G$10:$G$39,\"8c\",'Staff Capacity'!$H$10:$H$39,$D$3),SUMIF('Staff Capacity'!$G$10:$G$39,\"8c\",'Staff Capacity'!$I$10:$I$39))","v":0},{"$f":"IF($D$3<>\"\",SUMIFS('Staff Capacity'!$I$10:$I$39,'Staff Capacity'!$G$10:$G$39,\"8c\",'Staff Capacity'!$H$10:$H$39,$D$3),SUMIF('Staff Capacity'!$G$10:$G$39,\"8c\",'Staff Capacity'!$I$10:$I$39))","v":0},{"$f":"IF($D$3<>\"\",SUMIFS('Staff Capacity'!$I$10:$I$39,'Staff Capacity'!$G$10:$G$39,\"8c\",'Staff Capacity'!$H$10:$H$39,$D$3),SUMIF('Staff Capacity'!$G$10:$G$39,\"8c\",'Staff Capacity'!$I$10:$I$39))","v":0},{"$f":"IF($D$3<>\"\",SUMIFS('Staff Capacity'!$I$10:$I$39,'Staff Capacity'!$G$10:$G$39,\"8c\",'Staff Capacity'!$H$10:$H$39,$D$3),SUMIF('Staff Capacity'!$G$10:$G$39,\"8c\",'Staff Capacity'!$I$10:$I$39))","v":0},{"$f":"IF($D$3<>\"\",SUMIFS('Staff Capacity'!$I$10:$I$39,'Staff Capacity'!$G$10:$G$39,\"8c\",'Staff Capacity'!$H$10:$H$39,$D$3),SUMIF('Staff Capacity'!$G$10:$G$39,\"8c\",'Staff Capacity'!$I$10:$I$39))","v":0},{"$f":"IF($D$3<>\"\",SUMIFS('Staff Capacity'!$I$10:$I$39,'Staff Capacity'!$G$10:$G$39,\"8c\",'Staff Capacity'!$H$10:$H$39,$D$3),SUMIF('Staff Capacity'!$G$10:$G$39,\"8c\",'Staff Capacity'!$I$10:$I$39))","v":0},{"$f":"IF($D$3<>\"\",SUMIFS('Staff Capacity'!$I$10:$I$39,'Staff Capacity'!$G$10:$G$39,\"8c\",'Staff Capacity'!$H$10:$H$39,$D$3),SUMIF('Staff Capacity'!$G$10:$G$39,\"8c\",'Staff Capacity'!$I$10:$I$39))","v":0},{"$f":"IF($D$3<>\"\",SUMIFS('Staff Capacity'!$I$10:$I$39,'Staff Capacity'!$G$10:$G$39,\"8c\",'Staff Capacity'!$H$10:$H$39,$D$3),SUMIF('Staff Capacity'!$G$10:$G$39,\"8c\",'Staff Capacity'!$I$10:$I$39))","v":0},{"$f":"IF($D$3<>\"\",SUMIFS('Staff Capacity'!$I$10:$I$39,'Staff Capacity'!$G$10:$G$39,\"8c\",'Staff Capacity'!$H$10:$H$39,$D$3),SUMIF('Staff Capacity'!$G$10:$G$39,\"8c\",'Staff Capacity'!$I$10:$I$39))","v":0},{"$f":"IF($D$3<>\"\",SUMIFS('Staff Capacity'!$I$10:$I$39,'Staff Capacity'!$G$10:$G$39,\"8c\",'Staff Capacity'!$H$10:$H$39,$D$3),SUMIF('Staff Capacity'!$G$10:$G$39,\"8c\",'Staff Capacity'!$I$10:$I$39))","v":0},{"$f":"IF($D$3<>\"\",SUMIFS('Staff Capacity'!$I$10:$I$39,'Staff Capacity'!$G$10:$G$39,\"8c\",'Staff Capacity'!$H$10:$H$39,$D$3),SUMIF('Staff Capacity'!$G$10:$G$39,\"8c\",'Staff Capacity'!$I$10:$I$39))","v":0},{"$f":"IF($D$3<>\"\",SUMIFS('Staff Capacity'!$I$10:$I$39,'Staff Capacity'!$G$10:$G$39,\"8c\",'Staff Capacity'!$H$10:$H$39,$D$3),SUMIF('Staff Capacity'!$G$10:$G$39,\"8c\",'Staff Capacity'!$I$10:$I$39))","v":0},{"$f":"IF($D$3<>\"\",SUMIFS('Staff Capacity'!$I$10:$I$39,'Staff Capacity'!$G$10:$G$39,\"8c\",'Staff Capacity'!$H$10:$H$39,$D$3),SUMIF('Staff Capacity'!$G$10:$G$39,\"8c\",'Staff Capacity'!$I$10:$I$39))","v":0},{"$f":"IF($D$3<>\"\",SUMIFS('Staff Capacity'!$I$10:$I$39,'Staff Capacity'!$G$10:$G$39,\"8c\",'Staff Capacity'!$H$10:$H$39,$D$3),SUMIF('Staff Capacity'!$G$10:$G$39,\"8c\",'Staff Capacity'!$I$10:$I$39))","v":0},{"$f":"IF($D$3<>\"\",SUMIFS('Staff Capacity'!$I$10:$I$39,'Staff Capacity'!$G$10:$G$39,\"8c\",'Staff Capacity'!$H$10:$H$39,$D$3),SUMIF('Staff Capacity'!$G$10:$G$39,\"8c\",'Staff Capacity'!$I$10:$I$39))","v":0},{"$f":"IF($D$3<>\"\",SUMIFS('Staff Capacity'!$I$10:$I$39,'Staff Capacity'!$G$10:$G$39,\"8c\",'Staff Capacity'!$H$10:$H$39,$D$3),SUMIF('Staff Capacity'!$G$10:$G$39,\"8c\",'Staff Capacity'!$I$10:$I$39))","v":0},{"$f":"IF($D$3<>\"\",SUMIFS('Staff Capacity'!$I$10:$I$39,'Staff Capacity'!$G$10:$G$39,\"8c\",'Staff Capacity'!$H$10:$H$39,$D$3),SUMIF('Staff Capacity'!$G$10:$G$39,\"8c\",'Staff Capacity'!$I$10:$I$39))","v":0},{"$f":"IF($D$3<>\"\",SUMIFS('Staff Capacity'!$I$10:$I$39,'Staff Capacity'!$G$10:$G$39,\"8c\",'Staff Capacity'!$H$10:$H$39,$D$3),SUMIF('Staff Capacity'!$G$10:$G$39,\"8c\",'Staff Capacity'!$I$10:$I$39))","v":0},{"$f":"IF($D$3<>\"\",SUMIFS('Staff Capacity'!$I$10:$I$39,'Staff Capacity'!$G$10:$G$39,\"8c\",'Staff Capacity'!$H$10:$H$39,$D$3),SUMIF('Staff Capacity'!$G$10:$G$39,\"8c\",'Staff Capacity'!$I$10:$I$39))","v":0},{"$f":"IF($D$3<>\"\",SUMIFS('Staff Capacity'!$I$10:$I$39,'Staff Capacity'!$G$10:$G$39,\"8c\",'Staff Capacity'!$H$10:$H$39,$D$3),SUMIF('Staff Capacity'!$G$10:$G$39,\"8c\",'Staff Capacity'!$I$10:$I$39))","v":0},{"$f":"IF($D$3<>\"\",SUMIFS('Staff Capacity'!$I$10:$I$39,'Staff Capacity'!$G$10:$G$39,\"8c\",'Staff Capacity'!$H$10:$H$39,$D$3),SUMIF('Staff Capacity'!$G$10:$G$39,\"8c\",'Staff Capacity'!$I$10:$I$39))","v":0},{"$f":"IF($D$3<>\"\",SUMIFS('Staff Capacity'!$I$10:$I$39,'Staff Capacity'!$G$10:$G$39,\"8c\",'Staff Capacity'!$H$10:$H$39,$D$3),SUMIF('Staff Capacity'!$G$10:$G$39,\"8c\",'Staff Capacity'!$I$10:$I$39))","v":0},{"$f":"IF($D$3<>\"\",SUMIFS('Staff Capacity'!$I$10:$I$39,'Staff Capacity'!$G$10:$G$39,\"8c\",'Staff Capacity'!$H$10:$H$39,$D$3),SUMIF('Staff Capacity'!$G$10:$G$39,\"8c\",'Staff Capacity'!$I$10:$I$39))","v":0},{"$f":"IF($D$3<>\"\",SUMIFS('Staff Capacity'!$I$10:$I$39,'Staff Capacity'!$G$10:$G$39,\"8c\",'Staff Capacity'!$H$10:$H$39,$D$3),SUMIF('Staff Capacity'!$G$10:$G$39,\"8c\",'Staff Capacity'!$I$10:$I$39))","v":0},{"$f":"IF($D$3<>\"\",SUMIFS('Staff Capacity'!$I$10:$I$39,'Staff Capacity'!$G$10:$G$39,\"8c\",'Staff Capacity'!$H$10:$H$39,$D$3),SUMIF('Staff Capacity'!$G$10:$G$39,\"8c\",'Staff Capacity'!$I$10:$I$39))","v":0},{"$f":"IF($D$3<>\"\",SUMIFS('Staff Capacity'!$I$10:$I$39,'Staff Capacity'!$G$10:$G$39,\"8c\",'Staff Capacity'!$H$10:$H$39,$D$3),SUMIF('Staff Capacity'!$G$10:$G$39,\"8c\",'Staff Capacity'!$I$10:$I$39))","v":0},{"$f":"IF($D$3<>\"\",SUMIFS('Staff Capacity'!$I$10:$I$39,'Staff Capacity'!$G$10:$G$39,\"8c\",'Staff Capacity'!$H$10:$H$39,$D$3),SUMIF('Staff Capacity'!$G$10:$G$39,\"8c\",'Staff Capacity'!$I$10:$I$39))","v":0},{"$f":"IF($D$3<>\"\",SUMIFS('Staff Capacity'!$I$10:$I$39,'Staff Capacity'!$G$10:$G$39,\"8c\",'Staff Capacity'!$H$10:$H$39,$D$3),SUMIF('Staff Capacity'!$G$10:$G$39,\"8c\",'Staff Capacity'!$I$10:$I$39))","v":0},{"$f":"IF($D$3<>\"\",SUMIFS('Staff Capacity'!$I$10:$I$39,'Staff Capacity'!$G$10:$G$39,\"8c\",'Staff Capacity'!$H$10:$H$39,$D$3),SUMIF('Staff Capacity'!$G$10:$G$39,\"8c\",'Staff Capacity'!$I$10:$I$39))","v":0},{"$f":"IF($D$3<>\"\",SUMIFS('Staff Capacity'!$I$10:$I$39,'Staff Capacity'!$G$10:$G$39,\"8c\",'Staff Capacity'!$H$10:$H$39,$D$3),SUMIF('Staff Capacity'!$G$10:$G$39,\"8c\",'Staff Capacity'!$I$10:$I$39))","v":0},{"$f":"IF($D$3<>\"\",SUMIFS('Staff Capacity'!$I$10:$I$39,'Staff Capacity'!$G$10:$G$39,\"8c\",'Staff Capacity'!$H$10:$H$39,$D$3),SUMIF('Staff Capacity'!$G$10:$G$39,\"8c\",'Staff Capacity'!$I$10:$I$39))","v":0},{"$f":"IF($D$3<>\"\",SUMIFS('Staff Capacity'!$I$10:$I$39,'Staff Capacity'!$G$10:$G$39,\"8c\",'Staff Capacity'!$H$10:$H$39,$D$3),SUMIF('Staff Capacity'!$G$10:$G$39,\"8c\",'Staff Capacity'!$I$10:$I$39))","v":0},{"$f":"IF($D$3<>\"\",SUMIFS('Staff Capacity'!$I$10:$I$39,'Staff Capacity'!$G$10:$G$39,\"8c\",'Staff Capacity'!$H$10:$H$39,$D$3),SUMIF('Staff Capacity'!$G$10:$G$39,\"8c\",'Staff Capacity'!$I$10:$I$39))","v":0},{"$f":"IF($D$3<>\"\",SUMIFS('Staff Capacity'!$I$10:$I$39,'Staff Capacity'!$G$10:$G$39,\"8c\",'Staff Capacity'!$H$10:$H$39,$D$3),SUMIF('Staff Capacity'!$G$10:$G$39,\"8c\",'Staff Capacity'!$I$10:$I$39))","v":0},{"$f":"IF($D$3<>\"\",SUMIFS('Staff Capacity'!$I$10:$I$39,'Staff Capacity'!$G$10:$G$39,\"8c\",'Staff Capacity'!$H$10:$H$39,$D$3),SUMIF('Staff Capacity'!$G$10:$G$39,\"8c\",'Staff Capacity'!$I$10:$I$39))","v":0},{"$f":"IF($D$3<>\"\",SUMIFS('Staff Capacity'!$I$10:$I$39,'Staff Capacity'!$G$10:$G$39,\"8c\",'Staff Capacity'!$H$10:$H$39,$D$3),SUMIF('Staff Capacity'!$G$10:$G$39,\"8c\",'Staff Capacity'!$I$10:$I$39))","v":0},{"$f":"IF($D$3<>\"\",SUMIFS('Staff Capacity'!$I$10:$I$39,'Staff Capacity'!$G$10:$G$39,\"8c\",'Staff Capacity'!$H$10:$H$39,$D$3),SUMIF('Staff Capacity'!$G$10:$G$39,\"8c\",'Staff Capacity'!$I$10:$I$39))","v":0},{"$f":"IF($D$3<>\"\",SUMIFS('Staff Capacity'!$I$10:$I$39,'Staff Capacity'!$G$10:$G$39,\"8c\",'Staff Capacity'!$H$10:$H$39,$D$3),SUMIF('Staff Capacity'!$G$10:$G$39,\"8c\",'Staff Capacity'!$I$10:$I$39))","v":0},{"$f":"IF($D$3<>\"\",SUMIFS('Staff Capacity'!$I$10:$I$39,'Staff Capacity'!$G$10:$G$39,\"8c\",'Staff Capacity'!$H$10:$H$39,$D$3),SUMIF('Staff Capacity'!$G$10:$G$39,\"8c\",'Staff Capacity'!$I$10:$I$39))","v":0},{"$f":"IF($D$3<>\"\",SUMIFS('Staff Capacity'!$I$10:$I$39,'Staff Capacity'!$G$10:$G$39,\"8c\",'Staff Capacity'!$H$10:$H$39,$D$3),SUMIF('Staff Capacity'!$G$10:$G$39,\"8c\",'Staff Capacity'!$I$10:$I$39))","v":0},{"$f":"IF($D$3<>\"\",SUMIFS('Staff Capacity'!$I$10:$I$39,'Staff Capacity'!$G$10:$G$39,\"8c\",'Staff Capacity'!$H$10:$H$39,$D$3),SUMIF('Staff Capacity'!$G$10:$G$39,\"8c\",'Staff Capacity'!$I$10:$I$39))","v":0},{"$f":"IF($D$3<>\"\",SUMIFS('Staff Capacity'!$I$10:$I$39,'Staff Capacity'!$G$10:$G$39,\"8c\",'Staff Capacity'!$H$10:$H$39,$D$3),SUMIF('Staff Capacity'!$G$10:$G$39,\"8c\",'Staff Capacity'!$I$10:$I$39))","v":0},{"$f":"IF($D$3<>\"\",SUMIFS('Staff Capacity'!$I$10:$I$39,'Staff Capacity'!$G$10:$G$39,\"8c\",'Staff Capacity'!$H$10:$H$39,$D$3),SUMIF('Staff Capacity'!$G$10:$G$39,\"8c\",'Staff Capacity'!$I$10:$I$39))","v":0},{"$f":"IF($D$3<>\"\",SUMIFS('Staff Capacity'!$I$10:$I$39,'Staff Capacity'!$G$10:$G$39,\"8c\",'Staff Capacity'!$H$10:$H$39,$D$3),SUMIF('Staff Capacity'!$G$10:$G$39,\"8c\",'Staff Capacity'!$I$10:$I$39))","v":0},{"$f":"IF($D$3<>\"\",SUMIFS('Staff Capacity'!$I$10:$I$39,'Staff Capacity'!$G$10:$G$39,\"8c\",'Staff Capacity'!$H$10:$H$39,$D$3),SUMIF('Staff Capacity'!$G$10:$G$39,\"8c\",'Staff Capacity'!$I$10:$I$39))","v":0},{"$f":"IF($D$3<>\"\",SUMIFS('Staff Capacity'!$I$10:$I$39,'Staff Capacity'!$G$10:$G$39,\"8c\",'Staff Capacity'!$H$10:$H$39,$D$3),SUMIF('Staff Capacity'!$G$10:$G$39,\"8c\",'Staff Capacity'!$I$10:$I$39))","v":0},{"$f":"IF($D$3<>\"\",SUMIFS('Staff Capacity'!$I$10:$I$39,'Staff Capacity'!$G$10:$G$39,\"8c\",'Staff Capacity'!$H$10:$H$39,$D$3),SUMIF('Staff Capacity'!$G$10:$G$39,\"8c\",'Staff Capacity'!$I$10:$I$39))","v":0},{"$f":"IF($D$3<>\"\",SUMIFS('Staff Capacity'!$I$10:$I$39,'Staff Capacity'!$G$10:$G$39,\"8c\",'Staff Capacity'!$H$10:$H$39,$D$3),SUMIF('Staff Capacity'!$G$10:$G$39,\"8c\",'Staff Capacity'!$I$10:$I$39))","v":0},{"$f":"IF($D$3<>\"\",SUMIFS('Staff Capacity'!$I$10:$I$39,'Staff Capacity'!$G$10:$G$39,\"8c\",'Staff Capacity'!$H$10:$H$39,$D$3),SUMIF('Staff Capacity'!$G$10:$G$39,\"8c\",'Staff Capacity'!$I$10:$I$39))","v":0},{"$f":"IF($D$3<>\"\",SUMIFS('Staff Capacity'!$I$10:$I$39,'Staff Capacity'!$G$10:$G$39,\"8c\",'Staff Capacity'!$H$10:$H$39,$D$3),SUMIF('Staff Capacity'!$G$10:$G$39,\"8c\",'Staff Capacity'!$I$10:$I$39))","v":0},{"$f":"IF($D$3<>\"\",SUMIFS('Staff Capacity'!$I$10:$I$39,'Staff Capacity'!$G$10:$G$39,\"8c\",'Staff Capacity'!$H$10:$H$39,$D$3),SUMIF('Staff Capacity'!$G$10:$G$39,\"8c\",'Staff Capacity'!$I$10:$I$39))","v":0},{"$f":"IF($D$3<>\"\",SUMIFS('Staff Capacity'!$I$10:$I$39,'Staff Capacity'!$G$10:$G$39,\"8c\",'Staff Capacity'!$H$10:$H$39,$D$3),SUMIF('Staff Capacity'!$G$10:$G$39,\"8c\",'Staff Capacity'!$I$10:$I$39))","v":0},{"$f":"IF($D$3<>\"\",SUMIFS('Staff Capacity'!$I$10:$I$39,'Staff Capacity'!$G$10:$G$39,\"8c\",'Staff Capacity'!$H$10:$H$39,$D$3),SUMIF('Staff Capacity'!$G$10:$G$39,\"8c\",'Staff Capacity'!$I$10:$I$39))","v":0},{"$f":"IF($D$3<>\"\",SUMIFS('Staff Capacity'!$I$10:$I$39,'Staff Capacity'!$G$10:$G$39,\"8c\",'Staff Capacity'!$H$10:$H$39,$D$3),SUMIF('Staff Capacity'!$G$10:$G$39,\"8c\",'Staff Capacity'!$I$10:$I$39))","v":0},{"$f":"IF($D$3<>\"\",SUMIFS('Staff Capacity'!$I$10:$I$39,'Staff Capacity'!$G$10:$G$39,\"8c\",'Staff Capacity'!$H$10:$H$39,$D$3),SUMIF('Staff Capacity'!$G$10:$G$39,\"8c\",'Staff Capacity'!$I$10:$I$39))","v":0},{"$f":"IF($D$3<>\"\",SUMIFS('Staff Capacity'!$I$10:$I$39,'Staff Capacity'!$G$10:$G$39,\"8c\",'Staff Capacity'!$H$10:$H$39,$D$3),SUMIF('Staff Capacity'!$G$10:$G$39,\"8c\",'Staff Capacity'!$I$10:$I$39))","v":0},{"$f":"IF($D$3<>\"\",SUMIFS('Staff Capacity'!$I$10:$I$39,'Staff Capacity'!$G$10:$G$39,\"8c\",'Staff Capacity'!$H$10:$H$39,$D$3),SUMIF('Staff Capacity'!$G$10:$G$39,\"8c\",'Staff Capacity'!$I$10:$I$39))","v":0},{"$f":"IF($D$3<>\"\",SUMIFS('Staff Capacity'!$I$10:$I$39,'Staff Capacity'!$G$10:$G$39,\"8c\",'Staff Capacity'!$H$10:$H$39,$D$3),SUMIF('Staff Capacity'!$G$10:$G$39,\"8c\",'Staff Capacity'!$I$10:$I$39))","v":0},{"$f":"IF($D$3<>\"\",SUMIFS('Staff Capacity'!$I$10:$I$39,'Staff Capacity'!$G$10:$G$39,\"8c\",'Staff Capacity'!$H$10:$H$39,$D$3),SUMIF('Staff Capacity'!$G$10:$G$39,\"8c\",'Staff Capacity'!$I$10:$I$39))","v":0},{"$f":"IF($D$3<>\"\",SUMIFS('Staff Capacity'!$I$10:$I$39,'Staff Capacity'!$G$10:$G$39,\"8c\",'Staff Capacity'!$H$10:$H$39,$D$3),SUMIF('Staff Capacity'!$G$10:$G$39,\"8c\",'Staff Capacity'!$I$10:$I$39))","v":0},{"$f":"IF($D$3<>\"\",SUMIFS('Staff Capacity'!$I$10:$I$39,'Staff Capacity'!$G$10:$G$39,\"8c\",'Staff Capacity'!$H$10:$H$39,$D$3),SUMIF('Staff Capacity'!$G$10:$G$39,\"8c\",'Staff Capacity'!$I$10:$I$39))","v":0},{"$f":"IF($D$3<>\"\",SUMIFS('Staff Capacity'!$I$10:$I$39,'Staff Capacity'!$G$10:$G$39,\"8c\",'Staff Capacity'!$H$10:$H$39,$D$3),SUMIF('Staff Capacity'!$G$10:$G$39,\"8c\",'Staff Capacity'!$I$10:$I$39))","v":0},{"$f":"IF($D$3<>\"\",SUMIFS('Staff Capacity'!$I$10:$I$39,'Staff Capacity'!$G$10:$G$39,\"8c\",'Staff Capacity'!$H$10:$H$39,$D$3),SUMIF('Staff Capacity'!$G$10:$G$39,\"8c\",'Staff Capacity'!$I$10:$I$39))","v":0},{"$f":"IF($D$3<>\"\",SUMIFS('Staff Capacity'!$I$10:$I$39,'Staff Capacity'!$G$10:$G$39,\"8c\",'Staff Capacity'!$H$10:$H$39,$D$3),SUMIF('Staff Capacity'!$G$10:$G$39,\"8c\",'Staff Capacity'!$I$10:$I$39))","v":0},{"$f":"IF($D$3<>\"\",SUMIFS('Staff Capacity'!$I$10:$I$39,'Staff Capacity'!$G$10:$G$39,\"8c\",'Staff Capacity'!$H$10:$H$39,$D$3),SUMIF('Staff Capacity'!$G$10:$G$39,\"8c\",'Staff Capacity'!$I$10:$I$39))","v":0},{"$f":"IF($D$3<>\"\",SUMIFS('Staff Capacity'!$I$10:$I$39,'Staff Capacity'!$G$10:$G$39,\"8c\",'Staff Capacity'!$H$10:$H$39,$D$3),SUMIF('Staff Capacity'!$G$10:$G$39,\"8c\",'Staff Capacity'!$I$10:$I$39))","v":0},{"$f":"IF($D$3<>\"\",SUMIFS('Staff Capacity'!$I$10:$I$39,'Staff Capacity'!$G$10:$G$39,\"8c\",'Staff Capacity'!$H$10:$H$39,$D$3),SUMIF('Staff Capacity'!$G$10:$G$39,\"8c\",'Staff Capacity'!$I$10:$I$39))","v":0},{"$f":"IF($D$3<>\"\",SUMIFS('Staff Capacity'!$I$10:$I$39,'Staff Capacity'!$G$10:$G$39,\"8c\",'Staff Capacity'!$H$10:$H$39,$D$3),SUMIF('Staff Capacity'!$G$10:$G$39,\"8c\",'Staff Capacity'!$I$10:$I$39))","v":0},{"$f":"IF($D$3<>\"\",SUMIFS('Staff Capacity'!$I$10:$I$39,'Staff Capacity'!$G$10:$G$39,\"8c\",'Staff Capacity'!$H$10:$H$39,$D$3),SUMIF('Staff Capacity'!$G$10:$G$39,\"8c\",'Staff Capacity'!$I$10:$I$39))","v":0},{"$f":"IF($D$3<>\"\",SUMIFS('Staff Capacity'!$I$10:$I$39,'Staff Capacity'!$G$10:$G$39,\"8c\",'Staff Capacity'!$H$10:$H$39,$D$3),SUMIF('Staff Capacity'!$G$10:$G$39,\"8c\",'Staff Capacity'!$I$10:$I$39))","v":0},{"$f":"IF($D$3<>\"\",SUMIFS('Staff Capacity'!$I$10:$I$39,'Staff Capacity'!$G$10:$G$39,\"8c\",'Staff Capacity'!$H$10:$H$39,$D$3),SUMIF('Staff Capacity'!$G$10:$G$39,\"8c\",'Staff Capacity'!$I$10:$I$39))","v":0},{"$f":"IF($D$3<>\"\",SUMIFS('Staff Capacity'!$I$10:$I$39,'Staff Capacity'!$G$10:$G$39,\"8c\",'Staff Capacity'!$H$10:$H$39,$D$3),SUMIF('Staff Capacity'!$G$10:$G$39,\"8c\",'Staff Capacity'!$I$10:$I$39))","v":0},{"$f":"IF($D$3<>\"\",SUMIFS('Staff Capacity'!$I$10:$I$39,'Staff Capacity'!$G$10:$G$39,\"8c\",'Staff Capacity'!$H$10:$H$39,$D$3),SUMIF('Staff Capacity'!$G$10:$G$39,\"8c\",'Staff Capacity'!$I$10:$I$39))","v":0},{"$f":"IF($D$3<>\"\",SUMIFS('Staff Capacity'!$I$10:$I$39,'Staff Capacity'!$G$10:$G$39,\"8c\",'Staff Capacity'!$H$10:$H$39,$D$3),SUMIF('Staff Capacity'!$G$10:$G$39,\"8c\",'Staff Capacity'!$I$10:$I$39))","v":0},{"$f":"IF($D$3<>\"\",SUMIFS('Staff Capacity'!$I$10:$I$39,'Staff Capacity'!$G$10:$G$39,\"8c\",'Staff Capacity'!$H$10:$H$39,$D$3),SUMIF('Staff Capacity'!$G$10:$G$39,\"8c\",'Staff Capacity'!$I$10:$I$39))","v":0},{"$f":"IF($D$3<>\"\",SUMIFS('Staff Capacity'!$I$10:$I$39,'Staff Capacity'!$G$10:$G$39,\"8c\",'Staff Capacity'!$H$10:$H$39,$D$3),SUMIF('Staff Capacity'!$G$10:$G$39,\"8c\",'Staff Capacity'!$I$10:$I$39))","v":0},{"$f":"IF($D$3<>\"\",SUMIFS('Staff Capacity'!$I$10:$I$39,'Staff Capacity'!$G$10:$G$39,\"8c\",'Staff Capacity'!$H$10:$H$39,$D$3),SUMIF('Staff Capacity'!$G$10:$G$39,\"8c\",'Staff Capacity'!$I$10:$I$39))","v":0},{"$f":"IF($D$3<>\"\",SUMIFS('Staff Capacity'!$I$10:$I$39,'Staff Capacity'!$G$10:$G$39,\"8c\",'Staff Capacity'!$H$10:$H$39,$D$3),SUMIF('Staff Capacity'!$G$10:$G$39,\"8c\",'Staff Capacity'!$I$10:$I$39))","v":0},{"$f":"IF($D$3<>\"\",SUMIFS('Staff Capacity'!$I$10:$I$39,'Staff Capacity'!$G$10:$G$39,\"8c\",'Staff Capacity'!$H$10:$H$39,$D$3),SUMIF('Staff Capacity'!$G$10:$G$39,\"8c\",'Staff Capacity'!$I$10:$I$39))","v":0},{"$f":"IF($D$3<>\"\",SUMIFS('Staff Capacity'!$I$10:$I$39,'Staff Capacity'!$G$10:$G$39,\"8c\",'Staff Capacity'!$H$10:$H$39,$D$3),SUMIF('Staff Capacity'!$G$10:$G$39,\"8c\",'Staff Capacity'!$I$10:$I$39))","v":0},{"$f":"IF($D$3<>\"\",SUMIFS('Staff Capacity'!$I$10:$I$39,'Staff Capacity'!$G$10:$G$39,\"8c\",'Staff Capacity'!$H$10:$H$39,$D$3),SUMIF('Staff Capacity'!$G$10:$G$39,\"8c\",'Staff Capacity'!$I$10:$I$39))","v":0},{"$f":"IF($D$3<>\"\",SUMIFS('Staff Capacity'!$I$10:$I$39,'Staff Capacity'!$G$10:$G$39,\"8c\",'Staff Capacity'!$H$10:$H$39,$D$3),SUMIF('Staff Capacity'!$G$10:$G$39,\"8c\",'Staff Capacity'!$I$10:$I$39))","v":0},{"$f":"IF($D$3<>\"\",SUMIFS('Staff Capacity'!$I$10:$I$39,'Staff Capacity'!$G$10:$G$39,\"8c\",'Staff Capacity'!$H$10:$H$39,$D$3),SUMIF('Staff Capacity'!$G$10:$G$39,\"8c\",'Staff Capacity'!$I$10:$I$39))","v":0},{"$f":"IF($D$3<>\"\",SUMIFS('Staff Capacity'!$I$10:$I$39,'Staff Capacity'!$G$10:$G$39,\"8c\",'Staff Capacity'!$H$10:$H$39,$D$3),SUMIF('Staff Capacity'!$G$10:$G$39,\"8c\",'Staff Capacity'!$I$10:$I$39))","v":0},{"$f":"IF($D$3<>\"\",SUMIFS('Staff Capacity'!$I$10:$I$39,'Staff Capacity'!$G$10:$G$39,\"8c\",'Staff Capacity'!$H$10:$H$39,$D$3),SUMIF('Staff Capacity'!$G$10:$G$39,\"8c\",'Staff Capacity'!$I$10:$I$39))","v":0},{"$f":"IF($D$3<>\"\",SUMIFS('Staff Capacity'!$I$10:$I$39,'Staff Capacity'!$G$10:$G$39,\"8c\",'Staff Capacity'!$H$10:$H$39,$D$3),SUMIF('Staff Capacity'!$G$10:$G$39,\"8c\",'Staff Capacity'!$I$10:$I$39))","v":0},{"$f":"IF($D$3<>\"\",SUMIFS('Staff Capacity'!$I$10:$I$39,'Staff Capacity'!$G$10:$G$39,\"8c\",'Staff Capacity'!$H$10:$H$39,$D$3),SUMIF('Staff Capacity'!$G$10:$G$39,\"8c\",'Staff Capacity'!$I$10:$I$39))","v":0},{"$f":"IF($D$3<>\"\",SUMIFS('Staff Capacity'!$I$10:$I$39,'Staff Capacity'!$G$10:$G$39,\"8c\",'Staff Capacity'!$H$10:$H$39,$D$3),SUMIF('Staff Capacity'!$G$10:$G$39,\"8c\",'Staff Capacity'!$I$10:$I$39))","v":0},{"$f":"IF($D$3<>\"\",SUMIFS('Staff Capacity'!$I$10:$I$39,'Staff Capacity'!$G$10:$G$39,\"8c\",'Staff Capacity'!$H$10:$H$39,$D$3),SUMIF('Staff Capacity'!$G$10:$G$39,\"8c\",'Staff Capacity'!$I$10:$I$39))","v":0},{"$f":"IF($D$3<>\"\",SUMIFS('Staff Capacity'!$I$10:$I$39,'Staff Capacity'!$G$10:$G$39,\"8c\",'Staff Capacity'!$H$10:$H$39,$D$3),SUMIF('Staff Capacity'!$G$10:$G$39,\"8c\",'Staff Capacity'!$I$10:$I$39))","v":0},{"$f":"IF($D$3<>\"\",SUMIFS('Staff Capacity'!$I$10:$I$39,'Staff Capacity'!$G$10:$G$39,\"8c\",'Staff Capacity'!$H$10:$H$39,$D$3),SUMIF('Staff Capacity'!$G$10:$G$39,\"8c\",'Staff Capacity'!$I$10:$I$39))","v":0},{"$f":"IF($D$3<>\"\",SUMIFS('Staff Capacity'!$I$10:$I$39,'Staff Capacity'!$G$10:$G$39,\"8c\",'Staff Capacity'!$H$10:$H$39,$D$3),SUMIF('Staff Capacity'!$G$10:$G$39,\"8c\",'Staff Capacity'!$I$10:$I$39))","v":0},{"$f":"IF($D$3<>\"\",SUMIFS('Staff Capacity'!$I$10:$I$39,'Staff Capacity'!$G$10:$G$39,\"8c\",'Staff Capacity'!$H$10:$H$39,$D$3),SUMIF('Staff Capacity'!$G$10:$G$39,\"8c\",'Staff Capacity'!$I$10:$I$39))","v":0},{"$f":"IF($D$3<>\"\",SUMIFS('Staff Capacity'!$I$10:$I$39,'Staff Capacity'!$G$10:$G$39,\"8c\",'Staff Capacity'!$H$10:$H$39,$D$3),SUMIF('Staff Capacity'!$G$10:$G$39,\"8c\",'Staff Capacity'!$I$10:$I$39))","v":0},{"$f":"IF($D$3<>\"\",SUMIFS('Staff Capacity'!$I$10:$I$39,'Staff Capacity'!$G$10:$G$39,\"8c\",'Staff Capacity'!$H$10:$H$39,$D$3),SUMIF('Staff Capacity'!$G$10:$G$39,\"8c\",'Staff Capacity'!$I$10:$I$39))","v":0},{"$f":"IF($D$3<>\"\",SUMIFS('Staff Capacity'!$I$10:$I$39,'Staff Capacity'!$G$10:$G$39,\"8c\",'Staff Capacity'!$H$10:$H$39,$D$3),SUMIF('Staff Capacity'!$G$10:$G$39,\"8c\",'Staff Capacity'!$I$10:$I$39))","v":0},{"$f":"IF($D$3<>\"\",SUMIFS('Staff Capacity'!$I$10:$I$39,'Staff Capacity'!$G$10:$G$39,\"8c\",'Staff Capacity'!$H$10:$H$39,$D$3),SUMIF('Staff Capacity'!$G$10:$G$39,\"8c\",'Staff Capacity'!$I$10:$I$39))","v":0},{"$f":"IF($D$3<>\"\",SUMIFS('Staff Capacity'!$I$10:$I$39,'Staff Capacity'!$G$10:$G$39,\"8c\",'Staff Capacity'!$H$10:$H$39,$D$3),SUMIF('Staff Capacity'!$G$10:$G$39,\"8c\",'Staff Capacity'!$I$10:$I$39))","v":0}]
[null,null,null,null,"8d",{"$f":"IF($D$3<>\"\",SUMIFS('Staff Capacity'!$I$10:$I$39,'Staff Capacity'!$G$10:$G$39,\"8d\",'Staff Capacity'!$H$10:$H$39,$D$3),SUMIF('Staff Capacity'!$G$10:$G$39,\"8d\",'Staff Capacity'!$I$10:$I$39))","v":0},{"$f":"IF($D$3<>\"\",SUMIFS('Staff Capacity'!$I$10:$I$39,'Staff Capacity'!$G$10:$G$39,\"8d\",'Staff Capacity'!$H$10:$H$39,$D$3),SUMIF('Staff Capacity'!$G$10:$G$39,\"8d\",'Staff Capacity'!$I$10:$I$39))","v":0},{"$f":"IF($D$3<>\"\",SUMIFS('Staff Capacity'!$I$10:$I$39,'Staff Capacity'!$G$10:$G$39,\"8d\",'Staff Capacity'!$H$10:$H$39,$D$3),SUMIF('Staff Capacity'!$G$10:$G$39,\"8d\",'Staff Capacity'!$I$10:$I$39))","v":0},{"$f":"IF($D$3<>\"\",SUMIFS('Staff Capacity'!$I$10:$I$39,'Staff Capacity'!$G$10:$G$39,\"8d\",'Staff Capacity'!$H$10:$H$39,$D$3),SUMIF('Staff Capacity'!$G$10:$G$39,\"8d\",'Staff Capacity'!$I$10:$I$39))","v":0},{"$f":"IF($D$3<>\"\",SUMIFS('Staff Capacity'!$I$10:$I$39,'Staff Capacity'!$G$10:$G$39,\"8d\",'Staff Capacity'!$H$10:$H$39,$D$3),SUMIF('Staff Capacity'!$G$10:$G$39,\"8d\",'Staff Capacity'!$I$10:$I$39))","v":0},{"$f":"IF($D$3<>\"\",SUMIFS('Staff Capacity'!$I$10:$I$39,'Staff Capacity'!$G$10:$G$39,\"8d\",'Staff Capacity'!$H$10:$H$39,$D$3),SUMIF('Staff Capacity'!$G$10:$G$39,\"8d\",'Staff Capacity'!$I$10:$I$39))","v":0},{"$f":"IF($D$3<>\"\",SUMIFS('Staff Capacity'!$I$10:$I$39,'Staff Capacity'!$G$10:$G$39,\"8d\",'Staff Capacity'!$H$10:$H$39,$D$3),SUMIF('Staff Capacity'!$G$10:$G$39,\"8d\",'Staff Capacity'!$I$10:$I$39))","v":0},{"$f":"IF($D$3<>\"\",SUMIFS('Staff Capacity'!$I$10:$I$39,'Staff Capacity'!$G$10:$G$39,\"8d\",'Staff Capacity'!$H$10:$H$39,$D$3),SUMIF('Staff Capacity'!$G$10:$G$39,\"8d\",'Staff Capacity'!$I$10:$I$39))","v":0},{"$f":"IF($D$3<>\"\",SUMIFS('Staff Capacity'!$I$10:$I$39,'Staff Capacity'!$G$10:$G$39,\"8d\",'Staff Capacity'!$H$10:$H$39,$D$3),SUMIF('Staff Capacity'!$G$10:$G$39,\"8d\",'Staff Capacity'!$I$10:$I$39))","v":0},{"$f":"IF($D$3<>\"\",SUMIFS('Staff Capacity'!$I$10:$I$39,'Staff Capacity'!$G$10:$G$39,\"8d\",'Staff Capacity'!$H$10:$H$39,$D$3),SUMIF('Staff Capacity'!$G$10:$G$39,\"8d\",'Staff Capacity'!$I$10:$I$39))","v":0},{"$f":"IF($D$3<>\"\",SUMIFS('Staff Capacity'!$I$10:$I$39,'Staff Capacity'!$G$10:$G$39,\"8d\",'Staff Capacity'!$H$10:$H$39,$D$3),SUMIF('Staff Capacity'!$G$10:$G$39,\"8d\",'Staff Capacity'!$I$10:$I$39))","v":0},{"$f":"IF($D$3<>\"\",SUMIFS('Staff Capacity'!$I$10:$I$39,'Staff Capacity'!$G$10:$G$39,\"8d\",'Staff Capacity'!$H$10:$H$39,$D$3),SUMIF('Staff Capacity'!$G$10:$G$39,\"8d\",'Staff Capacity'!$I$10:$I$39))","v":0},{"$f":"IF($D$3<>\"\",SUMIFS('Staff Capacity'!$I$10:$I$39,'Staff Capacity'!$G$10:$G$39,\"8d\",'Staff Capacity'!$H$10:$H$39,$D$3),SUMIF('Staff Capacity'!$G$10:$G$39,\"8d\",'Staff Capacity'!$I$10:$I$39))","v":0},{"$f":"IF($D$3<>\"\",SUMIFS('Staff Capacity'!$I$10:$I$39,'Staff Capacity'!$G$10:$G$39,\"8d\",'Staff Capacity'!$H$10:$H$39,$D$3),SUMIF('Staff Capacity'!$G$10:$G$39,\"8d\",'Staff Capacity'!$I$10:$I$39))","v":0},{"$f":"IF($D$3<>\"\",SUMIFS('Staff Capacity'!$I$10:$I$39,'Staff Capacity'!$G$10:$G$39,\"8d\",'Staff Capacity'!$H$10:$H$39,$D$3),SUMIF('Staff Capacity'!$G$10:$G$39,\"8d\",'Staff Capacity'!$I$10:$I$39))","v":0},{"$f":"IF($D$3<>\"\",SUMIFS('Staff Capacity'!$I$10:$I$39,'Staff Capacity'!$G$10:$G$39,\"8d\",'Staff Capacity'!$H$10:$H$39,$D$3),SUMIF('Staff Capacity'!$G$10:$G$39,\"8d\",'Staff Capacity'!$I$10:$I$39))","v":0},{"$f":"IF($D$3<>\"\",SUMIFS('Staff Capacity'!$I$10:$I$39,'Staff Capacity'!$G$10:$G$39,\"8d\",'Staff Capacity'!$H$10:$H$39,$D$3),SUMIF('Staff Capacity'!$G$10:$G$39,\"8d\",'Staff Capacity'!$I$10:$I$39))","v":0},{"$f":"IF($D$3<>\"\",SUMIFS('Staff Capacity'!$I$10:$I$39,'Staff Capacity'!$G$10:$G$39,\"8d\",'Staff Capacity'!$H$10:$H$39,$D$3),SUMIF('Staff Capacity'!$G$10:$G$39,\"8d\",'Staff Capacity'!$I$10:$I$39))","v":0},{"$f":"IF($D$3<>\"\",SUMIFS('Staff Capacity'!$I$10:$I$39,'Staff Capacity'!$G$10:$G$39,\"8d\",'Staff Capacity'!$H$10:$H$39,$D$3),SUMIF('Staff Capacity'!$G$10:$G$39,\"8d\",'Staff Capacity'!$I$10:$I$39))","v":0},{"$f":"IF($D$3<>\"\",SUMIFS('Staff Capacity'!$I$10:$I$39,'Staff Capacity'!$G$10:$G$39,\"8d\",'Staff Capacity'!$H$10:$H$39,$D$3),SUMIF('Staff Capacity'!$G$10:$G$39,\"8d\",'Staff Capacity'!$I$10:$I$39))","v":0},{"$f":"IF($D$3<>\"\",SUMIFS('Staff Capacity'!$I$10:$I$39,'Staff Capacity'!$G$10:$G$39,\"8d\",'Staff Capacity'!$H$10:$H$39,$D$3),SUMIF('Staff Capacity'!$G$10:$G$39,\"8d\",'Staff Capacity'!$I$10:$I$39))","v":0},{"$f":"IF($D$3<>\"\",SUMIFS('Staff Capacity'!$I$10:$I$39,'Staff Capacity'!$G$10:$G$39,\"8d\",'Staff Capacity'!$H$10:$H$39,$D$3),SUMIF('Staff Capacity'!$G$10:$G$39,\"8d\",'Staff Capacity'!$I$10:$I$39))","v":0},{"$f":"IF($D$3<>\"\",SUMIFS('Staff Capacity'!$I$10:$I$39,'Staff Capacity'!$G$10:$G$39,\"8d\",'Staff Capacity'!$H$10:$H$39,$D$3),SUMIF('Staff Capacity'!$G$10:$G$39,\"8d\",'Staff Capacity'!$I$10:$I$39))","v":0},{"$f":"IF($D$3<>\"\",SUMIFS('Staff Capacity'!$I$10:$I$39,'Staff Capacity'!$G$10:$G$39,\"8d\",'Staff Capacity'!$H$10:$H$39,$D$3),SUMIF('Staff Capacity'!$G$10:$G$39,\"8d\",'Staff Capacity'!$I$10:$I$39))","v":0},{"$f":"IF($D$3<>\"\",SUMIFS('Staff Capacity'!$I$10:$I$39,'Staff Capacity'!$G$10:$G$39,\"8d\",'Staff Capacity'!$H$10:$H$39,$D$3),SUMIF('Staff Capacity'!$G$10:$G$39,\"8d\",'Staff Capacity'!$I$10:$I$39))","v":0},{"$f":"IF($D$3<>\"\",SUMIFS('Staff Capacity'!$I$10:$I$39,'Staff Capacity'!$G$10:$G$39,\"8d\",'Staff Capacity'!$H$10:$H$39,$D$3),SUMIF('Staff Capacity'!$G$10:$G$39,\"8d\",'Staff Capacity'!$I$10:$I$39))","v":0},{"$f":"IF($D$3<>\"\",SUMIFS('Staff Capacity'!$I$10:$I$39,'Staff Capacity'!$G$10:$G$39,\"8d\",'Staff Capacity'!$H$10:$H$39,$D$3),SUMIF('Staff Capacity'!$G$10:$G$39,\"8d\",'Staff Capacity'!$I$10:$I$39))","v":0},{"$f":"IF($D$3<>\"\",SUMIFS('Staff Capacity'!$I$10:$I$39,'Staff Capacity'!$G$10:$G$39,\"8d\",'Staff Capacity'!$H$10:$H$39,$D$3),SUMIF('Staff Capacity'!$G$10:$G$39,\"8d\",'Staff Capacity'!$I$10:$I$39))","v":0},{"$f":"IF($D$3<>\"\",SUMIFS('Staff Capacity'!$I$10:$I$39,'Staff Capacity'!$G$10:$G$39,\"8d\",'Staff Capacity'!$H$10:$H$39,$D$3),SUMIF('Staff Capacity'!$G$10:$G$39,\"8d\",'Staff Capacity'!$I$10:$I$39))","v":0},{"$f":"IF($D$3<>\"\",SUMIFS('Staff Capacity'!$I$10:$I$39,'Staff Capacity'!$G$10:$G$39,\"8d\",'Staff Capacity'!$H$10:$H$39,$D$3),SUMIF('Staff Capacity'!$G$10:$G$39,\"8d\",'Staff Capacity'!$I$10:$I$39))","v":0},{"$f":"IF($D$3<>\"\",SUMIFS('Staff Capacity'!$I$10:$I$39,'Staff Capacity'!$G$10:$G$39,\"8d\",'Staff Capacity'!$H$10:$H$39,$D$3),SUMIF('Staff Capacity'!$G$10:$G$39,\"8d\",'Staff Capacity'!$I$10:$I$39))","v":0},{"$f":"IF($D$3<>\"\",SUMIFS('Staff Capacity'!$I$10:$I$39,'Staff Capacity'!$G$10:$G$39,\"8d\",'Staff Capacity'!$H$10:$H$39,$D$3),SUMIF('Staff Capacity'!$G$10:$G$39,\"8d\",'Staff Capacity'!$I$10:$I$39))","v":0},{"$f":"IF($D$3<>\"\",SUMIFS('Staff Capacity'!$I$10:$I$39,'Staff Capacity'!$G$10:$G$39,\"8d\",'Staff Capacity'!$H$10:$H$39,$D$3),SUMIF('Staff Capacity'!$G$10:$G$39,\"8d\",'Staff Capacity'!$I$10:$I$39))","v":0},{"$f":"IF($D$3<>\"\",SUMIFS('Staff Capacity'!$I$10:$I$39,'Staff Capacity'!$G$10:$G$39,\"8d\",'Staff Capacity'!$H$10:$H$39,$D$3),SUMIF('Staff Capacity'!$G$10:$G$39,\"8d\",'Staff Capacity'!$I$10:$I$39))","v":0},{"$f":"IF($D$3<>\"\",SUMIFS('Staff Capacity'!$I$10:$I$39,'Staff Capacity'!$G$10:$G$39,\"8d\",'Staff Capacity'!$H$10:$H$39,$D$3),SUMIF('Staff Capacity'!$G$10:$G$39,\"8d\",'Staff Capacity'!$I$10:$I$39))","v":0},{"$f":"IF($D$3<>\"\",SUMIFS('Staff Capacity'!$I$10:$I$39,'Staff Capacity'!$G$10:$G$39,\"8d\",'Staff Capacity'!$H$10:$H$39,$D$3),SUMIF('Staff Capacity'!$G$10:$G$39,\"8d\",'Staff Capacity'!$I$10:$I$39))","v":0},{"$f":"IF($D$3<>\"\",SUMIFS('Staff Capacity'!$I$10:$I$39,'Staff Capacity'!$G$10:$G$39,\"8d\",'Staff Capacity'!$H$10:$H$39,$D$3),SUMIF('Staff Capacity'!$G$10:$G$39,\"8d\",'Staff Capacity'!$I$10:$I$39))","v":0},{"$f":"IF($D$3<>\"\",SUMIFS('Staff Capacity'!$I$10:$I$39,'Staff Capacity'!$G$10:$G$39,\"8d\",'Staff Capacity'!$H$10:$H$39,$D$3),SUMIF('Staff Capacity'!$G$10:$G$39,\"8d\",'Staff Capacity'!$I$10:$I$39))","v":0},{"$f":"IF($D$3<>\"\",SUMIFS('Staff Capacity'!$I$10:$I$39,'Staff Capacity'!$G$10:$G$39,\"8d\",'Staff Capacity'!$H$10:$H$39,$D$3),SUMIF('Staff Capacity'!$G$10:$G$39,\"8d\",'Staff Capacity'!$I$10:$I$39))","v":0},{"$f":"IF($D$3<>\"\",SUMIFS('Staff Capacity'!$I$10:$I$39,'Staff Capacity'!$G$10:$G$39,\"8d\",'Staff Capacity'!$H$10:$H$39,$D$3),SUMIF('Staff Capacity'!$G$10:$G$39,\"8d\",'Staff Capacity'!$I$10:$I$39))","v":0},{"$f":"IF($D$3<>\"\",SUMIFS('Staff Capacity'!$I$10:$I$39,'Staff Capacity'!$G$10:$G$39,\"8d\",'Staff Capacity'!$H$10:$H$39,$D$3),SUMIF('Staff Capacity'!$G$10:$G$39,\"8d\",'Staff Capacity'!$I$10:$I$39))","v":0},{"$f":"IF($D$3<>\"\",SUMIFS('Staff Capacity'!$I$10:$I$39,'Staff Capacity'!$G$10:$G$39,\"8d\",'Staff Capacity'!$H$10:$H$39,$D$3),SUMIF('Staff Capacity'!$G$10:$G$39,\"8d\",'Staff Capacity'!$I$10:$I$39))","v":0},{"$f":"IF($D$3<>\"\",SUMIFS('Staff Capacity'!$I$10:$I$39,'Staff Capacity'!$G$10:$G$39,\"8d\",'Staff Capacity'!$H$10:$H$39,$D$3),SUMIF('Staff Capacity'!$G$10:$G$39,\"8d\",'Staff Capacity'!$I$10:$I$39))","v":0},{"$f":"IF($D$3<>\"\",SUMIFS('Staff Capacity'!$I$10:$I$39,'Staff Capacity'!$G$10:$G$39,\"8d\",'Staff Capacity'!$H$10:$H$39,$D$3),SUMIF('Staff Capacity'!$G$10:$G$39,\"8d\",'Staff Capacity'!$I$10:$I$39))","v":0},{"$f":"IF($D$3<>\"\",SUMIFS('Staff Capacity'!$I$10:$I$39,'Staff Capacity'!$G$10:$G$39,\"8d\",'Staff Capacity'!$H$10:$H$39,$D$3),SUMIF('Staff Capacity'!$G$10:$G$39,\"8d\",'Staff Capacity'!$I$10:$I$39))","v":0},{"$f":"IF($D$3<>\"\",SUMIFS('Staff Capacity'!$I$10:$I$39,'Staff Capacity'!$G$10:$G$39,\"8d\",'Staff Capacity'!$H$10:$H$39,$D$3),SUMIF('Staff Capacity'!$G$10:$G$39,\"8d\",'Staff Capacity'!$I$10:$I$39))","v":0},{"$f":"IF($D$3<>\"\",SUMIFS('Staff Capacity'!$I$10:$I$39,'Staff Capacity'!$G$10:$G$39,\"8d\",'Staff Capacity'!$H$10:$H$39,$D$3),SUMIF('Staff Capacity'!$G$10:$G$39,\"8d\",'Staff Capacity'!$I$10:$I$39))","v":0},{"$f":"IF($D$3<>\"\",SUMIFS('Staff Capacity'!$I$10:$I$39,'Staff Capacity'!$G$10:$G$39,\"8d\",'Staff Capacity'!$H$10:$H$39,$D$3),SUMIF('Staff Capacity'!$G$10:$G$39,\"8d\",'Staff Capacity'!$I$10:$I$39))","v":0},{"$f":"IF($D$3<>\"\",SUMIFS('Staff Capacity'!$I$10:$I$39,'Staff Capacity'!$G$10:$G$39,\"8d\",'Staff Capacity'!$H$10:$H$39,$D$3),SUMIF('Staff Capacity'!$G$10:$G$39,\"8d\",'Staff Capacity'!$I$10:$I$39))","v":0},{"$f":"IF($D$3<>\"\",SUMIFS('Staff Capacity'!$I$10:$I$39,'Staff Capacity'!$G$10:$G$39,\"8d\",'Staff Capacity'!$H$10:$H$39,$D$3),SUMIF('Staff Capacity'!$G$10:$G$39,\"8d\",'Staff Capacity'!$I$10:$I$39))","v":0},{"$f":"IF($D$3<>\"\",SUMIFS('Staff Capacity'!$I$10:$I$39,'Staff Capacity'!$G$10:$G$39,\"8d\",'Staff Capacity'!$H$10:$H$39,$D$3),SUMIF('Staff Capacity'!$G$10:$G$39,\"8d\",'Staff Capacity'!$I$10:$I$39))","v":0},{"$f":"IF($D$3<>\"\",SUMIFS('Staff Capacity'!$I$10:$I$39,'Staff Capacity'!$G$10:$G$39,\"8d\",'Staff Capacity'!$H$10:$H$39,$D$3),SUMIF('Staff Capacity'!$G$10:$G$39,\"8d\",'Staff Capacity'!$I$10:$I$39))","v":0},{"$f":"IF($D$3<>\"\",SUMIFS('Staff Capacity'!$I$10:$I$39,'Staff Capacity'!$G$10:$G$39,\"8d\",'Staff Capacity'!$H$10:$H$39,$D$3),SUMIF('Staff Capacity'!$G$10:$G$39,\"8d\",'Staff Capacity'!$I$10:$I$39))","v":0},{"$f":"IF($D$3<>\"\",SUMIFS('Staff Capacity'!$I$10:$I$39,'Staff Capacity'!$G$10:$G$39,\"8d\",'Staff Capacity'!$H$10:$H$39,$D$3),SUMIF('Staff Capacity'!$G$10:$G$39,\"8d\",'Staff Capacity'!$I$10:$I$39))","v":0},{"$f":"IF($D$3<>\"\",SUMIFS('Staff Capacity'!$I$10:$I$39,'Staff Capacity'!$G$10:$G$39,\"8d\",'Staff Capacity'!$H$10:$H$39,$D$3),SUMIF('Staff Capacity'!$G$10:$G$39,\"8d\",'Staff Capacity'!$I$10:$I$39))","v":0},{"$f":"IF($D$3<>\"\",SUMIFS('Staff Capacity'!$I$10:$I$39,'Staff Capacity'!$G$10:$G$39,\"8d\",'Staff Capacity'!$H$10:$H$39,$D$3),SUMIF('Staff Capacity'!$G$10:$G$39,\"8d\",'Staff Capacity'!$I$10:$I$39))","v":0},{"$f":"IF($D$3<>\"\",SUMIFS('Staff Capacity'!$I$10:$I$39,'Staff Capacity'!$G$10:$G$39,\"8d\",'Staff Capacity'!$H$10:$H$39,$D$3),SUMIF('Staff Capacity'!$G$10:$G$39,\"8d\",'Staff Capacity'!$I$10:$I$39))","v":0},{"$f":"IF($D$3<>\"\",SUMIFS('Staff Capacity'!$I$10:$I$39,'Staff Capacity'!$G$10:$G$39,\"8d\",'Staff Capacity'!$H$10:$H$39,$D$3),SUMIF('Staff Capacity'!$G$10:$G$39,\"8d\",'Staff Capacity'!$I$10:$I$39))","v":0},{"$f":"IF($D$3<>\"\",SUMIFS('Staff Capacity'!$I$10:$I$39,'Staff Capacity'!$G$10:$G$39,\"8d\",'Staff Capacity'!$H$10:$H$39,$D$3),SUMIF('Staff Capacity'!$G$10:$G$39,\"8d\",'Staff Capacity'!$I$10:$I$39))","v":0},{"$f":"IF($D$3<>\"\",SUMIFS('Staff Capacity'!$I$10:$I$39,'Staff Capacity'!$G$10:$G$39,\"8d\",'Staff Capacity'!$H$10:$H$39,$D$3),SUMIF('Staff Capacity'!$G$10:$G$39,\"8d\",'Staff Capacity'!$I$10:$I$39))","v":0},{"$f":"IF($D$3<>\"\",SUMIFS('Staff Capacity'!$I$10:$I$39,'Staff Capacity'!$G$10:$G$39,\"8d\",'Staff Capacity'!$H$10:$H$39,$D$3),SUMIF('Staff Capacity'!$G$10:$G$39,\"8d\",'Staff Capacity'!$I$10:$I$39))","v":0},{"$f":"IF($D$3<>\"\",SUMIFS('Staff Capacity'!$I$10:$I$39,'Staff Capacity'!$G$10:$G$39,\"8d\",'Staff Capacity'!$H$10:$H$39,$D$3),SUMIF('Staff Capacity'!$G$10:$G$39,\"8d\",'Staff Capacity'!$I$10:$I$39))","v":0},{"$f":"IF($D$3<>\"\",SUMIFS('Staff Capacity'!$I$10:$I$39,'Staff Capacity'!$G$10:$G$39,\"8d\",'Staff Capacity'!$H$10:$H$39,$D$3),SUMIF('Staff Capacity'!$G$10:$G$39,\"8d\",'Staff Capacity'!$I$10:$I$39))","v":0},{"$f":"IF($D$3<>\"\",SUMIFS('Staff Capacity'!$I$10:$I$39,'Staff Capacity'!$G$10:$G$39,\"8d\",'Staff Capacity'!$H$10:$H$39,$D$3),SUMIF('Staff Capacity'!$G$10:$G$39,\"8d\",'Staff Capacity'!$I$10:$I$39))","v":0},{"$f":"IF($D$3<>\"\",SUMIFS('Staff Capacity'!$I$10:$I$39,'Staff Capacity'!$G$10:$G$39,\"8d\",'Staff Capacity'!$H$10:$H$39,$D$3),SUMIF('Staff Capacity'!$G$10:$G$39,\"8d\",'Staff Capacity'!$I$10:$I$39))","v":0},{"$f":"IF($D$3<>\"\",SUMIFS('Staff Capacity'!$I$10:$I$39,'Staff Capacity'!$G$10:$G$39,\"8d\",'Staff Capacity'!$H$10:$H$39,$D$3),SUMIF('Staff Capacity'!$G$10:$G$39,\"8d\",'Staff Capacity'!$I$10:$I$39))","v":0},{"$f":"IF($D$3<>\"\",SUMIFS('Staff Capacity'!$I$10:$I$39,'Staff Capacity'!$G$10:$G$39,\"8d\",'Staff Capacity'!$H$10:$H$39,$D$3),SUMIF('Staff Capacity'!$G$10:$G$39,\"8d\",'Staff Capacity'!$I$10:$I$39))","v":0},{"$f":"IF($D$3<>\"\",SUMIFS('Staff Capacity'!$I$10:$I$39,'Staff Capacity'!$G$10:$G$39,\"8d\",'Staff Capacity'!$H$10:$H$39,$D$3),SUMIF('Staff Capacity'!$G$10:$G$39,\"8d\",'Staff Capacity'!$I$10:$I$39))","v":0},{"$f":"IF($D$3<>\"\",SUMIFS('Staff Capacity'!$I$10:$I$39,'Staff Capacity'!$G$10:$G$39,\"8d\",'Staff Capacity'!$H$10:$H$39,$D$3),SUMIF('Staff Capacity'!$G$10:$G$39,\"8d\",'Staff Capacity'!$I$10:$I$39))","v":0},{"$f":"IF($D$3<>\"\",SUMIFS('Staff Capacity'!$I$10:$I$39,'Staff Capacity'!$G$10:$G$39,\"8d\",'Staff Capacity'!$H$10:$H$39,$D$3),SUMIF('Staff Capacity'!$G$10:$G$39,\"8d\",'Staff Capacity'!$I$10:$I$39))","v":0},{"$f":"IF($D$3<>\"\",SUMIFS('Staff Capacity'!$I$10:$I$39,'Staff Capacity'!$G$10:$G$39,\"8d\",'Staff Capacity'!$H$10:$H$39,$D$3),SUMIF('Staff Capacity'!$G$10:$G$39,\"8d\",'Staff Capacity'!$I$10:$I$39))","v":0},{"$f":"IF($D$3<>\"\",SUMIFS('Staff Capacity'!$I$10:$I$39,'Staff Capacity'!$G$10:$G$39,\"8d\",'Staff Capacity'!$H$10:$H$39,$D$3),SUMIF('Staff Capacity'!$G$10:$G$39,\"8d\",'Staff Capacity'!$I$10:$I$39))","v":0},{"$f":"IF($D$3<>\"\",SUMIFS('Staff Capacity'!$I$10:$I$39,'Staff Capacity'!$G$10:$G$39,\"8d\",'Staff Capacity'!$H$10:$H$39,$D$3),SUMIF('Staff Capacity'!$G$10:$G$39,\"8d\",'Staff Capacity'!$I$10:$I$39))","v":0},{"$f":"IF($D$3<>\"\",SUMIFS('Staff Capacity'!$I$10:$I$39,'Staff Capacity'!$G$10:$G$39,\"8d\",'Staff Capacity'!$H$10:$H$39,$D$3),SUMIF('Staff Capacity'!$G$10:$G$39,\"8d\",'Staff Capacity'!$I$10:$I$39))","v":0},{"$f":"IF($D$3<>\"\",SUMIFS('Staff Capacity'!$I$10:$I$39,'Staff Capacity'!$G$10:$G$39,\"8d\",'Staff Capacity'!$H$10:$H$39,$D$3),SUMIF('Staff Capacity'!$G$10:$G$39,\"8d\",'Staff Capacity'!$I$10:$I$39))","v":0},{"$f":"IF($D$3<>\"\",SUMIFS('Staff Capacity'!$I$10:$I$39,'Staff Capacity'!$G$10:$G$39,\"8d\",'Staff Capacity'!$H$10:$H$39,$D$3),SUMIF('Staff Capacity'!$G$10:$G$39,\"8d\",'Staff Capacity'!$I$10:$I$39))","v":0},{"$f":"IF($D$3<>\"\",SUMIFS('Staff Capacity'!$I$10:$I$39,'Staff Capacity'!$G$10:$G$39,\"8d\",'Staff Capacity'!$H$10:$H$39,$D$3),SUMIF('Staff Capacity'!$G$10:$G$39,\"8d\",'Staff Capacity'!$I$10:$I$39))","v":0},{"$f":"IF($D$3<>\"\",SUMIFS('Staff Capacity'!$I$10:$I$39,'Staff Capacity'!$G$10:$G$39,\"8d\",'Staff Capacity'!$H$10:$H$39,$D$3),SUMIF('Staff Capacity'!$G$10:$G$39,\"8d\",'Staff Capacity'!$I$10:$I$39))","v":0},{"$f":"IF($D$3<>\"\",SUMIFS('Staff Capacity'!$I$10:$I$39,'Staff Capacity'!$G$10:$G$39,\"8d\",'Staff Capacity'!$H$10:$H$39,$D$3),SUMIF('Staff Capacity'!$G$10:$G$39,\"8d\",'Staff Capacity'!$I$10:$I$39))","v":0},{"$f":"IF($D$3<>\"\",SUMIFS('Staff Capacity'!$I$10:$I$39,'Staff Capacity'!$G$10:$G$39,\"8d\",'Staff Capacity'!$H$10:$H$39,$D$3),SUMIF('Staff Capacity'!$G$10:$G$39,\"8d\",'Staff Capacity'!$I$10:$I$39))","v":0},{"$f":"IF($D$3<>\"\",SUMIFS('Staff Capacity'!$I$10:$I$39,'Staff Capacity'!$G$10:$G$39,\"8d\",'Staff Capacity'!$H$10:$H$39,$D$3),SUMIF('Staff Capacity'!$G$10:$G$39,\"8d\",'Staff Capacity'!$I$10:$I$39))","v":0},{"$f":"IF($D$3<>\"\",SUMIFS('Staff Capacity'!$I$10:$I$39,'Staff Capacity'!$G$10:$G$39,\"8d\",'Staff Capacity'!$H$10:$H$39,$D$3),SUMIF('Staff Capacity'!$G$10:$G$39,\"8d\",'Staff Capacity'!$I$10:$I$39))","v":0},{"$f":"IF($D$3<>\"\",SUMIFS('Staff Capacity'!$I$10:$I$39,'Staff Capacity'!$G$10:$G$39,\"8d\",'Staff Capacity'!$H$10:$H$39,$D$3),SUMIF('Staff Capacity'!$G$10:$G$39,\"8d\",'Staff Capacity'!$I$10:$I$39))","v":0},{"$f":"IF($D$3<>\"\",SUMIFS('Staff Capacity'!$I$10:$I$39,'Staff Capacity'!$G$10:$G$39,\"8d\",'Staff Capacity'!$H$10:$H$39,$D$3),SUMIF('Staff Capacity'!$G$10:$G$39,\"8d\",'Staff Capacity'!$I$10:$I$39))","v":0},{"$f":"IF($D$3<>\"\",SUMIFS('Staff Capacity'!$I$10:$I$39,'Staff Capacity'!$G$10:$G$39,\"8d\",'Staff Capacity'!$H$10:$H$39,$D$3),SUMIF('Staff Capacity'!$G$10:$G$39,\"8d\",'Staff Capacity'!$I$10:$I$39))","v":0},{"$f":"IF($D$3<>\"\",SUMIFS('Staff Capacity'!$I$10:$I$39,'Staff Capacity'!$G$10:$G$39,\"8d\",'Staff Capacity'!$H$10:$H$39,$D$3),SUMIF('Staff Capacity'!$G$10:$G$39,\"8d\",'Staff Capacity'!$I$10:$I$39))","v":0},{"$f":"IF($D$3<>\"\",SUMIFS('Staff Capacity'!$I$10:$I$39,'Staff Capacity'!$G$10:$G$39,\"8d\",'Staff Capacity'!$H$10:$H$39,$D$3),SUMIF('Staff Capacity'!$G$10:$G$39,\"8d\",'Staff Capacity'!$I$10:$I$39))","v":0},{"$f":"IF($D$3<>\"\",SUMIFS('Staff Capacity'!$I$10:$I$39,'Staff Capacity'!$G$10:$G$39,\"8d\",'Staff Capacity'!$H$10:$H$39,$D$3),SUMIF('Staff Capacity'!$G$10:$G$39,\"8d\",'Staff Capacity'!$I$10:$I$39))","v":0},{"$f":"IF($D$3<>\"\",SUMIFS('Staff Capacity'!$I$10:$I$39,'Staff Capacity'!$G$10:$G$39,\"8d\",'Staff Capacity'!$H$10:$H$39,$D$3),SUMIF('Staff Capacity'!$G$10:$G$39,\"8d\",'Staff Capacity'!$I$10:$I$39))","v":0},{"$f":"IF($D$3<>\"\",SUMIFS('Staff Capacity'!$I$10:$I$39,'Staff Capacity'!$G$10:$G$39,\"8d\",'Staff Capacity'!$H$10:$H$39,$D$3),SUMIF('Staff Capacity'!$G$10:$G$39,\"8d\",'Staff Capacity'!$I$10:$I$39))","v":0},{"$f":"IF($D$3<>\"\",SUMIFS('Staff Capacity'!$I$10:$I$39,'Staff Capacity'!$G$10:$G$39,\"8d\",'Staff Capacity'!$H$10:$H$39,$D$3),SUMIF('Staff Capacity'!$G$10:$G$39,\"8d\",'Staff Capacity'!$I$10:$I$39))","v":0},{"$f":"IF($D$3<>\"\",SUMIFS('Staff Capacity'!$I$10:$I$39,'Staff Capacity'!$G$10:$G$39,\"8d\",'Staff Capacity'!$H$10:$H$39,$D$3),SUMIF('Staff Capacity'!$G$10:$G$39,\"8d\",'Staff Capacity'!$I$10:$I$39))","v":0},{"$f":"IF($D$3<>\"\",SUMIFS('Staff Capacity'!$I$10:$I$39,'Staff Capacity'!$G$10:$G$39,\"8d\",'Staff Capacity'!$H$10:$H$39,$D$3),SUMIF('Staff Capacity'!$G$10:$G$39,\"8d\",'Staff Capacity'!$I$10:$I$39))","v":0},{"$f":"IF($D$3<>\"\",SUMIFS('Staff Capacity'!$I$10:$I$39,'Staff Capacity'!$G$10:$G$39,\"8d\",'Staff Capacity'!$H$10:$H$39,$D$3),SUMIF('Staff Capacity'!$G$10:$G$39,\"8d\",'Staff Capacity'!$I$10:$I$39))","v":0},{"$f":"IF($D$3<>\"\",SUMIFS('Staff Capacity'!$I$10:$I$39,'Staff Capacity'!$G$10:$G$39,\"8d\",'Staff Capacity'!$H$10:$H$39,$D$3),SUMIF('Staff Capacity'!$G$10:$G$39,\"8d\",'Staff Capacity'!$I$10:$I$39))","v":0},{"$f":"IF($D$3<>\"\",SUMIFS('Staff Capacity'!$I$10:$I$39,'Staff Capacity'!$G$10:$G$39,\"8d\",'Staff Capacity'!$H$10:$H$39,$D$3),SUMIF('Staff Capacity'!$G$10:$G$39,\"8d\",'Staff Capacity'!$I$10:$I$39))","v":0},{"$f":"IF($D$3<>\"\",SUMIFS('Staff Capacity'!$I$10:$I$39,'Staff Capacity'!$G$10:$G$39,\"8d\",'Staff Capacity'!$H$10:$H$39,$D$3),SUMIF('Staff Capacity'!$G$10:$G$39,\"8d\",'Staff Capacity'!$I$10:$I$39))","v":0},{"$f":"IF($D$3<>\"\",SUMIFS('Staff Capacity'!$I$10:$I$39,'Staff Capacity'!$G$10:$G$39,\"8d\",'Staff Capacity'!$H$10:$H$39,$D$3),SUMIF('Staff Capacity'!$G$10:$G$39,\"8d\",'Staff Capacity'!$I$10:$I$39))","v":0},{"$f":"IF($D$3<>\"\",SUMIFS('Staff Capacity'!$I$10:$I$39,'Staff Capacity'!$G$10:$G$39,\"8d\",'Staff Capacity'!$H$10:$H$39,$D$3),SUMIF('Staff Capacity'!$G$10:$G$39,\"8d\",'Staff Capacity'!$I$10:$I$39))","v":0},{"$f":"IF($D$3<>\"\",SUMIFS('Staff Capacity'!$I$10:$I$39,'Staff Capacity'!$G$10:$G$39,\"8d\",'Staff Capacity'!$H$10:$H$39,$D$3),SUMIF('Staff Capacity'!$G$10:$G$39,\"8d\",'Staff Capacity'!$I$10:$I$39))","v":0},{"$f":"IF($D$3<>\"\",SUMIFS('Staff Capacity'!$I$10:$I$39,'Staff Capacity'!$G$10:$G$39,\"8d\",'Staff Capacity'!$H$10:$H$39,$D$3),SUMIF('Staff Capacity'!$G$10:$G$39,\"8d\",'Staff Capacity'!$I$10:$I$39))","v":0},{"$f":"IF($D$3<>\"\",SUMIFS('Staff Capacity'!$I$10:$I$39,'Staff Capacity'!$G$10:$G$39,\"8d\",'Staff Capacity'!$H$10:$H$39,$D$3),SUMIF('Staff Capacity'!$G$10:$G$39,\"8d\",'Staff Capacity'!$I$10:$I$39))","v":0},{"$f":"IF($D$3<>\"\",SUMIFS('Staff Capacity'!$I$10:$I$39,'Staff Capacity'!$G$10:$G$39,\"8d\",'Staff Capacity'!$H$10:$H$39,$D$3),SUMIF('Staff Capacity'!$G$10:$G$39,\"8d\",'Staff Capacity'!$I$10:$I$39))","v":0},{"$f":"IF($D$3<>\"\",SUMIFS('Staff Capacity'!$I$10:$I$39,'Staff Capacity'!$G$10:$G$39,\"8d\",'Staff Capacity'!$H$10:$H$39,$D$3),SUMIF('Staff Capacity'!$G$10:$G$39,\"8d\",'Staff Capacity'!$I$10:$I$39))","v":0},{"$f":"IF($D$3<>\"\",SUMIFS('Staff Capacity'!$I$10:$I$39,'Staff Capacity'!$G$10:$G$39,\"8d\",'Staff Capacity'!$H$10:$H$39,$D$3),SUMIF('Staff Capacity'!$G$10:$G$39,\"8d\",'Staff Capacity'!$I$10:$I$39))","v":0},{"$f":"IF($D$3<>\"\",SUMIFS('Staff Capacity'!$I$10:$I$39,'Staff Capacity'!$G$10:$G$39,\"8d\",'Staff Capacity'!$H$10:$H$39,$D$3),SUMIF('Staff Capacity'!$G$10:$G$39,\"8d\",'Staff Capacity'!$I$10:$I$39))","v":0},{"$f":"IF($D$3<>\"\",SUMIFS('Staff Capacity'!$I$10:$I$39,'Staff Capacity'!$G$10:$G$39,\"8d\",'Staff Capacity'!$H$10:$H$39,$D$3),SUMIF('Staff Capacity'!$G$10:$G$39,\"8d\",'Staff Capacity'!$I$10:$I$39))","v":0},{"$f":"IF($D$3<>\"\",SUMIFS('Staff Capacity'!$I$10:$I$39,'Staff Capacity'!$G$10:$G$39,\"8d\",'Staff Capacity'!$H$10:$H$39,$D$3),SUMIF('Staff Capacity'!$G$10:$G$39,\"8d\",'Staff Capacity'!$I$10:$I$39))","v":0},{"$f":"IF($D$3<>\"\",SUMIFS('Staff Capacity'!$I$10:$I$39,'Staff Capacity'!$G$10:$G$39,\"8d\",'Staff Capacity'!$H$10:$H$39,$D$3),SUMIF('Staff Capacity'!$G$10:$G$39,\"8d\",'Staff Capacity'!$I$10:$I$39))","v":0},{"$f":"IF($D$3<>\"\",SUMIFS('Staff Capacity'!$I$10:$I$39,'Staff Capacity'!$G$10:$G$39,\"8d\",'Staff Capacity'!$H$10:$H$39,$D$3),SUMIF('Staff Capacity'!$G$10:$G$39,\"8d\",'Staff Capacity'!$I$10:$I$39))","v":0},{"$f":"IF($D$3<>\"\",SUMIFS('Staff Capacity'!$I$10:$I$39,'Staff Capacity'!$G$10:$G$39,\"8d\",'Staff Capacity'!$H$10:$H$39,$D$3),SUMIF('Staff Capacity'!$G$10:$G$39,\"8d\",'Staff Capacity'!$I$10:$I$39))","v":0},{"$f":"IF($D$3<>\"\",SUMIFS('Staff Capacity'!$I$10:$I$39,'Staff Capacity'!$G$10:$G$39,\"8d\",'Staff Capacity'!$H$10:$H$39,$D$3),SUMIF('Staff Capacity'!$G$10:$G$39,\"8d\",'Staff Capacity'!$I$10:$I$39))","v":0},{"$f":"IF($D$3<>\"\",SUMIFS('Staff Capacity'!$I$10:$I$39,'Staff Capacity'!$G$10:$G$39,\"8d\",'Staff Capacity'!$H$10:$H$39,$D$3),SUMIF('Staff Capacity'!$G$10:$G$39,\"8d\",'Staff Capacity'!$I$10:$I$39))","v":0},{"$f":"IF($D$3<>\"\",SUMIFS('Staff Capacity'!$I$10:$I$39,'Staff Capacity'!$G$10:$G$39,\"8d\",'Staff Capacity'!$H$10:$H$39,$D$3),SUMIF('Staff Capacity'!$G$10:$G$39,\"8d\",'Staff Capacity'!$I$10:$I$39))","v":0},{"$f":"IF($D$3<>\"\",SUMIFS('Staff Capacity'!$I$10:$I$39,'Staff Capacity'!$G$10:$G$39,\"8d\",'Staff Capacity'!$H$10:$H$39,$D$3),SUMIF('Staff Capacity'!$G$10:$G$39,\"8d\",'Staff Capacity'!$I$10:$I$39))","v":0},{"$f":"IF($D$3<>\"\",SUMIFS('Staff Capacity'!$I$10:$I$39,'Staff Capacity'!$G$10:$G$39,\"8d\",'Staff Capacity'!$H$10:$H$39,$D$3),SUMIF('Staff Capacity'!$G$10:$G$39,\"8d\",'Staff Capacity'!$I$10:$I$39))","v":0},{"$f":"IF($D$3<>\"\",SUMIFS('Staff Capacity'!$I$10:$I$39,'Staff Capacity'!$G$10:$G$39,\"8d\",'Staff Capacity'!$H$10:$H$39,$D$3),SUMIF('Staff Capacity'!$G$10:$G$39,\"8d\",'Staff Capacity'!$I$10:$I$39))","v":0},{"$f":"IF($D$3<>\"\",SUMIFS('Staff Capacity'!$I$10:$I$39,'Staff Capacity'!$G$10:$G$39,\"8d\",'Staff Capacity'!$H$10:$H$39,$D$3),SUMIF('Staff Capacity'!$G$10:$G$39,\"8d\",'Staff Capacity'!$I$10:$I$39))","v":0},{"$f":"IF($D$3<>\"\",SUMIFS('Staff Capacity'!$I$10:$I$39,'Staff Capacity'!$G$10:$G$39,\"8d\",'Staff Capacity'!$H$10:$H$39,$D$3),SUMIF('Staff Capacity'!$G$10:$G$39,\"8d\",'Staff Capacity'!$I$10:$I$39))","v":0},{"$f":"IF($D$3<>\"\",SUMIFS('Staff Capacity'!$I$10:$I$39,'Staff Capacity'!$G$10:$G$39,\"8d\",'Staff Capacity'!$H$10:$H$39,$D$3),SUMIF('Staff Capacity'!$G$10:$G$39,\"8d\",'Staff Capacity'!$I$10:$I$39))","v":0},{"$f":"IF($D$3<>\"\",SUMIFS('Staff Capacity'!$I$10:$I$39,'Staff Capacity'!$G$10:$G$39,\"8d\",'Staff Capacity'!$H$10:$H$39,$D$3),SUMIF('Staff Capacity'!$G$10:$G$39,\"8d\",'Staff Capacity'!$I$10:$I$39))","v":0},{"$f":"IF($D$3<>\"\",SUMIFS('Staff Capacity'!$I$10:$I$39,'Staff Capacity'!$G$10:$G$39,\"8d\",'Staff Capacity'!$H$10:$H$39,$D$3),SUMIF('Staff Capacity'!$G$10:$G$39,\"8d\",'Staff Capacity'!$I$10:$I$39))","v":0},{"$f":"IF($D$3<>\"\",SUMIFS('Staff Capacity'!$I$10:$I$39,'Staff Capacity'!$G$10:$G$39,\"8d\",'Staff Capacity'!$H$10:$H$39,$D$3),SUMIF('Staff Capacity'!$G$10:$G$39,\"8d\",'Staff Capacity'!$I$10:$I$39))","v":0},{"$f":"IF($D$3<>\"\",SUMIFS('Staff Capacity'!$I$10:$I$39,'Staff Capacity'!$G$10:$G$39,\"8d\",'Staff Capacity'!$H$10:$H$39,$D$3),SUMIF('Staff Capacity'!$G$10:$G$39,\"8d\",'Staff Capacity'!$I$10:$I$39))","v":0},{"$f":"IF($D$3<>\"\",SUMIFS('Staff Capacity'!$I$10:$I$39,'Staff Capacity'!$G$10:$G$39,\"8d\",'Staff Capacity'!$H$10:$H$39,$D$3),SUMIF('Staff Capacity'!$G$10:$G$39,\"8d\",'Staff Capacity'!$I$10:$I$39))","v":0},{"$f":"IF($D$3<>\"\",SUMIFS('Staff Capacity'!$I$10:$I$39,'Staff Capacity'!$G$10:$G$39,\"8d\",'Staff Capacity'!$H$10:$H$39,$D$3),SUMIF('Staff Capacity'!$G$10:$G$39,\"8d\",'Staff Capacity'!$I$10:$I$39))","v":0},{"$f":"IF($D$3<>\"\",SUMIFS('Staff Capacity'!$I$10:$I$39,'Staff Capacity'!$G$10:$G$39,\"8d\",'Staff Capacity'!$H$10:$H$39,$D$3),SUMIF('Staff Capacity'!$G$10:$G$39,\"8d\",'Staff Capacity'!$I$10:$I$39))","v":0},{"$f":"IF($D$3<>\"\",SUMIFS('Staff Capacity'!$I$10:$I$39,'Staff Capacity'!$G$10:$G$39,\"8d\",'Staff Capacity'!$H$10:$H$39,$D$3),SUMIF('Staff Capacity'!$G$10:$G$39,\"8d\",'Staff Capacity'!$I$10:$I$39))","v":0},{"$f":"IF($D$3<>\"\",SUMIFS('Staff Capacity'!$I$10:$I$39,'Staff Capacity'!$G$10:$G$39,\"8d\",'Staff Capacity'!$H$10:$H$39,$D$3),SUMIF('Staff Capacity'!$G$10:$G$39,\"8d\",'Staff Capacity'!$I$10:$I$39))","v":0},{"$f":"IF($D$3<>\"\",SUMIFS('Staff Capacity'!$I$10:$I$39,'Staff Capacity'!$G$10:$G$39,\"8d\",'Staff Capacity'!$H$10:$H$39,$D$3),SUMIF('Staff Capacity'!$G$10:$G$39,\"8d\",'Staff Capacity'!$I$10:$I$39))","v":0},{"$f":"IF($D$3<>\"\",SUMIFS('Staff Capacity'!$I$10:$I$39,'Staff Capacity'!$G$10:$G$39,\"8d\",'Staff Capacity'!$H$10:$H$39,$D$3),SUMIF('Staff Capacity'!$G$10:$G$39,\"8d\",'Staff Capacity'!$I$10:$I$39))","v":0},{"$f":"IF($D$3<>\"\",SUMIFS('Staff Capacity'!$I$10:$I$39,'Staff Capacity'!$G$10:$G$39,\"8d\",'Staff Capacity'!$H$10:$H$39,$D$3),SUMIF('Staff Capacity'!$G$10:$G$39,\"8d\",'Staff Capacity'!$I$10:$I$39))","v":0},{"$f":"IF($D$3<>\"\",SUMIFS('Staff Capacity'!$I$10:$I$39,'Staff Capacity'!$G$10:$G$39,\"8d\",'Staff Capacity'!$H$10:$H$39,$D$3),SUMIF('Staff Capacity'!$G$10:$G$39,\"8d\",'Staff Capacity'!$I$10:$I$39))","v":0},{"$f":"IF($D$3<>\"\",SUMIFS('Staff Capacity'!$I$10:$I$39,'Staff Capacity'!$G$10:$G$39,\"8d\",'Staff Capacity'!$H$10:$H$39,$D$3),SUMIF('Staff Capacity'!$G$10:$G$39,\"8d\",'Staff Capacity'!$I$10:$I$39))","v":0},{"$f":"IF($D$3<>\"\",SUMIFS('Staff Capacity'!$I$10:$I$39,'Staff Capacity'!$G$10:$G$39,\"8d\",'Staff Capacity'!$H$10:$H$39,$D$3),SUMIF('Staff Capacity'!$G$10:$G$39,\"8d\",'Staff Capacity'!$I$10:$I$39))","v":0},{"$f":"IF($D$3<>\"\",SUMIFS('Staff Capacity'!$I$10:$I$39,'Staff Capacity'!$G$10:$G$39,\"8d\",'Staff Capacity'!$H$10:$H$39,$D$3),SUMIF('Staff Capacity'!$G$10:$G$39,\"8d\",'Staff Capacity'!$I$10:$I$39))","v":0},{"$f":"IF($D$3<>\"\",SUMIFS('Staff Capacity'!$I$10:$I$39,'Staff Capacity'!$G$10:$G$39,\"8d\",'Staff Capacity'!$H$10:$H$39,$D$3),SUMIF('Staff Capacity'!$G$10:$G$39,\"8d\",'Staff Capacity'!$I$10:$I$39))","v":0},{"$f":"IF($D$3<>\"\",SUMIFS('Staff Capacity'!$I$10:$I$39,'Staff Capacity'!$G$10:$G$39,\"8d\",'Staff Capacity'!$H$10:$H$39,$D$3),SUMIF('Staff Capacity'!$G$10:$G$39,\"8d\",'Staff Capacity'!$I$10:$I$39))","v":0},{"$f":"IF($D$3<>\"\",SUMIFS('Staff Capacity'!$I$10:$I$39,'Staff Capacity'!$G$10:$G$39,\"8d\",'Staff Capacity'!$H$10:$H$39,$D$3),SUMIF('Staff Capacity'!$G$10:$G$39,\"8d\",'Staff Capacity'!$I$10:$I$39))","v":0},{"$f":"IF($D$3<>\"\",SUMIFS('Staff Capacity'!$I$10:$I$39,'Staff Capacity'!$G$10:$G$39,\"8d\",'Staff Capacity'!$H$10:$H$39,$D$3),SUMIF('Staff Capacity'!$G$10:$G$39,\"8d\",'Staff Capacity'!$I$10:$I$39))","v":0},{"$f":"IF($D$3<>\"\",SUMIFS('Staff Capacity'!$I$10:$I$39,'Staff Capacity'!$G$10:$G$39,\"8d\",'Staff Capacity'!$H$10:$H$39,$D$3),SUMIF('Staff Capacity'!$G$10:$G$39,\"8d\",'Staff Capacity'!$I$10:$I$39))","v":0},{"$f":"IF($D$3<>\"\",SUMIFS('Staff Capacity'!$I$10:$I$39,'Staff Capacity'!$G$10:$G$39,\"8d\",'Staff Capacity'!$H$10:$H$39,$D$3),SUMIF('Staff Capacity'!$G$10:$G$39,\"8d\",'Staff Capacity'!$I$10:$I$39))","v":0},{"$f":"IF($D$3<>\"\",SUMIFS('Staff Capacity'!$I$10:$I$39,'Staff Capacity'!$G$10:$G$39,\"8d\",'Staff Capacity'!$H$10:$H$39,$D$3),SUMIF('Staff Capacity'!$G$10:$G$39,\"8d\",'Staff Capacity'!$I$10:$I$39))","v":0},{"$f":"IF($D$3<>\"\",SUMIFS('Staff Capacity'!$I$10:$I$39,'Staff Capacity'!$G$10:$G$39,\"8d\",'Staff Capacity'!$H$10:$H$39,$D$3),SUMIF('Staff Capacity'!$G$10:$G$39,\"8d\",'Staff Capacity'!$I$10:$I$39))","v":0},{"$f":"IF($D$3<>\"\",SUMIFS('Staff Capacity'!$I$10:$I$39,'Staff Capacity'!$G$10:$G$39,\"8d\",'Staff Capacity'!$H$10:$H$39,$D$3),SUMIF('Staff Capacity'!$G$10:$G$39,\"8d\",'Staff Capacity'!$I$10:$I$39))","v":0},{"$f":"IF($D$3<>\"\",SUMIFS('Staff Capacity'!$I$10:$I$39,'Staff Capacity'!$G$10:$G$39,\"8d\",'Staff Capacity'!$H$10:$H$39,$D$3),SUMIF('Staff Capacity'!$G$10:$G$39,\"8d\",'Staff Capacity'!$I$10:$I$39))","v":0},{"$f":"IF($D$3<>\"\",SUMIFS('Staff Capacity'!$I$10:$I$39,'Staff Capacity'!$G$10:$G$39,\"8d\",'Staff Capacity'!$H$10:$H$39,$D$3),SUMIF('Staff Capacity'!$G$10:$G$39,\"8d\",'Staff Capacity'!$I$10:$I$39))","v":0},{"$f":"IF($D$3<>\"\",SUMIFS('Staff Capacity'!$I$10:$I$39,'Staff Capacity'!$G$10:$G$39,\"8d\",'Staff Capacity'!$H$10:$H$39,$D$3),SUMIF('Staff Capacity'!$G$10:$G$39,\"8d\",'Staff Capacity'!$I$10:$I$39))","v":0},{"$f":"IF($D$3<>\"\",SUMIFS('Staff Capacity'!$I$10:$I$39,'Staff Capacity'!$G$10:$G$39,\"8d\",'Staff Capacity'!$H$10:$H$39,$D$3),SUMIF('Staff Capacity'!$G$10:$G$39,\"8d\",'Staff Capacity'!$I$10:$I$39))","v":0},{"$f":"IF($D$3<>\"\",SUMIFS('Staff Capacity'!$I$10:$I$39,'Staff Capacity'!$G$10:$G$39,\"8d\",'Staff Capacity'!$H$10:$H$39,$D$3),SUMIF('Staff Capacity'!$G$10:$G$39,\"8d\",'Staff Capacity'!$I$10:$I$39))","v":0},{"$f":"IF($D$3<>\"\",SUMIFS('Staff Capacity'!$I$10:$I$39,'Staff Capacity'!$G$10:$G$39,\"8d\",'Staff Capacity'!$H$10:$H$39,$D$3),SUMIF('Staff Capacity'!$G$10:$G$39,\"8d\",'Staff Capacity'!$I$10:$I$39))","v":0},{"$f":"IF($D$3<>\"\",SUMIFS('Staff Capacity'!$I$10:$I$39,'Staff Capacity'!$G$10:$G$39,\"8d\",'Staff Capacity'!$H$10:$H$39,$D$3),SUMIF('Staff Capacity'!$G$10:$G$39,\"8d\",'Staff Capacity'!$I$10:$I$39))","v":0},{"$f":"IF($D$3<>\"\",SUMIFS('Staff Capacity'!$I$10:$I$39,'Staff Capacity'!$G$10:$G$39,\"8d\",'Staff Capacity'!$H$10:$H$39,$D$3),SUMIF('Staff Capacity'!$G$10:$G$39,\"8d\",'Staff Capacity'!$I$10:$I$39))","v":0},{"$f":"IF($D$3<>\"\",SUMIFS('Staff Capacity'!$I$10:$I$39,'Staff Capacity'!$G$10:$G$39,\"8d\",'Staff Capacity'!$H$10:$H$39,$D$3),SUMIF('Staff Capacity'!$G$10:$G$39,\"8d\",'Staff Capacity'!$I$10:$I$39))","v":0},{"$f":"IF($D$3<>\"\",SUMIFS('Staff Capacity'!$I$10:$I$39,'Staff Capacity'!$G$10:$G$39,\"8d\",'Staff Capacity'!$H$10:$H$39,$D$3),SUMIF('Staff Capacity'!$G$10:$G$39,\"8d\",'Staff Capacity'!$I$10:$I$39))","v":0},{"$f":"IF($D$3<>\"\",SUMIFS('Staff Capacity'!$I$10:$I$39,'Staff Capacity'!$G$10:$G$39,\"8d\",'Staff Capacity'!$H$10:$H$39,$D$3),SUMIF('Staff Capacity'!$G$10:$G$39,\"8d\",'Staff Capacity'!$I$10:$I$39))","v":0},{"$f":"IF($D$3<>\"\",SUMIFS('Staff Capacity'!$I$10:$I$39,'Staff Capacity'!$G$10:$G$39,\"8d\",'Staff Capacity'!$H$10:$H$39,$D$3),SUMIF('Staff Capacity'!$G$10:$G$39,\"8d\",'Staff Capacity'!$I$10:$I$39))","v":0},{"$f":"IF($D$3<>\"\",SUMIFS('Staff Capacity'!$I$10:$I$39,'Staff Capacity'!$G$10:$G$39,\"8d\",'Staff Capacity'!$H$10:$H$39,$D$3),SUMIF('Staff Capacity'!$G$10:$G$39,\"8d\",'Staff Capacity'!$I$10:$I$39))","v":0},{"$f":"IF($D$3<>\"\",SUMIFS('Staff Capacity'!$I$10:$I$39,'Staff Capacity'!$G$10:$G$39,\"8d\",'Staff Capacity'!$H$10:$H$39,$D$3),SUMIF('Staff Capacity'!$G$10:$G$39,\"8d\",'Staff Capacity'!$I$10:$I$39))","v":0},{"$f":"IF($D$3<>\"\",SUMIFS('Staff Capacity'!$I$10:$I$39,'Staff Capacity'!$G$10:$G$39,\"8d\",'Staff Capacity'!$H$10:$H$39,$D$3),SUMIF('Staff Capacity'!$G$10:$G$39,\"8d\",'Staff Capacity'!$I$10:$I$39))","v":0},{"$f":"IF($D$3<>\"\",SUMIFS('Staff Capacity'!$I$10:$I$39,'Staff Capacity'!$G$10:$G$39,\"8d\",'Staff Capacity'!$H$10:$H$39,$D$3),SUMIF('Staff Capacity'!$G$10:$G$39,\"8d\",'Staff Capacity'!$I$10:$I$39))","v":0},{"$f":"IF($D$3<>\"\",SUMIFS('Staff Capacity'!$I$10:$I$39,'Staff Capacity'!$G$10:$G$39,\"8d\",'Staff Capacity'!$H$10:$H$39,$D$3),SUMIF('Staff Capacity'!$G$10:$G$39,\"8d\",'Staff Capacity'!$I$10:$I$39))","v":0},{"$f":"IF($D$3<>\"\",SUMIFS('Staff Capacity'!$I$10:$I$39,'Staff Capacity'!$G$10:$G$39,\"8d\",'Staff Capacity'!$H$10:$H$39,$D$3),SUMIF('Staff Capacity'!$G$10:$G$39,\"8d\",'Staff Capacity'!$I$10:$I$39))","v":0},{"$f":"IF($D$3<>\"\",SUMIFS('Staff Capacity'!$I$10:$I$39,'Staff Capacity'!$G$10:$G$39,\"8d\",'Staff Capacity'!$H$10:$H$39,$D$3),SUMIF('Staff Capacity'!$G$10:$G$39,\"8d\",'Staff Capacity'!$I$10:$I$39))","v":0},{"$f":"IF($D$3<>\"\",SUMIFS('Staff Capacity'!$I$10:$I$39,'Staff Capacity'!$G$10:$G$39,\"8d\",'Staff Capacity'!$H$10:$H$39,$D$3),SUMIF('Staff Capacity'!$G$10:$G$39,\"8d\",'Staff Capacity'!$I$10:$I$39))","v":0},{"$f":"IF($D$3<>\"\",SUMIFS('Staff Capacity'!$I$10:$I$39,'Staff Capacity'!$G$10:$G$39,\"8d\",'Staff Capacity'!$H$10:$H$39,$D$3),SUMIF('Staff Capacity'!$G$10:$G$39,\"8d\",'Staff Capacity'!$I$10:$I$39))","v":0},{"$f":"IF($D$3<>\"\",SUMIFS('Staff Capacity'!$I$10:$I$39,'Staff Capacity'!$G$10:$G$39,\"8d\",'Staff Capacity'!$H$10:$H$39,$D$3),SUMIF('Staff Capacity'!$G$10:$G$39,\"8d\",'Staff Capacity'!$I$10:$I$39))","v":0},{"$f":"IF($D$3<>\"\",SUMIFS('Staff Capacity'!$I$10:$I$39,'Staff Capacity'!$G$10:$G$39,\"8d\",'Staff Capacity'!$H$10:$H$39,$D$3),SUMIF('Staff Capacity'!$G$10:$G$39,\"8d\",'Staff Capacity'!$I$10:$I$39))","v":0},{"$f":"IF($D$3<>\"\",SUMIFS('Staff Capacity'!$I$10:$I$39,'Staff Capacity'!$G$10:$G$39,\"8d\",'Staff Capacity'!$H$10:$H$39,$D$3),SUMIF('Staff Capacity'!$G$10:$G$39,\"8d\",'Staff Capacity'!$I$10:$I$39))","v":0},{"$f":"IF($D$3<>\"\",SUMIFS('Staff Capacity'!$I$10:$I$39,'Staff Capacity'!$G$10:$G$39,\"8d\",'Staff Capacity'!$H$10:$H$39,$D$3),SUMIF('Staff Capacity'!$G$10:$G$39,\"8d\",'Staff Capacity'!$I$10:$I$39))","v":0},{"$f":"IF($D$3<>\"\",SUMIFS('Staff Capacity'!$I$10:$I$39,'Staff Capacity'!$G$10:$G$39,\"8d\",'Staff Capacity'!$H$10:$H$39,$D$3),SUMIF('Staff Capacity'!$G$10:$G$39,\"8d\",'Staff Capacity'!$I$10:$I$39))","v":0},{"$f":"IF($D$3<>\"\",SUMIFS('Staff Capacity'!$I$10:$I$39,'Staff Capacity'!$G$10:$G$39,\"8d\",'Staff Capacity'!$H$10:$H$39,$D$3),SUMIF('Staff Capacity'!$G$10:$G$39,\"8d\",'Staff Capacity'!$I$10:$I$39))","v":0},{"$f":"IF($D$3<>\"\",SUMIFS('Staff Capacity'!$I$10:$I$39,'Staff Capacity'!$G$10:$G$39,\"8d\",'Staff Capacity'!$H$10:$H$39,$D$3),SUMIF('Staff Capacity'!$G$10:$G$39,\"8d\",'Staff Capacity'!$I$10:$I$39))","v":0},{"$f":"IF($D$3<>\"\",SUMIFS('Staff Capacity'!$I$10:$I$39,'Staff Capacity'!$G$10:$G$39,\"8d\",'Staff Capacity'!$H$10:$H$39,$D$3),SUMIF('Staff Capacity'!$G$10:$G$39,\"8d\",'Staff Capacity'!$I$10:$I$39))","v":0},{"$f":"IF($D$3<>\"\",SUMIFS('Staff Capacity'!$I$10:$I$39,'Staff Capacity'!$G$10:$G$39,\"8d\",'Staff Capacity'!$H$10:$H$39,$D$3),SUMIF('Staff Capacity'!$G$10:$G$39,\"8d\",'Staff Capacity'!$I$10:$I$39))","v":0},{"$f":"IF($D$3<>\"\",SUMIFS('Staff Capacity'!$I$10:$I$39,'Staff Capacity'!$G$10:$G$39,\"8d\",'Staff Capacity'!$H$10:$H$39,$D$3),SUMIF('Staff Capacity'!$G$10:$G$39,\"8d\",'Staff Capacity'!$I$10:$I$39))","v":0},{"$f":"IF($D$3<>\"\",SUMIFS('Staff Capacity'!$I$10:$I$39,'Staff Capacity'!$G$10:$G$39,\"8d\",'Staff Capacity'!$H$10:$H$39,$D$3),SUMIF('Staff Capacity'!$G$10:$G$39,\"8d\",'Staff Capacity'!$I$10:$I$39))","v":0},{"$f":"IF($D$3<>\"\",SUMIFS('Staff Capacity'!$I$10:$I$39,'Staff Capacity'!$G$10:$G$39,\"8d\",'Staff Capacity'!$H$10:$H$39,$D$3),SUMIF('Staff Capacity'!$G$10:$G$39,\"8d\",'Staff Capacity'!$I$10:$I$39))","v":0},{"$f":"IF($D$3<>\"\",SUMIFS('Staff Capacity'!$I$10:$I$39,'Staff Capacity'!$G$10:$G$39,\"8d\",'Staff Capacity'!$H$10:$H$39,$D$3),SUMIF('Staff Capacity'!$G$10:$G$39,\"8d\",'Staff Capacity'!$I$10:$I$39))","v":0},{"$f":"IF($D$3<>\"\",SUMIFS('Staff Capacity'!$I$10:$I$39,'Staff Capacity'!$G$10:$G$39,\"8d\",'Staff Capacity'!$H$10:$H$39,$D$3),SUMIF('Staff Capacity'!$G$10:$G$39,\"8d\",'Staff Capacity'!$I$10:$I$39))","v":0},{"$f":"IF($D$3<>\"\",SUMIFS('Staff Capacity'!$I$10:$I$39,'Staff Capacity'!$G$10:$G$39,\"8d\",'Staff Capacity'!$H$10:$H$39,$D$3),SUMIF('Staff Capacity'!$G$10:$G$39,\"8d\",'Staff Capacity'!$I$10:$I$39))","v":0},{"$f":"IF($D$3<>\"\",SUMIFS('Staff Capacity'!$I$10:$I$39,'Staff Capacity'!$G$10:$G$39,\"8d\",'Staff Capacity'!$H$10:$H$39,$D$3),SUMIF('Staff Capacity'!$G$10:$G$39,\"8d\",'Staff Capacity'!$I$10:$I$39))","v":0},{"$f":"IF($D$3<>\"\",SUMIFS('Staff Capacity'!$I$10:$I$39,'Staff Capacity'!$G$10:$G$39,\"8d\",'Staff Capacity'!$H$10:$H$39,$D$3),SUMIF('Staff Capacity'!$G$10:$G$39,\"8d\",'Staff Capacity'!$I$10:$I$39))","v":0},{"$f":"IF($D$3<>\"\",SUMIFS('Staff Capacity'!$I$10:$I$39,'Staff Capacity'!$G$10:$G$39,\"8d\",'Staff Capacity'!$H$10:$H$39,$D$3),SUMIF('Staff Capacity'!$G$10:$G$39,\"8d\",'Staff Capacity'!$I$10:$I$39))","v":0},{"$f":"IF($D$3<>\"\",SUMIFS('Staff Capacity'!$I$10:$I$39,'Staff Capacity'!$G$10:$G$39,\"8d\",'Staff Capacity'!$H$10:$H$39,$D$3),SUMIF('Staff Capacity'!$G$10:$G$39,\"8d\",'Staff Capacity'!$I$10:$I$39))","v":0},{"$f":"IF($D$3<>\"\",SUMIFS('Staff Capacity'!$I$10:$I$39,'Staff Capacity'!$G$10:$G$39,\"8d\",'Staff Capacity'!$H$10:$H$39,$D$3),SUMIF('Staff Capacity'!$G$10:$G$39,\"8d\",'Staff Capacity'!$I$10:$I$39))","v":0},{"$f":"IF($D$3<>\"\",SUMIFS('Staff Capacity'!$I$10:$I$39,'Staff Capacity'!$G$10:$G$39,\"8d\",'Staff Capacity'!$H$10:$H$39,$D$3),SUMIF('Staff Capacity'!$G$10:$G$39,\"8d\",'Staff Capacity'!$I$10:$I$39))","v":0},{"$f":"IF($D$3<>\"\",SUMIFS('Staff Capacity'!$I$10:$I$39,'Staff Capacity'!$G$10:$G$39,\"8d\",'Staff Capacity'!$H$10:$H$39,$D$3),SUMIF('Staff Capacity'!$G$10:$G$39,\"8d\",'Staff Capacity'!$I$10:$I$39))","v":0},{"$f":"IF($D$3<>\"\",SUMIFS('Staff Capacity'!$I$10:$I$39,'Staff Capacity'!$G$10:$G$39,\"8d\",'Staff Capacity'!$H$10:$H$39,$D$3),SUMIF('Staff Capacity'!$G$10:$G$39,\"8d\",'Staff Capacity'!$I$10:$I$39))","v":0},{"$f":"IF($D$3<>\"\",SUMIFS('Staff Capacity'!$I$10:$I$39,'Staff Capacity'!$G$10:$G$39,\"8d\",'Staff Capacity'!$H$10:$H$39,$D$3),SUMIF('Staff Capacity'!$G$10:$G$39,\"8d\",'Staff Capacity'!$I$10:$I$39))","v":0},{"$f":"IF($D$3<>\"\",SUMIFS('Staff Capacity'!$I$10:$I$39,'Staff Capacity'!$G$10:$G$39,\"8d\",'Staff Capacity'!$H$10:$H$39,$D$3),SUMIF('Staff Capacity'!$G$10:$G$39,\"8d\",'Staff Capacity'!$I$10:$I$39))","v":0},{"$f":"IF($D$3<>\"\",SUMIFS('Staff Capacity'!$I$10:$I$39,'Staff Capacity'!$G$10:$G$39,\"8d\",'Staff Capacity'!$H$10:$H$39,$D$3),SUMIF('Staff Capacity'!$G$10:$G$39,\"8d\",'Staff Capacity'!$I$10:$I$39))","v":0},{"$f":"IF($D$3<>\"\",SUMIFS('Staff Capacity'!$I$10:$I$39,'Staff Capacity'!$G$10:$G$39,\"8d\",'Staff Capacity'!$H$10:$H$39,$D$3),SUMIF('Staff Capacity'!$G$10:$G$39,\"8d\",'Staff Capacity'!$I$10:$I$39))","v":0},{"$f":"IF($D$3<>\"\",SUMIFS('Staff Capacity'!$I$10:$I$39,'Staff Capacity'!$G$10:$G$39,\"8d\",'Staff Capacity'!$H$10:$H$39,$D$3),SUMIF('Staff Capacity'!$G$10:$G$39,\"8d\",'Staff Capacity'!$I$10:$I$39))","v":0},{"$f":"IF($D$3<>\"\",SUMIFS('Staff Capacity'!$I$10:$I$39,'Staff Capacity'!$G$10:$G$39,\"8d\",'Staff Capacity'!$H$10:$H$39,$D$3),SUMIF('Staff Capacity'!$G$10:$G$39,\"8d\",'Staff Capacity'!$I$10:$I$39))","v":0},{"$f":"IF($D$3<>\"\",SUMIFS('Staff Capacity'!$I$10:$I$39,'Staff Capacity'!$G$10:$G$39,\"8d\",'Staff Capacity'!$H$10:$H$39,$D$3),SUMIF('Staff Capacity'!$G$10:$G$39,\"8d\",'Staff Capacity'!$I$10:$I$39))","v":0},{"$f":"IF($D$3<>\"\",SUMIFS('Staff Capacity'!$I$10:$I$39,'Staff Capacity'!$G$10:$G$39,\"8d\",'Staff Capacity'!$H$10:$H$39,$D$3),SUMIF('Staff Capacity'!$G$10:$G$39,\"8d\",'Staff Capacity'!$I$10:$I$39))","v":0},{"$f":"IF($D$3<>\"\",SUMIFS('Staff Capacity'!$I$10:$I$39,'Staff Capacity'!$G$10:$G$39,\"8d\",'Staff Capacity'!$H$10:$H$39,$D$3),SUMIF('Staff Capacity'!$G$10:$G$39,\"8d\",'Staff Capacity'!$I$10:$I$39))","v":0},{"$f":"IF($D$3<>\"\",SUMIFS('Staff Capacity'!$I$10:$I$39,'Staff Capacity'!$G$10:$G$39,\"8d\",'Staff Capacity'!$H$10:$H$39,$D$3),SUMIF('Staff Capacity'!$G$10:$G$39,\"8d\",'Staff Capacity'!$I$10:$I$39))","v":0},{"$f":"IF($D$3<>\"\",SUMIFS('Staff Capacity'!$I$10:$I$39,'Staff Capacity'!$G$10:$G$39,\"8d\",'Staff Capacity'!$H$10:$H$39,$D$3),SUMIF('Staff Capacity'!$G$10:$G$39,\"8d\",'Staff Capacity'!$I$10:$I$39))","v":0},{"$f":"IF($D$3<>\"\",SUMIFS('Staff Capacity'!$I$10:$I$39,'Staff Capacity'!$G$10:$G$39,\"8d\",'Staff Capacity'!$H$10:$H$39,$D$3),SUMIF('Staff Capacity'!$G$10:$G$39,\"8d\",'Staff Capacity'!$I$10:$I$39))","v":0},{"$f":"IF($D$3<>\"\",SUMIFS('Staff Capacity'!$I$10:$I$39,'Staff Capacity'!$G$10:$G$39,\"8d\",'Staff Capacity'!$H$10:$H$39,$D$3),SUMIF('Staff Capacity'!$G$10:$G$39,\"8d\",'Staff Capacity'!$I$10:$I$39))","v":0},{"$f":"IF($D$3<>\"\",SUMIFS('Staff Capacity'!$I$10:$I$39,'Staff Capacity'!$G$10:$G$39,\"8d\",'Staff Capacity'!$H$10:$H$39,$D$3),SUMIF('Staff Capacity'!$G$10:$G$39,\"8d\",'Staff Capacity'!$I$10:$I$39))","v":0},{"$f":"IF($D$3<>\"\",SUMIFS('Staff Capacity'!$I$10:$I$39,'Staff Capacity'!$G$10:$G$39,\"8d\",'Staff Capacity'!$H$10:$H$39,$D$3),SUMIF('Staff Capacity'!$G$10:$G$39,\"8d\",'Staff Capacity'!$I$10:$I$39))","v":0},{"$f":"IF($D$3<>\"\",SUMIFS('Staff Capacity'!$I$10:$I$39,'Staff Capacity'!$G$10:$G$39,\"8d\",'Staff Capacity'!$H$10:$H$39,$D$3),SUMIF('Staff Capacity'!$G$10:$G$39,\"8d\",'Staff Capacity'!$I$10:$I$39))","v":0},{"$f":"IF($D$3<>\"\",SUMIFS('Staff Capacity'!$I$10:$I$39,'Staff Capacity'!$G$10:$G$39,\"8d\",'Staff Capacity'!$H$10:$H$39,$D$3),SUMIF('Staff Capacity'!$G$10:$G$39,\"8d\",'Staff Capacity'!$I$10:$I$39))","v":0},{"$f":"IF($D$3<>\"\",SUMIFS('Staff Capacity'!$I$10:$I$39,'Staff Capacity'!$G$10:$G$39,\"8d\",'Staff Capacity'!$H$10:$H$39,$D$3),SUMIF('Staff Capacity'!$G$10:$G$39,\"8d\",'Staff Capacity'!$I$10:$I$39))","v":0},{"$f":"IF($D$3<>\"\",SUMIFS('Staff Capacity'!$I$10:$I$39,'Staff Capacity'!$G$10:$G$39,\"8d\",'Staff Capacity'!$H$10:$H$39,$D$3),SUMIF('Staff Capacity'!$G$10:$G$39,\"8d\",'Staff Capacity'!$I$10:$I$39))","v":0},{"$f":"IF($D$3<>\"\",SUMIFS('Staff Capacity'!$I$10:$I$39,'Staff Capacity'!$G$10:$G$39,\"8d\",'Staff Capacity'!$H$10:$H$39,$D$3),SUMIF('Staff Capacity'!$G$10:$G$39,\"8d\",'Staff Capacity'!$I$10:$I$39))","v":0},{"$f":"IF($D$3<>\"\",SUMIFS('Staff Capacity'!$I$10:$I$39,'Staff Capacity'!$G$10:$G$39,\"8d\",'Staff Capacity'!$H$10:$H$39,$D$3),SUMIF('Staff Capacity'!$G$10:$G$39,\"8d\",'Staff Capacity'!$I$10:$I$39))","v":0},{"$f":"IF($D$3<>\"\",SUMIFS('Staff Capacity'!$I$10:$I$39,'Staff Capacity'!$G$10:$G$39,\"8d\",'Staff Capacity'!$H$10:$H$39,$D$3),SUMIF('Staff Capacity'!$G$10:$G$39,\"8d\",'Staff Capacity'!$I$10:$I$39))","v":0},{"$f":"IF($D$3<>\"\",SUMIFS('Staff Capacity'!$I$10:$I$39,'Staff Capacity'!$G$10:$G$39,\"8d\",'Staff Capacity'!$H$10:$H$39,$D$3),SUMIF('Staff Capacity'!$G$10:$G$39,\"8d\",'Staff Capacity'!$I$10:$I$39))","v":0},{"$f":"IF($D$3<>\"\",SUMIFS('Staff Capacity'!$I$10:$I$39,'Staff Capacity'!$G$10:$G$39,\"8d\",'Staff Capacity'!$H$10:$H$39,$D$3),SUMIF('Staff Capacity'!$G$10:$G$39,\"8d\",'Staff Capacity'!$I$10:$I$39))","v":0},{"$f":"IF($D$3<>\"\",SUMIFS('Staff Capacity'!$I$10:$I$39,'Staff Capacity'!$G$10:$G$39,\"8d\",'Staff Capacity'!$H$10:$H$39,$D$3),SUMIF('Staff Capacity'!$G$10:$G$39,\"8d\",'Staff Capacity'!$I$10:$I$39))","v":0},{"$f":"IF($D$3<>\"\",SUMIFS('Staff Capacity'!$I$10:$I$39,'Staff Capacity'!$G$10:$G$39,\"8d\",'Staff Capacity'!$H$10:$H$39,$D$3),SUMIF('Staff Capacity'!$G$10:$G$39,\"8d\",'Staff Capacity'!$I$10:$I$39))","v":0},{"$f":"IF($D$3<>\"\",SUMIFS('Staff Capacity'!$I$10:$I$39,'Staff Capacity'!$G$10:$G$39,\"8d\",'Staff Capacity'!$H$10:$H$39,$D$3),SUMIF('Staff Capacity'!$G$10:$G$39,\"8d\",'Staff Capacity'!$I$10:$I$39))","v":0},{"$f":"IF($D$3<>\"\",SUMIFS('Staff Capacity'!$I$10:$I$39,'Staff Capacity'!$G$10:$G$39,\"8d\",'Staff Capacity'!$H$10:$H$39,$D$3),SUMIF('Staff Capacity'!$G$10:$G$39,\"8d\",'Staff Capacity'!$I$10:$I$39))","v":0},{"$f":"IF($D$3<>\"\",SUMIFS('Staff Capacity'!$I$10:$I$39,'Staff Capacity'!$G$10:$G$39,\"8d\",'Staff Capacity'!$H$10:$H$39,$D$3),SUMIF('Staff Capacity'!$G$10:$G$39,\"8d\",'Staff Capacity'!$I$10:$I$39))","v":0},{"$f":"IF($D$3<>\"\",SUMIFS('Staff Capacity'!$I$10:$I$39,'Staff Capacity'!$G$10:$G$39,\"8d\",'Staff Capacity'!$H$10:$H$39,$D$3),SUMIF('Staff Capacity'!$G$10:$G$39,\"8d\",'Staff Capacity'!$I$10:$I$39))","v":0},{"$f":"IF($D$3<>\"\",SUMIFS('Staff Capacity'!$I$10:$I$39,'Staff Capacity'!$G$10:$G$39,\"8d\",'Staff Capacity'!$H$10:$H$39,$D$3),SUMIF('Staff Capacity'!$G$10:$G$39,\"8d\",'Staff Capacity'!$I$10:$I$39))","v":0},{"$f":"IF($D$3<>\"\",SUMIFS('Staff Capacity'!$I$10:$I$39,'Staff Capacity'!$G$10:$G$39,\"8d\",'Staff Capacity'!$H$10:$H$39,$D$3),SUMIF('Staff Capacity'!$G$10:$G$39,\"8d\",'Staff Capacity'!$I$10:$I$39))","v":0},{"$f":"IF($D$3<>\"\",SUMIFS('Staff Capacity'!$I$10:$I$39,'Staff Capacity'!$G$10:$G$39,\"8d\",'Staff Capacity'!$H$10:$H$39,$D$3),SUMIF('Staff Capacity'!$G$10:$G$39,\"8d\",'Staff Capacity'!$I$10:$I$39))","v":0},{"$f":"IF($D$3<>\"\",SUMIFS('Staff Capacity'!$I$10:$I$39,'Staff Capacity'!$G$10:$G$39,\"8d\",'Staff Capacity'!$H$10:$H$39,$D$3),SUMIF('Staff Capacity'!$G$10:$G$39,\"8d\",'Staff Capacity'!$I$10:$I$39))","v":0},{"$f":"IF($D$3<>\"\",SUMIFS('Staff Capacity'!$I$10:$I$39,'Staff Capacity'!$G$10:$G$39,\"8d\",'Staff Capacity'!$H$10:$H$39,$D$3),SUMIF('Staff Capacity'!$G$10:$G$39,\"8d\",'Staff Capacity'!$I$10:$I$39))","v":0},{"$f":"IF($D$3<>\"\",SUMIFS('Staff Capacity'!$I$10:$I$39,'Staff Capacity'!$G$10:$G$39,\"8d\",'Staff Capacity'!$H$10:$H$39,$D$3),SUMIF('Staff Capacity'!$G$10:$G$39,\"8d\",'Staff Capacity'!$I$10:$I$39))","v":0},{"$f":"IF($D$3<>\"\",SUMIFS('Staff Capacity'!$I$10:$I$39,'Staff Capacity'!$G$10:$G$39,\"8d\",'Staff Capacity'!$H$10:$H$39,$D$3),SUMIF('Staff Capacity'!$G$10:$G$39,\"8d\",'Staff Capacity'!$I$10:$I$39))","v":0},{"$f":"IF($D$3<>\"\",SUMIFS('Staff Capacity'!$I$10:$I$39,'Staff Capacity'!$G$10:$G$39,\"8d\",'Staff Capacity'!$H$10:$H$39,$D$3),SUMIF('Staff Capacity'!$G$10:$G$39,\"8d\",'Staff Capacity'!$I$10:$I$39))","v":0},{"$f":"IF($D$3<>\"\",SUMIFS('Staff Capacity'!$I$10:$I$39,'Staff Capacity'!$G$10:$G$39,\"8d\",'Staff Capacity'!$H$10:$H$39,$D$3),SUMIF('Staff Capacity'!$G$10:$G$39,\"8d\",'Staff Capacity'!$I$10:$I$39))","v":0},{"$f":"IF($D$3<>\"\",SUMIFS('Staff Capacity'!$I$10:$I$39,'Staff Capacity'!$G$10:$G$39,\"8d\",'Staff Capacity'!$H$10:$H$39,$D$3),SUMIF('Staff Capacity'!$G$10:$G$39,\"8d\",'Staff Capacity'!$I$10:$I$39))","v":0},{"$f":"IF($D$3<>\"\",SUMIFS('Staff Capacity'!$I$10:$I$39,'Staff Capacity'!$G$10:$G$39,\"8d\",'Staff Capacity'!$H$10:$H$39,$D$3),SUMIF('Staff Capacity'!$G$10:$G$39,\"8d\",'Staff Capacity'!$I$10:$I$39))","v":0},{"$f":"IF($D$3<>\"\",SUMIFS('Staff Capacity'!$I$10:$I$39,'Staff Capacity'!$G$10:$G$39,\"8d\",'Staff Capacity'!$H$10:$H$39,$D$3),SUMIF('Staff Capacity'!$G$10:$G$39,\"8d\",'Staff Capacity'!$I$10:$I$39))","v":0},{"$f":"IF($D$3<>\"\",SUMIFS('Staff Capacity'!$I$10:$I$39,'Staff Capacity'!$G$10:$G$39,\"8d\",'Staff Capacity'!$H$10:$H$39,$D$3),SUMIF('Staff Capacity'!$G$10:$G$39,\"8d\",'Staff Capacity'!$I$10:$I$39))","v":0},{"$f":"IF($D$3<>\"\",SUMIFS('Staff Capacity'!$I$10:$I$39,'Staff Capacity'!$G$10:$G$39,\"8d\",'Staff Capacity'!$H$10:$H$39,$D$3),SUMIF('Staff Capacity'!$G$10:$G$39,\"8d\",'Staff Capacity'!$I$10:$I$39))","v":0},{"$f":"IF($D$3<>\"\",SUMIFS('Staff Capacity'!$I$10:$I$39,'Staff Capacity'!$G$10:$G$39,\"8d\",'Staff Capacity'!$H$10:$H$39,$D$3),SUMIF('Staff Capacity'!$G$10:$G$39,\"8d\",'Staff Capacity'!$I$10:$I$39))","v":0},{"$f":"IF($D$3<>\"\",SUMIFS('Staff Capacity'!$I$10:$I$39,'Staff Capacity'!$G$10:$G$39,\"8d\",'Staff Capacity'!$H$10:$H$39,$D$3),SUMIF('Staff Capacity'!$G$10:$G$39,\"8d\",'Staff Capacity'!$I$10:$I$39))","v":0},{"$f":"IF($D$3<>\"\",SUMIFS('Staff Capacity'!$I$10:$I$39,'Staff Capacity'!$G$10:$G$39,\"8d\",'Staff Capacity'!$H$10:$H$39,$D$3),SUMIF('Staff Capacity'!$G$10:$G$39,\"8d\",'Staff Capacity'!$I$10:$I$39))","v":0},{"$f":"IF($D$3<>\"\",SUMIFS('Staff Capacity'!$I$10:$I$39,'Staff Capacity'!$G$10:$G$39,\"8d\",'Staff Capacity'!$H$10:$H$39,$D$3),SUMIF('Staff Capacity'!$G$10:$G$39,\"8d\",'Staff Capacity'!$I$10:$I$39))","v":0},{"$f":"IF($D$3<>\"\",SUMIFS('Staff Capacity'!$I$10:$I$39,'Staff Capacity'!$G$10:$G$39,\"8d\",'Staff Capacity'!$H$10:$H$39,$D$3),SUMIF('Staff Capacity'!$G$10:$G$39,\"8d\",'Staff Capacity'!$I$10:$I$39))","v":0},{"$f":"IF($D$3<>\"\",SUMIFS('Staff Capacity'!$I$10:$I$39,'Staff Capacity'!$G$10:$G$39,\"8d\",'Staff Capacity'!$H$10:$H$39,$D$3),SUMIF('Staff Capacity'!$G$10:$G$39,\"8d\",'Staff Capacity'!$I$10:$I$39))","v":0},{"$f":"IF($D$3<>\"\",SUMIFS('Staff Capacity'!$I$10:$I$39,'Staff Capacity'!$G$10:$G$39,\"8d\",'Staff Capacity'!$H$10:$H$39,$D$3),SUMIF('Staff Capacity'!$G$10:$G$39,\"8d\",'Staff Capacity'!$I$10:$I$39))","v":0},{"$f":"IF($D$3<>\"\",SUMIFS('Staff Capacity'!$I$10:$I$39,'Staff Capacity'!$G$10:$G$39,\"8d\",'Staff Capacity'!$H$10:$H$39,$D$3),SUMIF('Staff Capacity'!$G$10:$G$39,\"8d\",'Staff Capacity'!$I$10:$I$39))","v":0},{"$f":"IF($D$3<>\"\",SUMIFS('Staff Capacity'!$I$10:$I$39,'Staff Capacity'!$G$10:$G$39,\"8d\",'Staff Capacity'!$H$10:$H$39,$D$3),SUMIF('Staff Capacity'!$G$10:$G$39,\"8d\",'Staff Capacity'!$I$10:$I$39))","v":0},{"$f":"IF($D$3<>\"\",SUMIFS('Staff Capacity'!$I$10:$I$39,'Staff Capacity'!$G$10:$G$39,\"8d\",'Staff Capacity'!$H$10:$H$39,$D$3),SUMIF('Staff Capacity'!$G$10:$G$39,\"8d\",'Staff Capacity'!$I$10:$I$39))","v":0},{"$f":"IF($D$3<>\"\",SUMIFS('Staff Capacity'!$I$10:$I$39,'Staff Capacity'!$G$10:$G$39,\"8d\",'Staff Capacity'!$H$10:$H$39,$D$3),SUMIF('Staff Capacity'!$G$10:$G$39,\"8d\",'Staff Capacity'!$I$10:$I$39))","v":0},{"$f":"IF($D$3<>\"\",SUMIFS('Staff Capacity'!$I$10:$I$39,'Staff Capacity'!$G$10:$G$39,\"8d\",'Staff Capacity'!$H$10:$H$39,$D$3),SUMIF('Staff Capacity'!$G$10:$G$39,\"8d\",'Staff Capacity'!$I$10:$I$39))","v":0},{"$f":"IF($D$3<>\"\",SUMIFS('Staff Capacity'!$I$10:$I$39,'Staff Capacity'!$G$10:$G$39,\"8d\",'Staff Capacity'!$H$10:$H$39,$D$3),SUMIF('Staff Capacity'!$G$10:$G$39,\"8d\",'Staff Capacity'!$I$10:$I$39))","v":0},{"$f":"IF($D$3<>\"\",SUMIFS('Staff Capacity'!$I$10:$I$39,'Staff Capacity'!$G$10:$G$39,\"8d\",'Staff Capacity'!$H$10:$H$39,$D$3),SUMIF('Staff Capacity'!$G$10:$G$39,\"8d\",'Staff Capacity'!$I$10:$I$39))","v":0},{"$f":"IF($D$3<>\"\",SUMIFS('Staff Capacity'!$I$10:$I$39,'Staff Capacity'!$G$10:$G$39,\"8d\",'Staff Capacity'!$H$10:$H$39,$D$3),SUMIF('Staff Capacity'!$G$10:$G$39,\"8d\",'Staff Capacity'!$I$10:$I$39))","v":0},{"$f":"IF($D$3<>\"\",SUMIFS('Staff Capacity'!$I$10:$I$39,'Staff Capacity'!$G$10:$G$39,\"8d\",'Staff Capacity'!$H$10:$H$39,$D$3),SUMIF('Staff Capacity'!$G$10:$G$39,\"8d\",'Staff Capacity'!$I$10:$I$39))","v":0},{"$f":"IF($D$3<>\"\",SUMIFS('Staff Capacity'!$I$10:$I$39,'Staff Capacity'!$G$10:$G$39,\"8d\",'Staff Capacity'!$H$10:$H$39,$D$3),SUMIF('Staff Capacity'!$G$10:$G$39,\"8d\",'Staff Capacity'!$I$10:$I$39))","v":0},{"$f":"IF($D$3<>\"\",SUMIFS('Staff Capacity'!$I$10:$I$39,'Staff Capacity'!$G$10:$G$39,\"8d\",'Staff Capacity'!$H$10:$H$39,$D$3),SUMIF('Staff Capacity'!$G$10:$G$39,\"8d\",'Staff Capacity'!$I$10:$I$39))","v":0},{"$f":"IF($D$3<>\"\",SUMIFS('Staff Capacity'!$I$10:$I$39,'Staff Capacity'!$G$10:$G$39,\"8d\",'Staff Capacity'!$H$10:$H$39,$D$3),SUMIF('Staff Capacity'!$G$10:$G$39,\"8d\",'Staff Capacity'!$I$10:$I$39))","v":0},{"$f":"IF($D$3<>\"\",SUMIFS('Staff Capacity'!$I$10:$I$39,'Staff Capacity'!$G$10:$G$39,\"8d\",'Staff Capacity'!$H$10:$H$39,$D$3),SUMIF('Staff Capacity'!$G$10:$G$39,\"8d\",'Staff Capacity'!$I$10:$I$39))","v":0},{"$f":"IF($D$3<>\"\",SUMIFS('Staff Capacity'!$I$10:$I$39,'Staff Capacity'!$G$10:$G$39,\"8d\",'Staff Capacity'!$H$10:$H$39,$D$3),SUMIF('Staff Capacity'!$G$10:$G$39,\"8d\",'Staff Capacity'!$I$10:$I$39))","v":0},{"$f":"IF($D$3<>\"\",SUMIFS('Staff Capacity'!$I$10:$I$39,'Staff Capacity'!$G$10:$G$39,\"8d\",'Staff Capacity'!$H$10:$H$39,$D$3),SUMIF('Staff Capacity'!$G$10:$G$39,\"8d\",'Staff Capacity'!$I$10:$I$39))","v":0},{"$f":"IF($D$3<>\"\",SUMIFS('Staff Capacity'!$I$10:$I$39,'Staff Capacity'!$G$10:$G$39,\"8d\",'Staff Capacity'!$H$10:$H$39,$D$3),SUMIF('Staff Capacity'!$G$10:$G$39,\"8d\",'Staff Capacity'!$I$10:$I$39))","v":0},{"$f":"IF($D$3<>\"\",SUMIFS('Staff Capacity'!$I$10:$I$39,'Staff Capacity'!$G$10:$G$39,\"8d\",'Staff Capacity'!$H$10:$H$39,$D$3),SUMIF('Staff Capacity'!$G$10:$G$39,\"8d\",'Staff Capacity'!$I$10:$I$39))","v":0},{"$f":"IF($D$3<>\"\",SUMIFS('Staff Capacity'!$I$10:$I$39,'Staff Capacity'!$G$10:$G$39,\"8d\",'Staff Capacity'!$H$10:$H$39,$D$3),SUMIF('Staff Capacity'!$G$10:$G$39,\"8d\",'Staff Capacity'!$I$10:$I$39))","v":0},{"$f":"IF($D$3<>\"\",SUMIFS('Staff Capacity'!$I$10:$I$39,'Staff Capacity'!$G$10:$G$39,\"8d\",'Staff Capacity'!$H$10:$H$39,$D$3),SUMIF('Staff Capacity'!$G$10:$G$39,\"8d\",'Staff Capacity'!$I$10:$I$39))","v":0},{"$f":"IF($D$3<>\"\",SUMIFS('Staff Capacity'!$I$10:$I$39,'Staff Capacity'!$G$10:$G$39,\"8d\",'Staff Capacity'!$H$10:$H$39,$D$3),SUMIF('Staff Capacity'!$G$10:$G$39,\"8d\",'Staff Capacity'!$I$10:$I$39))","v":0}]
[null,null,null,null,9,{"$f":"IF($D$3<>\"\",SUMIFS('Staff Capacity'!$I$10:$I$39,'Staff Capacity'!$G$10:$G$39,9,'Staff Capacity'!$H$10:$H$39,$D$3),SUMIF('Staff Capacity'!$G$10:$G$39,9,'Staff Capacity'!$I$10:$I$39))","v":0},{"$f":"IF($D$3<>\"\",SUMIFS('Staff Capacity'!$I$10:$I$39,'Staff Capacity'!$G$10:$G$39,9,'Staff Capacity'!$H$10:$H$39,$D$3),SUMIF('Staff Capacity'!$G$10:$G$39,9,'Staff Capacity'!$I$10:$I$39))","v":0},{"$f":"IF($D$3<>\"\",SUMIFS('Staff Capacity'!$I$10:$I$39,'Staff Capacity'!$G$10:$G$39,9,'Staff Capacity'!$H$10:$H$39,$D$3),SUMIF('Staff Capacity'!$G$10:$G$39,9,'Staff Capacity'!$I$10:$I$39))","v":0},{"$f":"IF($D$3<>\"\",SUMIFS('Staff Capacity'!$I$10:$I$39,'Staff Capacity'!$G$10:$G$39,9,'Staff Capacity'!$H$10:$H$39,$D$3),SUMIF('Staff Capacity'!$G$10:$G$39,9,'Staff Capacity'!$I$10:$I$39))","v":0},{"$f":"IF($D$3<>\"\",SUMIFS('Staff Capacity'!$I$10:$I$39,'Staff Capacity'!$G$10:$G$39,9,'Staff Capacity'!$H$10:$H$39,$D$3),SUMIF('Staff Capacity'!$G$10:$G$39,9,'Staff Capacity'!$I$10:$I$39))","v":0},{"$f":"IF($D$3<>\"\",SUMIFS('Staff Capacity'!$I$10:$I$39,'Staff Capacity'!$G$10:$G$39,9,'Staff Capacity'!$H$10:$H$39,$D$3),SUMIF('Staff Capacity'!$G$10:$G$39,9,'Staff Capacity'!$I$10:$I$39))","v":0},{"$f":"IF($D$3<>\"\",SUMIFS('Staff Capacity'!$I$10:$I$39,'Staff Capacity'!$G$10:$G$39,9,'Staff Capacity'!$H$10:$H$39,$D$3),SUMIF('Staff Capacity'!$G$10:$G$39,9,'Staff Capacity'!$I$10:$I$39))","v":0},{"$f":"IF($D$3<>\"\",SUMIFS('Staff Capacity'!$I$10:$I$39,'Staff Capacity'!$G$10:$G$39,9,'Staff Capacity'!$H$10:$H$39,$D$3),SUMIF('Staff Capacity'!$G$10:$G$39,9,'Staff Capacity'!$I$10:$I$39))","v":0},{"$f":"IF($D$3<>\"\",SUMIFS('Staff Capacity'!$I$10:$I$39,'Staff Capacity'!$G$10:$G$39,9,'Staff Capacity'!$H$10:$H$39,$D$3),SUMIF('Staff Capacity'!$G$10:$G$39,9,'Staff Capacity'!$I$10:$I$39))","v":0},{"$f":"IF($D$3<>\"\",SUMIFS('Staff Capacity'!$I$10:$I$39,'Staff Capacity'!$G$10:$G$39,9,'Staff Capacity'!$H$10:$H$39,$D$3),SUMIF('Staff Capacity'!$G$10:$G$39,9,'Staff Capacity'!$I$10:$I$39))","v":0},{"$f":"IF($D$3<>\"\",SUMIFS('Staff Capacity'!$I$10:$I$39,'Staff Capacity'!$G$10:$G$39,9,'Staff Capacity'!$H$10:$H$39,$D$3),SUMIF('Staff Capacity'!$G$10:$G$39,9,'Staff Capacity'!$I$10:$I$39))","v":0},{"$f":"IF($D$3<>\"\",SUMIFS('Staff Capacity'!$I$10:$I$39,'Staff Capacity'!$G$10:$G$39,9,'Staff Capacity'!$H$10:$H$39,$D$3),SUMIF('Staff Capacity'!$G$10:$G$39,9,'Staff Capacity'!$I$10:$I$39))","v":0},{"$f":"IF($D$3<>\"\",SUMIFS('Staff Capacity'!$I$10:$I$39,'Staff Capacity'!$G$10:$G$39,9,'Staff Capacity'!$H$10:$H$39,$D$3),SUMIF('Staff Capacity'!$G$10:$G$39,9,'Staff Capacity'!$I$10:$I$39))","v":0},{"$f":"IF($D$3<>\"\",SUMIFS('Staff Capacity'!$I$10:$I$39,'Staff Capacity'!$G$10:$G$39,9,'Staff Capacity'!$H$10:$H$39,$D$3),SUMIF('Staff Capacity'!$G$10:$G$39,9,'Staff Capacity'!$I$10:$I$39))","v":0},{"$f":"IF($D$3<>\"\",SUMIFS('Staff Capacity'!$I$10:$I$39,'Staff Capacity'!$G$10:$G$39,9,'Staff Capacity'!$H$10:$H$39,$D$3),SUMIF('Staff Capacity'!$G$10:$G$39,9,'Staff Capacity'!$I$10:$I$39))","v":0},{"$f":"IF($D$3<>\"\",SUMIFS('Staff Capacity'!$I$10:$I$39,'Staff Capacity'!$G$10:$G$39,9,'Staff Capacity'!$H$10:$H$39,$D$3),SUMIF('Staff Capacity'!$G$10:$G$39,9,'Staff Capacity'!$I$10:$I$39))","v":0},{"$f":"IF($D$3<>\"\",SUMIFS('Staff Capacity'!$I$10:$I$39,'Staff Capacity'!$G$10:$G$39,9,'Staff Capacity'!$H$10:$H$39,$D$3),SUMIF('Staff Capacity'!$G$10:$G$39,9,'Staff Capacity'!$I$10:$I$39))","v":0},{"$f":"IF($D$3<>\"\",SUMIFS('Staff Capacity'!$I$10:$I$39,'Staff Capacity'!$G$10:$G$39,9,'Staff Capacity'!$H$10:$H$39,$D$3),SUMIF('Staff Capacity'!$G$10:$G$39,9,'Staff Capacity'!$I$10:$I$39))","v":0},{"$f":"IF($D$3<>\"\",SUMIFS('Staff Capacity'!$I$10:$I$39,'Staff Capacity'!$G$10:$G$39,9,'Staff Capacity'!$H$10:$H$39,$D$3),SUMIF('Staff Capacity'!$G$10:$G$39,9,'Staff Capacity'!$I$10:$I$39))","v":0},{"$f":"IF($D$3<>\"\",SUMIFS('Staff Capacity'!$I$10:$I$39,'Staff Capacity'!$G$10:$G$39,9,'Staff Capacity'!$H$10:$H$39,$D$3),SUMIF('Staff Capacity'!$G$10:$G$39,9,'Staff Capacity'!$I$10:$I$39))","v":0},{"$f":"IF($D$3<>\"\",SUMIFS('Staff Capacity'!$I$10:$I$39,'Staff Capacity'!$G$10:$G$39,9,'Staff Capacity'!$H$10:$H$39,$D$3),SUMIF('Staff Capacity'!$G$10:$G$39,9,'Staff Capacity'!$I$10:$I$39))","v":0},{"$f":"IF($D$3<>\"\",SUMIFS('Staff Capacity'!$I$10:$I$39,'Staff Capacity'!$G$10:$G$39,9,'Staff Capacity'!$H$10:$H$39,$D$3),SUMIF('Staff Capacity'!$G$10:$G$39,9,'Staff Capacity'!$I$10:$I$39))","v":0},{"$f":"IF($D$3<>\"\",SUMIFS('Staff Capacity'!$I$10:$I$39,'Staff Capacity'!$G$10:$G$39,9,'Staff Capacity'!$H$10:$H$39,$D$3),SUMIF('Staff Capacity'!$G$10:$G$39,9,'Staff Capacity'!$I$10:$I$39))","v":0},{"$f":"IF($D$3<>\"\",SUMIFS('Staff Capacity'!$I$10:$I$39,'Staff Capacity'!$G$10:$G$39,9,'Staff Capacity'!$H$10:$H$39,$D$3),SUMIF('Staff Capacity'!$G$10:$G$39,9,'Staff Capacity'!$I$10:$I$39))","v":0},{"$f":"IF($D$3<>\"\",SUMIFS('Staff Capacity'!$I$10:$I$39,'Staff Capacity'!$G$10:$G$39,9,'Staff Capacity'!$H$10:$H$39,$D$3),SUMIF('Staff Capacity'!$G$10:$G$39,9,'Staff Capacity'!$I$10:$I$39))","v":0},{"$f":"IF($D$3<>\"\",SUMIFS('Staff Capacity'!$I$10:$I$39,'Staff Capacity'!$G$10:$G$39,9,'Staff Capacity'!$H$10:$H$39,$D$3),SUMIF('Staff Capacity'!$G$10:$G$39,9,'Staff Capacity'!$I$10:$I$39))","v":0},{"$f":"IF($D$3<>\"\",SUMIFS('Staff Capacity'!$I$10:$I$39,'Staff Capacity'!$G$10:$G$39,9,'Staff Capacity'!$H$10:$H$39,$D$3),SUMIF('Staff Capacity'!$G$10:$G$39,9,'Staff Capacity'!$I$10:$I$39))","v":0},{"$f":"IF($D$3<>\"\",SUMIFS('Staff Capacity'!$I$10:$I$39,'Staff Capacity'!$G$10:$G$39,9,'Staff Capacity'!$H$10:$H$39,$D$3),SUMIF('Staff Capacity'!$G$10:$G$39,9,'Staff Capacity'!$I$10:$I$39))","v":0},{"$f":"IF($D$3<>\"\",SUMIFS('Staff Capacity'!$I$10:$I$39,'Staff Capacity'!$G$10:$G$39,9,'Staff Capacity'!$H$10:$H$39,$D$3),SUMIF('Staff Capacity'!$G$10:$G$39,9,'Staff Capacity'!$I$10:$I$39))","v":0},{"$f":"IF($D$3<>\"\",SUMIFS('Staff Capacity'!$I$10:$I$39,'Staff Capacity'!$G$10:$G$39,9,'Staff Capacity'!$H$10:$H$39,$D$3),SUMIF('Staff Capacity'!$G$10:$G$39,9,'Staff Capacity'!$I$10:$I$39))","v":0},{"$f":"IF($D$3<>\"\",SUMIFS('Staff Capacity'!$I$10:$I$39,'Staff Capacity'!$G$10:$G$39,9,'Staff Capacity'!$H$10:$H$39,$D$3),SUMIF('Staff Capacity'!$G$10:$G$39,9,'Staff Capacity'!$I$10:$I$39))","v":0},{"$f":"IF($D$3<>\"\",SUMIFS('Staff Capacity'!$I$10:$I$39,'Staff Capacity'!$G$10:$G$39,9,'Staff Capacity'!$H$10:$H$39,$D$3),SUMIF('Staff Capacity'!$G$10:$G$39,9,'Staff Capacity'!$I$10:$I$39))","v":0},{"$f":"IF($D$3<>\"\",SUMIFS('Staff Capacity'!$I$10:$I$39,'Staff Capacity'!$G$10:$G$39,9,'Staff Capacity'!$H$10:$H$39,$D$3),SUMIF('Staff Capacity'!$G$10:$G$39,9,'Staff Capacity'!$I$10:$I$39))","v":0},{"$f":"IF($D$3<>\"\",SUMIFS('Staff Capacity'!$I$10:$I$39,'Staff Capacity'!$G$10:$G$39,9,'Staff Capacity'!$H$10:$H$39,$D$3),SUMIF('Staff Capacity'!$G$10:$G$39,9,'Staff Capacity'!$I$10:$I$39))","v":0},{"$f":"IF($D$3<>\"\",SUMIFS('Staff Capacity'!$I$10:$I$39,'Staff Capacity'!$G$10:$G$39,9,'Staff Capacity'!$H$10:$H$39,$D$3),SUMIF('Staff Capacity'!$G$10:$G$39,9,'Staff Capacity'!$I$10:$I$39))","v":0},{"$f":"IF($D$3<>\"\",SUMIFS('Staff Capacity'!$I$10:$I$39,'Staff Capacity'!$G$10:$G$39,9,'Staff Capacity'!$H$10:$H$39,$D$3),SUMIF('Staff Capacity'!$G$10:$G$39,9,'Staff Capacity'!$I$10:$I$39))","v":0},{"$f":"IF($D$3<>\"\",SUMIFS('Staff Capacity'!$I$10:$I$39,'Staff Capacity'!$G$10:$G$39,9,'Staff Capacity'!$H$10:$H$39,$D$3),SUMIF('Staff Capacity'!$G$10:$G$39,9,'Staff Capacity'!$I$10:$I$39))","v":0},{"$f":"IF($D$3<>\"\",SUMIFS('Staff Capacity'!$I$10:$I$39,'Staff Capacity'!$G$10:$G$39,9,'Staff Capacity'!$H$10:$H$39,$D$3),SUMIF('Staff Capacity'!$G$10:$G$39,9,'Staff Capacity'!$I$10:$I$39))","v":0},{"$f":"IF($D$3<>\"\",SUMIFS('Staff Capacity'!$I$10:$I$39,'Staff Capacity'!$G$10:$G$39,9,'Staff Capacity'!$H$10:$H$39,$D$3),SUMIF('Staff Capacity'!$G$10:$G$39,9,'Staff Capacity'!$I$10:$I$39))","v":0},{"$f":"IF($D$3<>\"\",SUMIFS('Staff Capacity'!$I$10:$I$39,'Staff Capacity'!$G$10:$G$39,9,'Staff Capacity'!$H$10:$H$39,$D$3),SUMIF('Staff Capacity'!$G$10:$G$39,9,'Staff Capacity'!$I$10:$I$39))","v":0},{"$f":"IF($D$3<>\"\",SUMIFS('Staff Capacity'!$I$10:$I$39,'Staff Capacity'!$G$10:$G$39,9,'Staff Capacity'!$H$10:$H$39,$D$3),SUMIF('Staff Capacity'!$G$10:$G$39,9,'Staff Capacity'!$I$10:$I$39))","v":0},{"$f":"IF($D$3<>\"\",SUMIFS('Staff Capacity'!$I$10:$I$39,'Staff Capacity'!$G$10:$G$39,9,'Staff Capacity'!$H$10:$H$39,$D$3),SUMIF('Staff Capacity'!$G$10:$G$39,9,'Staff Capacity'!$I$10:$I$39))","v":0},{"$f":"IF($D$3<>\"\",SUMIFS('Staff Capacity'!$I$10:$I$39,'Staff Capacity'!$G$10:$G$39,9,'Staff Capacity'!$H$10:$H$39,$D$3),SUMIF('Staff Capacity'!$G$10:$G$39,9,'Staff Capacity'!$I$10:$I$39))","v":0},{"$f":"IF($D$3<>\"\",SUMIFS('Staff Capacity'!$I$10:$I$39,'Staff Capacity'!$G$10:$G$39,9,'Staff Capacity'!$H$10:$H$39,$D$3),SUMIF('Staff Capacity'!$G$10:$G$39,9,'Staff Capacity'!$I$10:$I$39))","v":0},{"$f":"IF($D$3<>\"\",SUMIFS('Staff Capacity'!$I$10:$I$39,'Staff Capacity'!$G$10:$G$39,9,'Staff Capacity'!$H$10:$H$39,$D$3),SUMIF('Staff Capacity'!$G$10:$G$39,9,'Staff Capacity'!$I$10:$I$39))","v":0},{"$f":"IF($D$3<>\"\",SUMIFS('Staff Capacity'!$I$10:$I$39,'Staff Capacity'!$G$10:$G$39,9,'Staff Capacity'!$H$10:$H$39,$D$3),SUMIF('Staff Capacity'!$G$10:$G$39,9,'Staff Capacity'!$I$10:$I$39))","v":0},{"$f":"IF($D$3<>\"\",SUMIFS('Staff Capacity'!$I$10:$I$39,'Staff Capacity'!$G$10:$G$39,9,'Staff Capacity'!$H$10:$H$39,$D$3),SUMIF('Staff Capacity'!$G$10:$G$39,9,'Staff Capacity'!$I$10:$I$39))","v":0},{"$f":"IF($D$3<>\"\",SUMIFS('Staff Capacity'!$I$10:$I$39,'Staff Capacity'!$G$10:$G$39,9,'Staff Capacity'!$H$10:$H$39,$D$3),SUMIF('Staff Capacity'!$G$10:$G$39,9,'Staff Capacity'!$I$10:$I$39))","v":0},{"$f":"IF($D$3<>\"\",SUMIFS('Staff Capacity'!$I$10:$I$39,'Staff Capacity'!$G$10:$G$39,9,'Staff Capacity'!$H$10:$H$39,$D$3),SUMIF('Staff Capacity'!$G$10:$G$39,9,'Staff Capacity'!$I$10:$I$39))","v":0},{"$f":"IF($D$3<>\"\",SUMIFS('Staff Capacity'!$I$10:$I$39,'Staff Capacity'!$G$10:$G$39,9,'Staff Capacity'!$H$10:$H$39,$D$3),SUMIF('Staff Capacity'!$G$10:$G$39,9,'Staff Capacity'!$I$10:$I$39))","v":0},{"$f":"IF($D$3<>\"\",SUMIFS('Staff Capacity'!$I$10:$I$39,'Staff Capacity'!$G$10:$G$39,9,'Staff Capacity'!$H$10:$H$39,$D$3),SUMIF('Staff Capacity'!$G$10:$G$39,9,'Staff Capacity'!$I$10:$I$39))","v":0},{"$f":"IF($D$3<>\"\",SUMIFS('Staff Capacity'!$I$10:$I$39,'Staff Capacity'!$G$10:$G$39,9,'Staff Capacity'!$H$10:$H$39,$D$3),SUMIF('Staff Capacity'!$G$10:$G$39,9,'Staff Capacity'!$I$10:$I$39))","v":0},{"$f":"IF($D$3<>\"\",SUMIFS('Staff Capacity'!$I$10:$I$39,'Staff Capacity'!$G$10:$G$39,9,'Staff Capacity'!$H$10:$H$39,$D$3),SUMIF('Staff Capacity'!$G$10:$G$39,9,'Staff Capacity'!$I$10:$I$39))","v":0},{"$f":"IF($D$3<>\"\",SUMIFS('Staff Capacity'!$I$10:$I$39,'Staff Capacity'!$G$10:$G$39,9,'Staff Capacity'!$H$10:$H$39,$D$3),SUMIF('Staff Capacity'!$G$10:$G$39,9,'Staff Capacity'!$I$10:$I$39))","v":0},{"$f":"IF($D$3<>\"\",SUMIFS('Staff Capacity'!$I$10:$I$39,'Staff Capacity'!$G$10:$G$39,9,'Staff Capacity'!$H$10:$H$39,$D$3),SUMIF('Staff Capacity'!$G$10:$G$39,9,'Staff Capacity'!$I$10:$I$39))","v":0},{"$f":"IF($D$3<>\"\",SUMIFS('Staff Capacity'!$I$10:$I$39,'Staff Capacity'!$G$10:$G$39,9,'Staff Capacity'!$H$10:$H$39,$D$3),SUMIF('Staff Capacity'!$G$10:$G$39,9,'Staff Capacity'!$I$10:$I$39))","v":0},{"$f":"IF($D$3<>\"\",SUMIFS('Staff Capacity'!$I$10:$I$39,'Staff Capacity'!$G$10:$G$39,9,'Staff Capacity'!$H$10:$H$39,$D$3),SUMIF('Staff Capacity'!$G$10:$G$39,9,'Staff Capacity'!$I$10:$I$39))","v":0},{"$f":"IF($D$3<>\"\",SUMIFS('Staff Capacity'!$I$10:$I$39,'Staff Capacity'!$G$10:$G$39,9,'Staff Capacity'!$H$10:$H$39,$D$3),SUMIF('Staff Capacity'!$G$10:$G$39,9,'Staff Capacity'!$I$10:$I$39))","v":0},{"$f":"IF($D$3<>\"\",SUMIFS('Staff Capacity'!$I$10:$I$39,'Staff Capacity'!$G$10:$G$39,9,'Staff Capacity'!$H$10:$H$39,$D$3),SUMIF('Staff Capacity'!$G$10:$G$39,9,'Staff Capacity'!$I$10:$I$39))","v":0},{"$f":"IF($D$3<>\"\",SUMIFS('Staff Capacity'!$I$10:$I$39,'Staff Capacity'!$G$10:$G$39,9,'Staff Capacity'!$H$10:$H$39,$D$3),SUMIF('Staff Capacity'!$G$10:$G$39,9,'Staff Capacity'!$I$10:$I$39))","v":0},{"$f":"IF($D$3<>\"\",SUMIFS('Staff Capacity'!$I$10:$I$39,'Staff Capacity'!$G$10:$G$39,9,'Staff Capacity'!$H$10:$H$39,$D$3),SUMIF('Staff Capacity'!$G$10:$G$39,9,'Staff Capacity'!$I$10:$I$39))","v":0},{"$f":"IF($D$3<>\"\",SUMIFS('Staff Capacity'!$I$10:$I$39,'Staff Capacity'!$G$10:$G$39,9,'Staff Capacity'!$H$10:$H$39,$D$3),SUMIF('Staff Capacity'!$G$10:$G$39,9,'Staff Capacity'!$I$10:$I$39))","v":0},{"$f":"IF($D$3<>\"\",SUMIFS('Staff Capacity'!$I$10:$I$39,'Staff Capacity'!$G$10:$G$39,9,'Staff Capacity'!$H$10:$H$39,$D$3),SUMIF('Staff Capacity'!$G$10:$G$39,9,'Staff Capacity'!$I$10:$I$39))","v":0},{"$f":"IF($D$3<>\"\",SUMIFS('Staff Capacity'!$I$10:$I$39,'Staff Capacity'!$G$10:$G$39,9,'Staff Capacity'!$H$10:$H$39,$D$3),SUMIF('Staff Capacity'!$G$10:$G$39,9,'Staff Capacity'!$I$10:$I$39))","v":0},{"$f":"IF($D$3<>\"\",SUMIFS('Staff Capacity'!$I$10:$I$39,'Staff Capacity'!$G$10:$G$39,9,'Staff Capacity'!$H$10:$H$39,$D$3),SUMIF('Staff Capacity'!$G$10:$G$39,9,'Staff Capacity'!$I$10:$I$39))","v":0},{"$f":"IF($D$3<>\"\",SUMIFS('Staff Capacity'!$I$10:$I$39,'Staff Capacity'!$G$10:$G$39,9,'Staff Capacity'!$H$10:$H$39,$D$3),SUMIF('Staff Capacity'!$G$10:$G$39,9,'Staff Capacity'!$I$10:$I$39))","v":0},{"$f":"IF($D$3<>\"\",SUMIFS('Staff Capacity'!$I$10:$I$39,'Staff Capacity'!$G$10:$G$39,9,'Staff Capacity'!$H$10:$H$39,$D$3),SUMIF('Staff Capacity'!$G$10:$G$39,9,'Staff Capacity'!$I$10:$I$39))","v":0},{"$f":"IF($D$3<>\"\",SUMIFS('Staff Capacity'!$I$10:$I$39,'Staff Capacity'!$G$10:$G$39,9,'Staff Capacity'!$H$10:$H$39,$D$3),SUMIF('Staff Capacity'!$G$10:$G$39,9,'Staff Capacity'!$I$10:$I$39))","v":0},{"$f":"IF($D$3<>\"\",SUMIFS('Staff Capacity'!$I$10:$I$39,'Staff Capacity'!$G$10:$G$39,9,'Staff Capacity'!$H$10:$H$39,$D$3),SUMIF('Staff Capacity'!$G$10:$G$39,9,'Staff Capacity'!$I$10:$I$39))","v":0},{"$f":"IF($D$3<>\"\",SUMIFS('Staff Capacity'!$I$10:$I$39,'Staff Capacity'!$G$10:$G$39,9,'Staff Capacity'!$H$10:$H$39,$D$3),SUMIF('Staff Capacity'!$G$10:$G$39,9,'Staff Capacity'!$I$10:$I$39))","v":0},{"$f":"IF($D$3<>\"\",SUMIFS('Staff Capacity'!$I$10:$I$39,'Staff Capacity'!$G$10:$G$39,9,'Staff Capacity'!$H$10:$H$39,$D$3),SUMIF('Staff Capacity'!$G$10:$G$39,9,'Staff Capacity'!$I$10:$I$39))","v":0},{"$f":"IF($D$3<>\"\",SUMIFS('Staff Capacity'!$I$10:$I$39,'Staff Capacity'!$G$10:$G$39,9,'Staff Capacity'!$H$10:$H$39,$D$3),SUMIF('Staff Capacity'!$G$10:$G$39,9,'Staff Capacity'!$I$10:$I$39))","v":0},{"$f":"IF($D$3<>\"\",SUMIFS('Staff Capacity'!$I$10:$I$39,'Staff Capacity'!$G$10:$G$39,9,'Staff Capacity'!$H$10:$H$39,$D$3),SUMIF('Staff Capacity'!$G$10:$G$39,9,'Staff Capacity'!$I$10:$I$39))","v":0},{"$f":"IF($D$3<>\"\",SUMIFS('Staff Capacity'!$I$10:$I$39,'Staff Capacity'!$G$10:$G$39,9,'Staff Capacity'!$H$10:$H$39,$D$3),SUMIF('Staff Capacity'!$G$10:$G$39,9,'Staff Capacity'!$I$10:$I$39))","v":0},{"$f":"IF($D$3<>\"\",SUMIFS('Staff Capacity'!$I$10:$I$39,'Staff Capacity'!$G$10:$G$39,9,'Staff Capacity'!$H$10:$H$39,$D$3),SUMIF('Staff Capacity'!$G$10:$G$39,9,'Staff Capacity'!$I$10:$I$39))","v":0},{"$f":"IF($D$3<>\"\",SUMIFS('Staff Capacity'!$I$10:$I$39,'Staff Capacity'!$G$10:$G$39,9,'Staff Capacity'!$H$10:$H$39,$D$3),SUMIF('Staff Capacity'!$G$10:$G$39,9,'Staff Capacity'!$I$10:$I$39))","v":0},{"$f":"IF($D$3<>\"\",SUMIFS('Staff Capacity'!$I$10:$I$39,'Staff Capacity'!$G$10:$G$39,9,'Staff Capacity'!$H$10:$H$39,$D$3),SUMIF('Staff Capacity'!$G$10:$G$39,9,'Staff Capacity'!$I$10:$I$39))","v":0},{"$f":"IF($D$3<>\"\",SUMIFS('Staff Capacity'!$I$10:$I$39,'Staff Capacity'!$G$10:$G$39,9,'Staff Capacity'!$H$10:$H$39,$D$3),SUMIF('Staff Capacity'!$G$10:$G$39,9,'Staff Capacity'!$I$10:$I$39))","v":0},{"$f":"IF($D$3<>\"\",SUMIFS('Staff Capacity'!$I$10:$I$39,'Staff Capacity'!$G$10:$G$39,9,'Staff Capacity'!$H$10:$H$39,$D$3),SUMIF('Staff Capacity'!$G$10:$G$39,9,'Staff Capacity'!$I$10:$I$39))","v":0},{"$f":"IF($D$3<>\"\",SUMIFS('Staff Capacity'!$I$10:$I$39,'Staff Capacity'!$G$10:$G$39,9,'Staff Capacity'!$H$10:$H$39,$D$3),SUMIF('Staff Capacity'!$G$10:$G$39,9,'Staff Capacity'!$I$10:$I$39))","v":0},{"$f":"IF($D$3<>\"\",SUMIFS('Staff Capacity'!$I$10:$I$39,'Staff Capacity'!$G$10:$G$39,9,'Staff Capacity'!$H$10:$H$39,$D$3),SUMIF('Staff Capacity'!$G$10:$G$39,9,'Staff Capacity'!$I$10:$I$39))","v":0},{"$f":"IF($D$3<>\"\",SUMIFS('Staff Capacity'!$I$10:$I$39,'Staff Capacity'!$G$10:$G$39,9,'Staff Capacity'!$H$10:$H$39,$D$3),SUMIF('Staff Capacity'!$G$10:$G$39,9,'Staff Capacity'!$I$10:$I$39))","v":0},{"$f":"IF($D$3<>\"\",SUMIFS('Staff Capacity'!$I$10:$I$39,'Staff Capacity'!$G$10:$G$39,9,'Staff Capacity'!$H$10:$H$39,$D$3),SUMIF('Staff Capacity'!$G$10:$G$39,9,'Staff Capacity'!$I$10:$I$39))","v":0},{"$f":"IF($D$3<>\"\",SUMIFS('Staff Capacity'!$I$10:$I$39,'Staff Capacity'!$G$10:$G$39,9,'Staff Capacity'!$H$10:$H$39,$D$3),SUMIF('Staff Capacity'!$G$10:$G$39,9,'Staff Capacity'!$I$10:$I$39))","v":0},{"$f":"IF($D$3<>\"\",SUMIFS('Staff Capacity'!$I$10:$I$39,'Staff Capacity'!$G$10:$G$39,9,'Staff Capacity'!$H$10:$H$39,$D$3),SUMIF('Staff Capacity'!$G$10:$G$39,9,'Staff Capacity'!$I$10:$I$39))","v":0},{"$f":"IF($D$3<>\"\",SUMIFS('Staff Capacity'!$I$10:$I$39,'Staff Capacity'!$G$10:$G$39,9,'Staff Capacity'!$H$10:$H$39,$D$3),SUMIF('Staff Capacity'!$G$10:$G$39,9,'Staff Capacity'!$I$10:$I$39))","v":0},{"$f":"IF($D$3<>\"\",SUMIFS('Staff Capacity'!$I$10:$I$39,'Staff Capacity'!$G$10:$G$39,9,'Staff Capacity'!$H$10:$H$39,$D$3),SUMIF('Staff Capacity'!$G$10:$G$39,9,'Staff Capacity'!$I$10:$I$39))","v":0},{"$f":"IF($D$3<>\"\",SUMIFS('Staff Capacity'!$I$10:$I$39,'Staff Capacity'!$G$10:$G$39,9,'Staff Capacity'!$H$10:$H$39,$D$3),SUMIF('Staff Capacity'!$G$10:$G$39,9,'Staff Capacity'!$I$10:$I$39))","v":0},{"$f":"IF($D$3<>\"\",SUMIFS('Staff Capacity'!$I$10:$I$39,'Staff Capacity'!$G$10:$G$39,9,'Staff Capacity'!$H$10:$H$39,$D$3),SUMIF('Staff Capacity'!$G$10:$G$39,9,'Staff Capacity'!$I$10:$I$39))","v":0},{"$f":"IF($D$3<>\"\",SUMIFS('Staff Capacity'!$I$10:$I$39,'Staff Capacity'!$G$10:$G$39,9,'Staff Capacity'!$H$10:$H$39,$D$3),SUMIF('Staff Capacity'!$G$10:$G$39,9,'Staff Capacity'!$I$10:$I$39))","v":0},{"$f":"IF($D$3<>\"\",SUMIFS('Staff Capacity'!$I$10:$I$39,'Staff Capacity'!$G$10:$G$39,9,'Staff Capacity'!$H$10:$H$39,$D$3),SUMIF('Staff Capacity'!$G$10:$G$39,9,'Staff Capacity'!$I$10:$I$39))","v":0},{"$f":"IF($D$3<>\"\",SUMIFS('Staff Capacity'!$I$10:$I$39,'Staff Capacity'!$G$10:$G$39,9,'Staff Capacity'!$H$10:$H$39,$D$3),SUMIF('Staff Capacity'!$G$10:$G$39,9,'Staff Capacity'!$I$10:$I$39))","v":0},{"$f":"IF($D$3<>\"\",SUMIFS('Staff Capacity'!$I$10:$I$39,'Staff Capacity'!$G$10:$G$39,9,'Staff Capacity'!$H$10:$H$39,$D$3),SUMIF('Staff Capacity'!$G$10:$G$39,9,'Staff Capacity'!$I$10:$I$39))","v":0},{"$f":"IF($D$3<>\"\",SUMIFS('Staff Capacity'!$I$10:$I$39,'Staff Capacity'!$G$10:$G$39,9,'Staff Capacity'!$H$10:$H$39,$D$3),SUMIF('Staff Capacity'!$G$10:$G$39,9,'Staff Capacity'!$I$10:$I$39))","v":0},{"$f":"IF($D$3<>\"\",SUMIFS('Staff Capacity'!$I$10:$I$39,'Staff Capacity'!$G$10:$G$39,9,'Staff Capacity'!$H$10:$H$39,$D$3),SUMIF('Staff Capacity'!$G$10:$G$39,9,'Staff Capacity'!$I$10:$I$39))","v":0},{"$f":"IF($D$3<>\"\",SUMIFS('Staff Capacity'!$I$10:$I$39,'Staff Capacity'!$G$10:$G$39,9,'Staff Capacity'!$H$10:$H$39,$D$3),SUMIF('Staff Capacity'!$G$10:$G$39,9,'Staff Capacity'!$I$10:$I$39))","v":0},{"$f":"IF($D$3<>\"\",SUMIFS('Staff Capacity'!$I$10:$I$39,'Staff Capacity'!$G$10:$G$39,9,'Staff Capacity'!$H$10:$H$39,$D$3),SUMIF('Staff Capacity'!$G$10:$G$39,9,'Staff Capacity'!$I$10:$I$39))","v":0},{"$f":"IF($D$3<>\"\",SUMIFS('Staff Capacity'!$I$10:$I$39,'Staff Capacity'!$G$10:$G$39,9,'Staff Capacity'!$H$10:$H$39,$D$3),SUMIF('Staff Capacity'!$G$10:$G$39,9,'Staff Capacity'!$I$10:$I$39))","v":0},{"$f":"IF($D$3<>\"\",SUMIFS('Staff Capacity'!$I$10:$I$39,'Staff Capacity'!$G$10:$G$39,9,'Staff Capacity'!$H$10:$H$39,$D$3),SUMIF('Staff Capacity'!$G$10:$G$39,9,'Staff Capacity'!$I$10:$I$39))","v":0},{"$f":"IF($D$3<>\"\",SUMIFS('Staff Capacity'!$I$10:$I$39,'Staff Capacity'!$G$10:$G$39,9,'Staff Capacity'!$H$10:$H$39,$D$3),SUMIF('Staff Capacity'!$G$10:$G$39,9,'Staff Capacity'!$I$10:$I$39))","v":0},{"$f":"IF($D$3<>\"\",SUMIFS('Staff Capacity'!$I$10:$I$39,'Staff Capacity'!$G$10:$G$39,9,'Staff Capacity'!$H$10:$H$39,$D$3),SUMIF('Staff Capacity'!$G$10:$G$39,9,'Staff Capacity'!$I$10:$I$39))","v":0},{"$f":"IF($D$3<>\"\",SUMIFS('Staff Capacity'!$I$10:$I$39,'Staff Capacity'!$G$10:$G$39,9,'Staff Capacity'!$H$10:$H$39,$D$3),SUMIF('Staff Capacity'!$G$10:$G$39,9,'Staff Capacity'!$I$10:$I$39))","v":0},{"$f":"IF($D$3<>\"\",SUMIFS('Staff Capacity'!$I$10:$I$39,'Staff Capacity'!$G$10:$G$39,9,'Staff Capacity'!$H$10:$H$39,$D$3),SUMIF('Staff Capacity'!$G$10:$G$39,9,'Staff Capacity'!$I$10:$I$39))","v":0},{"$f":"IF($D$3<>\"\",SUMIFS('Staff Capacity'!$I$10:$I$39,'Staff Capacity'!$G$10:$G$39,9,'Staff Capacity'!$H$10:$H$39,$D$3),SUMIF('Staff Capacity'!$G$10:$G$39,9,'Staff Capacity'!$I$10:$I$39))","v":0},{"$f":"IF($D$3<>\"\",SUMIFS('Staff Capacity'!$I$10:$I$39,'Staff Capacity'!$G$10:$G$39,9,'Staff Capacity'!$H$10:$H$39,$D$3),SUMIF('Staff Capacity'!$G$10:$G$39,9,'Staff Capacity'!$I$10:$I$39))","v":0},{"$f":"IF($D$3<>\"\",SUMIFS('Staff Capacity'!$I$10:$I$39,'Staff Capacity'!$G$10:$G$39,9,'Staff Capacity'!$H$10:$H$39,$D$3),SUMIF('Staff Capacity'!$G$10:$G$39,9,'Staff Capacity'!$I$10:$I$39))","v":0},{"$f":"IF($D$3<>\"\",SUMIFS('Staff Capacity'!$I$10:$I$39,'Staff Capacity'!$G$10:$G$39,9,'Staff Capacity'!$H$10:$H$39,$D$3),SUMIF('Staff Capacity'!$G$10:$G$39,9,'Staff Capacity'!$I$10:$I$39))","v":0},{"$f":"IF($D$3<>\"\",SUMIFS('Staff Capacity'!$I$10:$I$39,'Staff Capacity'!$G$10:$G$39,9,'Staff Capacity'!$H$10:$H$39,$D$3),SUMIF('Staff Capacity'!$G$10:$G$39,9,'Staff Capacity'!$I$10:$I$39))","v":0},{"$f":"IF($D$3<>\"\",SUMIFS('Staff Capacity'!$I$10:$I$39,'Staff Capacity'!$G$10:$G$39,9,'Staff Capacity'!$H$10:$H$39,$D$3),SUMIF('Staff Capacity'!$G$10:$G$39,9,'Staff Capacity'!$I$10:$I$39))","v":0},{"$f":"IF($D$3<>\"\",SUMIFS('Staff Capacity'!$I$10:$I$39,'Staff Capacity'!$G$10:$G$39,9,'Staff Capacity'!$H$10:$H$39,$D$3),SUMIF('Staff Capacity'!$G$10:$G$39,9,'Staff Capacity'!$I$10:$I$39))","v":0},{"$f":"IF($D$3<>\"\",SUMIFS('Staff Capacity'!$I$10:$I$39,'Staff Capacity'!$G$10:$G$39,9,'Staff Capacity'!$H$10:$H$39,$D$3),SUMIF('Staff Capacity'!$G$10:$G$39,9,'Staff Capacity'!$I$10:$I$39))","v":0},{"$f":"IF($D$3<>\"\",SUMIFS('Staff Capacity'!$I$10:$I$39,'Staff Capacity'!$G$10:$G$39,9,'Staff Capacity'!$H$10:$H$39,$D$3),SUMIF('Staff Capacity'!$G$10:$G$39,9,'Staff Capacity'!$I$10:$I$39))","v":0},{"$f":"IF($D$3<>\"\",SUMIFS('Staff Capacity'!$I$10:$I$39,'Staff Capacity'!$G$10:$G$39,9,'Staff Capacity'!$H$10:$H$39,$D$3),SUMIF('Staff Capacity'!$G$10:$G$39,9,'Staff Capacity'!$I$10:$I$39))","v":0},{"$f":"IF($D$3<>\"\",SUMIFS('Staff Capacity'!$I$10:$I$39,'Staff Capacity'!$G$10:$G$39,9,'Staff Capacity'!$H$10:$H$39,$D$3),SUMIF('Staff Capacity'!$G$10:$G$39,9,'Staff Capacity'!$I$10:$I$39))","v":0},{"$f":"IF($D$3<>\"\",SUMIFS('Staff Capacity'!$I$10:$I$39,'Staff Capacity'!$G$10:$G$39,9,'Staff Capacity'!$H$10:$H$39,$D$3),SUMIF('Staff Capacity'!$G$10:$G$39,9,'Staff Capacity'!$I$10:$I$39))","v":0},{"$f":"IF($D$3<>\"\",SUMIFS('Staff Capacity'!$I$10:$I$39,'Staff Capacity'!$G$10:$G$39,9,'Staff Capacity'!$H$10:$H$39,$D$3),SUMIF('Staff Capacity'!$G$10:$G$39,9,'Staff Capacity'!$I$10:$I$39))","v":0},{"$f":"IF($D$3<>\"\",SUMIFS('Staff Capacity'!$I$10:$I$39,'Staff Capacity'!$G$10:$G$39,9,'Staff Capacity'!$H$10:$H$39,$D$3),SUMIF('Staff Capacity'!$G$10:$G$39,9,'Staff Capacity'!$I$10:$I$39))","v":0},{"$f":"IF($D$3<>\"\",SUMIFS('Staff Capacity'!$I$10:$I$39,'Staff Capacity'!$G$10:$G$39,9,'Staff Capacity'!$H$10:$H$39,$D$3),SUMIF('Staff Capacity'!$G$10:$G$39,9,'Staff Capacity'!$I$10:$I$39))","v":0},{"$f":"IF($D$3<>\"\",SUMIFS('Staff Capacity'!$I$10:$I$39,'Staff Capacity'!$G$10:$G$39,9,'Staff Capacity'!$H$10:$H$39,$D$3),SUMIF('Staff Capacity'!$G$10:$G$39,9,'Staff Capacity'!$I$10:$I$39))","v":0},{"$f":"IF($D$3<>\"\",SUMIFS('Staff Capacity'!$I$10:$I$39,'Staff Capacity'!$G$10:$G$39,9,'Staff Capacity'!$H$10:$H$39,$D$3),SUMIF('Staff Capacity'!$G$10:$G$39,9,'Staff Capacity'!$I$10:$I$39))","v":0},{"$f":"IF($D$3<>\"\",SUMIFS('Staff Capacity'!$I$10:$I$39,'Staff Capacity'!$G$10:$G$39,9,'Staff Capacity'!$H$10:$H$39,$D$3),SUMIF('Staff Capacity'!$G$10:$G$39,9,'Staff Capacity'!$I$10:$I$39))","v":0},{"$f":"IF($D$3<>\"\",SUMIFS('Staff Capacity'!$I$10:$I$39,'Staff Capacity'!$G$10:$G$39,9,'Staff Capacity'!$H$10:$H$39,$D$3),SUMIF('Staff Capacity'!$G$10:$G$39,9,'Staff Capacity'!$I$10:$I$39))","v":0},{"$f":"IF($D$3<>\"\",SUMIFS('Staff Capacity'!$I$10:$I$39,'Staff Capacity'!$G$10:$G$39,9,'Staff Capacity'!$H$10:$H$39,$D$3),SUMIF('Staff Capacity'!$G$10:$G$39,9,'Staff Capacity'!$I$10:$I$39))","v":0},{"$f":"IF($D$3<>\"\",SUMIFS('Staff Capacity'!$I$10:$I$39,'Staff Capacity'!$G$10:$G$39,9,'Staff Capacity'!$H$10:$H$39,$D$3),SUMIF('Staff Capacity'!$G$10:$G$39,9,'Staff Capacity'!$I$10:$I$39))","v":0},{"$f":"IF($D$3<>\"\",SUMIFS('Staff Capacity'!$I$10:$I$39,'Staff Capacity'!$G$10:$G$39,9,'Staff Capacity'!$H$10:$H$39,$D$3),SUMIF('Staff Capacity'!$G$10:$G$39,9,'Staff Capacity'!$I$10:$I$39))","v":0},{"$f":"IF($D$3<>\"\",SUMIFS('Staff Capacity'!$I$10:$I$39,'Staff Capacity'!$G$10:$G$39,9,'Staff Capacity'!$H$10:$H$39,$D$3),SUMIF('Staff Capacity'!$G$10:$G$39,9,'Staff Capacity'!$I$10:$I$39))","v":0},{"$f":"IF($D$3<>\"\",SUMIFS('Staff Capacity'!$I$10:$I$39,'Staff Capacity'!$G$10:$G$39,9,'Staff Capacity'!$H$10:$H$39,$D$3),SUMIF('Staff Capacity'!$G$10:$G$39,9,'Staff Capacity'!$I$10:$I$39))","v":0},{"$f":"IF($D$3<>\"\",SUMIFS('Staff Capacity'!$I$10:$I$39,'Staff Capacity'!$G$10:$G$39,9,'Staff Capacity'!$H$10:$H$39,$D$3),SUMIF('Staff Capacity'!$G$10:$G$39,9,'Staff Capacity'!$I$10:$I$39))","v":0},{"$f":"IF($D$3<>\"\",SUMIFS('Staff Capacity'!$I$10:$I$39,'Staff Capacity'!$G$10:$G$39,9,'Staff Capacity'!$H$10:$H$39,$D$3),SUMIF('Staff Capacity'!$G$10:$G$39,9,'Staff Capacity'!$I$10:$I$39))","v":0},{"$f":"IF($D$3<>\"\",SUMIFS('Staff Capacity'!$I$10:$I$39,'Staff Capacity'!$G$10:$G$39,9,'Staff Capacity'!$H$10:$H$39,$D$3),SUMIF('Staff Capacity'!$G$10:$G$39,9,'Staff Capacity'!$I$10:$I$39))","v":0},{"$f":"IF($D$3<>\"\",SUMIFS('Staff Capacity'!$I$10:$I$39,'Staff Capacity'!$G$10:$G$39,9,'Staff Capacity'!$H$10:$H$39,$D$3),SUMIF('Staff Capacity'!$G$10:$G$39,9,'Staff Capacity'!$I$10:$I$39))","v":0},{"$f":"IF($D$3<>\"\",SUMIFS('Staff Capacity'!$I$10:$I$39,'Staff Capacity'!$G$10:$G$39,9,'Staff Capacity'!$H$10:$H$39,$D$3),SUMIF('Staff Capacity'!$G$10:$G$39,9,'Staff Capacity'!$I$10:$I$39))","v":0},{"$f":"IF($D$3<>\"\",SUMIFS('Staff Capacity'!$I$10:$I$39,'Staff Capacity'!$G$10:$G$39,9,'Staff Capacity'!$H$10:$H$39,$D$3),SUMIF('Staff Capacity'!$G$10:$G$39,9,'Staff Capacity'!$I$10:$I$39))","v":0},{"$f":"IF($D$3<>\"\",SUMIFS('Staff Capacity'!$I$10:$I$39,'Staff Capacity'!$G$10:$G$39,9,'Staff Capacity'!$H$10:$H$39,$D$3),SUMIF('Staff Capacity'!$G$10:$G$39,9,'Staff Capacity'!$I$10:$I$39))","v":0},{"$f":"IF($D$3<>\"\",SUMIFS('Staff Capacity'!$I$10:$I$39,'Staff Capacity'!$G$10:$G$39,9,'Staff Capacity'!$H$10:$H$39,$D$3),SUMIF('Staff Capacity'!$G$10:$G$39,9,'Staff Capacity'!$I$10:$I$39))","v":0},{"$f":"IF($D$3<>\"\",SUMIFS('Staff Capacity'!$I$10:$I$39,'Staff Capacity'!$G$10:$G$39,9,'Staff Capacity'!$H$10:$H$39,$D$3),SUMIF('Staff Capacity'!$G$10:$G$39,9,'Staff Capacity'!$I$10:$I$39))","v":0},{"$f":"IF($D$3<>\"\",SUMIFS('Staff Capacity'!$I$10:$I$39,'Staff Capacity'!$G$10:$G$39,9,'Staff Capacity'!$H$10:$H$39,$D$3),SUMIF('Staff Capacity'!$G$10:$G$39,9,'Staff Capacity'!$I$10:$I$39))","v":0},{"$f":"IF($D$3<>\"\",SUMIFS('Staff Capacity'!$I$10:$I$39,'Staff Capacity'!$G$10:$G$39,9,'Staff Capacity'!$H$10:$H$39,$D$3),SUMIF('Staff Capacity'!$G$10:$G$39,9,'Staff Capacity'!$I$10:$I$39))","v":0},{"$f":"IF($D$3<>\"\",SUMIFS('Staff Capacity'!$I$10:$I$39,'Staff Capacity'!$G$10:$G$39,9,'Staff Capacity'!$H$10:$H$39,$D$3),SUMIF('Staff Capacity'!$G$10:$G$39,9,'Staff Capacity'!$I$10:$I$39))","v":0},{"$f":"IF($D$3<>\"\",SUMIFS('Staff Capacity'!$I$10:$I$39,'Staff Capacity'!$G$10:$G$39,9,'Staff Capacity'!$H$10:$H$39,$D$3),SUMIF('Staff Capacity'!$G$10:$G$39,9,'Staff Capacity'!$I$10:$I$39))","v":0},{"$f":"IF($D$3<>\"\",SUMIFS('Staff Capacity'!$I$10:$I$39,'Staff Capacity'!$G$10:$G$39,9,'Staff Capacity'!$H$10:$H$39,$D$3),SUMIF('Staff Capacity'!$G$10:$G$39,9,'Staff Capacity'!$I$10:$I$39))","v":0},{"$f":"IF($D$3<>\"\",SUMIFS('Staff Capacity'!$I$10:$I$39,'Staff Capacity'!$G$10:$G$39,9,'Staff Capacity'!$H$10:$H$39,$D$3),SUMIF('Staff Capacity'!$G$10:$G$39,9,'Staff Capacity'!$I$10:$I$39))","v":0},{"$f":"IF($D$3<>\"\",SUMIFS('Staff Capacity'!$I$10:$I$39,'Staff Capacity'!$G$10:$G$39,9,'Staff Capacity'!$H$10:$H$39,$D$3),SUMIF('Staff Capacity'!$G$10:$G$39,9,'Staff Capacity'!$I$10:$I$39))","v":0},{"$f":"IF($D$3<>\"\",SUMIFS('Staff Capacity'!$I$10:$I$39,'Staff Capacity'!$G$10:$G$39,9,'Staff Capacity'!$H$10:$H$39,$D$3),SUMIF('Staff Capacity'!$G$10:$G$39,9,'Staff Capacity'!$I$10:$I$39))","v":0},{"$f":"IF($D$3<>\"\",SUMIFS('Staff Capacity'!$I$10:$I$39,'Staff Capacity'!$G$10:$G$39,9,'Staff Capacity'!$H$10:$H$39,$D$3),SUMIF('Staff Capacity'!$G$10:$G$39,9,'Staff Capacity'!$I$10:$I$39))","v":0},{"$f":"IF($D$3<>\"\",SUMIFS('Staff Capacity'!$I$10:$I$39,'Staff Capacity'!$G$10:$G$39,9,'Staff Capacity'!$H$10:$H$39,$D$3),SUMIF('Staff Capacity'!$G$10:$G$39,9,'Staff Capacity'!$I$10:$I$39))","v":0},{"$f":"IF($D$3<>\"\",SUMIFS('Staff Capacity'!$I$10:$I$39,'Staff Capacity'!$G$10:$G$39,9,'Staff Capacity'!$H$10:$H$39,$D$3),SUMIF('Staff Capacity'!$G$10:$G$39,9,'Staff Capacity'!$I$10:$I$39))","v":0},{"$f":"IF($D$3<>\"\",SUMIFS('Staff Capacity'!$I$10:$I$39,'Staff Capacity'!$G$10:$G$39,9,'Staff Capacity'!$H$10:$H$39,$D$3),SUMIF('Staff Capacity'!$G$10:$G$39,9,'Staff Capacity'!$I$10:$I$39))","v":0},{"$f":"IF($D$3<>\"\",SUMIFS('Staff Capacity'!$I$10:$I$39,'Staff Capacity'!$G$10:$G$39,9,'Staff Capacity'!$H$10:$H$39,$D$3),SUMIF('Staff Capacity'!$G$10:$G$39,9,'Staff Capacity'!$I$10:$I$39))","v":0},{"$f":"IF($D$3<>\"\",SUMIFS('Staff Capacity'!$I$10:$I$39,'Staff Capacity'!$G$10:$G$39,9,'Staff Capacity'!$H$10:$H$39,$D$3),SUMIF('Staff Capacity'!$G$10:$G$39,9,'Staff Capacity'!$I$10:$I$39))","v":0},{"$f":"IF($D$3<>\"\",SUMIFS('Staff Capacity'!$I$10:$I$39,'Staff Capacity'!$G$10:$G$39,9,'Staff Capacity'!$H$10:$H$39,$D$3),SUMIF('Staff Capacity'!$G$10:$G$39,9,'Staff Capacity'!$I$10:$I$39))","v":0},{"$f":"IF($D$3<>\"\",SUMIFS('Staff Capacity'!$I$10:$I$39,'Staff Capacity'!$G$10:$G$39,9,'Staff Capacity'!$H$10:$H$39,$D$3),SUMIF('Staff Capacity'!$G$10:$G$39,9,'Staff Capacity'!$I$10:$I$39))","v":0},{"$f":"IF($D$3<>\"\",SUMIFS('Staff Capacity'!$I$10:$I$39,'Staff Capacity'!$G$10:$G$39,9,'Staff Capacity'!$H$10:$H$39,$D$3),SUMIF('Staff Capacity'!$G$10:$G$39,9,'Staff Capacity'!$I$10:$I$39))","v":0},{"$f":"IF($D$3<>\"\",SUMIFS('Staff Capacity'!$I$10:$I$39,'Staff Capacity'!$G$10:$G$39,9,'Staff Capacity'!$H$10:$H$39,$D$3),SUMIF('Staff Capacity'!$G$10:$G$39,9,'Staff Capacity'!$I$10:$I$39))","v":0},{"$f":"IF($D$3<>\"\",SUMIFS('Staff Capacity'!$I$10:$I$39,'Staff Capacity'!$G$10:$G$39,9,'Staff Capacity'!$H$10:$H$39,$D$3),SUMIF('Staff Capacity'!$G$10:$G$39,9,'Staff Capacity'!$I$10:$I$39))","v":0},{"$f":"IF($D$3<>\"\",SUMIFS('Staff Capacity'!$I$10:$I$39,'Staff Capacity'!$G$10:$G$39,9,'Staff Capacity'!$H$10:$H$39,$D$3),SUMIF('Staff Capacity'!$G$10:$G$39,9,'Staff Capacity'!$I$10:$I$39))","v":0},{"$f":"IF($D$3<>\"\",SUMIFS('Staff Capacity'!$I$10:$I$39,'Staff Capacity'!$G$10:$G$39,9,'Staff Capacity'!$H$10:$H$39,$D$3),SUMIF('Staff Capacity'!$G$10:$G$39,9,'Staff Capacity'!$I$10:$I$39))","v":0},{"$f":"IF($D$3<>\"\",SUMIFS('Staff Capacity'!$I$10:$I$39,'Staff Capacity'!$G$10:$G$39,9,'Staff Capacity'!$H$10:$H$39,$D$3),SUMIF('Staff Capacity'!$G$10:$G$39,9,'Staff Capacity'!$I$10:$I$39))","v":0},{"$f":"IF($D$3<>\"\",SUMIFS('Staff Capacity'!$I$10:$I$39,'Staff Capacity'!$G$10:$G$39,9,'Staff Capacity'!$H$10:$H$39,$D$3),SUMIF('Staff Capacity'!$G$10:$G$39,9,'Staff Capacity'!$I$10:$I$39))","v":0},{"$f":"IF($D$3<>\"\",SUMIFS('Staff Capacity'!$I$10:$I$39,'Staff Capacity'!$G$10:$G$39,9,'Staff Capacity'!$H$10:$H$39,$D$3),SUMIF('Staff Capacity'!$G$10:$G$39,9,'Staff Capacity'!$I$10:$I$39))","v":0},{"$f":"IF($D$3<>\"\",SUMIFS('Staff Capacity'!$I$10:$I$39,'Staff Capacity'!$G$10:$G$39,9,'Staff Capacity'!$H$10:$H$39,$D$3),SUMIF('Staff Capacity'!$G$10:$G$39,9,'Staff Capacity'!$I$10:$I$39))","v":0},{"$f":"IF($D$3<>\"\",SUMIFS('Staff Capacity'!$I$10:$I$39,'Staff Capacity'!$G$10:$G$39,9,'Staff Capacity'!$H$10:$H$39,$D$3),SUMIF('Staff Capacity'!$G$10:$G$39,9,'Staff Capacity'!$I$10:$I$39))","v":0},{"$f":"IF($D$3<>\"\",SUMIFS('Staff Capacity'!$I$10:$I$39,'Staff Capacity'!$G$10:$G$39,9,'Staff Capacity'!$H$10:$H$39,$D$3),SUMIF('Staff Capacity'!$G$10:$G$39,9,'Staff Capacity'!$I$10:$I$39))","v":0},{"$f":"IF($D$3<>\"\",SUMIFS('Staff Capacity'!$I$10:$I$39,'Staff Capacity'!$G$10:$G$39,9,'Staff Capacity'!$H$10:$H$39,$D$3),SUMIF('Staff Capacity'!$G$10:$G$39,9,'Staff Capacity'!$I$10:$I$39))","v":0},{"$f":"IF($D$3<>\"\",SUMIFS('Staff Capacity'!$I$10:$I$39,'Staff Capacity'!$G$10:$G$39,9,'Staff Capacity'!$H$10:$H$39,$D$3),SUMIF('Staff Capacity'!$G$10:$G$39,9,'Staff Capacity'!$I$10:$I$39))","v":0},{"$f":"IF($D$3<>\"\",SUMIFS('Staff Capacity'!$I$10:$I$39,'Staff Capacity'!$G$10:$G$39,9,'Staff Capacity'!$H$10:$H$39,$D$3),SUMIF('Staff Capacity'!$G$10:$G$39,9,'Staff Capacity'!$I$10:$I$39))","v":0},{"$f":"IF($D$3<>\"\",SUMIFS('Staff Capacity'!$I$10:$I$39,'Staff Capacity'!$G$10:$G$39,9,'Staff Capacity'!$H$10:$H$39,$D$3),SUMIF('Staff Capacity'!$G$10:$G$39,9,'Staff Capacity'!$I$10:$I$39))","v":0},{"$f":"IF($D$3<>\"\",SUMIFS('Staff Capacity'!$I$10:$I$39,'Staff Capacity'!$G$10:$G$39,9,'Staff Capacity'!$H$10:$H$39,$D$3),SUMIF('Staff Capacity'!$G$10:$G$39,9,'Staff Capacity'!$I$10:$I$39))","v":0},{"$f":"IF($D$3<>\"\",SUMIFS('Staff Capacity'!$I$10:$I$39,'Staff Capacity'!$G$10:$G$39,9,'Staff Capacity'!$H$10:$H$39,$D$3),SUMIF('Staff Capacity'!$G$10:$G$39,9,'Staff Capacity'!$I$10:$I$39))","v":0},{"$f":"IF($D$3<>\"\",SUMIFS('Staff Capacity'!$I$10:$I$39,'Staff Capacity'!$G$10:$G$39,9,'Staff Capacity'!$H$10:$H$39,$D$3),SUMIF('Staff Capacity'!$G$10:$G$39,9,'Staff Capacity'!$I$10:$I$39))","v":0},{"$f":"IF($D$3<>\"\",SUMIFS('Staff Capacity'!$I$10:$I$39,'Staff Capacity'!$G$10:$G$39,9,'Staff Capacity'!$H$10:$H$39,$D$3),SUMIF('Staff Capacity'!$G$10:$G$39,9,'Staff Capacity'!$I$10:$I$39))","v":0},{"$f":"IF($D$3<>\"\",SUMIFS('Staff Capacity'!$I$10:$I$39,'Staff Capacity'!$G$10:$G$39,9,'Staff Capacity'!$H$10:$H$39,$D$3),SUMIF('Staff Capacity'!$G$10:$G$39,9,'Staff Capacity'!$I$10:$I$39))","v":0},{"$f":"IF($D$3<>\"\",SUMIFS('Staff Capacity'!$I$10:$I$39,'Staff Capacity'!$G$10:$G$39,9,'Staff Capacity'!$H$10:$H$39,$D$3),SUMIF('Staff Capacity'!$G$10:$G$39,9,'Staff Capacity'!$I$10:$I$39))","v":0},{"$f":"IF($D$3<>\"\",SUMIFS('Staff Capacity'!$I$10:$I$39,'Staff Capacity'!$G$10:$G$39,9,'Staff Capacity'!$H$10:$H$39,$D$3),SUMIF('Staff Capacity'!$G$10:$G$39,9,'Staff Capacity'!$I$10:$I$39))","v":0},{"$f":"IF($D$3<>\"\",SUMIFS('Staff Capacity'!$I$10:$I$39,'Staff Capacity'!$G$10:$G$39,9,'Staff Capacity'!$H$10:$H$39,$D$3),SUMIF('Staff Capacity'!$G$10:$G$39,9,'Staff Capacity'!$I$10:$I$39))","v":0},{"$f":"IF($D$3<>\"\",SUMIFS('Staff Capacity'!$I$10:$I$39,'Staff Capacity'!$G$10:$G$39,9,'Staff Capacity'!$H$10:$H$39,$D$3),SUMIF('Staff Capacity'!$G$10:$G$39,9,'Staff Capacity'!$I$10:$I$39))","v":0},{"$f":"IF($D$3<>\"\",SUMIFS('Staff Capacity'!$I$10:$I$39,'Staff Capacity'!$G$10:$G$39,9,'Staff Capacity'!$H$10:$H$39,$D$3),SUMIF('Staff Capacity'!$G$10:$G$39,9,'Staff Capacity'!$I$10:$I$39))","v":0},{"$f":"IF($D$3<>\"\",SUMIFS('Staff Capacity'!$I$10:$I$39,'Staff Capacity'!$G$10:$G$39,9,'Staff Capacity'!$H$10:$H$39,$D$3),SUMIF('Staff Capacity'!$G$10:$G$39,9,'Staff Capacity'!$I$10:$I$39))","v":0},{"$f":"IF($D$3<>\"\",SUMIFS('Staff Capacity'!$I$10:$I$39,'Staff Capacity'!$G$10:$G$39,9,'Staff Capacity'!$H$10:$H$39,$D$3),SUMIF('Staff Capacity'!$G$10:$G$39,9,'Staff Capacity'!$I$10:$I$39))","v":0},{"$f":"IF($D$3<>\"\",SUMIFS('Staff Capacity'!$I$10:$I$39,'Staff Capacity'!$G$10:$G$39,9,'Staff Capacity'!$H$10:$H$39,$D$3),SUMIF('Staff Capacity'!$G$10:$G$39,9,'Staff Capacity'!$I$10:$I$39))","v":0},{"$f":"IF($D$3<>\"\",SUMIFS('Staff Capacity'!$I$10:$I$39,'Staff Capacity'!$G$10:$G$39,9,'Staff Capacity'!$H$10:$H$39,$D$3),SUMIF('Staff Capacity'!$G$10:$G$39,9,'Staff Capacity'!$I$10:$I$39))","v":0},{"$f":"IF($D$3<>\"\",SUMIFS('Staff Capacity'!$I$10:$I$39,'Staff Capacity'!$G$10:$G$39,9,'Staff Capacity'!$H$10:$H$39,$D$3),SUMIF('Staff Capacity'!$G$10:$G$39,9,'Staff Capacity'!$I$10:$I$39))","v":0},{"$f":"IF($D$3<>\"\",SUMIFS('Staff Capacity'!$I$10:$I$39,'Staff Capacity'!$G$10:$G$39,9,'Staff Capacity'!$H$10:$H$39,$D$3),SUMIF('Staff Capacity'!$G$10:$G$39,9,'Staff Capacity'!$I$10:$I$39))","v":0},{"$f":"IF($D$3<>\"\",SUMIFS('Staff Capacity'!$I$10:$I$39,'Staff Capacity'!$G$10:$G$39,9,'Staff Capacity'!$H$10:$H$39,$D$3),SUMIF('Staff Capacity'!$G$10:$G$39,9,'Staff Capacity'!$I$10:$I$39))","v":0},{"$f":"IF($D$3<>\"\",SUMIFS('Staff Capacity'!$I$10:$I$39,'Staff Capacity'!$G$10:$G$39,9,'Staff Capacity'!$H$10:$H$39,$D$3),SUMIF('Staff Capacity'!$G$10:$G$39,9,'Staff Capacity'!$I$10:$I$39))","v":0},{"$f":"IF($D$3<>\"\",SUMIFS('Staff Capacity'!$I$10:$I$39,'Staff Capacity'!$G$10:$G$39,9,'Staff Capacity'!$H$10:$H$39,$D$3),SUMIF('Staff Capacity'!$G$10:$G$39,9,'Staff Capacity'!$I$10:$I$39))","v":0},{"$f":"IF($D$3<>\"\",SUMIFS('Staff Capacity'!$I$10:$I$39,'Staff Capacity'!$G$10:$G$39,9,'Staff Capacity'!$H$10:$H$39,$D$3),SUMIF('Staff Capacity'!$G$10:$G$39,9,'Staff Capacity'!$I$10:$I$39))","v":0},{"$f":"IF($D$3<>\"\",SUMIFS('Staff Capacity'!$I$10:$I$39,'Staff Capacity'!$G$10:$G$39,9,'Staff Capacity'!$H$10:$H$39,$D$3),SUMIF('Staff Capacity'!$G$10:$G$39,9,'Staff Capacity'!$I$10:$I$39))","v":0},{"$f":"IF($D$3<>\"\",SUMIFS('Staff Capacity'!$I$10:$I$39,'Staff Capacity'!$G$10:$G$39,9,'Staff Capacity'!$H$10:$H$39,$D$3),SUMIF('Staff Capacity'!$G$10:$G$39,9,'Staff Capacity'!$I$10:$I$39))","v":0},{"$f":"IF($D$3<>\"\",SUMIFS('Staff Capacity'!$I$10:$I$39,'Staff Capacity'!$G$10:$G$39,9,'Staff Capacity'!$H$10:$H$39,$D$3),SUMIF('Staff Capacity'!$G$10:$G$39,9,'Staff Capacity'!$I$10:$I$39))","v":0},{"$f":"IF($D$3<>\"\",SUMIFS('Staff Capacity'!$I$10:$I$39,'Staff Capacity'!$G$10:$G$39,9,'Staff Capacity'!$H$10:$H$39,$D$3),SUMIF('Staff Capacity'!$G$10:$G$39,9,'Staff Capacity'!$I$10:$I$39))","v":0},{"$f":"IF($D$3<>\"\",SUMIFS('Staff Capacity'!$I$10:$I$39,'Staff Capacity'!$G$10:$G$39,9,'Staff Capacity'!$H$10:$H$39,$D$3),SUMIF('Staff Capacity'!$G$10:$G$39,9,'Staff Capacity'!$I$10:$I$39))","v":0},{"$f":"IF($D$3<>\"\",SUMIFS('Staff Capacity'!$I$10:$I$39,'Staff Capacity'!$G$10:$G$39,9,'Staff Capacity'!$H$10:$H$39,$D$3),SUMIF('Staff Capacity'!$G$10:$G$39,9,'Staff Capacity'!$I$10:$I$39))","v":0},{"$f":"IF($D$3<>\"\",SUMIFS('Staff Capacity'!$I$10:$I$39,'Staff Capacity'!$G$10:$G$39,9,'Staff Capacity'!$H$10:$H$39,$D$3),SUMIF('Staff Capacity'!$G$10:$G$39,9,'Staff Capacity'!$I$10:$I$39))","v":0},{"$f":"IF($D$3<>\"\",SUMIFS('Staff Capacity'!$I$10:$I$39,'Staff Capacity'!$G$10:$G$39,9,'Staff Capacity'!$H$10:$H$39,$D$3),SUMIF('Staff Capacity'!$G$10:$G$39,9,'Staff Capacity'!$I$10:$I$39))","v":0},{"$f":"IF($D$3<>\"\",SUMIFS('Staff Capacity'!$I$10:$I$39,'Staff Capacity'!$G$10:$G$39,9,'Staff Capacity'!$H$10:$H$39,$D$3),SUMIF('Staff Capacity'!$G$10:$G$39,9,'Staff Capacity'!$I$10:$I$39))","v":0},{"$f":"IF($D$3<>\"\",SUMIFS('Staff Capacity'!$I$10:$I$39,'Staff Capacity'!$G$10:$G$39,9,'Staff Capacity'!$H$10:$H$39,$D$3),SUMIF('Staff Capacity'!$G$10:$G$39,9,'Staff Capacity'!$I$10:$I$39))","v":0},{"$f":"IF($D$3<>\"\",SUMIFS('Staff Capacity'!$I$10:$I$39,'Staff Capacity'!$G$10:$G$39,9,'Staff Capacity'!$H$10:$H$39,$D$3),SUMIF('Staff Capacity'!$G$10:$G$39,9,'Staff Capacity'!$I$10:$I$39))","v":0},{"$f":"IF($D$3<>\"\",SUMIFS('Staff Capacity'!$I$10:$I$39,'Staff Capacity'!$G$10:$G$39,9,'Staff Capacity'!$H$10:$H$39,$D$3),SUMIF('Staff Capacity'!$G$10:$G$39,9,'Staff Capacity'!$I$10:$I$39))","v":0},{"$f":"IF($D$3<>\"\",SUMIFS('Staff Capacity'!$I$10:$I$39,'Staff Capacity'!$G$10:$G$39,9,'Staff Capacity'!$H$10:$H$39,$D$3),SUMIF('Staff Capacity'!$G$10:$G$39,9,'Staff Capacity'!$I$10:$I$39))","v":0},{"$f":"IF($D$3<>\"\",SUMIFS('Staff Capacity'!$I$10:$I$39,'Staff Capacity'!$G$10:$G$39,9,'Staff Capacity'!$H$10:$H$39,$D$3),SUMIF('Staff Capacity'!$G$10:$G$39,9,'Staff Capacity'!$I$10:$I$39))","v":0},{"$f":"IF($D$3<>\"\",SUMIFS('Staff Capacity'!$I$10:$I$39,'Staff Capacity'!$G$10:$G$39,9,'Staff Capacity'!$H$10:$H$39,$D$3),SUMIF('Staff Capacity'!$G$10:$G$39,9,'Staff Capacity'!$I$10:$I$39))","v":0},{"$f":"IF($D$3<>\"\",SUMIFS('Staff Capacity'!$I$10:$I$39,'Staff Capacity'!$G$10:$G$39,9,'Staff Capacity'!$H$10:$H$39,$D$3),SUMIF('Staff Capacity'!$G$10:$G$39,9,'Staff Capacity'!$I$10:$I$39))","v":0},{"$f":"IF($D$3<>\"\",SUMIFS('Staff Capacity'!$I$10:$I$39,'Staff Capacity'!$G$10:$G$39,9,'Staff Capacity'!$H$10:$H$39,$D$3),SUMIF('Staff Capacity'!$G$10:$G$39,9,'Staff Capacity'!$I$10:$I$39))","v":0},{"$f":"IF($D$3<>\"\",SUMIFS('Staff Capacity'!$I$10:$I$39,'Staff Capacity'!$G$10:$G$39,9,'Staff Capacity'!$H$10:$H$39,$D$3),SUMIF('Staff Capacity'!$G$10:$G$39,9,'Staff Capacity'!$I$10:$I$39))","v":0},{"$f":"IF($D$3<>\"\",SUMIFS('Staff Capacity'!$I$10:$I$39,'Staff Capacity'!$G$10:$G$39,9,'Staff Capacity'!$H$10:$H$39,$D$3),SUMIF('Staff Capacity'!$G$10:$G$39,9,'Staff Capacity'!$I$10:$I$39))","v":0},{"$f":"IF($D$3<>\"\",SUMIFS('Staff Capacity'!$I$10:$I$39,'Staff Capacity'!$G$10:$G$39,9,'Staff Capacity'!$H$10:$H$39,$D$3),SUMIF('Staff Capacity'!$G$10:$G$39,9,'Staff Capacity'!$I$10:$I$39))","v":0},{"$f":"IF($D$3<>\"\",SUMIFS('Staff Capacity'!$I$10:$I$39,'Staff Capacity'!$G$10:$G$39,9,'Staff Capacity'!$H$10:$H$39,$D$3),SUMIF('Staff Capacity'!$G$10:$G$39,9,'Staff Capacity'!$I$10:$I$39))","v":0},{"$f":"IF($D$3<>\"\",SUMIFS('Staff Capacity'!$I$10:$I$39,'Staff Capacity'!$G$10:$G$39,9,'Staff Capacity'!$H$10:$H$39,$D$3),SUMIF('Staff Capacity'!$G$10:$G$39,9,'Staff Capacity'!$I$10:$I$39))","v":0},{"$f":"IF($D$3<>\"\",SUMIFS('Staff Capacity'!$I$10:$I$39,'Staff Capacity'!$G$10:$G$39,9,'Staff Capacity'!$H$10:$H$39,$D$3),SUMIF('Staff Capacity'!$G$10:$G$39,9,'Staff Capacity'!$I$10:$I$39))","v":0},{"$f":"IF($D$3<>\"\",SUMIFS('Staff Capacity'!$I$10:$I$39,'Staff Capacity'!$G$10:$G$39,9,'Staff Capacity'!$H$10:$H$39,$D$3),SUMIF('Staff Capacity'!$G$10:$G$39,9,'Staff Capacity'!$I$10:$I$39))","v":0},{"$f":"IF($D$3<>\"\",SUMIFS('Staff Capacity'!$I$10:$I$39,'Staff Capacity'!$G$10:$G$39,9,'Staff Capacity'!$H$10:$H$39,$D$3),SUMIF('Staff Capacity'!$G$10:$G$39,9,'Staff Capacity'!$I$10:$I$39))","v":0},{"$f":"IF($D$3<>\"\",SUMIFS('Staff Capacity'!$I$10:$I$39,'Staff Capacity'!$G$10:$G$39,9,'Staff Capacity'!$H$10:$H$39,$D$3),SUMIF('Staff Capacity'!$G$10:$G$39,9,'Staff Capacity'!$I$10:$I$39))","v":0},{"$f":"IF($D$3<>\"\",SUMIFS('Staff Capacity'!$I$10:$I$39,'Staff Capacity'!$G$10:$G$39,9,'Staff Capacity'!$H$10:$H$39,$D$3),SUMIF('Staff Capacity'!$G$10:$G$39,9,'Staff Capacity'!$I$10:$I$39))","v":0},{"$f":"IF($D$3<>\"\",SUMIFS('Staff Capacity'!$I$10:$I$39,'Staff Capacity'!$G$10:$G$39,9,'Staff Capacity'!$H$10:$H$39,$D$3),SUMIF('Staff Capacity'!$G$10:$G$39,9,'Staff Capacity'!$I$10:$I$39))","v":0},{"$f":"IF($D$3<>\"\",SUMIFS('Staff Capacity'!$I$10:$I$39,'Staff Capacity'!$G$10:$G$39,9,'Staff Capacity'!$H$10:$H$39,$D$3),SUMIF('Staff Capacity'!$G$10:$G$39,9,'Staff Capacity'!$I$10:$I$39))","v":0},{"$f":"IF($D$3<>\"\",SUMIFS('Staff Capacity'!$I$10:$I$39,'Staff Capacity'!$G$10:$G$39,9,'Staff Capacity'!$H$10:$H$39,$D$3),SUMIF('Staff Capacity'!$G$10:$G$39,9,'Staff Capacity'!$I$10:$I$39))","v":0},{"$f":"IF($D$3<>\"\",SUMIFS('Staff Capacity'!$I$10:$I$39,'Staff Capacity'!$G$10:$G$39,9,'Staff Capacity'!$H$10:$H$39,$D$3),SUMIF('Staff Capacity'!$G$10:$G$39,9,'Staff Capacity'!$I$10:$I$39))","v":0},{"$f":"IF($D$3<>\"\",SUMIFS('Staff Capacity'!$I$10:$I$39,'Staff Capacity'!$G$10:$G$39,9,'Staff Capacity'!$H$10:$H$39,$D$3),SUMIF('Staff Capacity'!$G$10:$G$39,9,'Staff Capacity'!$I$10:$I$39))","v":0},{"$f":"IF($D$3<>\"\",SUMIFS('Staff Capacity'!$I$10:$I$39,'Staff Capacity'!$G$10:$G$39,9,'Staff Capacity'!$H$10:$H$39,$D$3),SUMIF('Staff Capacity'!$G$10:$G$39,9,'Staff Capacity'!$I$10:$I$39))","v":0},{"$f":"IF($D$3<>\"\",SUMIFS('Staff Capacity'!$I$10:$I$39,'Staff Capacity'!$G$10:$G$39,9,'Staff Capacity'!$H$10:$H$39,$D$3),SUMIF('Staff Capacity'!$G$10:$G$39,9,'Staff Capacity'!$I$10:$I$39))","v":0},{"$f":"IF($D$3<>\"\",SUMIFS('Staff Capacity'!$I$10:$I$39,'Staff Capacity'!$G$10:$G$39,9,'Staff Capacity'!$H$10:$H$39,$D$3),SUMIF('Staff Capacity'!$G$10:$G$39,9,'Staff Capacity'!$I$10:$I$39))","v":0},{"$f":"IF($D$3<>\"\",SUMIFS('Staff Capacity'!$I$10:$I$39,'Staff Capacity'!$G$10:$G$39,9,'Staff Capacity'!$H$10:$H$39,$D$3),SUMIF('Staff Capacity'!$G$10:$G$39,9,'Staff Capacity'!$I$10:$I$39))","v":0},{"$f":"IF($D$3<>\"\",SUMIFS('Staff Capacity'!$I$10:$I$39,'Staff Capacity'!$G$10:$G$39,9,'Staff Capacity'!$H$10:$H$39,$D$3),SUMIF('Staff Capacity'!$G$10:$G$39,9,'Staff Capacity'!$I$10:$I$39))","v":0},{"$f":"IF($D$3<>\"\",SUMIFS('Staff Capacity'!$I$10:$I$39,'Staff Capacity'!$G$10:$G$39,9,'Staff Capacity'!$H$10:$H$39,$D$3),SUMIF('Staff Capacity'!$G$10:$G$39,9,'Staff Capacity'!$I$10:$I$39))","v":0},{"$f":"IF($D$3<>\"\",SUMIFS('Staff Capacity'!$I$10:$I$39,'Staff Capacity'!$G$10:$G$39,9,'Staff Capacity'!$H$10:$H$39,$D$3),SUMIF('Staff Capacity'!$G$10:$G$39,9,'Staff Capacity'!$I$10:$I$39))","v":0},{"$f":"IF($D$3<>\"\",SUMIFS('Staff Capacity'!$I$10:$I$39,'Staff Capacity'!$G$10:$G$39,9,'Staff Capacity'!$H$10:$H$39,$D$3),SUMIF('Staff Capacity'!$G$10:$G$39,9,'Staff Capacity'!$I$10:$I$39))","v":0},{"$f":"IF($D$3<>\"\",SUMIFS('Staff Capacity'!$I$10:$I$39,'Staff Capacity'!$G$10:$G$39,9,'Staff Capacity'!$H$10:$H$39,$D$3),SUMIF('Staff Capacity'!$G$10:$G$39,9,'Staff Capacity'!$I$10:$I$39))","v":0},{"$f":"IF($D$3<>\"\",SUMIFS('Staff Capacity'!$I$10:$I$39,'Staff Capacity'!$G$10:$G$39,9,'Staff Capacity'!$H$10:$H$39,$D$3),SUMIF('Staff Capacity'!$G$10:$G$39,9,'Staff Capacity'!$I$10:$I$39))","v":0},{"$f":"IF($D$3<>\"\",SUMIFS('Staff Capacity'!$I$10:$I$39,'Staff Capacity'!$G$10:$G$39,9,'Staff Capacity'!$H$10:$H$39,$D$3),SUMIF('Staff Capacity'!$G$10:$G$39,9,'Staff Capacity'!$I$10:$I$39))","v":0},{"$f":"IF($D$3<>\"\",SUMIFS('Staff Capacity'!$I$10:$I$39,'Staff Capacity'!$G$10:$G$39,9,'Staff Capacity'!$H$10:$H$39,$D$3),SUMIF('Staff Capacity'!$G$10:$G$39,9,'Staff Capacity'!$I$10:$I$39))","v":0},{"$f":"IF($D$3<>\"\",SUMIFS('Staff Capacity'!$I$10:$I$39,'Staff Capacity'!$G$10:$G$39,9,'Staff Capacity'!$H$10:$H$39,$D$3),SUMIF('Staff Capacity'!$G$10:$G$39,9,'Staff Capacity'!$I$10:$I$39))","v":0},{"$f":"IF($D$3<>\"\",SUMIFS('Staff Capacity'!$I$10:$I$39,'Staff Capacity'!$G$10:$G$39,9,'Staff Capacity'!$H$10:$H$39,$D$3),SUMIF('Staff Capacity'!$G$10:$G$39,9,'Staff Capacity'!$I$10:$I$39))","v":0},{"$f":"IF($D$3<>\"\",SUMIFS('Staff Capacity'!$I$10:$I$39,'Staff Capacity'!$G$10:$G$39,9,'Staff Capacity'!$H$10:$H$39,$D$3),SUMIF('Staff Capacity'!$G$10:$G$39,9,'Staff Capacity'!$I$10:$I$39))","v":0},{"$f":"IF($D$3<>\"\",SUMIFS('Staff Capacity'!$I$10:$I$39,'Staff Capacity'!$G$10:$G$39,9,'Staff Capacity'!$H$10:$H$39,$D$3),SUMIF('Staff Capacity'!$G$10:$G$39,9,'Staff Capacity'!$I$10:$I$39))","v":0},{"$f":"IF($D$3<>\"\",SUMIFS('Staff Capacity'!$I$10:$I$39,'Staff Capacity'!$G$10:$G$39,9,'Staff Capacity'!$H$10:$H$39,$D$3),SUMIF('Staff Capacity'!$G$10:$G$39,9,'Staff Capacity'!$I$10:$I$39))","v":0},{"$f":"IF($D$3<>\"\",SUMIFS('Staff Capacity'!$I$10:$I$39,'Staff Capacity'!$G$10:$G$39,9,'Staff Capacity'!$H$10:$H$39,$D$3),SUMIF('Staff Capacity'!$G$10:$G$39,9,'Staff Capacity'!$I$10:$I$39))","v":0},{"$f":"IF($D$3<>\"\",SUMIFS('Staff Capacity'!$I$10:$I$39,'Staff Capacity'!$G$10:$G$39,9,'Staff Capacity'!$H$10:$H$39,$D$3),SUMIF('Staff Capacity'!$G$10:$G$39,9,'Staff Capacity'!$I$10:$I$39))","v":0},{"$f":"IF($D$3<>\"\",SUMIFS('Staff Capacity'!$I$10:$I$39,'Staff Capacity'!$G$10:$G$39,9,'Staff Capacity'!$H$10:$H$39,$D$3),SUMIF('Staff Capacity'!$G$10:$G$39,9,'Staff Capacity'!$I$10:$I$39))","v":0},{"$f":"IF($D$3<>\"\",SUMIFS('Staff Capacity'!$I$10:$I$39,'Staff Capacity'!$G$10:$G$39,9,'Staff Capacity'!$H$10:$H$39,$D$3),SUMIF('Staff Capacity'!$G$10:$G$39,9,'Staff Capacity'!$I$10:$I$39))","v":0},{"$f":"IF($D$3<>\"\",SUMIFS('Staff Capacity'!$I$10:$I$39,'Staff Capacity'!$G$10:$G$39,9,'Staff Capacity'!$H$10:$H$39,$D$3),SUMIF('Staff Capacity'!$G$10:$G$39,9,'Staff Capacity'!$I$10:$I$39))","v":0},{"$f":"IF($D$3<>\"\",SUMIFS('Staff Capacity'!$I$10:$I$39,'Staff Capacity'!$G$10:$G$39,9,'Staff Capacity'!$H$10:$H$39,$D$3),SUMIF('Staff Capacity'!$G$10:$G$39,9,'Staff Capacity'!$I$10:$I$39))","v":0},{"$f":"IF($D$3<>\"\",SUMIFS('Staff Capacity'!$I$10:$I$39,'Staff Capacity'!$G$10:$G$39,9,'Staff Capacity'!$H$10:$H$39,$D$3),SUMIF('Staff Capacity'!$G$10:$G$39,9,'Staff Capacity'!$I$10:$I$39))","v":0},{"$f":"IF($D$3<>\"\",SUMIFS('Staff Capacity'!$I$10:$I$39,'Staff Capacity'!$G$10:$G$39,9,'Staff Capacity'!$H$10:$H$39,$D$3),SUMIF('Staff Capacity'!$G$10:$G$39,9,'Staff Capacity'!$I$10:$I$39))","v":0},{"$f":"IF($D$3<>\"\",SUMIFS('Staff Capacity'!$I$10:$I$39,'Staff Capacity'!$G$10:$G$39,9,'Staff Capacity'!$H$10:$H$39,$D$3),SUMIF('Staff Capacity'!$G$10:$G$39,9,'Staff Capacity'!$I$10:$I$39))","v":0},{"$f":"IF($D$3<>\"\",SUMIFS('Staff Capacity'!$I$10:$I$39,'Staff Capacity'!$G$10:$G$39,9,'Staff Capacity'!$H$10:$H$39,$D$3),SUMIF('Staff Capacity'!$G$10:$G$39,9,'Staff Capacity'!$I$10:$I$39))","v":0},{"$f":"IF($D$3<>\"\",SUMIFS('Staff Capacity'!$I$10:$I$39,'Staff Capacity'!$G$10:$G$39,9,'Staff Capacity'!$H$10:$H$39,$D$3),SUMIF('Staff Capacity'!$G$10:$G$39,9,'Staff Capacity'!$I$10:$I$39))","v":0},{"$f":"IF($D$3<>\"\",SUMIFS('Staff Capacity'!$I$10:$I$39,'Staff Capacity'!$G$10:$G$39,9,'Staff Capacity'!$H$10:$H$39,$D$3),SUMIF('Staff Capacity'!$G$10:$G$39,9,'Staff Capacity'!$I$10:$I$39))","v":0},{"$f":"IF($D$3<>\"\",SUMIFS('Staff Capacity'!$I$10:$I$39,'Staff Capacity'!$G$10:$G$39,9,'Staff Capacity'!$H$10:$H$39,$D$3),SUMIF('Staff Capacity'!$G$10:$G$39,9,'Staff Capacity'!$I$10:$I$39))","v":0},{"$f":"IF($D$3<>\"\",SUMIFS('Staff Capacity'!$I$10:$I$39,'Staff Capacity'!$G$10:$G$39,9,'Staff Capacity'!$H$10:$H$39,$D$3),SUMIF('Staff Capacity'!$G$10:$G$39,9,'Staff Capacity'!$I$10:$I$39))","v":0},{"$f":"IF($D$3<>\"\",SUMIFS('Staff Capacity'!$I$10:$I$39,'Staff Capacity'!$G$10:$G$39,9,'Staff Capacity'!$H$10:$H$39,$D$3),SUMIF('Staff Capacity'!$G$10:$G$39,9,'Staff Capacity'!$I$10:$I$39))","v":0},{"$f":"IF($D$3<>\"\",SUMIFS('Staff Capacity'!$I$10:$I$39,'Staff Capacity'!$G$10:$G$39,9,'Staff Capacity'!$H$10:$H$39,$D$3),SUMIF('Staff Capacity'!$G$10:$G$39,9,'Staff Capacity'!$I$10:$I$39))","v":0},{"$f":"IF($D$3<>\"\",SUMIFS('Staff Capacity'!$I$10:$I$39,'Staff Capacity'!$G$10:$G$39,9,'Staff Capacity'!$H$10:$H$39,$D$3),SUMIF('Staff Capacity'!$G$10:$G$39,9,'Staff Capacity'!$I$10:$I$39))","v":0},{"$f":"IF($D$3<>\"\",SUMIFS('Staff Capacity'!$I$10:$I$39,'Staff Capacity'!$G$10:$G$39,9,'Staff Capacity'!$H$10:$H$39,$D$3),SUMIF('Staff Capacity'!$G$10:$G$39,9,'Staff Capacity'!$I$10:$I$39))","v":0},{"$f":"IF($D$3<>\"\",SUMIFS('Staff Capacity'!$I$10:$I$39,'Staff Capacity'!$G$10:$G$39,9,'Staff Capacity'!$H$10:$H$39,$D$3),SUMIF('Staff Capacity'!$G$10:$G$39,9,'Staff Capacity'!$I$10:$I$39))","v":0},{"$f":"IF($D$3<>\"\",SUMIFS('Staff Capacity'!$I$10:$I$39,'Staff Capacity'!$G$10:$G$39,9,'Staff Capacity'!$H$10:$H$39,$D$3),SUMIF('Staff Capacity'!$G$10:$G$39,9,'Staff Capacity'!$I$10:$I$39))","v":0},{"$f":"IF($D$3<>\"\",SUMIFS('Staff Capacity'!$I$10:$I$39,'Staff Capacity'!$G$10:$G$39,9,'Staff Capacity'!$H$10:$H$39,$D$3),SUMIF('Staff Capacity'!$G$10:$G$39,9,'Staff Capacity'!$I$10:$I$39))","v":0},{"$f":"IF($D$3<>\"\",SUMIFS('Staff Capacity'!$I$10:$I$39,'Staff Capacity'!$G$10:$G$39,9,'Staff Capacity'!$H$10:$H$39,$D$3),SUMIF('Staff Capacity'!$G$10:$G$39,9,'Staff Capacity'!$I$10:$I$39))","v":0},{"$f":"IF($D$3<>\"\",SUMIFS('Staff Capacity'!$I$10:$I$39,'Staff Capacity'!$G$10:$G$39,9,'Staff Capacity'!$H$10:$H$39,$D$3),SUMIF('Staff Capacity'!$G$10:$G$39,9,'Staff Capacity'!$I$10:$I$39))","v":0},{"$f":"IF($D$3<>\"\",SUMIFS('Staff Capacity'!$I$10:$I$39,'Staff Capacity'!$G$10:$G$39,9,'Staff Capacity'!$H$10:$H$39,$D$3),SUMIF('Staff Capacity'!$G$10:$G$39,9,'Staff Capacity'!$I$10:$I$39))","v":0}]
[]
[null,null,null,null,"Staff - Screening"]
[null,null,null,null,1,0,0,0,0,0,0,0,0,0,0,0,0,0,0,0,0,0,0,0,0,0,0,0,0,0,0,0,0,0,0,0,0,0,0,0,0,0,0,0,0,0,0,0,0,0,0,0,0,0,0,0,0,0,0,0,0,0,0,0,0,0,0,0,0,0,0,0,0,0,0,0,0,0,0,0,0,0,0,0,0,0,0,0,0,0,0,0,0,0,0,0,0,0,0,0,0,0,0,0,0,0,0,0,0,0,0,0,0,0,0,0,0,0,0,0,0,0,0,0,0,0,0,0,0,0,0,0,0,0,0,0,0,0,0,0,0,0,0,0,0,0,0,0,0,0,0,0,0,0,0,0,0,0,0,0,0,0,0,0,0,0,0,0,0,0,0,0,0,0,0,0,0,0,0,0,0,0,0,0,0,0,0,0,0,0,0,0,0,0,0,0,0,0,0,0,0,0,0,0,0,0,0,0,0,0,0,0,0,0,0,0,0,0,0,0,0,0,0,0,0,0,0,0,0,0,0,0,0,0,0,0,0,0,0,0,0,0,0,0,0,0,0,0,0,0,0,0,0,0,0,0,0,0,0,0,0,0,0,0,0]
[null,null,null,null,2,0,0,0,0,0,0,0,0,0,0,0,0,0,0,0,0,0,0,0,0,0,0,0,0,0,0,0,0,0,0,0,0,0,0,0,0,0,0,0,0,0,0,0,0,0,0,0,0,0,0,0,0,0,0,0,0,0,0,0,0,0,0,0,0,0,0,0,0,0,0,0,0,0,0,0,0,0,0,0,0,0,0,0,0,0,0,0,0,0,0,0,0,0,0,0,0,0,0,0,0,0,0,0,0,0,0,0,0,0,0,0,0,0,0,0,0,0,0,0,0,0,0,0,0,0,0,0,0,0,0,0,0,0,0,0,0,0,0,0,0,0,0,0,0,0,0,0,0,0,0,0,0,0,0,0,0,0,0,0,0,0,0,0,0,0,0,0,0,0,0,0,0,0,0,0,0,0,0,0,0,0,0,0,0,0,0,0,0,0,0,0,0,0,0,0,0,0,0,0,0,0,0,0,0,0,0,0,0,0,0,0,0,0,0,0,0,0,0,0,0,0,0,0,0,0,0,0,0,0,0,0,0,0,0,0,0,0,0,0,0,0,0,0,0,0,0,0,0,0,0,0,0,0,0,0,0,0,0,0,0]
[null,null,null,null,3,0,0,0,0,0,0,0,0,0,0,0,0,0,0,0,0,0,0,0,0,0,0,0,0,0,0,0,0,0,0,0,0,0,0,0,0,0,0,0,0,0,0,0,0,0,0,0,0,0,0,0,0,0,0,0,0,0,0,0,0,0,0,0,0,0,0,0,0,0,0,0,0,0,0,0,0,0,0,0,0,0,0,0,0,0,0,0,0,0,0,0,0,0,0,0,0,0,0,0,0,0,0,0,0,0,0,0,0,0,0,0,0,0,0,0,0,0,0,0,0,0,0,0,0,0,0,0,0,0,0,0,0,0,0,0,0,0,0,0,0,0,0,0,0,0,0,0,0,0,0,0,0,0,0,0,0,0,0,0,0,0,0,0,0,0,0,0,0,0,0,0,0,0,0,0,0,0,0,0,0,0,0,0,0,0,0,0,0,0,0,0,0,0,0,0,0,0,0,0,0,0,0,0,0,0,0,0,0,0,0,0,0,0,0,0,0,0,0,0,0,0,0,0,0,0,0,0,0,0,0,0,0,0,0,0,0,0,0,0,0,0,0,0,0,0,0,0,0,0,0,0,0,0,0,0,0,0,0,0,0]
[null,null,null,null,4,5.2083333333333329E-2,5.2083333333333329E-2,5.2083333333333329E-2,5.2083333333333329E-2,5.2083333333333329E-2,5.2083333333333329E-2,5.2083333333333329E-2,5.2083333333333329E-2,5.2083333333333329E-2,5.2083333333333329E-2,5.2083333333333329E-2,5.2083333333333329E-2,5.2083333333333329E-2,5.2083333333333329E-2,5.2083333333333329E-2,5.2083333333333329E-2,5.2083333333333329E-2,5.2083333333333329E-2,5.2083333333333329E-2,5.2083333333333329E-2,5.2083333333333329E-2,5.2083333333333329E-2,5.2083333333333329E-2,5.2083333333333329E-2,5.2083333333333329E-2,5.2083333333333329E-2,5.2083333333333329E-2,5.2083333333333329E-2,5.2083333333333329E-2,5.2083333333333329E-2,5.2083333333333329E-2,5.2083333333333329E-2,5.2083333333333329E-2,5.2083333333333329E-2,5.2083333333333329E-2,5.2083333333333329E-2,5.2083333333333329E-2,5.2083333333333329E-2,5.2083333333333329E-2,5.2083333333333329E-2,5.2083333333333329E-2,5.2083333333333329E-2,5.2083333333333329E-2,5.2083333333333329E-2,5.2083333333333329E-2,5.2083333333333329E-2,5.2083333333333329E-2,5.2083333333333329E-2,5.2083333333333329E-2,5.2083333333333329E-2,5.2083333333333329E-2,5.2083333333333329E-2,5.2083333333333329E-2,5.2083333333333329E-2,5.2083333333333329E-2,5.2083333333333329E-2,0,0,0,0,0,0,0,0,0,0,0,0,0,0,0,0,0,0,0,0,0,0,0,0,0,0,0,0,0,0,0,0,0,0,0,0,0,0,0,0,0,0,0,0,0,0,0,0,0,0,0,0,0,0,0,0,0,0,0,0,0,0,0,0,0,0,0,0,0,0,0,0,0,0,0,0,0,0,0,0,0,0,0,0,0,0,0,0,0,0,0,0,0,0,0,0,0,0,0,0,0,0,0,0,0,0,0,0,0,0,0,0,0,0,0,0,0,0,0,0,0,0,0,0,0,0,0,0,0,0,0,0,0,0,0,0,0,0,0,0,0,0,0,0,0,0,0,0,0,0,0,0,0,0,0,0,0,0,0,0,0,0,0,0,0,0,0,0,0,0,0,0,0,0,0,0,0,0,0,0,0,0,0,0,0,0,0,0,0,0,0,0,0,0,0,0,0,0,0,0,0,0,0,0]
[null,null,null,null,5,0,0,0,0,0,0,0,0,0,0,0,0,0,0,0,0,0,0,0,0,0,0,0,0,0,0,0,0,0,0,0,0,0,0,0,0,0,0,0,0,0,0,0,0,0,0,0,0,0,0,0,0,0,0,0,0,0,0,0,0,0,0,0,0,0,0,0,0,0,0,0,0,0,0,0,0,0,0,0,0,0,0,0,0,0,0,0,0,0,0,0,0,0,0,0,0,0,0,0,0,0,0,0,0,0,0,0,0,0,0,0,0,0,0,0,0,0,0,0,0,0,0,0,0,0,0,0,0,0,0,0,0,0,0,0,0,0,0,0,0,0,0,0,0,0,0,0,0,0,0,0,0,0,0,0,0,0,0,0,0,0,0,0,0,0,0,0,0,0,0,0,0,0,0,0,0,0,0,0,0,0,0,0,0,0,0,0,0,0,0,0,0,0,0,0,0,0,0,0,0,0,0,0,0,0,0,0,0,0,0,0,0,0,0,0,0,0,0,0,0,0,0,0,0,0,0,0,0,0,0,0,0,0,0,0,0,0,0,0,0,0,0,0,0,0,0,0,0,0,0,0,0,0,0,0,0,0,0,0,0]
[null,null,null,null,6,0,0,0,0,0,0,0,0,0,0,0,0,0,0,0,0,0,0,0,0,0,0,0,0,0,0,0,0,0,0,0,0,0,0,0,0,0,0,0,0,0,0,0,0,0,0,0,0,0,0,0,0,0,0,0,0,0,0,0,0,0,0,0,0,0,0,0,0,0,0,0,0,0,0,0,0,0,0,0,0,0,0,0,0,0,0,0,0,0,0,0,0,0,0,0,0,0,0,0,0,0,0,0,0,0,0,0,0,0,0,0,0,0,0,0,0,0,0,0,0,0,0,0,0,0,0,0,0,0,0,0,0,0,0,0,0,0,0,0,0,0,0,0,0,0,0,0,0,0,0,0,0,0,0,0,0,0,0,0,0,0,0,0,0,0,0,0,0,0,0,0,0,0,0,0,0,0,0,0,0,0,0,0,0,0,0,0,0,0,0,0,0,0,0,0,0,0,0,0,0,0,0,0,0,0,0,0,0,0,0,0,0,0,0,0,0,0,0,0,0,0,0,0,0,0,0,0,0,0,0,0,0,0,0,0,0,0,0,0,0,0,0,0,0,0,0,0,0,0,0,0,0,0,0,0,0,0,0,0,0]
[null,null,null,null,7,0,0,0,0,0,0,0,0,0,0,0,0,0,0,0,0,0,0,0,0,0,0,0,0,0,0,0,0,0,0,0,0,0,0,0,0,0,0,0,0,0,0,0,0,0,0,0,0,0,0,0,0,0,0,0,0,0,0,0,0,0,0,0,0,0,0,0,0,0,0,0,0,0,0,0,0,0,0,0,0,0,0,0,0,0,0,0,0,0,0,0,0,0,0,0,0,0,0,0,0,0,0,0,0,0,0,0,0,0,0,0,0,0,0,0,0,0,0,0,0,0,0,0,0,0,0,0,0,0,0,0,0,0,0,0,0,0,0,0,0,0,0,0,0,0,0,0,0,0,0,0,0,0,0,0,0,0,0,0,0,0,0,0,0,0,0,0,0,0,0,0,0,0,0,0,0,0,0,0,0,0,0,0,0,0,0,0,0,0,0,0,0,0,0,0,0,0,0,0,0,0,0,0,0,0,0,0,0,0,0,0,0,0,0,0,0,0,0,0,0,0,0,0,0,0,0,0,0,0,0,0,0,0,0,0,0,0,0,0,0,0,0,0,0,0,0,0,0,0,0,0,0,0,0,0,0,0,0,0,0]
[null,null,null,null,"8a",0,0,0,0,0,0,0,0,0,0,0,0,0,0,0,0,0,0,0,0,0,0,0,0,0,0,0,0,0,0,0,0,0,0,0,0,0,0,0,0,0,0,0,0,0,0,0,0,0,0,0,0,0,0,0,0,0,0,0,0,0,0,0,0,0,0,0,0,0,0,0,0,0,0,0,0,0,0,0,0,0,0,0,0,0,0,0,0,0,0,0,0,0,0,0,0,0,0,0,0,0,0,0,0,0,0,0,0,0,0,0,0,0,0,0,0,0,0,0,0,0,0,0,0,0,0,0,0,0,0,0,0,0,0,0,0,0,0,0,0,0,0,0,0,0,0,0,0,0,0,0,0,0,0,0,0,0,0,0,0,0,0,0,0,0,0,0,0,0,0,0,0,0,0,0,0,0,0,0,0,0,0,0,0,0,0,0,0,0,0,0,0,0,0,0,0,0,0,0,0,0,0,0,0,0,0,0,0,0,0,0,0,0,0,0,0,0,0,0,0,0,0,0,0,0,0,0,0,0,0,0,0,0,0,0,0,0,0,0,0,0,0,0,0,0,0,0,0,0,0,0,0,0,0,0,0,0,0,0,0]
[null,null,null,null,"8b",0,0,0,0,0,0,0,0,0,0,0,0,0,0,0,0,0,0,0,0,0,0,0,0,0,0,0,0,0,0,0,0,0,0,0,0,0,0,0,0,0,0,0,0,0,0,0,0,0,0,0,0,0,0,0,0,0,0,0,0,0,0,0,0,0,0,0,0,0,0,0,0,0,0,0,0,0,0,0,0,0,0,0,0,0,0,0,0,0,0,0,0,0,0,0,0,0,0,0,0,0,0,0,0,0,0,0,0,0,0,0,0,0,0,0,0,0,0,0,0,0,0,0,0,0,0,0,0,0,0,0,0,0,0,0,0,0,0,0,0,0,0,0,0,0,0,0,0,0,0,0,0,0,0,0,0,0,0,0,0,0,0,0,0,0,0,0,0,0,0,0,0,0,0,0,0,0,0,0,0,0,0,0,0,0,0,0,0,0,0,0,0,0,0,0,0,0,0,0,0,0,0,0,0,0,0,0,0,0,0,0,0,0,0,0,0,0,0,0,0,0,0,0,0,0,0,0,0,0,0,0,0,0,0,0,0,0,0,0,0,0,0,0,0,0,0,0,0,0,0,0,0,0,0,0,0,0,0,0,0]
[null,null,null,null,"8c",0,0,0,0,0,0,0,0,0,0,0,0,0,0,0,0,0,0,0,0,0,0,0,0,0,0,0,0,0,0,0,0,0,0,0,0,0,0,0,0,0,0,0,0,0,0,0,0,0,0,0,0,0,0,0,0,0,0,0,0,0,0,0,0,0,0,0,0,0,0,0,0,0,0,0,0,0,0,0,0,0,0,0,0,0,0,0,0,0,0,0,0,0,0,0,0,0,0,0,0,0,0,0,0,0,0,0,0,0,0,0,0,0,0,0,0,0,0,0,0,0,0,0,0,0,0,0,0,0,0,0,0,0,0,0,0,0,0,0,0,0,0,0,0,0,0,0,0,0,0,0,0,0,0,0,0,0,0,0,0,0,0,0,0,0,0,0,0,0,0,0,0,0,0,0,0,0,0,0,0,0,0,0,0,0,0,0,0,0,0,0,0,0,0,0,0,0,0,0,0,0,0,0,0,0,0,0,0,0,0,0,0,0,0,0,0,0,0,0,0,0,0,0,0,0,0,0,0,0,0,0,0,0,0,0,0,0,0,0,0,0,0,0,0,0,0,0,0,0,0,0,0,0,0,0,0,0,0,0,0]
[null,null,null,null,"8d",0,0,0,0,0,0,0,0,0,0,0,0,0,0,0,0,0,0,0,0,0,0,0,0,0,0,0,0,0,0,0,0,0,0,0,0,0,0,0,0,0,0,0,0,0,0,0,0,0,0,0,0,0,0,0,0,0,0,0,0,0,0,0,0,0,0,0,0,0,0,0,0,0,0,0,0,0,0,0,0,0,0,0,0,0,0,0,0,0,0,0,0,0,0,0,0,0,0,0,0,0,0,0,0,0,0,0,0,0,0,0,0,0,0,0,0,0,0,0,0,0,0,0,0,0,0,0,0,0,0,0,0,0,0,0,0,0,0,0,0,0,0,0,0,0,0,0,0,0,0,0,0,0,0,0,0,0,0,0,0,0,0,0,0,0,0,0,0,0,0,0,0,0,0,0,0,0,0,0,0,0,0,0,0,0,0,0,0,0,0,0,0,0,0,0,0,0,0,0,0,0,0,0,0,0,0,0,0,0,0,0,0,0,0,0,0,0,0,0,0,0,0,0,0,0,0,0,0,0,0,0,0,0,0,0,0,0,0,0,0,0,0,0,0,0,0,0,0,0,0,0,0,0,0,0,0,0,0,0,0]
[null,null,null,null,9,0,0,0,0,0,0,0,0,0,0,0,0,0,0,0,0,0,0,0,0,0,0,0,0,0,0,0,0,0,0,0,0,0,0,0,0,0,0,0,0,0,0,0,0,0,0,0,0,0,0,0,0,0,0,0,0,0,0,0,0,0,0,0,0,0,0,0,0,0,0,0,0,0,0,0,0,0,0,0,0,0,0,0,0,0,0,0,0,0,0,0,0,0,0,0,0,0,0,0,0,0,0,0,0,0,0,0,0,0,0,0,0,0,0,0,0,0,0,0,0,0,0,0,0,0,0,0,0,0,0,0,0,0,0,0,0,0,0,0,0,0,0,0,0,0,0,0,0,0,0,0,0,0,0,0,0,0,0,0,0,0,0,0,0,0,0,0,0,0,0,0,0,0,0,0,0,0,0,0,0,0,0,0,0,0,0,0,0,0,0,0,0,0,0,0,0,0,0,0,0,0,0,0,0,0,0,0,0,0,0,0,0,0,0,0,0,0,0,0,0,0,0,0,0,0,0,0,0,0,0,0,0,0,0,0,0,0,0,0,0,0,0,0,0,0,0,0,0,0,0,0,0,0,0,0,0,0,0,0,0]
[]
[null,null,null,null,"Staff - Recruitment"]
[null,null,null,null,1,0,0,0,0,0,0,0,0,0,0,0,0,0,0,0,0,0,0,0,0,0,0,0,0,0,0,0,0,0,0,0,0,0,0,0,0,0,0,0,0,0,0,0,0,0,0,0,0,0,0,0,0,0,0,0,0,0,0,0,0,0,0,0,0,0,0,0,0,0,0,0,0,0,0,0,0,0,0,0,0,0,0,0,0,0,0,0,0,0,0,0,0,0,0,0,0,0,0,0,0,0,0,0,0,0,0,0,0,0,0,0,0,0,0,0,0,0,0,0,0,0,0,0,0,0,0,0,0,0,0,0,0,0,0,0,0,0,0,0,0,0,0,0,0,0,0,0,0,0,0,0,0,0,0,0,0,0,0,0,0,0,0,0,0,0,0,0,0,0,0,0,0,0,0,0,0,0,0,0,0,0,0,0,0,0,0,0,0,0,0,0,0,0,0,0,0,0,0,0,0,0,0,0,0,0,0,0,0,0,0,0,0,0,0,0,0,0,0,0,0,0,0,0,0,0,0,0,0,0,0,0,0,0,0,0,0,0,0,0,0,0,0,0,0,0,0,0,0,0,0,0,0,0,0,0,0,0,0,0,0]
[null,null,null,null,2,0,0,0,0,0,0,0,0,0,0,0,0,0,0,0,0,0,0,0,0,0,0,0,0,0,0,0,0,0,0,0,0,0,0,0,0,0,0,0,0,0,0,0,0,0,0,0,0,0,0,0,0,0,0,0,0,0,0,0,0,0,0,0,0,0,0,0,0,0,0,0,0,0,0,0,0,0,0,0,0,0,0,0,0,0,0,0,0,0,0,0,0,0,0,0,0,0,0,0,0,0,0,0,0,0,0,0,0,0,0,0,0,0,0,0,0,0,0,0,0,0,0,0,0,0,0,0,0,0,0,0,0,0,0,0,0,0,0,0,0,0,0,0,0,0,0,0,0,0,0,0,0,0,0,0,0,0,0,0,0,0,0,0,0,0,0,0,0,0,0,0,0,0,0,0,0,0,0,0,0,0,0,0,0,0,0,0,0,0,0,0,0,0,0,0,0,0,0,0,0,0,0,0,0,0,0,0,0,0,0,0,0,0,0,0,0,0,0,0,0,0,0,0,0,0,0,0,0,0,0,0,0,0,0,0,0,0,0,0,0,0,0,0,0,0,0,0,0,0,0,0,0,0,0,0,0,0,0,0,0]
[null,null,null,null,3,0,0,0,0,0,0,0,0,0,0,0,0,0,0,0,0,0,0,0,0,0,0,0,0,0,0,0,0,0,0,0,0,0,0,0,0,0,0,0,0,0,0,0,0,0,0,0,0,0,0,0,0,0,0,0,0,0,0,0,0,0,0,0,0,0,0,0,0,0,0,0,0,0,0,0,0,0,0,0,0,0,0,0,0,0,0,0,0,0,0,0,0,0,0,0,0,0,0,0,0,0,0,0,0,0,0,0,0,0,0,0,0,0,0,0,0,0,0,0,0,0,0,0,0,0,0,0,0,0,0,0,0,0,0,0,0,0,0,0,0,0,0,0,0,0,0,0,0,0,0,0,0,0,0,0,0,0,0,0,0,0,0,0,0,0,0,0,0,0,0,0,0,0,0,0,0,0,0,0,0,0,0,0,0,0,0,0,0,0,0,0,0,0,0,0,0,0,0,0,0,0,0,0,0,0,0,0,0,0,0,0,0,0,0,0,0,0,0,0,0,0,0,0,0,0,0,0,0,0,0,0,0,0,0,0,0,0,0,0,0,0,0,0,0,0,0,0,0,0,0,0,0,0,0,0,0,0,0,0,0]
[null,null,null,null,4,0,0,0,0,0,0,0,0,0,0,0,0,0,0,0,0,0,0,0,0,0,0,0,0,0,0,0,0,0,0,0,0,0,0,0,0,0,0,0,0,0,0,0,0,0,0,0,0,0,0,0,0,0,0,0,0,0,0,0,0,0,0,0,0,0,0,0,0,0,0,0,0,0,0,0,0,0,0,0,0,0,0,0,0,0,0,0,0,0,0,0,0,0,0,0,0,0,0,0,0,0,0,0,0,0,0,0,0,0,0,0,0,0,0,0,0,0,0,0,0,0,0,0,0,0,0,0,0,0,0,0,0,0,0,0,0,0,0,0,0,0,0,0,0,0,0,0,0,0,0,0,0,0,0,0,0,0,0,0,0,0,0,0,0,0,0,0,0,0,0,0,0,0,0,0,0,0,0,0,0,0,0,0,0,0,0,0,0,0,0,0,0,0,0,0,0,0,0,0,0,0,0,0,0,0,0,0,0,0,0,0,0,0,0,0,0,0,0,0,0,0,0,0,0,0,0,0,0,0,0,0,0,0,0,0,0,0,0,0,0,0,0,0,0,0,0,0,0,0,0,0,0,0,0,0,0,0,0,0,0]
[null,null,null,null,5,0,0,0,0,0,0,0,0,0,0,0,0,0,0,0,0,0,0,0,0,0,0,0,0,0,0,0,0,0,0,0,0,0,0,0,0,0,0,0,0,0,0,0,0,0,0,0,0,0,0,0,0,0,0,0,0,0,0,0,0,0,0,0,0,0,0,0,0,0,0,0,0,0,0,0,0,0,0,0,0,0,0,0,0,0,0,0,0,0,0,0,0,0,0,0,0,0,0,0,0,0,0,0,0,0,0,0,0,0,0,0,0,0,0,0,0,0,0,0,0,0,0,0,0,0,0,0,0,0,0,0,0,0,0,0,0,0,0,0,0,0,0,0,0,0,0,0,0,0,0,0,0,0,0,0,0,0,0,0,0,0,0,0,0,0,0,0,0,0,0,0,0,0,0,0,0,0,0,0,0,0,0,0,0,0,0,0,0,0,0,0,0,0,0,0,0,0,0,0,0,0,0,0,0,0,0,0,0,0,0,0,0,0,0,0,0,0,0,0,0,0,0,0,0,0,0,0,0,0,0,0,0,0,0,0,0,0,0,0,0,0,0,0,0,0,0,0,0,0,0,0,0,0,0,0,0,0,0,0,0]
[null,null,null,null,6,0.41666666666666663,0.41666666666666663,0.41666666666666663,0.41666666666666663,0.41666666666666663,0.41666666666666663,0.41666666666666663,0.41666666666666663,0.41666666666666663,0.41666666666666663,0.41666666666666663,0.41666666666666663,0.41666666666666663,0.41666666666666663,0.41666666666666663,0.41666666666666663,0.41666666666666663,0.41666666666666663,0.41666666666666663,0.41666666666666663,0.41666666666666663,0.41666666666666663,0.41666666666666663,0.41666666666666663,0.41666666666666663,0.41666666666666663,0.41666666666666663,0.41666666666666663,0.41666666666666663,0.41666666666666663,0.41666666666666663,0.41666666666666663,0.41666666666666663,0.41666666666666663,0.41666666666666663,0.41666666666666663,0.41666666666666663,0.41666666666666663,0.41666666666666663,0.41666666666666663,0.41666666666666663,0.41666666666666663,0.41666666666666663,0.41666666666666663,0.41666666666666663,0.41666666666666663,0.41666666666666663,0.41666666666666663,0.41666666666666663,0.41666666666666663,0.41666666666666663,0.41666666666666663,0.41666666666666663,0.41666666666666663,0.41666666666666663,0.41666666666666663,0,0,0,0,0,0,0,0,0,0,0,0,0,0,0,0,0,0,0,0,0,0,0,0,0,0,0,0,0,0,0,0,0,0,0,0,0,0,0,0,0,0,0,0,0,0,0,0,0,0,0,0,0,0,0,0,0,0,0,0,0,0,0,0,0,0,0,0,0,0,0,0,0,0,0,0,0,0,0,0,0,0,0,0,0,0,0,0,0,0,0,0,0,0,0,0,0,0,0,0,0,0,0,0,0,0,0,0,0,0,0,0,0,0,0,0,0,0,0,0,0,0,0,0,0,0,0,0,0,0,0,0,0,0,0,0,0,0,0,0,0,0,0,0,0,0,0,0,0,0,0,0,0,0,0,0,0,0,0,0,0,0,0,0,0,0,0,0,0,0,0,0,0,0,0,0,0,0,0,0,0,0,0,0,0,0,0,0,0,0,0,0,0,0,0,0,0,0,0,0,0,0,0,0]
[null,null,null,null,7,0,0,0,0,0,0,0,0,0,0,0,0,0,0,0,0,0,0,0,0,0,0,0,0,0,0,0,0,0,0,0,0,0,0,0,0,0,0,0,0,0,0,0,0,0,0,0,0,0,0,0,0,0,0,0,0,0,0,0,0,0,0,0,0,0,0,0,0,0,0,0,0,0,0,0,0,0,0,0,0,0,0,0,0,0,0,0,0,0,0,0,0,0,0,0,0,0,0,0,0,0,0,0,0,0,0,0,0,0,0,0,0,0,0,0,0,0,0,0,0,0,0,0,0,0,0,0,0,0,0,0,0,0,0,0,0,0,0,0,0,0,0,0,0,0,0,0,0,0,0,0,0,0,0,0,0,0,0,0,0,0,0,0,0,0,0,0,0,0,0,0,0,0,0,0,0,0,0,0,0,0,0,0,0,0,0,0,0,0,0,0,0,0,0,0,0,0,0,0,0,0,0,0,0,0,0,0,0,0,0,0,0,0,0,0,0,0,0,0,0,0,0,0,0,0,0,0,0,0,0,0,0,0,0,0,0,0,0,0,0,0,0,0,0,0,0,0,0,0,0,0,0,0,0,0,0,0,0,0,0]
[null,null,null,null,"8a",0,0,0,0,0,0,0,0,0,0,0,0,0,0,0,0,0,0,0,0,0,0,0,0,0,0,0,0,0,0,0,0,0,0,0,0,0,0,0,0,0,0,0,0,0,0,0,0,0,0,0,0,0,0,0,0,0,0,0,0,0,0,0,0,0,0,0,0,0,0,0,0,0,0,0,0,0,0,0,0,0,0,0,0,0,0,0,0,0,0,0,0,0,0,0,0,0,0,0,0,0,0,0,0,0,0,0,0,0,0,0,0,0,0,0,0,0,0,0,0,0,0,0,0,0,0,0,0,0,0,0,0,0,0,0,0,0,0,0,0,0,0,0,0,0,0,0,0,0,0,0,0,0,0,0,0,0,0,0,0,0,0,0,0,0,0,0,0,0,0,0,0,0,0,0,0,0,0,0,0,0,0,0,0,0,0,0,0,0,0,0,0,0,0,0,0,0,0,0,0,0,0,0,0,0,0,0,0,0,0,0,0,0,0,0,0,0,0,0,0,0,0,0,0,0,0,0,0,0,0,0,0,0,0,0,0,0,0,0,0,0,0,0,0,0,0,0,0,0,0,0,0,0,0,0,0,0,0,0,0]
[null,null,null,null,"8b",0,0,0,0,0,0,0,0,0,0,0,0,0,0,0,0,0,0,0,0,0,0,0,0,0,0,0,0,0,0,0,0,0,0,0,0,0,0,0,0,0,0,0,0,0,0,0,0,0,0,0,0,0,0,0,0,0,0,0,0,0,0,0,0,0,0,0,0,0,0,0,0,0,0,0,0,0,0,0,0,0,0,0,0,0,0,0,0,0,0,0,0,0,0,0,0,0,0,0,0,0,0,0,0,0,0,0,0,0,0,0,0,0,0,0,0,0,0,0,0,0,0,0,0,0,0,0,0,0,0,0,0,0,0,0,0,0,0,0,0,0,0,0,0,0,0,0,0,0,0,0,0,0,0,0,0,0,0,0,0,0,0,0,0,0,0,0,0,0,0,0,0,0,0,0,0,0,0,0,0,0,0,0,0,0,0,0,0,0,0,0,0,0,0,0,0,0,0,0,0,0,0,0,0,0,0,0,0,0,0,0,0,0,0,0,0,0,0,0,0,0,0,0,0,0,0,0,0,0,0,0,0,0,0,0,0,0,0,0,0,0,0,0,0,0,0,0,0,0,0,0,0,0,0,0,0,0,0,0,0]
[null,null,null,null,"8c",0,0,0,0,0,0,0,0,0,0,0,0,0,0,0,0,0,0,0,0,0,0,0,0,0,0,0,0,0,0,0,0,0,0,0,0,0,0,0,0,0,0,0,0,0,0,0,0,0,0,0,0,0,0,0,0,0,0,0,0,0,0,0,0,0,0,0,0,0,0,0,0,0,0,0,0,0,0,0,0,0,0,0,0,0,0,0,0,0,0,0,0,0,0,0,0,0,0,0,0,0,0,0,0,0,0,0,0,0,0,0,0,0,0,0,0,0,0,0,0,0,0,0,0,0,0,0,0,0,0,0,0,0,0,0,0,0,0,0,0,0,0,0,0,0,0,0,0,0,0,0,0,0,0,0,0,0,0,0,0,0,0,0,0,0,0,0,0,0,0,0,0,0,0,0,0,0,0,0,0,0,0,0,0,0,0,0,0,0,0,0,0,0,0,0,0,0,0,0,0,0,0,0,0,0,0,0,0,0,0,0,0,0,0,0,0,0,0,0,0,0,0,0,0,0,0,0,0,0,0,0,0,0,0,0,0,0,0,0,0,0,0,0,0,0,0,0,0,0,0,0,0,0,0,0,0,0,0,0,0]
[null,null,null,null,"8d",0,0,0,0,0,0,0,0,0,0,0,0,0,0,0,0,0,0,0,0,0,0,0,0,0,0,0,0,0,0,0,0,0,0,0,0,0,0,0,0,0,0,0,0,0,0,0,0,0,0,0,0,0,0,0,0,0,0,0,0,0,0,0,0,0,0,0,0,0,0,0,0,0,0,0,0,0,0,0,0,0,0,0,0,0,0,0,0,0,0,0,0,0,0,0,0,0,0,0,0,0,0,0,0,0,0,0,0,0,0,0,0,0,0,0,0,0,0,0,0,0,0,0,0,0,0,0,0,0,0,0,0,0,0,0,0,0,0,0,0,0,0,0,0,0,0,0,0,0,0,0,0,0,0,0,0,0,0,0,0,0,0,0,0,0,0,0,0,0,0,0,0,0,0,0,0,0,0,0,0,0,0,0,0,0,0,0,0,0,0,0,0,0,0,0,0,0,0,0,0,0,0,0,0,0,0,0,0,0,0,0,0,0,0,0,0,0,0,0,0,0,0,0,0,0,0,0,0,0,0,0,0,0,0,0,0,0,0,0,0,0,0,0,0,0,0,0,0,0,0,0,0,0,0,0,0,0,0,0,0]
[null,null,null,null,9,0,0,0,0,0,0,0,0,0,0,0,0,0,0,0,0,0,0,0,0,0,0,0,0,0,0,0,0,0,0,0,0,0,0,0,0,0,0,0,0,0,0,0,0,0,0,0,0,0,0,0,0,0,0,0,0,0,0,0,0,0,0,0,0,0,0,0,0,0,0,0,0,0,0,0,0,0,0,0,0,0,0,0,0,0,0,0,0,0,0,0,0,0,0,0,0,0,0,0,0,0,0,0,0,0,0,0,0,0,0,0,0,0,0,0,0,0,0,0,0,0,0,0,0,0,0,0,0,0,0,0,0,0,0,0,0,0,0,0,0,0,0,0,0,0,0,0,0,0,0,0,0,0,0,0,0,0,0,0,0,0,0,0,0,0,0,0,0,0,0,0,0,0,0,0,0,0,0,0,0,0,0,0,0,0,0,0,0,0,0,0,0,0,0,0,0,0,0,0,0,0,0,0,0,0,0,0,0,0,0,0,0,0,0,0,0,0,0,0,0,0,0,0,0,0,0,0,0,0,0,0,0,0,0,0,0,0,0,0,0,0,0,0,0,0,0,0,0,0,0,0,0,0,0,0,0,0,0,0,0]
[]
[null,null,null,null,"Staff - Follow Up"]
[null,null,null,null,1,null,0,0,0,0,0,0,0,0,0,0,0,0,0,0,0,0,0,0,0,0,0,0,0,0,0,0,0,0,0,0,0,0,0,0,0,0,0,0,0,0,0,0,0,0,0,0,0,0,0,0,0,0,0,0,0,0,0,0,0,0,0,0,0,0,0,0,0,0,0,0,0,0,0,0,0,0,0,0,0,0,0,0,0,0,0,0,0,0,0,0,0,0,0,0,0,0,0,0,0,0,0,0,0,0,0,0,0,0,0,0,0,0,0,0,0,0,0,0,0,0,0,0,0,0,0,0,0,0,0,0,0,0,0,0,0,0,0,0,0,0,0,0,0,0,0,0,0,0,0,0,0,0,0,0,0,0,0,0,0,0,0,0,0,0,0,0,0,0,0,0,0,0,0,0,0,0,0,0,0,0,0,0,0,0,0,0,0,0,0,0,0,0,0,0,0,0,0,0,0,0,0,0,0,0,0,0,0,0,0,0,0,0,0,0,0,0,0,0,0,0,0,0,0,0,0,0,0,0,0,0,0,0,0,0,0,0,0,0,0,0,0,0,0,0,0,0,0,0,0,0,0,0,0,0,0,0,0,0,0,0]
[null,null,null,null,2,null,0,0,0,0,0,0,0,0,0,0,0,0,0,0,0,0,0,0,0,0,0,0,0,0,0,0,0,0,0,0,0,0,0,0,0,0,0,0,0,0,0,0,0,0,0,0,0,0,0,0,0,0,0,0,0,0,0,0,0,0,0,0,0,0,0,0,0,0,0,0,0,0,0,0,0,0,0,0,0,0,0,0,0,0,0,0,0,0,0,0,0,0,0,0,0,0,0,0,0,0,0,0,0,0,0,0,0,0,0,0,0,0,0,0,0,0,0,0,0,0,0,0,0,0,0,0,0,0,0,0,0,0,0,0,0,0,0,0,0,0,0,0,0,0,0,0,0,0,0,0,0,0,0,0,0,0,0,0,0,0,0,0,0,0,0,0,0,0,0,0,0,0,0,0,0,0,0,0,0,0,0,0,0,0,0,0,0,0,0,0,0,0,0,0,0,0,0,0,0,0,0,0,0,0,0,0,0,0,0,0,0,0,0,0,0,0,0,0,0,0,0,0,0,0,0,0,0,0,0,0,0,0,0,0,0,0,0,0,0,0,0,0,0,0,0,0,0,0,0,0,0,0,0,0,0,0,0,0,0]
[null,null,null,null,3,null,0,0,0,0,0,0,0,0,0,0,0,0,0,0,0,0,0,0,0,0,0,0,0,0,0,0,0,0,0,0,0,0,0,0,0,0,0,0,0,0,0,0,0,0,0,0,0,0,0,0,0,0,0,0,0,0,0,0,0,0,0,0,0,0,0,0,0,0,0,0,0,0,0,0,0,0,0,0,0,0,0,0,0,0,0,0,0,0,0,0,0,0,0,0,0,0,0,0,0,0,0,0,0,0,0,0,0,0,0,0,0,0,0,0,0,0,0,0,0,0,0,0,0,0,0,0,0,0,0,0,0,0,0,0,0,0,0,0,0,0,0,0,0,0,0,0,0,0,0,0,0,0,0,0,0,0,0,0,0,0,0,0,0,0,0,0,0,0,0,0,0,0,0,0,0,0,0,0,0,0,0,0,0,0,0,0,0,0,0,0,0,0,0,0,0,0,0,0,0,0,0,0,0,0,0,0,0,0,0,0,0,0,0,0,0,0,0,0,0,0,0,0,0,0,0,0,0,0,0,0,0,0,0,0,0,0,0,0,0,0,0,0,0,0,0,0,0,0,0,0,0,0,0,0,0,0,0,0,0]
[null,null,null,null,4,null,0,0,0,0,0,0,0,0,0,0,0,0,0,0,0,0,0,0,0,0,0,0,0,0,0,0,0,0,0,0,0,0,0,0,0,0,0,0,0,0,0,0,0,0,0,0,0,0,0,0,0,0,0,0,0,0,0,0,0,0,0,0,0,0,0,0,0,0,0,0,0,0,0,0,0,0,0,0,0,0,0,0,0,0,0,0,0,0,0,0,0,0,0,0,0,0,0,0,0,0,0,0,0,0,0,0,0,0,0,0,0,0,0,0,0,0,0,0,0,0,0,0,0,0,0,0,0,0,0,0,0,0,0,0,0,0,0,0,0,0,0,0,0,0,0,0,0,0,0,0,0,0,0,0,0,0,0,0,0,0,0,0,0,0,0,0,0,0,0,0,0,0,0,0,0,0,0,0,0,0,0,0,0,0,0,0,0,0,0,0,0,0,0,0,0,0,0,0,0,0,0,0,0,0,0,0,0,0,0,0,0,0,0,0,0,0,0,0,0,0,0,0,0,0,0,0,0,0,0,0,0,0,0,0,0,0,0,0,0,0,0,0,0,0,0,0,0,0,0,0,0,0,0,0,0,0,0,0,0]
[null,null,null,null,5,null,0,0,0,0,0,0,0,0,0,0,0,0,0,0,0,0,0,0,0,0,0,0,0,0,0,0,0,0,0,0,0,0,0,0,0,0,0,0,0,0,0,0,0,0,0,0,0,0,0,0,0,0,5.2083333333333329E-2,5.2083333333333329E-2,5.2083333333333329E-2,5.2083333333333329E-2,5.2083333333333329E-2,5.2083333333333329E-2,5.2083333333333329E-2,5.2083333333333329E-2,5.2083333333333329E-2,5.2083333333333329E-2,5.2083333333333329E-2,5.2083333333333329E-2,5.2083333333333329E-2,5.2083333333333329E-2,5.2083333333333329E-2,5.2083333333333329E-2,5.2083333333333329E-2,5.2083333333333329E-2,5.2083333333333329E-2,5.2083333333333329E-2,5.2083333333333329E-2,5.2083333333333329E-2,5.2083333333333329E-2,5.2083333333333329E-2,5.2083333333333329E-2,5.2083333333333329E-2,5.2083333333333329E-2,5.2083333333333329E-2,5.2083333333333329E-2,5.2083333333333329E-2,5.2083333333333329E-2,5.2083333333333329E-2,5.2083333333333329E-2,5.2083333333333329E-2,5.2083333333333329E-2,5.2083333333333329E-2,5.2083333333333329E-2,5.2083333333333329E-2,5.2083333333333329E-2,5.2083333333333329E-2,5.2083333333333329E-2,5.2083333333333329E-2,5.2083333333333329E-2,5.2083333333333329E-2,5.2083333333333329E-2,5.2083333333333329E-2,5.2083333333333329E-2,5.2083333333333329E-2,5.2083333333333329E-2,5.2083333333333329E-2,5.2083333333333329E-2,5.2083333333333329E-2,5.2083333333333329E-2,5.2083333333333329E-2,5.2083333333333329E-2,5.2083333333333329E-2,0,0,0,0,0,0,0,0,0,0,0,0,0,0,0,0,0,0,0,0,0,0,0,0,0,0,0,0,0,0,0,0,0,0,0,0,0,0,0,0,0,0,0,0,0,0,0,0,0,0,0,0,0,0,0,0,0,0,0,0,0,0,0,0,0,0,0,0,0,0,0,0,0,0,0,0,0,0,0,0,0,0,0,0,0,0,0,0,0,0,0,0,0,0,0,0,0,0,0,0,0,0,0,0,0,0,0,0,0,0,0,0,0,0,0,0,0,0,0,0,0,0,0,0,0,0,0,0,0,0,0,0,0,0,0,0,0,0,0,0,0,0,0,0,0,0,0,0,0,0,0]
[null,null,null,null,6,null,5.2083333333333329E-2,5.2083333333333329E-2,5.2083333333333329E-2,5.2083333333333329E-2,5.2083333333333329E-2,5.2083333333333329E-2,5.2083333333333329E-2,5.2083333333333329E-2,5.2083333333333329E-2,5.2083333333333329E-2,5.2083333333333329E-2,5.2083333333333329E-2,5.2083333333333329E-2,5.2083333333333329E-2,5.2083333333333329E-2,5.2083333333333329E-2,5.2083333333333329E-2,5.2083333333333329E-2,5.2083333333333329E-2,5.2083333333333329E-2,5.2083333333333329E-2,5.2083333333333329E-2,5.2083333333333329E-2,5.2083333333333329E-2,5.2083333333333329E-2,5.2083333333333329E-2,5.2083333333333329E-2,5.2083333333333329E-2,5.2083333333333329E-2,5.2083333333333329E-2,5.2083333333333329E-2,5.2083333333333329E-2,5.2083333333333329E-2,5.2083333333333329E-2,5.2083333333333329E-2,5.2083333333333329E-2,5.2083333333333329E-2,5.2083333333333329E-2,5.2083333333333329E-2,5.2083333333333329E-2,5.2083333333333329E-2,5.2083333333333329E-2,5.2083333333333329E-2,5.2083333333333329E-2,5.2083333333333329E-2,5.2083333333333329E-2,5.2083333333333329E-2,5.2083333333333329E-2,5.2083333333333329E-2,5.2083333333333329E-2,5.2083333333333329E-2,5.2083333333333329E-2,5.2083333333333329E-2,5.2083333333333329E-2,5.2083333333333329E-2,5.2083333333333329E-2,0,0,0,0,0,0,0,0,0,0,0,0,0,0,0,0,0,0,0,0,0,0,0,0,0,0,0,0,0,0,0,0,0,0,0,0,0,0,0,0,0,0,0,0,0,0,0,0,0,0,0,0,0,0,0,0,0,0,0,0,0,0,0,0,0,0,0,0,0,0,0,0,0,0,0,0,0,0,0,0,0,0,0,0,0,0,0,0,0,0,0,0,0,0,0,0,0,0,0,0,0,0,0,0,0,0,0,0,0,0,0,0,0,0,0,0,0,0,0,0,0,0,0,0,0,0,0,0,0,0,0,0,0,0,0,0,0,0,0,0,0,0,0,0,0,0,0,0,0,0,0,0,0,0,0,0,0,0,0,0,0,0,0,0,0,0,0,0,0,0,0,0,0,0,0,0,0,0,0,0,0,0,0,0,0,0,0,0,0,0,0,0,0,0,0,0,0,0,0,0,0,0,0]
[null,null,null,null,7,null,0,0,0,0,0,0,0,0,0,0,0,0,0,0,0,0,0,0,0,0,0,0,0,0,0,0,0,0,0,0,0,0,0,0,0,0,0,0,0,0,0,0,0,0,0,0,0,0,0,0,0,0,0,0,0,0,0,0,0,0,0,0,0,0,0,0,0,0,0,0,0,0,0,0,0,0,0,0,0,0,0,0,0,0,0,0,0,0,0,0,0,0,0,0,0,0,0,0,0,0,0,0,0,0,0,0,0,0,0,0,0,0,0,0,0,0,0,0,0,0,0,0,0,0,0,0,0,0,0,0,0,0,0,0,0,0,0,0,0,0,0,0,0,0,0,0,0,0,0,0,0,0,0,0,0,0,0,0,0,0,0,0,0,0,0,0,0,0,0,0,0,0,0,0,0,0,0,0,0,0,0,0,0,0,0,0,0,0,0,0,0,0,0,0,0,0,0,0,0,0,0,0,0,0,0,0,0,0,0,0,0,0,0,0,0,0,0,0,0,0,0,0,0,0,0,0,0,0,0,0,0,0,0,0,0,0,0,0,0,0,0,0,0,0,0,0,0,0,0,0,0,0,0,0,0,0,0,0,0]
[null,null,null,null,"8a",null,0,0,0,0,0,0,0,0,0,0,0,0,0,0,0,0,0,0,0,0,0,0,0,0,0,0,0,0,0,0,0,0,0,0,0,0,0,0,0,0,0,0,0,0,0,0,0,0,0,0,0,0,0,0,0,0,0,0,0,0,0,0,0,0,0,0,0,0,0,0,0,0,0,0,0,0,0,0,0,0,0,0,0,0,0,0,0,0,0,0,0,0,0,0,0,0,0,0,0,0,0,0,0,0,0,0,0,0,0,0,0,0,0,0,0,0,0,0,0,0,0,0,0,0,0,0,0,0,0,0,0,0,0,0,0,0,0,0,0,0,0,0,0,0,0,0,0,0,0,0,0,0,0,0,0,0,0,0,0,0,0,0,0,0,0,0,0,0,0,0,0,0,0,0,0,0,0,0,0,0,0,0,0,0,0,0,0,0,0,0,0,0,0,0,0,0,0,0,0,0,0,0,0,0,0,0,0,0,0,0,0,0,0,0,0,0,0,0,0,0,0,0,0,0,0,0,0,0,0,0,0,0,0,0,0,0,0,0,0,0,0,0,0,0,0,0,0,0,0,0,0,0,0,0,0,0,0,0,0]
[null,null,null,null,"8b",null,0,0,0,0,0,0,0,0,0,0,0,0,0,0,0,0,0,0,0,0,0,0,0,0,0,0,0,0,0,0,0,0,0,0,0,0,0,0,0,0,0,0,0,0,0,0,0,0,0,0,0,0,0,0,0,0,0,0,0,0,0,0,0,0,0,0,0,0,0,0,0,0,0,0,0,0,0,0,0,0,0,0,0,0,0,0,0,0,0,0,0,0,0,0,0,0,0,0,0,0,0,0,0,0,0,0,0,0,0,0,0,0,0,0,0,0,0,0,0,0,0,0,0,0,0,0,0,0,0,0,0,0,0,0,0,0,0,0,0,0,0,0,0,0,0,0,0,0,0,0,0,0,0,0,0,0,0,0,0,0,0,0,0,0,0,0,0,0,0,0,0,0,0,0,0,0,0,0,0,0,0,0,0,0,0,0,0,0,0,0,0,0,0,0,0,0,0,0,0,0,0,0,0,0,0,0,0,0,0,0,0,0,0,0,0,0,0,0,0,0,0,0,0,0,0,0,0,0,0,0,0,0,0,0,0,0,0,0,0,0,0,0,0,0,0,0,0,0,0,0,0,0,0,0,0,0,0,0,0]
[null,null,null,null,"8c",null,0,0,0,0,0,0,0,0,0,0,0,0,0,0,0,0,0,0,0,0,0,0,0,0,0,0,0,0,0,0,0,0,0,0,0,0,0,0,0,0,0,0,0,0,0,0,0,0,0,0,0,0,0,0,0,0,0,0,0,0,0,0,0,0,0,0,0,0,0,0,0,0,0,0,0,0,0,0,0,0,0,0,0,0,0,0,0,0,0,0,0,0,0,0,0,0,0,0,0,0,0,0,0,0,0,0,0,0,0,0,0,0,0,0,0,0,0,0,0,0,0,0,0,0,0,0,0,0,0,0,0,0,0,0,0,0,0,0,0,0,0,0,0,0,0,0,0,0,0,0,0,0,0,0,0,0,0,0,0,0,0,0,0,0,0,0,0,0,0,0,0,0,0,0,0,0,0,0,0,0,0,0,0,0,0,0,0,0,0,0,0,0,0,0,0,0,0,0,0,0,0,0,0,0,0,0,0,0,0,0,0,0,0,0,0,0,0,0,0,0,0,0,0,0,0,0,0,0,0,0,0,0,0,0,0,0,0,0,0,0,0,0,0,0,0,0,0,0,0,0,0,0,0,0,0,0,0,0,0]
[null,null,null,null,"8d",null,0,0,0,0,0,0,0,0,0,0,0,0,0,0,0,0,0,0,0,0,0,0,0,0,0,0,0,0,0,0,0,0,0,0,0,0,0,0,0,0,0,0,0,0,0,0,0,0,0,0,0,0,0,0,0,0,0,0,0,0,0,0,0,0,0,0,0,0,0,0,0,0,0,0,0,0,0,0,0,0,0,0,0,0,0,0,0,0,0,0,0,0,0,0,0,0,0,0,0,0,0,0,0,0,0,0,0,0,0,0,0,0,0,0,0,0,0,0,0,0,0,0,0,0,0,0,0,0,0,0,0,0,0,0,0,0,0,0,0,0,0,0,0,0,0,0,0,0,0,0,0,0,0,0,0,0,0,0,0,0,0,0,0,0,0,0,0,0,0,0,0,0,0,0,0,0,0,0,0,0,0,0,0,0,0,0,0,0,0,0,0,0,0,0,0,0,0,0,0,0,0,0,0,0,0,0,0,0,0,0,0,0,0,0,0,0,0,0,0,0,0,0,0,0,0,0,0,0,0,0,0,0,0,0,0,0,0,0,0,0,0,0,0,0,0,0,0,0,0,0,0,0,0,0,0,0,0,0,0]
[null,null,null,null,9,null,0,0,0,0,0,0,0,0,0,0,0,0,0,0,0,0,0,0,0,0,0,0,0,0,0,0,0,0,0,0,0,0,0,0,0,0,0,0,0,0,0,0,0,0,0,0,0,0,0,0,0,0,0,0,0,0,0,0,0,0,0,0,0,0,0,0,0,0,0,0,0,0,0,0,0,0,0,0,0,0,0,0,0,0,0,0,0,0,0,0,0,0,0,0,0,0,0,0,0,0,0,0,0,0,0,0,0,0,0,0,0,0,0,0,0,0,0,0,0,0,0,0,0,0,0,0,0,0,0,0,0,0,0,0,0,0,0,0,0,0,0,0,0,0,0,0,0,0,0,0,0,0,0,0,0,0,0,0,0,0,0,0,0,0,0,0,0,0,0,0,0,0,0,0,0,0,0,0,0,0,0,0,0,0,0,0,0,0,0,0,0,0,0,0,0,0,0,0,0,0,0,0,0,0,0,0,0,0,0,0,0,0,0,0,0,0,0,0,0,0,0,0,0,0,0,0,0,0,0,0,0,0,0,0,0,0,0,0,0,0,0,0,0,0,0,0,0,0,0,0,0,0,0,0,0,0,0,0,0]

{"sheet":"RecruitTemp","index":6,"n_rows":354,"n_cols":262,"rows_kept":354,"cut":false,"hidden":false,"merged":[[54,0,62,0],[1,1,1,3],[14,0,25,0],[26,0,37,0],[38,0,49,0]]}
[]
[null,"Recruitment"]
[]
[]
[null,"Week No.",1,2,3,4,5,6,7,8,9,10,11,12,13,14,15,16,17,18,19,20,21,22,23,24,25,26,27,28,29,30,31,32,33,34,35,36,37,38,39,40,41,42,43,44,45,46,47,48,49,50,51,52,1,2,3,4,5,6,7,8,9,10,11,12,13,14,15,16,17,18,19,20,21,22,23,24,25,26,27,28,29,30,31,32,33,34,35,36,37,38,39,40,41,42,43,44,45,46,47,48,49,50,51,52,1,2,3,4,5,6,7,8,9,10,11,12,13,14,15,16,17,18,19,20,21,22,23,24,25,26,27,28,29,30,31,32,33,34,35,36,37,38,39,40,41,42,43,44,45,46,47,48,49,50,51,52,1,2,3,4,5,6,7,8,9,10,11,12,13,14,15,16,17,18,19,20,21,22,23,24,25,26,27,28,29,30,31,32,33,34,35,36,37,38,39,40,41,42,43,44,45,46,47,48,49,50,51,52,1,2,3,4,5,6,7,8,9,10,11,12,13,14,15,16,17,18,19,20,21,22,23,24,25,26,27,28,29,30,31,32,33,34,35,36,37,38,39,40,41,42,43,44,45,46,47,48,49,50,51,52]
[null,"W/C","2016-04-04",{"$f":"C6+7","v":"2016-04-11"},{"$f":"D6+7","v":"2016-04-18"},"2016-04-25","2016-05-02","2016-05-09","2016-05-16","2016-05-23","2016-05-30","2016-06-06","2016-06-13","2016-06-20","2016-06-27","2016-07-04","2016-07-11","2016-07-18","2016-07-25","2016-08-01","2016-08-08","2016-08-15","2016-08-22","2016-08-29","2016-09-05","2016-09-12","2016-09-19","2016-09-26","2016-10-03","2016-10-10","2016-10-17","2016-10-24","2016-10-31","2016-11-07","2016-11-14","2016-11-21","2016-11-28","2016-12-05","2016-12-12","2016-12-19","2016-12-26","2017-01-02","2017-01-09","2017-01-16","2017-01-23","2017-01-30","2017-02-06","2017-02-13","2017-02-20","2017-02-27","2017-03-06","2017-03-13","2017-03-20","2017-03-27",{"$f":"BB6+7","v":"2017-04-03"},"2017-04-10","2017-04-17","2017-04-24","2017-05-01","2017-05-08","2017-05-15","2017-05-22","2017-05-29","2017-06-05","2017-06-12","2017-06-19","2017-06-26","2017-07-03","2017-07-10","2017-07-17","2017-07-24","2017-07-31","2017-08-07","2017-08-14","2017-08-21","2017-08-28","2017-09-04","2017-09-11","2017-09-18","2017-09-25","2017-10-02","2017-10-09","2017-10-16","2017-10-23","2017-10-30","2017-11-06","2017-11-13","2017-11-20","2017-11-27","2017-12-04","2017-12-11","2017-12-18","2017-12-25","2018-01-01","2018-01-08","2018-01-15","2018-01-22","2018-01-29","2018-02-05","2018-02-12","2018-02-19","2018-02-26","2018-03-05","2018-03-12","2018-03-19","2018-03-26","2018-04-02","2018-04-09","2018-04-16","2018-04-23","2018-04-30","2018-05-07","2018-05-14","2018-05-21","2018-05-28","2018-06-04","2018-06-11","2018-06-18",{"$f":"DN6+7","v":"2018-06-25"},"2018-07-02","2018-07-09","2018-07-16","2018-07-23","2018-07-30","2018-08-06","2018-08-13","2018-08-20","2018-08-27","2018-09-03","2018-09-10","2018-09-17","2018-09-24","2018-10-01","2018-10-08","2018-10-15","2018-10-22","2018-10-29","2018-11-05","2018-11-12","2018-11-19","2018-11-26","2018-12-03","2018-12-10","2018-12-17","2018-12-24","2018-12-31","2019-01-07","2019-01-14","2019-01-21","2019-01-28","2019-02-04","2019-02-11","2019-02-18","2019-02-25","2019-03-04","2019-03-11","2019-03-18","2019-03-25","2019-04-01","2019-04-08","2019-04-15","2019-04-22","2019-04-29","2019-05-06","2019-05-13","2019-05-20","2019-05-27","2019-06-03","2019-06-10","2019-06-17","2019-06-24","2019-07-01","2019-07-08","2019-07-15","2019-07-22","2019-07-29","2019-08-05","2019-08-12","2019-08-19","2019-08-26","2019-09-02","2019-09-09",{"$f":"FZ6+7","v":"2019-09-16"},"2019-09-23","2019-09-30","2019-10-07","2019-10-14","2019-10-21","2019-10-28","2019-11-04","2019-11-11","2019-11-18","2019-11-25","2019-12-02","2019-12-09","2019-12-16","2019-12-23","2019-12-30","2020-01-06","2020-01-13","2020-01-20","2020-01-27","2020-02-03","2020-02-10","2020-02-17","2020-02-24","2020-03-02","2020-03-09","2020-03-16","2020-03-23","2020-03-30","2020-04-06","2020-04-13","2020-04-20","2020-04-27","2020-05-04","2020-05-11","2020-05-18","2020-05-25","2020-06-01","2020-06-08","2020-06-15","2020-06-22","2020-06-29","2020-07-06","2020-07-13","2020-07-20","2020-07-27","2020-08-03","2020-08-10","2020-08-17","2020-08-24","2020-08-31","2020-09-07","2020-09-14","2020-09-21","2020-09-28","2020-10-05","2020-10-12","2020-10-19","2020-10-26","2020-11-02","2020-11-09","2020-11-16","2020-11-23","2020-11-30",{"$f":"IL6+7","v":"2020-12-07"},"2020-12-14","2020-12-21","2020-12-28","2021-01-04","2021-01-11","2021-01-18","2021-01-25","2021-02-01","2021-02-08","2021-02-15","2021-02-22","2021-03-01","2021-03-08","2021-03-15","2021-03-22"]
[null,"Number to Screen"]
[null,"Number to Recruit"]
[null,"Cumulative Screening",{"$f":"IF(C7<>\"\",C7,0)","v":0},{"$f":"IF(D7<>\"\",D7+C9,C9)","v":0},0,0,0,0,0,0,0,0,0,0,0,0,0,0,0,0,0,0,0,0,0,0,0,0,0,0,0,0,0,0,0,0,0,0,0,0,0,0,0,0,0,0,0,0,0,0,0,0,0,0,0,0,0,0,0,0,0,0,0,0,0,0,0,{"$f":"IF(BP7<>\"\",BP7+BO9,BO9)","v":0},0,0,0,0,0,0,0,0,0,0,0,0,0,0,0,0,0,0,0,0,0,0,0,0,0,0,0,0,0,0,0,0,0,0,0,0,0,0,0,0,0,0,0,0,0,0,0,0,0,0,0,0,0,0,0,0,0,0,0,0,0,0,0,{"$f":"IF(EB7<>\"\",EB7+EA9,EA9)","v":0},0,0,0,0,0,0,0,0,0,0,0,0,0,0,0,0,0,0,0,0,0,0,0,0,0,0,0,0,0,0,0,0,0,0,0,0,0,0,0,0,0,0,0,0,0,0,0,0,0,0,0,0,0,0,0,0,0,0,0,0,0,0,0,{"$f":"IF(GN7<>\"\",GN7+GM9,GM9)","v":0},0,0,0,0,0,0,0,0,0,0,0,0,0,0,0,0,0,0,0,0,0,0,0,0,0,0,0,0,0,0,0,0,0,0,0,0,0,0,0,0,0,0,0,0,0,0,0,0,0,0,0,0,0,0,0,0,0,0,0,0,0,0,0,{"$f":"IF(IZ7<>\"\",IZ7+IY9,IY9)","v":0},0,0]
[null,"Cumulative Rec",{"$f":"IF(C8<>\"\",C8,0)","v":0},0,0,0,0,0,0,0,0,0,0,0,0,0,0,0,0,0,0,0,0,0,0,0,0,0,0,0,0,0,0,0,0,0,0,0,0,0,0,0,0,0,0,0,0,0,0,0,0,0,0,0,0,0,0,0,0,0,0,0,0,0,0,0,0,0,0,0,0,0,0,0,0,0,0,0,0,0,0,0,0,0,0,0,0,0,0,0,0,0,0,0,0,0,0,0,0,0,0,0,0,0,0,0,0,0,0,0,0,0,0,0,0,0,0,0,0,0,0,0,0,0,0,0,0,0,0,0,0,0,0,0,0,0,0,0,0,0,0,0,0,0,0,0,0,0,0,0,0,0,0,0,0,0,0,0,0,0,0,0,0,0,0,0,0,0,0,0,0,0,0,0,0,0,0,0,0,0,0,0,0,0,0,0,0,0,0,0,0,0,0,0,0,0,0,0,0,0,0,0,0,0,0,0,0,0,0,0,0,0,0,0,0,0,0,0,0,0,0,0,0,0,0,0,0,0,0,0,0,0,0,0,0,0,0,0,0,0,0,0,0,0,0,0,0,0,0,0,0,0,0,0,0,0,0,0,0,0,0,0]
[null,"TOTAL Screening Duration",{"$f":"C7*$C$54","v":0},{"$f":"D7*$C$54","v":0},0,0,0,0,0,0,0,0,0,0,0,0,0,0,0,0,0,0,0,0,0,0,0,0,0,0,0,0,0,0,0,0,0,0,0,0,0,0,0,0,0,0,0,0,0,0,0,0,0,0,0,0,0,0,0,0,0,0,0,0,0,0,0,{"$f":"BP7*$C$54","v":0},0,0,0,0,0,0,0,0,0,0,0,0,0,0,0,0,0,0,0,0,0,0,0,0,0,0,0,0,0,0,0,0,0,0,0,0,0,0,0,0,0,0,0,0,0,0,0,0,0,0,0,0,0,0,0,0,0,0,0,0,0,0,0,{"$f":"EB7*$C$54","v":0},0,0,0,0,0,0,0,0,0,0,0,0,0,0,0,0,0,0,0,0,0,0,0,0,0,0,0,0,0,0,0,0,0,0,0,0,0,0,0,0,0,0,0,0,0,0,0,0,0,0,0,0,0,0,0,0,0,0,0,0,0,0,0,{"$f":"GN7*$C$54","v":0},0,0,0,0,0,0,0,0,0,0,0,0,0,0,0,0,0,0,0,0,0,0,0,0,0,0,0,0,0,0,0,0,0,0,0,0,0,0,0,0,0,0,0,0,0,0,0,0,0,0,0,0,0,0,0,0,0,0,0,0,0,0,0,{"$f":"IZ7*$C$54","v":0},{"$f":"JA7*$C$54","v":0},{"$f":"JB7*$C$54","v":0}]
[null,"TOTAL Rec Duration"]
[null,"TOTAL F/U Duration"]
[null,"TOTAL Time Burden",{"$f":"SUM(C11:C13)","v":0},{"$f":"SUM(D11:D13)","v":0},0,0,0,0,0,0,0,0,0,0,0,0,0,0,0,0,0,0,0,0,0,0,0,0,0,0,0,0,0,0,0,0,0,0,0,0,0,0,0,0,0,0,0,0,0,0,0,0,0,0,0,0,0,0,0,0,0,0,0,0,0,0,0,{"$f":"SUM(BP11:BP13)","v":0},0,0,0,0,0,0,0,0,0,0,0,0,0,0,0,0,0,0,0,0,0,0,0,0,0,0,0,0,0,0,0,0,0,0,0,0,0,0,0,0,0,0,0,0,0,0,0,0,0,0,0,0,0,0,0,0,0,0,0,0,0,0,0,{"$f":"SUM(EB11:EB13)","v":0},0,0,0,0,0,0,0,0,0,0,0,0,0,0,0,0,0,0,0,0,0,0,0,0,0,0,0,0,0,0,0,0,0,0,0,0,0,0,0,0,0,0,0,0,0,0,0,0,0,0,0,0,0,0,0,0,0,0,0,0,0,0,0,{"$f":"SUM(GN11:GN13)","v":0},0,0,0,0,0,0,0,0,0,0,0,0,0,0,0,0,0,0,0,0,0,0,0,0,0,0,0,0,0,0,0,0,0,0,0,0,0,0,0,0,0,0,0,0,0,0,0,0,0,0,0,0,0,0,0,0,0,0,0,0,0,0,0,{"$f":"SUM(IZ11:IZ13)","v":0},{"$f":"SUM(JA11:JA13)","v":0},{"$f":"SUM(JB11:JB13)","v":0}]
["Screening - Staff Grade Split",1,{"$f":"C7*$E$54","v":0},{"$f":"D7*$E$54","v":0},0,0,0,0,0,0,0,0,0,0,0,0,0,0,0,0,0,0,0,0,0,0,0,0,0,0,0,0,0,0,0,0,0,0,0,0,0,0,0,0,0,0,0,0,0,0,0,0,0,0,0,0,0,0,0,0,0,0,0,0,0,0,0,{"$f":"BP7*$E$54","v":0},0,0,0,0,0,0,0,0,0,0,0,0,0,0,0,0,0,0,0,0,0,0,0,0,0,0,0,0,0,0,0,0,0,0,0,0,0,0,0,0,0,0,0,0,0,0,0,0,0,0,0,0,0,0,0,0,0,0,0,0,0,0,0,{"$f":"EB7*$E$54","v":0},0,0,0,0,0,0,0,0,0,0,0,0,0,0,0,0,0,0,0,0,0,0,0,0,0,0,0,0,0,0,0,0,0,0,0,0,0,0,0,0,0,0,0,0,0,0,0,0,0,0,0,0,0,0,0,0,0,0,0,0,0,0,0,{"$f":"GN7*$E$54","v":0},0,0,0,0,0,0,0,0,0,0,0,0,0,0,0,0,0,0,0,0,0,0,0,0,0,0,0,0,0,0,0,0,0,0,0,0,0,0,0,0,0,0,0,0,0,0,0,0,0,0,0,0,0,0,0,0,0,0,0,0,0,0,0,{"$f":"IZ7*$E$54","v":0},{"$f":"JA7*$E$54","v":0},{"$f":"JB7*$E$54","v":0}]
[null,2,{"$f":"C7*$F$54","v":0},{"$f":"D7*$F$54","v":0},0,0,0,0,0,0,0,0,0,0,0,0,0,0,0,0,0,0,0,0,0,0,0,0,0,0,0,0,0,0,0,0,0,0,0,0,0,0,0,0,0,0,0,0,0,0,0,0,0,0,0,0,0,0,0,0,0,0,0,0,0,0,0,{"$f":"BP7*$F$54","v":0},0,0,0,0,0,0,0,0,0,0,0,0,0,0,0,0,0,0,0,0,0,0,0,0,0,0,0,0,0,0,0,0,0,0,0,0,0,0,0,0,0,0,0,0,0,0,0,0,0,0,0,0,0,0,0,0,0,0,0,0,0,0,0,{"$f":"EB7*$F$54","v":0},0,0,0,0,0,0,0,0,0,0,0,0,0,0,0,0,0,0,0,0,0,0,0,0,0,0,0,0,0,0,0,0,0,0,0,0,0,0,0,0,0,0,0,0,0,0,0,0,0,0,0,0,0,0,0,0,0,0,0,0,0,0,0,{"$f":"GN7*$F$54","v":0},0,0,0,0,0,0,0,0,0,0,0,0,0,0,0,0,0,0,0,0,0,0,0,0,0,0,0,0,0,0,0,0,0,0,0,0,0,0,0,0,0,0,0,0,0,0,0,0,0,0,0,0,0,0,0,0,0,0,0,0,0,0,0,{"$f":"IZ7*$F$54","v":0},{"$f":"JA7*$F$54","v":0},{"$f":"JB7*$F$54","v":0}]
[null,3,{"$f":"C$7*$G$54","v":0},{"$f":"D$7*$G$54","v":0},0,0,0,0,0,0,0,0,0,0,0,0,0,0,0,0,0,0,0,0,0,0,0,0,0,0,0,0,0,0,0,0,0,0,0,0,0,0,0,0,0,0,0,0,0,0,0,0,0,0,0,0,0,0,0,0,0,0,0,0,0,0,0,{"$f":"BP$7*$G$54","v":0},0,0,0,0,0,0,0,0,0,0,0,0,0,0,0,0,0,0,0,0,0,0,0,0,0,0,0,0,0,0,0,0,0,0,0,0,0,0,0,0,0,0,0,0,0,0,0,0,0,0,0,0,0,0,0,0,0,0,0,0,0,0,0,{"$f":"EB$7*$G$54","v":0},0,0,0,0,0,0,0,0,0,0,0,0,0,0,0,0,0,0,0,0,0,0,0,0,0,0,0,0,0,0,0,0,0,0,0,0,0,0,0,0,0,0,0,0,0,0,0,0,0,0,0,0,0,0,0,0,0,0,0,0,0,0,0,{"$f":"GN$7*$G$54","v":0},0,0,0,0,0,0,0,0,0,0,0,0,0,0,0,0,0,0,0,0,0,0,0,0,0,0,0,0,0,0,0,0,0,0,0,0,0,0,0,0,0,0,0,0,0,0,0,0,0,0,0,0,0,0,0,0,0,0,0,0,0,0,0,{"$f":"IZ$7*$G$54","v":0},{"$f":"JA$7*$G$54","v":0},{"$f":"JB$7*$G$54","v":0}]
[null,4,{"$f":"C$7*$H$54","v":0},{"$f":"D$7*$H$54","v":0},0,0,0,0,0,0,0,0,0,0,0,0,0,0,0,0,0,0,0,0,0,0,0,0,0,0,0,0,0,0,0,0,0,0,0,0,0,0,0,0,0,0,0,0,0,0,0,0,0,0,0,0,0,0,0,0,0,0,0,0,0,0,0,{"$f":"BP$7*$H$54","v":0},0,0,0,0,0,0,0,0,0,0,0,0,0,0,0,0,0,0,0,0,0,0,0,0,0,0,0,0,0,0,0,0,0,0,0,0,0,0,0,0,0,0,0,0,0,0,0,0,0,0,0,0,0,0,0,0,0,0,0,0,0,0,0,{"$f":"EB$7*$H$54","v":0},0,0,0,0,0,0,0,0,0,0,0,0,0,0,0,0,0,0,0,0,0,0,0,0,0,0,0,0,0,0,0,0,0,0,0,0,0,0,0,0,0,0,0,0,0,0,0,0,0,0,0,0,0,0,0,0,0,0,0,0,0,0,0,{"$f":"GN$7*$H$54","v":0},0,0,0,0,0,0,0,0,0,0,0,0,0,0,0,0,0,0,0,0,0,0,0,0,0,0,0,0,0,0,0,0,0,0,0,0,0,0,0,0,0,0,0,0,0,0,0,0,0,0,0,0,0,0,0,0,0,0,0,0,0,0,0,{"$f":"IZ$7*$H$54","v":0},{"$f":"JA$7*$H$54","v":0},{"$f":"JB$7*$H$54","v":0}]
[null,5,{"$f":"C$7*$I$54","v":0},{"$f":"D$7*$I$54","v":0},0,0,0,0,0,0,0,0,0,0,0,0,0,0,0,0,0,0,0,0,0,0,0,0,0,0,0,0,0,0,0,0,0,0,0,0,0,0,0,0,0,0,0,0,0,0,0,0,0,0,0,0,0,0,0,0,0,0,0,0,0,0,0,{"$f":"BP$7*$I$54","v":0},0,0,0,0,0,0,0,0,0,0,0,0,0,0,0,0,0,0,0,0,0,0,0,0,0,0,0,0,0,0,0,0,0,0,0,0,0,0,0,0,0,0,0,0,0,0,0,0,0,0,0,0,0,0,0,0,0,0,0,0,0,0,0,{"$f":"EB$7*$I$54","v":0},0,0,0,0,0,0,0,0,0,0,0,0,0,0,0,0,0,0,0,0,0,0,0,0,0,0,0,0,0,0,0,0,0,0,0,0,0,0,0,0,0,0,0,0,0,0,0,0,0,0,0,0,0,0,0,0,0,0,0,0,0,0,0,{"$f":"GN$7*$I$54","v":0},0,0,0,0,0,0,0,0,0,0,0,0,0,0,0,0,0,0,0,0,0,0,0,0,0,0,0,0,0,0,0,0,0,0,0,0,0,0,0,0,0,0,0,0,0,0,0,0,0,0,0,0,0,0,0,0,0,0,0,0,0,0,0,{"$f":"IZ$7*$I$54","v":0},{"$f":"JA$7*$I$54","v":0},{"$f":"JB$7*$I$54","v":0}]
[null,6,{"$f":"C$7*$J$54","v":0},{"$f":"D$7*$J$54","v":0},0,0,0,0,0,0,0,0,0,0,0,0,0,0,0,0,0,0,0,0,0,0,0,0,0,0,0,0,0,0,0,0,0,0,0,0,0,0,0,0,0,0,0,0,0,0,0,0,0,0,0,0,0,0,0,0,0,0,0,0,0,0,0,{"$f":"BP$7*$J$54","v":0},0,0,0,0,0,0,0,0,0,0,0,0,0,0,0,0,0,0,0,0,0,0,0,0,0,0,0,0,0,0,0,0,0,0,0,0,0,0,0,0,0,0,0,0,0,0,0,0,0,0,0,0,0,0,0,0,0,0,0,0,0,0,0,{"$f":"EB$7*$J$54","v":0},0,0,0,0,0,0,0,0,0,0,0,0,0,0,0,0,0,0,0,0,0,0,0,0,0,0,0,0,0,0,0,0,0,0,0,0,0,0,0,0,0,0,0,0,0,0,0,0,0,0,0,0,0,0,0,0,0,0,0,0,0,0,0,{"$f":"GN$7*$J$54","v":0},0,0,0,0,0,0,0,0,0,0,0,0,0,0,0,0,0,0,0,0,0,0,0,0,0,0,0,0,0,0,0,0,0,0,0,0,0,0,0,0,0,0,0,0,0,0,0,0,0,0,0,0,0,0,0,0,0,0,0,0,0,0,0,{"$f":"IZ$7*$J$54","v":0},{"$f":"JA$7*$J$54","v":0},{"$f":"JB$7*$J$54","v":0}]
[null,7,{"$f":"C$7*$K$54","v":0},{"$f":"D$7*$K$54","v":0},0,0,0,0,0,0,0,0,0,0,0,0,0,0,0,0,0,0,0,0,0,0,0,0,0,0,0,0,0,0,0,0,0,0,0,0,0,0,0,0,0,0,0,0,0,0,0,0,0,0,0,0,0,0,0,0,0,0,0,0,0,0,0,{"$f":"BP$7*$K$54","v":0},0,0,0,0,0,0,0,0,0,0,0,0,0,0,0,0,0,0,0,0,0,0,0,0,0,0,0,0,0,0,0,0,0,0,0,0,0,0,0,0,0,0,0,0,0,0,0,0,0,0,0,0,0,0,0,0,0,0,0,0,0,0,0,{"$f":"EB$7*$K$54","v":0},0,0,0,0,0,0,0,0,0,0,0,0,0,0,0,0,0,0,0,0,0,0,0,0,0,0,0,0,0,0,0,0,0,0,0,0,0,0,0,0,0,0,0,0,0,0,0,0,0,0,0,0,0,0,0,0,0,0,0,0,0,0,0,{"$f":"GN$7*$K$54","v":0},0,0,0,0,0,0,0,0,0,0,0,0,0,0,0,0,0,0,0,0,0,0,0,0,0,0,0,0,0,0,0,0,0,0,0,0,0,0,0,0,0,0,0,0,0,0,0,0,0,0,0,0,0,0,0,0,0,0,0,0,0,0,0,{"$f":"IZ$7*$K$54","v":0},{"$f":"JA$7*$K$54","v":0},{"$f":"JB$7*$K$54","v":0}]
[null,"8a",{"$f":"C$7*$L$54","v":0},{"$f":"D$7*$L$54","v":0},0,0,0,0,0,0,0,0,0,0,0,0,0,0,0,0,0,0,0,0,0,0,0,0,0,0,0,0,0,0,0,0,0,0,0,0,0,0,0,0,0,0,0,0,0,0,0,0,0,0,0,0,0,0,0,0,0,0,0,0,0,0,0,{"$f":"BP$7*$L$54","v":0},0,0,0,0,0,0,0,0,0,0,0,0,0,0,0,0,0,0,0,0,0,0,0,0,0,0,0,0,0,0,0,0,0,0,0,0,0,0,0,0,0,0,0,0,0,0,0,0,0,0,0,0,0,0,0,0,0,0,0,0,0,0,0,{"$f":"EB$7*$L$54","v":0},0,0,0,0,0,0,0,0,0,0,0,0,0,0,0,0,0,0,0,0,0,0,0,0,0,0,0,0,0,0,0,0,0,0,0,0,0,0,0,0,0,0,0,0,0,0,0,0,0,0,0,0,0,0,0,0,0,0,0,0,0,0,0,{"$f":"GN$7*$L$54","v":0},0,0,0,0,0,0,0,0,0,0,0,0,0,0,0,0,0,0,0,0,0,0,0,0,0,0,0,0,0,0,0,0,0,0,0,0,0,0,0,0,0,0,0,0,0,0,0,0,0,0,0,0,0,0,0,0,0,0,0,0,0,0,0,{"$f":"IZ$7*$L$54","v":0},{"$f":"JA$7*$L$54","v":0},{"$f":"JB$7*$L$54","v":0}]
[null,"8b",{"$f":"C$7*$M$54","v":0},{"$f":"D$7*$M$54","v":0},0,0,0,0,0,0,0,0,0,0,0,0,0,0,0,0,0,0,0,0,0,0,0,0,0,0,0,0,0,0,0,0,0,0,0,0,0,0,0,0,0,0,0,0,0,0,0,0,0,0,0,0,0,0,0,0,0,0,0,0,0,0,0,{"$f":"BP$7*$M$54","v":0},0,0,0,0,0,0,0,0,0,0,0,0,0,0,0,0,0,0,0,0,0,0,0,0,0,0,0,0,0,0,0,0,0,0,0,0,0,0,0,0,0,0,0,0,0,0,0,0,0,0,0,0,0,0,0,0,0,0,0,0,0,0,0,{"$f":"EB$7*$M$54","v":0},0,0,0,0,0,0,0,0,0,0,0,0,0,0,0,0,0,0,0,0,0,0,0,0,0,0,0,0,0,0,0,0,0,0,0,0,0,0,0,0,0,0,0,0,0,0,0,0,0,0,0,0,0,0,0,0,0,0,0,0,0,0,0,{"$f":"GN$7*$M$54","v":0},0,0,0,0,0,0,0,0,0,0,0,0,0,0,0,0,0,0,0,0,0,0,0,0,0,0,0,0,0,0,0,0,0,0,0,0,0,0,0,0,0,0,0,0,0,0,0,0,0,0,0,0,0,0,0,0,0,0,0,0,0,0,0,{"$f":"IZ$7*$M$54","v":0},{"$f":"JA$7*$M$54","v":0},{"$f":"JB$7*$M$54","v":0}]
[null,"8c",{"$f":"C$7*$N$54","v":0},{"$f":"D$7*$N$54","v":0},0,0,0,0,0,0,0,0,0,0,0,0,0,0,0,0,0,0,0,0,0,0,0,0,0,0,0,0,0,0,0,0,0,0,0,0,0,0,0,0,0,0,0,0,0,0,0,0,0,0,0,0,0,0,0,0,0,0,0,0,0,0,0,{"$f":"BP$7*$N$54","v":0},0,0,0,0,0,0,0,0,0,0,0,0,0,0,0,0,0,0,0,0,0,0,0,0,0,0,0,0,0,0,0,0,0,0,0,0,0,0,0,0,0,0,0,0,0,0,0,0,0,0,0,0,0,0,0,0,0,0,0,0,0,0,0,{"$f":"EB$7*$N$54","v":0},0,0,0,0,0,0,0,0,0,0,0,0,0,0,0,0,0,0,0,0,0,0,0,0,0,0,0,0,0,0,0,0,0,0,0,0,0,0,0,0,0,0,0,0,0,0,0,0,0,0,0,0,0,0,0,0,0,0,0,0,0,0,0,{"$f":"GN$7*$N$54","v":0},0,0,0,0,0,0,0,0,0,0,0,0,0,0,0,0,0,0,0,0,0,0,0,0,0,0,0,0,0,0,0,0,0,0,0,0,0,0,0,0,0,0,0,0,0,0,0,0,0,0,0,0,0,0,0,0,0,0,0,0,0,0,0,{"$f":"IZ$7*$N$54","v":0},{"$f":"JA$7*$N$54","v":0},{"$f":"JB$7*$N$54","v":0}]
[null,"8d",{"$f":"C$7*$O$54","v":0},{"$f":"D$7*$O$54","v":0},0,0,0,0,0,0,0,0,0,0,0,0,0,0,0,0,0,0,0,0,0,0,0,0,0,0,0,0,0,0,0,0,0,0,0,0,0,0,0,0,0,0,0,0,0,0,0,0,0,0,0,0,0,0,0,0,0,0,0,0,0,0,0,{"$f":"BP$7*$O$54","v":0},0,0,0,0,0,0,0,0,0,0,0,0,0,0,0,0,0,0,0,0,0,0,0,0,0,0,0,0,0,0,0,0,0,0,0,0,0,0,0,0,0,0,0,0,0,0,0,0,0,0,0,0,0,0,0,0,0,0,0,0,0,0,0,{"$f":"EB$7*$O$54","v":0},0,0,0,0,0,0,0,0,0,0,0,0,0,0,0,0,0,0,0,0,0,0,0,0,0,0,0,0,0,0,0,0,0,0,0,0,0,0,0,0,0,0,0,0,0,0,0,0,0,0,0,0,0,0,0,0,0,0,0,0,0,0,0,{"$f":"GN$7*$O$54","v":0},0,0,0,0,0,0,0,0,0,0,0,0,0,0,0,0,0,0,0,0,0,0,0,0,0,0,0,0,0,0,0,0,0,0,0,0,0,0,0,0,0,0,0,0,0,0,0,0,0,0,0,0,0,0,0,0,0,0,0,0,0,0,0,{"$f":"IZ$7*$O$54","v":0},{"$f":"JA$7*$O$54","v":0},{"$f":"JB$7*$O$54","v":0}]
[null,9,{"$f":"C$7*$P$54","v":0},{"$f":"D$7*$P$54","v":0},0,0,0,0,0,0,0,0,0,0,0,0,0,0,0,0,0,0,0,0,0,0,0,0,0,0,0,0,0,0,0,0,0,0,0,0,0,0,0,0,0,0,0,0,0,0,0,0,0,0,0,0,0,0,0,0,0,0,0,0,0,0,0,{"$f":"BP$7*$P$54","v":0},0,0,0,0,0,0,0,0,0,0,0,0,0,0,0,0,0,0,0,0,0,0,0,0,0,0,0,0,0,0,0,0,0,0,0,0,0,0,0,0,0,0,0,0,0,0,0,0,0,0,0,0,0,0,0,0,0,0,0,0,0,0,0,{"$f":"EB$7*$P$54","v":0},0,0,0,0,0,0,0,0,0,0,0,0,0,0,0,0,0,0,0,0,0,0,0,0,0,0,0,0,0,0,0,0,0,0,0,0,0,0,0,0,0,0,0,0,0,0,0,0,0,0,0,0,0,0,0,0,0,0,0,0,0,0,0,{"$f":"GN$7*$P$54","v":0},0,0,0,0,0,0,0,0,0,0,0,0,0,0,0,0,0,0,0,0,0,0,0,0,0,0,0,0,0,0,0,0,0,0,0,0,0,0,0,0,0,0,0,0,0,0,0,0,0,0,0,0,0,0,0,0,0,0,0,0,0,0,0,{"$f":"IZ$7*$P$54","v":0},{"$f":"JA$7*$P$54","v":0},{"$f":"JB$7*$P$54","v":0}]
["Recruitment - Staff Grade Split",1]
[null,2]
[null,3]
[null,4]
[null,5]
[null,6]
[null,7]
[null,"8a"]
[null,"8b"]
[null,"8c"]
[null,"8d"]
[null,9]
["Follow Up - Staff Grade Split",1]
[null,2]
[null,3]
[null,4]
[null,5]
[null,6]
[null,7]
[null,"8a"]
[null,"8b"]
[null,"8c"]
[null,"8d"]
[null,9]
[]
[null,null,null,null,"Staff grades"]
[null,null,null,null,1,2,3,4,5,6,7,"8a","8b","8c","8d",9]
[null,"Screening",null,"Screen"]
["week by week\n (sum of visits)",1,null,"Rec"]
[null,2,null,"Rec"]
[null,3,null,"FU"]
[null,4,null,"FU"]
[null,5]
[null,6]
[null,7]
[null,8]
[null,9]
[null,10]
[null,11]
[null,12]
[null,13]
[null,14]
[null,15]
[null,16]
[null,17]
[null,18]
[null,19]
[null,20]
[null,21]
[null,22]
[null,23]
[null,24]
[null,25]
[null,26]
[null,27]
[null,28]
[null,29]
[null,30]
[null,31]
[null,32]
[null,33]
[null,34]
[null,35]
[null,36]
[null,37]
[null,38]
[null,39]
[null,40]
[null,41]
[null,42]
[null,43]
[null,44]
[null,45]
[null,46]
[null,47]
[null,48]
[null,49]
[null,50]
[null,51]
[null,52]
[null,53]
[null,54]
[null,55]
[null,56]
[null,57]
[null,58]
[null,59]
[null,60]
[null,61]
[null,62]
[null,63]
[null,64]
[null,65]
[null,66]
[null,67]
[null,68]
[null,69]
[null,70]
[null,71]
[null,72]
[null,73]
[null,74]
[null,75]
[null,76]
[null,77]
[null,78]
[null,79]
[null,80]
[null,81]
[null,82]
[null,83]
[null,84]
[null,85]
[null,86]
[null,87]
[null,88]
[null,89]
[null,90]
[null,91]
[null,92]
[null,93]
[null,94]
[null,95]
[null,96]
[null,97]
[null,98]
[null,99]
[null,100]
[null,101]
[null,102]
[null,103]
[null,104]
[null,105]
[null,106]
[null,107]
[null,108]
[null,109]
[null,110]
[null,111]
[null,112]
[null,113]
[null,114]
[null,115]
[null,116]
[null,117]
[null,118]
[null,119]
[null,120]
[null,121]
[null,122]
[null,123]
[null,124]
[null,125]
[null,126]
[null,127]
[null,128]
[null,129]
[null,130]
[null,131]
[null,132]
[null,133]
[null,134]
[null,135]
[null,136]
[null,137]
[null,138]
[null,139]
[null,140]
[null,141]
[null,142]
[null,143]
[null,144]
[null,145]
[null,146]
[null,147]
[null,148]
[null,149]
[null,150]
[null,151]
[null,152]
[null,153]
[null,154]
[null,155]
[null,156]
[null,157]
[null,158]
[null,159]
[null,160]
[null,161]
[null,162]
[null,163]
[null,164]
[null,165]
[null,166]
[null,167]
[null,168]
[null,169]
[null,170]
[null,171]
[null,172]
[null,173]
[null,174]
[null,175]
[null,176]
[null,177]
[null,178]
[null,179]
[null,180]
[null,181]
[null,182]
[null,183]
[null,184]
[null,185]
[null,186]
[null,187]
[null,188]
[null,189]
[null,190]
[null,191]
[null,192]
[null,193]
[null,194]
[null,195]
[null,196]
[null,197]
[null,198]
[null,199]
[null,200]
[null,201]
[null,202]
[null,203]
[null,204]
[null,205]
[null,206]
[null,207]
[null,208]
[null,209]
[null,210]
[null,211]
[null,212]
[null,213]
[null,214]
[null,215]
[null,216]
[null,217]
[null,218]
[null,219]
[null,220]
[null,221]
[null,222]
[null,223]
[null,224]
[null,225]
[null,226]
[null,227]
[null,228]
[null,229]
[null,230]
[null,231]
[null,232]
[null,233]
[null,234]
[null,235]
[null,236]
[null,237]
[null,238]
[null,239]
[null,240]
[null,241]
[null,242]
[null,243]
[null,244]
[null,245]
[null,246]
[null,247]
[null,248]
[null,249]
[null,250]
[null,251]
[null,252]
[null,253]
[null,254]
[null,255]
[null,256]
[null,257]
[null,258]
[null,259]
[null,260]
[null,261]
[null,262]
[null,263]
[null,264]
[null,265]
[null,266]
[null,267]
[null,268]
[null,269]
[null,270]
[null,271]
[null,272]
[null,273]
[null,274]
[null,275]
[null,276]
[null,277]
[null,278]
[null,279]
[null,280]
[null,281]
[null,282]
[null,283]
[null,284]
[null,285]
[null,286]
[null,287]
[null,288]
[null,289]
[null,290]
[null,291]
[null,292]
[null,293]
[null,294]
[null,295]
[null,296]
[null,297]
[null,298]
[null,299]
[null,300]

{"sheet":"ProtocolTemp","index":7,"n_rows":100,"n_cols":303,"rows_kept":100,"cut":false,"hidden":false,"merged":[[1,1,1,4],[2,0,2,5]]}
[]
[null,"Protocol Schedule"]
["Please read this help guide to complete the sheet correctly",null,null,null,null,null,"F/U start date:",{"$f":"IFERROR(INDEX(D18:DS18,MATCH(\"F/U start\",D16:DS16)),H4)","v":"00:00:00"}]
[null,null,null,null,null,null,"Rec start date:"]
[null,"Visit Number","Screening",1,2,3,4,5,6,7,8,9,10,11,12,13,14,15,16,17,18,19,20,21,22,23,24,25,26,27,28,29,30,31,32,33,34,35,36,37,38,39,40,41,42,43,44,45,46,47,48,49,50,51,52,53,54,55,56,57,58,59,60,61,62,63,64,65,66,67,68,69,70,71,72,73,74,75,76,77,78,79,80,81,82,83,84,85,86,87,88,89,90,91,92,93,94,95,96,97,98,99,100,101,102,103,104,105,106,107,108,109,110,111,112,113,114,115,116,117,118,119,120,121,122,123,124,125,126,127,128,129,130,131,132,133,134,135,136,137,138,139,140,141,142,143,144,145,146,147,148,149,150,151,152,153,154,155,156,157,158,159,160,161,162,163,164,165,166,167,168,169,170,171,172,173,174,175,176,177,178,179,180,181,182,183,184,185,186,187,188,189,190,191,192,193,194,195,196,197,198,199,200,201,202,203,204,205,206,207,208,209,210,211,212,213,214,215,216,217,218,219,220,221,222,223,224,225,226,227,228,229,230,231,232,233,234,235,236,237,238,239,240,241,242,243,244,245,246,247,248,249,250,251,252,253,254,255,256,257,258,259,260,261,262,263,264,265,266,267,268,269,270,271,272,273,274,275,276,277,278,279,280,281,282,283,284,285,286,287,288,289,290,291,292,293,294,295,296,297,298,299,300]
["Enter in hrs & mins, e.g. 2 hrs as 2:00, 15 mins as 0:15","Visit Duration for Below Staff Grade"]
["Enter 1 number","Week No. Start","N/A"]
[null,"Staff Grade"]
[]
["Enter in hrs & mins, e.g. 2 hrs as 2:00, 15 mins as 0:15","Visit Duration for Below Staff Grade"]
[null,"Staff Grade"]
[]
["Enter in hrs & mins, e.g. 2 hrs as 2:00, 15 mins as 0:15","Visit Duration for Below Staff Grade"]
[null,"Staff Grade"]
[null,"TOTAL Duration",{"$f":"SUM(C6+C10+C13)","v":0},{"$f":"SUM(D6+D10+D13)","v":0},{"$f":"SUM(E6+E10+E13)","v":0},0,0,0,0,0,0,0,0,0,0,0,0,0,0,0,0,0,0,0,0,0,0,0,0,0,0,0,0,0,0,0,0,0,0,0,0,0,0,0,0,0,0,0,0,0,0,0,0,0,0,0,0,0,0,0,0,0,0,0,0,0,0,0,{"$f":"SUM(BQ6+BQ10+BQ13)","v":0},0,0,0,0,0,0,0,0,0,0,0,0,0,0,0,0,0,0,0,0,0,0,0,0,0,0,0,0,0,0,0,0,0,0,0,0,0,0,0,0,0,0,0,0,0,0,0,0,0,0,0,0,0,0,0,0,0,0,0,0,0,0,0,{"$f":"SUM(EC6+EC10+EC13)","v":0},0,0,0,0,0,0,0,0,0,0,0,0,0,0,0,0,0,0,0,0,0,0,0,0,0,0,{"$f":"SUM(FD6+FD10+FD13)","v":0},0,0,0,0,0,0,0,0,0,0,0,0,0,0,0,0,0,0,0,0,0,0,0,0,0,0,0,0,0,0,0,0,0,0,0,0,0,0,0,0,0,0,0,0,0,0,0,0,0,0,0,0,0,0,0,0,0,0,0,0,0,0,0,{"$f":"SUM(HP6+HP10+HP13)","v":0},0,0,0,0,0,0,0,0,0,0,0,0,0,0,0,0,0,0,0,0,0,0,0,0,0,0,0,0,0,0,0,0,0,0,0,0,0,0,0,0,0,0,0,0,0,0,0,0,0,0,0,0,0,0,0,0,0,0,0,0,0,0,0,{"$f":"SUM(KB6+KB10+KB13)","v":0},{"$f":"SUM(KC6+KC10+KC13)","v":0},{"$f":"SUM(KD6+KD10+KD13)","v":0},{"$f":"SUM(KE6+KE10+KE13)","v":0},0,0,0,0,0,0,0,0,0,0,0,0]
[]
[]
[null,null,null,{"$f":"IF(D7<>\"\",$H$4+(D7*7)-7,\"\")","v":""},{"$f":"IF(E7<>\"\",$H$4+(E7*7)-7,\"\")","v":""},{"$f":"IF(F7<>\"\",$H$4+(F7*7)-7,\"\")","v":""},{"$f":"IF(G7<>\"\",$H$4+(G7*7)-7,\"\")","v":""},{"$f":"IF(H7<>\"\",$H$4+(H7*7)-7,\"\")","v":""},{"$f":"IF(I7<>\"\",$H$4+(I7*7)-7,\"\")","v":""},"","","","","","","","","","","","","","","","","","","","","","","","","","","","","","","",{"$f":"IF(AO7<>\"\",$H$4+(AO7*7)-7,\"\")","v":""},"","","","","","","","","","","","","","","","","","","","","","","","","","","","","","","",{"$f":"IF(BU7<>\"\",$H$4+(BU7*7)-7,\"\")","v":""},"","","","","","","","","","","","","","","","","","","","","","","","","","","","","","","",{"$f":"IF(DA7<>\"\",$H$4+(DA7*7)-7,\"\")","v":""},"","","","","","","","","","","","","","","","","",""]
[null,"Screen TOTAL",{"$f":"C14","v":0},null,null,null,null,null,{"$f":"IF(F19<>\"\",$H$4+(F19*7)-7,\"\")","v":""}]
[null,"Rec TOTAL",null,{"$f":"SUMIF(D16,\"<\"&$H$3,D14)","v":0},0,0,0,0,0,0,0,0,0,0,0,0,0,0,0,0,0,0,0,0,0,0,0,0,0,0,0,0,0,0,0,0,0,0,0,0,0,0,0,0,0,0,0,0,0,0,0,0,0,0,0,0,0,0,0,0,0,0,0,0,0,0,0,{"$f":"SUMIF(BP16,\"<\"&$H$3,BP14)","v":0},0,0,0,0,0,0,0,0,0,0,0,0,0,0,0,0,0,0,0,0,0,0,0,0,0,0,0,0,0,0,0,0,0,0,0,0,0,0,0,0,0,0,0,0,0,0,0,0,0,0,0,0,0,0,0,0,0,0,0,0,0,0,0,{"$f":"SUMIF(EB16,\"<\"&$H$3,EB14)","v":0},0,0,0,0,0,0,0,0,0,0,0,0,0,0,0,0,0,0,0,0,0,0,0,0,0,0,0,0,0,0,0,0,0,0,0,0,0,0,0,0,0,0,0,0,0,0,0,0,0,0,0,0,0,0,0,0,0,0,0,0,0,0,0,{"$f":"SUMIF(GN16,\"<\"&$H$3,GN14)","v":0},0,0,0,0,0,0,0,0,0,0,0,0,0,0,0,0,0,0,0,0,0,0,0,0,0,0,0,0,0,0,0,0,0,0,0,0,0,0,0,0,0,0,0,0,0,0,0,0,0,0,0,0,0,0,0,0,0,0,0,0,0,0,0,{"$f":"SUMIF(IZ16,\"<\"&$H$3,IZ14)","v":0},0,0,0,0,0,0,0,0,0,0,0,0,0,0,0,0,0,0,0,0,0,0,0,0,0,0,0,0,0,0,0,0,0,0,0,0,0,0,0,0,0,0,0]
[null,"F/U TOTAL",null,{"$f":"SUMIF(D16,\">\"&$H$3,D14)","v":0},{"$f":"SUMIF(E16,\">\"&$H$3,E14)","v":0},0,0,0,0,0,0,0,0,0,0,0,0,0,0,0,0,0,0,0,0,0,0,0,0,0,0,0,0,0,0,0,0,0,0,0,0,0,0,0,0,0,0,0,0,0,0,0,0,0,0,0,0,0,0,0,0,0,0,0,0,0,0,0,{"$f":"SUMIF(BQ16,\">\"&$H$3,BQ14)","v":0},0,0,0,0,0,0,0,0,0,0,0,0,0,0,0,0,0,0,0,0,0,0,0,0,0,0,0,0,0,0,0,0,0,0,0,0,0,0,0,0,0,0,0,0,0,0,0,0,0,0,0,0,0,0,0,0,0,0,0,0,0,0,0,{"$f":"SUMIF(EC16,\">\"&$H$3,EC14)","v":0},0,0,0,0,0,0,0,0,0,0,0,0,0,0,0,0,0,0,0,0,0,0,0,0,0,0,0,0,0,0,0,0,0,0,0,0,0,0,0,0,0,0,0,0,0,0,0,0,0,0,0,0,0,0,0,0,0,0,0,0,0,0,0,{"$f":"SUMIF(GO16,\">\"&$H$3,GO14)","v":0},0,0,0,0,0,0,0,0,0,0,0,0,0,0,0,0,0,0,0,0,0,0,0,0,0,0,0,0,0,0,0,0,0,0,0,0,0,0,0,0,0,0,0,0,0,0,0,0,0,0,0,0,0,0,0,0,0,0,0,0,0,0,0,{"$f":"SUMIF(JA16,\">\"&$H$3,JA14)","v":0},0,0,0,0,0,0,0,0,0,0,0,0,0,0,0,0,0,0,0,0,0,0,0,0,0,0,0,0,0,0,0,0,0,0,0,0,0,0,0,0,0,0]
[]
["Grade Count","Staff grade Screen totals"]
[{"$f":"COUNTIFS($C$8:$KQ$8,\"1\")+COUNTIFS($C$11:$KQ$11,\"1\")+COUNTIFS($C$14:$KQ$14,\"1\")","v":0},1,{"$f":"SUMIFS(C$6,C$8,\"1\")+SUMIFS(C$10,C$11,\"1\")+SUMIFS(C$13,C$14,\"1\")","v":0}]
[{"$f":"COUNTIFS($C$8:$KQ$8,\"2\")+COUNTIFS($C$11:$KQ$11,\"2\")+COUNTIFS($C$14:$KQ$14,\"2\")","v":0},2,{"$f":"SUMIFS(C$6,C$8,\"2\")+SUMIFS(C$10,C$11,\"2\")+SUMIFS(C$13,C$14,\"2\")","v":0}]
[{"$f":"COUNTIFS($C$8:$KQ$8,\"3\")+COUNTIFS($C$11:$KQ$11,\"3\")+COUNTIFS($C$14:$KQ$14,\"3\")","v":0},3,{"$f":"SUMIFS(C$6,C$8,\"3\")+SUMIFS(C$10,C$11,\"3\")+SUMIFS(C$13,C$14,\"3\")","v":0}]
[{"$f":"COUNTIFS($C$8:$KQ$8,\"4\")+COUNTIFS($C$11:$KQ$11,\"4\")+COUNTIFS($C$14:$KQ$14,\"4\")","v":0},4,{"$f":"SUMIFS(C$6,C$8,\"4\")+SUMIFS(C$10,C$11,\"4\")+SUMIFS(C$13,C$14,\"4\")","v":0}]
[{"$f":"COUNTIFS($C$8:$KQ$8,\"5\")+COUNTIFS($C$11:$KQ$11,\"5\")+COUNTIFS($C$14:$KQ$14,\"5\")","v":0},5,{"$f":"SUMIFS(C$6,C$8,5)+SUMIFS(C$10,C$11,5)+SUMIFS(C$13,C$14,5)","v":0}]
[{"$f":"COUNTIFS($C$8:$KQ$8,\"6\")+COUNTIFS($C$11:$KQ$11,\"6\")+COUNTIFS($C$14:$KQ$14,\"6\")","v":0},6,{"$f":"SUMIFS(C$6,C$8,\"6\")+SUMIFS(C$10,C$11,\"6\")+SUMIFS(C$13,C$14,\"6\")","v":0}]
[{"$f":"COUNTIFS($C$8:$KQ$8,\"7\")+COUNTIFS($C$11:$KQ$11,\"7\")+COUNTIFS($C$14:$KQ$14,\"7\")","v":0},7,{"$f":"SUMIFS(C$6,C$8,\"7\")+SUMIFS(C$10,C$11,\"7\")+SUMIFS(C$13,C$14,\"7\")","v":0}]
[{"$f":"COUNTIFS($C$8:$KQ$8,\"8a\")+COUNTIFS($C$11:$KQ$11,\"8a\")+COUNTIFS($C$14:$KQ$14,\"8a\")","v":0},"8a",{"$f":"SUMIFS(C$6,C$8,\"8a\")+SUMIFS(C$10,C$11,\"8a\")+SUMIFS(C$13,C$14,\"8a\")","v":0}]
[{"$f":"COUNTIFS($C$8:$KQ$8,\"8b\")+COUNTIFS($C$11:$KQ$11,\"8b\")+COUNTIFS($C$14:$KQ$14,\"8b\")","v":0},"8b",{"$f":"SUMIFS(C$6,C$8,\"8b\")+SUMIFS(C$10,C$11,\"8b\")+SUMIFS(C$13,C$14,\"8b\")","v":0}]
[{"$f":"COUNTIFS($C$8:$KQ$8,\"8c\")+COUNTIFS($C$11:$KQ$11,\"8c\")+COUNTIFS($C$14:$KQ$14,\"8c\")","v":0},"8c",{"$f":"SUMIFS(C$6,C$8,\"8c\")+SUMIFS(C$10,C$11,\"8c\")+SUMIFS(C$13,C$14,\"8c\")","v":0}]
[{"$f":"COUNTIFS($C$8:$KQ$8,\"8d\")+COUNTIFS($C$11:$KQ$11,\"8d\")+COUNTIFS($C$14:$KQ$14,\"8d\")","v":0},"8d",{"$f":"SUMIFS(C$6,C$8,\"8d\")+SUMIFS(C$10,C$11,\"8d\")+SUMIFS(C$13,C$14,\"8d\")","v":0}]
[{"$f":"COUNTIFS($C$8:$KQ$8,\"9\")+COUNTIFS($C$11:$KQ$11,\"9\")+COUNTIFS($C$14:$KQ$14,\"9\")","v":0},9,{"$f":"SUMIFS(C$6,C$8,\"9\")+SUMIFS(C$10,C$11,\"9\")+SUMIFS(C$13,C$14,\"9\")","v":0}]
[]
[null,"Staff grade totals",null,null,null,null,null,{"$f":"IF(E37<>\"\",$H$4+(E37*7)-7,\"\")","v":""}]
[null,1,null,{"$f":"SUMIFS(D$6,D$8,\"1\")+SUMIFS(D$10,D$11,\"1\")+SUMIFS(D$13,D$14,\"1\")","v":0},{"$f":"SUMIFS(E$6,E$8,\"1\")+SUMIFS(E$10,E$11,\"1\")+SUMIFS(E$13,E$14,\"1\")","v":0},0,0,0,0,0,0,0,0,0,0,0,0,0,0,0,0,0,0,0,0,0,0,0,0,0,0,0,0,0,0,0,0,0,0,0,0,0,0,0,0,0,0,0,0,0,0,0,0,0,0,0,0,0,0,0,0,0,0,0,0,0,0,0,{"$f":"SUMIFS(BQ$6,BQ$8,\"1\")+SUMIFS(BQ$10,BQ$11,\"1\")+SUMIFS(BQ$13,BQ$14,\"1\")","v":0},0,0,0,0,0,0,0,0,0,0,0,0,0,0,0,0,0,0,0,0,0,0,0,0,0,0,0,0,0,0,0,0,0,0,0,0,0,0,0,0,0,0,0,0,0,0,0,0,0,0,0,0,0,0,0,0,0,0,0,0,0,0,0,{"$f":"SUMIFS(EC$6,EC$8,\"1\")+SUMIFS(EC$10,EC$11,\"1\")+SUMIFS(EC$13,EC$14,\"1\")","v":0},0,0,0,0,0,0,0,0,0,0,0,0,0,0,0,0,0,0,0,0,0,0,0,0,0,0,0,0,0,0,0,0,0,0,0,0,0,0,0,0,0,0,0,0,0,0,0,0,0,0,0,0,0,0,0,0,0,0,0,0,0,0,0,{"$f":"SUMIFS(GO$6,GO$8,\"1\")+SUMIFS(GO$10,GO$11,\"1\")+SUMIFS(GO$13,GO$14,\"1\")","v":0},0,0,0,0,0,0,0,0,0,0,0,0,0,0,0,0,0,0,0,0,0,0,0,0,0,0,0,0,0,0,0,0,0,0,0,0,0,0,0,0,0,0,0,0,0,0,0,0,0,0,0,0,0,0,0,0,0,0,0,0,0,0,0,{"$f":"SUMIFS(JA$6,JA$8,\"1\")+SUMIFS(JA$10,JA$11,\"1\")+SUMIFS(JA$13,JA$14,\"1\")","v":0},0,0,0,0,0,0,0,0,0,0,0,0,0,0,0,0,0,0,0,0,0,0,0,0,0,0,0,0,0,0,0,0,0,0,0,0,0,0,0,0,0,0]
[null,2,null,{"$f":"SUMIFS(D$6,D$8,\"2\")+SUMIFS(D$10,D$11,\"2\")+SUMIFS(D$13,D$14,\"2\")","v":0},{"$f":"SUMIFS(E$6,E$8,\"2\")+SUMIFS(E$10,E$11,\"2\")+SUMIFS(E$13,E$14,\"2\")","v":0},0,0,0,0,0,0,0,0,0,0,0,0,0,0,0,0,0,0,0,0,0,0,0,0,0,0,0,0,0,0,0,0,0,0,0,0,0,0,0,0,0,0,0,0,0,0,0,0,0,0,0,0,0,0,0,0,0,0,0,0,0,0,0,{"$f":"SUMIFS(BQ$6,BQ$8,\"2\")+SUMIFS(BQ$10,BQ$11,\"2\")+SUMIFS(BQ$13,BQ$14,\"2\")","v":0},0,0,0,0,0,0,0,0,0,0,0,0,0,0,0,0,0,0,0,0,0,0,0,0,0,0,0,0,0,0,0,0,0,0,0,0,0,0,0,0,0,0,0,0,0,0,0,0,0,0,0,0,0,0,0,0,0,0,0,0,0,0,0,{"$f":"SUMIFS(EC$6,EC$8,\"2\")+SUMIFS(EC$10,EC$11,\"2\")+SUMIFS(EC$13,EC$14,\"2\")","v":0},0,0,0,0,0,0,0,0,0,0,0,0,0,0,0,0,0,0,0,0,0,0,0,0,0,0,0,0,0,0,0,0,0,0,0,0,0,0,0,0,0,0,0,0,0,0,0,0,0,0,0,0,0,0,0,0,0,0,0,0,0,0,0,{"$f":"SUMIFS(GO$6,GO$8,\"2\")+SUMIFS(GO$10,GO$11,\"2\")+SUMIFS(GO$13,GO$14,\"2\")","v":0},0,0,0,0,0,0,0,0,0,0,0,0,0,0,0,0,0,0,0,0,0,0,0,0,0,0,0,0,0,0,0,0,0,0,0,0,0,0,0,0,0,0,0,0,0,0,0,0,0,0,0,0,0,0,0,0,0,0,0,0,0,0,0,{"$f":"SUMIFS(JA$6,JA$8,\"2\")+SUMIFS(JA$10,JA$11,\"2\")+SUMIFS(JA$13,JA$14,\"2\")","v":0},0,0,0,0,0,0,0,0,0,0,0,0,0,0,0,0,0,0,0,0,0,0,0,0,0,0,0,0,0,0,0,0,0,0,0,0,0,0,0,0,0,0]
[null,3,null,{"$f":"SUMIFS(D$6,D$8,\"3\")+SUMIFS(D$10,D$11,\"3\")+SUMIFS(D$13,D$14,\"3\")","v":0},{"$f":"SUMIFS(E$6,E$8,\"3\")+SUMIFS(E$10,E$11,\"3\")+SUMIFS(E$13,E$14,\"3\")","v":0},0,0,0,0,0,0,0,0,0,0,0,0,0,0,0,0,0,0,0,0,0,0,0,0,0,0,0,0,0,0,0,0,0,0,0,0,0,0,0,0,0,0,0,0,0,0,0,0,0,0,0,0,0,0,0,0,0,0,0,0,0,0,0,{"$f":"SUMIFS(BQ$6,BQ$8,\"3\")+SUMIFS(BQ$10,BQ$11,\"3\")+SUMIFS(BQ$13,BQ$14,\"3\")","v":0},0,0,0,0,0,0,0,0,0,0,0,0,0,0,0,0,0,0,0,0,0,0,0,0,0,0,0,0,0,0,0,0,0,0,0,0,0,0,0,0,0,0,0,0,0,0,0,0,0,0,0,0,0,0,0,0,0,0,0,0,0,0,0,{"$f":"SUMIFS(EC$6,EC$8,\"3\")+SUMIFS(EC$10,EC$11,\"3\")+SUMIFS(EC$13,EC$14,\"3\")","v":0},0,0,0,0,0,0,0,0,0,0,0,0,0,0,0,0,0,0,0,0,0,0,0,0,0,0,0,0,0,0,0,0,0,0,0,0,0,0,0,0,0,0,0,0,0,0,0,0,0,0,0,0,0,0,0,0,0,0,0,0,0,0,0,{"$f":"SUMIFS(GO$6,GO$8,\"3\")+SUMIFS(GO$10,GO$11,\"3\")+SUMIFS(GO$13,GO$14,\"3\")","v":0},0,0,0,0,0,0,0,0,0,0,0,0,0,0,0,0,0,0,0,0,0,0,0,0,0,0,0,0,0,0,0,0,0,0,0,0,0,0,0,0,0,0,0,0,0,0,0,0,0,0,0,0,0,0,0,0,0,0,0,0,0,0,0,{"$f":"SUMIFS(JA$6,JA$8,\"3\")+SUMIFS(JA$10,JA$11,\"3\")+SUMIFS(JA$13,JA$14,\"3\")","v":0},0,0,0,0,0,0,0,0,0,0,0,0,0,0,0,0,0,0,0,0,0,0,0,0,0,0,0,0,0,0,0,0,0,0,0,0,0,0,0,0,0,0]
[null,4,null,{"$f":"SUMIFS(D$6,D$8,\"4\")+SUMIFS(D$10,D$11,\"4\")+SUMIFS(D$13,D$14,\"4\")","v":0},{"$f":"SUMIFS(E$6,E$8,\"4\")+SUMIFS(E$10,E$11,\"4\")+SUMIFS(E$13,E$14,\"4\")","v":0},0,0,0,0,0,0,0,0,0,0,0,0,0,0,0,0,0,0,0,0,0,0,0,0,0,0,0,0,0,0,0,0,0,0,0,0,0,0,0,0,0,0,0,0,0,0,0,0,0,0,0,0,0,0,0,0,0,0,0,0,0,0,0,{"$f":"SUMIFS(BQ$6,BQ$8,\"4\")+SUMIFS(BQ$10,BQ$11,\"4\")+SUMIFS(BQ$13,BQ$14,\"4\")","v":0},0,0,0,0,0,0,0,0,0,0,0,0,0,0,0,0,0,0,0,0,0,0,0,0,0,0,0,0,0,0,0,0,0,0,0,0,0,0,0,0,0,0,0,0,0,0,0,0,0,0,0,0,0,0,0,0,0,0,0,0,0,0,0,{"$f":"SUMIFS(EC$6,EC$8,\"4\")+SUMIFS(EC$10,EC$11,\"4\")+SUMIFS(EC$13,EC$14,\"4\")","v":0},0,0,0,0,0,0,0,0,0,0,0,0,0,0,0,0,0,0,0,0,0,0,0,0,0,0,0,0,0,0,0,0,0,0,0,0,0,0,0,0,0,0,0,0,0,0,0,0,0,0,0,0,0,0,0,0,0,0,0,0,0,0,0,{"$f":"SUMIFS(GO$6,GO$8,\"4\")+SUMIFS(GO$10,GO$11,\"4\")+SUMIFS(GO$13,GO$14,\"4\")","v":0},0,0,0,0,0,0,0,0,0,0,0,0,0,0,0,0,0,0,0,0,0,0,0,0,0,0,0,0,0,0,0,0,0,0,0,0,0,0,0,0,0,0,0,0,0,0,0,0,0,0,0,0,0,0,0,0,0,0,0,0,0,0,0,{"$f":"SUMIFS(JA$6,JA$8,\"4\")+SUMIFS(JA$10,JA$11,\"4\")+SUMIFS(JA$13,JA$14,\"4\")","v":0},0,0,0,0,0,0,0,0,0,0,0,0,0,0,0,0,0,0,0,0,0,0,0,0,0,0,0,0,0,0,0,0,0,0,0,0,0,0,0,0,0,0]
[null,5,null,{"$f":"SUMIFS(D$6,D$8,\"5\")+SUMIFS(D$10,D$11,\"5\")+SUMIFS(D$13,D$14,\"5\")","v":0},{"$f":"SUMIFS(E$6,E$8,\"5\")+SUMIFS(E$10,E$11,\"5\")+SUMIFS(E$13,E$14,\"5\")","v":0},0,0,0,0,0,0,0,0,0,0,0,0,0,0,0,0,0,0,0,0,0,0,0,0,0,0,0,0,0,0,0,0,0,0,0,0,0,0,0,0,0,0,0,0,0,0,0,0,0,0,0,0,0,0,0,0,0,0,0,0,0,0,0,{"$f":"SUMIFS(BQ$6,BQ$8,\"5\")+SUMIFS(BQ$10,BQ$11,\"5\")+SUMIFS(BQ$13,BQ$14,\"5\")","v":0},0,0,0,0,0,0,0,0,0,0,0,0,0,0,0,0,0,0,0,0,0,0,0,0,0,0,0,0,0,0,0,0,0,0,0,0,0,0,0,0,0,0,0,0,0,0,0,0,0,0,0,0,0,0,0,0,0,0,0,0,0,0,0,{"$f":"SUMIFS(EC$6,EC$8,\"5\")+SUMIFS(EC$10,EC$11,\"5\")+SUMIFS(EC$13,EC$14,\"5\")","v":0},0,0,0,0,0,0,0,0,0,0,0,0,0,0,0,0,0,0,0,0,0,0,0,0,0,0,0,0,0,0,0,0,0,0,0,0,0,0,0,0,0,0,0,0,0,0,0,0,0,0,0,0,0,0,0,0,0,0,0,0,0,0,0,{"$f":"SUMIFS(GO$6,GO$8,\"5\")+SUMIFS(GO$10,GO$11,\"5\")+SUMIFS(GO$13,GO$14,\"5\")","v":0},0,0,0,0,0,0,0,0,0,0,0,0,0,0,0,0,0,0,0,0,0,0,0,0,0,0,0,0,0,0,0,0,0,0,0,0,0,0,0,0,0,0,0,0,0,0,0,0,0,0,0,0,0,0,0,0,0,0,0,0,0,0,0,{"$f":"SUMIFS(JA$6,JA$8,\"5\")+SUMIFS(JA$10,JA$11,\"5\")+SUMIFS(JA$13,JA$14,\"5\")","v":0},0,0,0,0,0,0,0,0,0,0,0,0,0,0,0,0,0,0,0,0,0,0,0,0,0,0,0,0,0,0,0,0,0,0,0,0,0,0,0,0,0,0]
[null,6,null,{"$f":"SUMIFS(D$6,D$8,\"6\")+SUMIFS(D$10,D$11,\"6\")+SUMIFS(D$13,D$14,\"6\")","v":0},{"$f":"SUMIFS(E$6,E$8,\"6\")+SUMIFS(E$10,E$11,\"6\")+SUMIFS(E$13,E$14,\"6\")","v":0},0,0,0,0,0,0,0,0,0,0,0,0,0,0,0,0,0,0,0,0,0,0,0,0,0,0,0,0,0,0,0,0,0,0,0,0,0,0,0,0,0,0,0,0,0,0,0,0,0,0,0,0,0,0,0,0,0,0,0,0,0,0,0,{"$f":"SUMIFS(BQ$6,BQ$8,\"6\")+SUMIFS(BQ$10,BQ$11,\"6\")+SUMIFS(BQ$13,BQ$14,\"6\")","v":0},0,0,0,0,0,0,0,0,0,0,0,0,0,0,0,0,0,0,0,0,0,0,0,0,0,0,0,0,0,0,0,0,0,0,0,0,0,0,0,0,0,0,0,0,0,0,0,0,0,0,0,0,0,0,0,0,0,0,0,0,0,0,0,{"$f":"SUMIFS(EC$6,EC$8,\"6\")+SUMIFS(EC$10,EC$11,\"6\")+SUMIFS(EC$13,EC$14,\"6\")","v":0},0,0,0,0,0,0,0,0,0,0,0,0,0,0,0,0,0,0,0,0,0,0,0,0,0,0,0,0,0,0,0,0,0,0,0,0,0,0,0,0,0,0,0,0,0,0,0,0,0,0,0,0,0,0,0,0,0,0,0,0,0,0,0,{"$f":"SUMIFS(GO$6,GO$8,\"6\")+SUMIFS(GO$10,GO$11,\"6\")+SUMIFS(GO$13,GO$14,\"6\")","v":0},0,0,0,0,0,0,0,0,0,0,0,0,0,0,0,0,0,0,0,0,0,0,0,0,0,0,0,0,0,0,0,0,0,0,0,0,0,0,0,0,0,0,0,0,0,0,0,0,0,0,0,0,0,0,0,0,0,0,0,0,0,0,0,{"$f":"SUMIFS(JA$6,JA$8,\"6\")+SUMIFS(JA$10,JA$11,\"6\")+SUMIFS(JA$13,JA$14,\"6\")","v":0},0,0,0,0,0,0,0,0,0,0,0,0,0,0,0,0,0,0,0,0,0,0,0,0,0,0,0,0,0,0,0,0,0,0,0,0,0,0,0,0,0,0]
[null,7,null,{"$f":"SUMIFS(D$6,D$8,\"7\")+SUMIFS(D$10,D$11,\"7\")+SUMIFS(D$13,D$14,\"7\")","v":0},{"$f":"SUMIFS(E$6,E$8,\"7\")+SUMIFS(E$10,E$11,\"7\")+SUMIFS(E$13,E$14,\"7\")","v":0},0,0,0,0,0,0,0,0,0,0,0,0,0,0,0,0,0,0,0,0,0,0,0,0,0,0,0,0,0,0,0,0,0,0,0,0,0,0,0,0,0,0,0,0,0,0,0,0,0,0,0,0,0,0,0,0,0,0,0,0,0,0,0,{"$f":"SUMIFS(BQ$6,BQ$8,\"7\")+SUMIFS(BQ$10,BQ$11,\"7\")+SUMIFS(BQ$13,BQ$14,\"7\")","v":0},0,0,0,0,0,0,0,0,0,0,0,0,0,0,0,0,0,0,0,0,0,0,0,0,0,0,0,0,0,0,0,0,0,0,0,0,0,0,0,0,0,0,0,0,0,0,0,0,0,0,0,0,0,0,0,0,0,0,0,0,0,0,0,{"$f":"SUMIFS(EC$6,EC$8,\"7\")+SUMIFS(EC$10,EC$11,\"7\")+SUMIFS(EC$13,EC$14,\"7\")","v":0},0,0,0,0,0,0,0,0,0,0,0,0,0,0,0,0,0,0,0,0,0,0,0,0,0,0,0,0,0,0,0,0,0,0,0,0,0,0,0,0,0,0,0,0,0,0,0,0,0,0,0,0,0,0,0,0,0,0,0,0,0,0,0,{"$f":"SUMIFS(GO$6,GO$8,\"7\")+SUMIFS(GO$10,GO$11,\"7\")+SUMIFS(GO$13,GO$14,\"7\")","v":0},0,0,0,0,0,0,0,0,0,0,0,0,0,0,0,0,0,0,0,0,0,0,0,0,0,0,0,0,0,0,0,0,0,0,0,0,0,0,0,0,0,0,0,0,0,0,0,0,0,0,0,0,0,0,0,0,0,0,0,0,0,0,0,{"$f":"SUMIFS(JA$6,JA$8,\"7\")+SUMIFS(JA$10,JA$11,\"7\")+SUMIFS(JA$13,JA$14,\"7\")","v":0},0,0,0,0,0,0,0,0,0,0,0,0,0,0,0,0,0,0,0,0,0,0,0,0,0,0,0,0,0,0,0,0,0,0,0,0,0,0,0,0,0,0]
[null,"8a",null,{"$f":"SUMIFS(D$6,D$8,\"8a\")+SUMIFS(D$10,D$11,\"8a\")+SUMIFS(D$13,D$14,\"8a\")","v":0},{"$f":"SUMIFS(E$6,E$8,\"8a\")+SUMIFS(E$10,E$11,\"8a\")+SUMIFS(E$13,E$14,\"8a\")","v":0},0,0,0,0,0,0,0,0,0,0,0,0,0,0,0,0,0,0,0,0,0,0,0,0,0,0,0,0,0,0,0,0,0,0,0,0,0,0,0,0,0,0,0,0,0,0,0,0,0,0,0,0,0,0,0,0,0,0,0,0,0,0,0,{"$f":"SUMIFS(BQ$6,BQ$8,\"8a\")+SUMIFS(BQ$10,BQ$11,\"8a\")+SUMIFS(BQ$13,BQ$14,\"8a\")","v":0},0,0,0,0,0,0,0,0,0,0,0,0,0,0,0,0,0,0,0,0,0,0,0,0,0,0,0,0,0,0,0,0,0,0,0,0,0,0,0,0,0,0,0,0,0,0,0,0,0,0,0,0,0,0,0,0,0,0,0,0,0,0,0,{"$f":"SUMIFS(EC$6,EC$8,\"8a\")+SUMIFS(EC$10,EC$11,\"8a\")+SUMIFS(EC$13,EC$14,\"8a\")","v":0},0,0,0,0,0,0,0,0,0,0,0,0,0,0,0,0,0,0,0,0,0,0,0,0,0,0,0,0,0,0,0,0,0,0,0,0,0,0,0,0,0,0,0,0,0,0,0,0,0,0,0,0,0,0,0,0,0,0,0,0,0,0,0,{"$f":"SUMIFS(GO$6,GO$8,\"8a\")+SUMIFS(GO$10,GO$11,\"8a\")+SUMIFS(GO$13,GO$14,\"8a\")","v":0},0,0,0,0,0,0,0,0,0,0,0,0,0,0,0,0,0,0,0,0,0,0,0,0,0,0,0,0,0,0,0,0,0,0,0,0,0,0,0,0,0,0,0,0,0,0,0,0,0,0,0,0,0,0,0,0,0,0,0,0,0,0,0,{"$f":"SUMIFS(JA$6,JA$8,\"8a\")+SUMIFS(JA$10,JA$11,\"8a\")+SUMIFS(JA$13,JA$14,\"8a\")","v":0},0,0,0,0,0,0,0,0,0,0,0,0,0,0,0,0,0,0,0,0,0,0,0,0,0,0,0,0,0,0,0,0,0,0,0,0,0,0,0,0,0,0]
[null,"8b",null,{"$f":"SUMIFS(D$6,D$8,\"8b\")+SUMIFS(D$10,D$11,\"8b\")+SUMIFS(D$13,D$14,\"8b\")","v":0},{"$f":"SUMIFS(E$6,E$8,\"8b\")+SUMIFS(E$10,E$11,\"8b\")+SUMIFS(E$13,E$14,\"8b\")","v":0},0,0,0,0,0,0,0,0,0,0,0,0,0,0,0,0,0,0,0,0,0,0,0,0,0,0,0,0,0,0,0,0,0,0,0,0,0,0,0,0,0,0,0,0,0,0,0,0,0,0,0,0,0,0,0,0,0,0,0,0,0,0,0,{"$f":"SUMIFS(BQ$6,BQ$8,\"8b\")+SUMIFS(BQ$10,BQ$11,\"8b\")+SUMIFS(BQ$13,BQ$14,\"8b\")","v":0},0,0,0,0,0,0,0,0,0,0,0,0,0,0,0,0,0,0,0,0,0,0,0,0,0,0,0,0,0,0,0,0,0,0,0,0,0,0,0,0,0,0,0,0,0,0,0,0,0,0,0,0,0,0,0,0,0,0,0,0,0,0,0,{"$f":"SUMIFS(EC$6,EC$8,\"8b\")+SUMIFS(EC$10,EC$11,\"8b\")+SUMIFS(EC$13,EC$14,\"8b\")","v":0},0,0,0,0,0,0,0,0,0,0,0,0,0,0,0,0,0,0,0,0,0,0,0,0,0,0,0,0,0,0,0,0,0,0,0,0,0,0,0,0,0,0,0,0,0,0,0,0,0,0,0,0,0,0,0,0,0,0,0,0,0,0,0,{"$f":"SUMIFS(GO$6,GO$8,\"8b\")+SUMIFS(GO$10,GO$11,\"8b\")+SUMIFS(GO$13,GO$14,\"8b\")","v":0},0,0,0,0,0,0,0,0,0,0,0,0,0,0,0,0,0,0,0,0,0,0,0,0,0,0,0,0,0,0,0,0,0,0,0,0,0,0,0,0,0,0,0,0,0,0,0,0,0,0,0,0,0,0,0,0,0,0,0,0,0,0,0,{"$f":"SUMIFS(JA$6,JA$8,\"8b\")+SUMIFS(JA$10,JA$11,\"8b\")+SUMIFS(JA$13,JA$14,\"8b\")","v":0},0,0,0,0,0,0,0,0,0,0,0,0,0,0,0,0,0,0,0,0,0,0,0,0,0,0,0,0,0,0,0,0,0,0,0,0,0,0,0,0,0,0]
[null,"8c",null,{"$f":"SUMIFS(D$6,D$8,\"8c\")+SUMIFS(D$10,D$11,\"8c\")+SUMIFS(D$13,D$14,\"8c\")","v":0},{"$f":"SUMIFS(E$6,E$8,\"8c\")+SUMIFS(E$10,E$11,\"8c\")+SUMIFS(E$13,E$14,\"8c\")","v":0},0,0,0,0,0,0,0,0,0,0,0,0,0,0,0,0,0,0,0,0,0,0,0,0,0,0,0,0,0,0,0,0,0,0,0,0,0,0,0,0,0,0,0,0,0,0,0,0,0,0,0,0,0,0,0,0,0,0,0,0,0,0,0,{"$f":"SUMIFS(BQ$6,BQ$8,\"8c\")+SUMIFS(BQ$10,BQ$11,\"8c\")+SUMIFS(BQ$13,BQ$14,\"8c\")","v":0},0,0,0,0,0,0,0,0,0,0,0,0,0,0,0,0,0,0,0,0,0,0,0,0,0,0,0,0,0,0,0,0,0,0,0,0,0,0,0,0,0,0,0,0,0,0,0,0,0,0,0,0,0,0,0,0,0,0,0,0,0,0,0,{"$f":"SUMIFS(EC$6,EC$8,\"8c\")+SUMIFS(EC$10,EC$11,\"8c\")+SUMIFS(EC$13,EC$14,\"8c\")","v":0},0,0,0,0,0,0,0,0,0,0,0,0,0,0,0,0,0,0,0,0,0,0,0,0,0,0,0,0,0,0,0,0,0,0,0,0,0,0,0,0,0,0,0,0,0,0,0,0,0,0,0,0,0,0,0,0,0,0,0,0,0,0,0,{"$f":"SUMIFS(GO$6,GO$8,\"8c\")+SUMIFS(GO$10,GO$11,\"8c\")+SUMIFS(GO$13,GO$14,\"8c\")","v":0},0,0,0,0,0,0,0,0,0,0,0,0,0,0,0,0,0,0,0,0,0,0,0,0,0,0,0,0,0,0,0,0,0,0,0,0,0,0,0,0,0,0,0,0,0,0,0,0,0,0,0,0,0,0,0,0,0,0,0,0,0,0,0,{"$f":"SUMIFS(JA$6,JA$8,\"8c\")+SUMIFS(JA$10,JA$11,\"8c\")+SUMIFS(JA$13,JA$14,\"8c\")","v":0},0,0,0,0,0,0,0,0,0,0,0,0,0,0,0,0,0,0,0,0,0,0,0,0,0,0,0,0,0,0,0,0,0,0,0,0,0,0,0,0,0,0]
[null,"8d",null,{"$f":"SUMIFS(D$6,D$8,\"8d\")+SUMIFS(D$10,D$11,\"8d\")+SUMIFS(D$13,D$14,\"8d\")","v":0},{"$f":"SUMIFS(E$6,E$8,\"8d\")+SUMIFS(E$10,E$11,\"8d\")+SUMIFS(E$13,E$14,\"8d\")","v":0},0,0,0,0,0,0,0,0,0,0,0,0,0,0,0,0,0,0,0,0,0,0,0,0,0,0,0,0,0,0,0,0,0,0,0,0,0,0,0,0,0,0,0,0,0,0,0,0,0,0,0,0,0,0,0,0,0,0,0,0,0,0,0,{"$f":"SUMIFS(BQ$6,BQ$8,\"8d\")+SUMIFS(BQ$10,BQ$11,\"8d\")+SUMIFS(BQ$13,BQ$14,\"8d\")","v":0},0,0,0,0,0,0,0,0,0,0,0,0,0,0,0,0,0,0,0,0,0,0,0,0,0,0,0,0,0,0,0,0,0,0,0,0,0,0,0,0,0,0,0,0,0,0,0,0,0,0,0,0,0,0,0,0,0,0,0,0,0,0,0,{"$f":"SUMIFS(EC$6,EC$8,\"8d\")+SUMIFS(EC$10,EC$11,\"8d\")+SUMIFS(EC$13,EC$14,\"8d\")","v":0},0,0,0,0,0,0,0,0,0,0,0,0,0,0,0,0,0,0,0,0,0,0,0,0,0,0,0,0,0,0,0,0,0,0,0,0,0,0,0,0,0,0,0,0,0,0,0,0,0,0,0,0,0,0,0,0,0,0,0,0,0,0,0,{"$f":"SUMIFS(GO$6,GO$8,\"8d\")+SUMIFS(GO$10,GO$11,\"8d\")+SUMIFS(GO$13,GO$14,\"8d\")","v":0},0,0,0,0,0,0,0,0,0,0,0,0,0,0,0,0,0,0,0,0,0,0,0,0,0,0,0,0,0,0,0,0,0,0,0,0,0,0,0,0,0,0,0,0,0,0,0,0,0,0,0,0,0,0,0,0,0,0,0,0,0,0,0,{"$f":"SUMIFS(JA$6,JA$8,\"8d\")+SUMIFS(JA$10,JA$11,\"8d\")+SUMIFS(JA$13,JA$14,\"8d\")","v":0},0,0,0,0,0,0,0,0,0,0,0,0,0,0,0,0,0,0,0,0,0,0,0,0,0,0,0,0,0,0,0,0,0,0,0,0,0,0,0,0,0,0]
[null,9,null,{"$f":"SUMIFS(D$6,D$8,\"9\")+SUMIFS(D$10,D$11,\"9\")+SUMIFS(D$13,D$14,\"9\")","v":0},{"$f":"SUMIFS(E$6,E$8,\"9\")+SUMIFS(E$10,E$11,\"9\")+SUMIFS(E$13,E$14,\"9\")","v":0},0,0,0,0,0,0,0,0,0,0,0,0,0,0,0,0,0,0,0,0,0,0,0,0,0,0,0,0,0,0,0,0,0,0,0,0,0,0,0,0,0,0,0,0,0,0,0,0,0,0,0,0,0,0,0,0,0,0,0,0,0,0,0,{"$f":"SUMIFS(BQ$6,BQ$8,\"9\")+SUMIFS(BQ$10,BQ$11,\"9\")+SUMIFS(BQ$13,BQ$14,\"9\")","v":0},0,0,0,0,0,0,0,0,0,0,0,0,0,0,0,0,0,0,0,0,0,0,0,0,0,0,0,0,0,0,0,0,0,0,0,0,0,0,0,0,0,0,0,0,0,0,0,0,0,0,0,0,0,0,0,0,0,0,0,0,0,0,0,{"$f":"SUMIFS(EC$6,EC$8,\"9\")+SUMIFS(EC$10,EC$11,\"9\")+SUMIFS(EC$13,EC$14,\"9\")","v":0},0,0,0,0,0,0,0,0,0,0,0,0,0,0,0,0,0,0,0,0,0,0,0,0,0,0,0,0,0,0,0,0,0,0,0,0,0,0,0,0,0,0,0,0,0,0,0,0,0,0,0,0,0,0,0,0,0,0,0,0,0,0,0,{"$f":"SUMIFS(GO$6,GO$8,\"9\")+SUMIFS(GO$10,GO$11,\"9\")+SUMIFS(GO$13,GO$14,\"9\")","v":0},0,0,0,0,0,0,0,0,0,0,0,0,0,0,0,0,0,0,0,0,0,0,0,0,0,0,0,0,0,0,0,0,0,0,0,0,0,0,0,0,0,0,0,0,0,0,0,0,0,0,0,0,0,0,0,0,0,0,0,0,0,0,0,{"$f":"SUMIFS(JA$6,JA$8,\"9\")+SUMIFS(JA$10,JA$11,\"9\")+SUMIFS(JA$13,JA$14,\"9\")","v":0},0,0,0,0,0,0,0,0,0,0,0,0,0,0,0,0,0,0,0,0,0,0,0,0,0,0,0,0,0,0,0,0,0,0,0,0,0,0,0,0,0,0]
[null,null,null,null,null,null,null,{"$f":"IF(E50<>\"\",$H$4+(E50*7)-7,\"\")","v":""}]
[null,null,null,null,null,null,null,{"$f":"IF(E51<>\"\",$H$4+(E51*7)-7,\"\")","v":""}]
[null,null,null,null,null,null,null,{"$f":"IF(E52<>\"\",$H$4+(E52*7)-7,\"\")","v":""}]
[null,null,null,null,null,null,null,""]
[null,null,null,null,null,null,null,""]
[null,null,null,null,null,null,null,""]
[null,null,null,null,null,null,null,""]
[null,null,null,null,null,null,null,""]
[null,null,null,null,null,null,null,""]
[null,null,null,null,null,null,null,""]
[null,null,null,null,null,null,null,""]
[null,null,null,null,null,null,null,""]
[null,null,null,null,null,null,null,""]
[null,null,null,null,null,null,null,""]
[null,null,null,null,null,null,null,""]
[null,null,null,null,null,null,null,""]
[null,null,null,null,null,null,null,""]
[null,null,null,null,null,null,null,""]
[null,null,null,null,null,null,null,""]
[null,null,null,null,null,null,null,""]
[null,null,null,null,null,null,null,""]
[null,null,null,null,null,null,null,""]
[null,null,null,null,null,null,null,""]
[null,null,null,null,null,null,null,""]
[null,null,null,null,null,null,null,""]
[null,null,null,null,null,null,null,""]
[null,null,null,null,null,null,null,""]
[null,null,null,null,null,null,null,""]
[null,null,null,null,null,null,null,""]
[null,null,null,null,null,null,null,""]
[null,null,null,null,null,null,null,""]
[null,null,null,null,null,null,null,""]
[null,null,null,null,null,null,null,""]
[null,null,null,null,null,null,null,""]
[null,null,null,null,null,null,null,{"$f":"IF(E84<>\"\",$H$4+(E84*7)-7,\"\")","v":""}]
[null,null,null,null,null,null,null,""]
[null,null,null,null,null,null,null,""]
[null,null,null,null,null,null,null,""]
[null,null,null,null,null,null,null,""]
[null,null,null,null,null,null,null,""]
[null,null,null,null,null,null,null,""]
[null,null,null,null,null,null,null,""]
[null,null,null,null,null,null,null,""]
[null,null,null,null,null,null,null,""]
[null,null,null,null,null,null,null,""]
[null,null,null,null,null,null,null,""]
[null,null,null,null,null,null,null,""]
[null,null,null,null,null,null,null,""]
[null,null,null,null,null,null,null,""]
[null,null,null,null,null,null,null,""]
[null,null,null,null,null,null,null,""]

{"sheet":"EXAMPLE-Rec","index":8,"n_rows":354,"n_cols":263,"rows_kept":354,"cut":false,"hidden":true,"merged":[[1,1,1,3],[14,0,25,0],[26,0,37,0],[38,0,49,0],[54,0,62,0]]}
[]
[null,"Recruitment"]
[]
[]
[null,"Week No.",1,2,3,4,5,6,7,8,9,10,11,12,13,14,15,16,17,18,19,20,21,22,23,24,25,26,27,28,29,30,31,32,33,34,35,36,37,38,39,40,41,42,43,44,45,46,47,48,49,50,51,52,1,2,3,4,5,6,7,8,9,10,11,12,13,14,15,16,17,18,19,20,21,22,23,24,25,26,27,28,29,30,31,32,33,34,35,36,37,38,39,40,41,42,43,44,45,46,47,48,49,50,51,52,1,2,3,4,5,6,7,8,9,10,11,12,13,14,15,16,17,18,19,20,21,22,23,24,25,26,27,28,29,30,31,32,33,34,35,36,37,38,39,40,41,42,43,44,45,46,47,48,49,50,51,52,1,2,3,4,5,6,7,8,9,10,11,12,13,14,15,16,17,18,19,20,21,22,23,24,25,26,27,28,29,30,31,32,33,34,35,36,37,38,39,40,41,42,43,44,45,46,47,48,49,50,51,52,1,2,3,4,5,6,7,8,9,10,11,12,13,14,15,16,17,18,19,20,21,22,23,24,25,26,27,28,29,30,31,32,33,34,35,36,37,38,39,40,41,42,43,44,45,46,47,48,49,50,51,52]
[null,"W/C","2016-04-04",{"$f":"C6+7","v":"2016-04-11"},{"$f":"D6+7","v":"2016-04-18"},"2016-04-25","2016-05-02","2016-05-09","2016-05-16","2016-05-23","2016-05-30","2016-06-06","2016-06-13","2016-06-20","2016-06-27","2016-07-04","2016-07-11","2016-07-18","2016-07-25","2016-08-01","2016-08-08","2016-08-15","2016-08-22","2016-08-29","2016-09-05","2016-09-12","2016-09-19","2016-09-26","2016-10-03","2016-10-10","2016-10-17","2016-10-24","2016-10-31","2016-11-07","2016-11-14","2016-11-21","2016-11-28","2016-12-05","2016-12-12","2016-12-19","2016-12-26","2017-01-02","2017-01-09","2017-01-16","2017-01-23","2017-01-30","2017-02-06","2017-02-13","2017-02-20","2017-02-27","2017-03-06","2017-03-13","2017-03-20","2017-03-27","2017-04-03","2017-04-10","2017-04-17","2017-04-24","2017-05-01","2017-05-08","2017-05-15","2017-05-22","2017-05-29","2017-06-05","2017-06-12","2017-06-19","2017-06-26","2017-07-03",{"$f":"BP6+7","v":"2017-07-10"},"2017-07-17","2017-07-24","2017-07-31","2017-08-07","2017-08-14","2017-08-21","2017-08-28","2017-09-04","2017-09-11","2017-09-18","2017-09-25","2017-10-02","2017-10-09","2017-10-16","2017-10-23","2017-10-30","2017-11-06","2017-11-13","2017-11-20","2017-11-27","2017-12-04","2017-12-11","2017-12-18","2017-12-25","2018-01-01","2018-01-08","2018-01-15","2018-01-22","2018-01-29","2018-02-05","2018-02-12","2018-02-19","2018-02-26","2018-03-05","2018-03-12","2018-03-19","2018-03-26","2018-04-02","2018-04-09","2018-04-16","2018-04-23","2018-04-30","2018-05-07","2018-05-14","2018-05-21","2018-05-28","2018-06-04","2018-06-11","2018-06-18","2018-06-25","2018-07-02","2018-07-09","2018-07-16","2018-07-23","2018-07-30","2018-08-06","2018-08-13","2018-08-20","2018-08-27","2018-09-03","2018-09-10","2018-09-17","2018-09-24",{"$f":"EB6+7","v":"2018-10-01"},"2018-10-08","2018-10-15","2018-10-22","2018-10-29","2018-11-05","2018-11-12","2018-11-19","2018-11-26","2018-12-03","2018-12-10","2018-12-17","2018-12-24","2018-12-31","2019-01-07","2019-01-14","2019-01-21","2019-01-28","2019-02-04","2019-02-11","2019-02-18","2019-02-25","2019-03-04","2019-03-11","2019-03-18","2019-03-25","2019-04-01","2019-04-08","2019-04-15","2019-04-22","2019-04-29","2019-05-06","2019-05-13","2019-05-20","2019-05-27","2019-06-03","2019-06-10","2019-06-17","2019-06-24","2019-07-01","2019-07-08","2019-07-15","2019-07-22","2019-07-29","2019-08-05","2019-08-12","2019-08-19","2019-08-26","2019-09-02","2019-09-09","2019-09-16","2019-09-23","2019-09-30","2019-10-07","2019-10-14","2019-10-21","2019-10-28","2019-11-04","2019-11-11","2019-11-18","2019-11-25","2019-12-02","2019-12-09","2019-12-16",{"$f":"GN6+7","v":"2019-12-23"},"2019-12-30","2020-01-06","2020-01-13","2020-01-20","2020-01-27","2020-02-03","2020-02-10","2020-02-17","2020-02-24","2020-03-02","2020-03-09","2020-03-16","2020-03-23","2020-03-30","2020-04-06","2020-04-13","2020-04-20","2020-04-27","2020-05-04","2020-05-11","2020-05-18","2020-05-25","2020-06-01","2020-06-08","2020-06-15","2020-06-22","2020-06-29","2020-07-06","2020-07-13","2020-07-20","2020-07-27","2020-08-03","2020-08-10","2020-08-17","2020-08-24","2020-08-31","2020-09-07","2020-09-14","2020-09-21","2020-09-28","2020-10-05","2020-10-12","2020-10-19","2020-10-26","2020-11-02","2020-11-09","2020-11-16","2020-11-23","2020-11-30","2020-12-07","2020-12-14","2020-12-21","2020-12-28","2021-01-04","2021-01-11","2021-01-18","2021-01-25","2021-02-01","2021-02-08","2021-02-15","2021-02-22","2021-03-01","2021-03-08",{"$f":"IZ6+7","v":"2021-03-15"},"2021-03-22"]
[null,"Number to Screen",5,5,5,5,5,5,5,5,5,5,5,5,5,5,5,5,5,5,5,5,5,5,5,5,5,5,5,5,5,5,5,5,5,5,5,5,5,5,5,5,5,5,5,5,5,5,5,5,5,5,5,5,5,5,5,5]
[null,"Number to Recruit",5,5,5,5,5,5,5,5,5,5,5,5,5,5,5,5,5,5,5,5,5,5,5,5,5,5,5,5,5,5,5,5,5,5,5,5,5,5,5,5,5,5,5,5,5,5,5,5,5,5,5,5,5,5,5,5]
[null,"Cumulative Screening",{"$f":"IF(C7<>\"\",C7,0)","v":5},{"$f":"IF(D7<>\"\",D7+C9,C9)","v":10},15,20,25,30,35,40,45,50,55,60,65,70,75,80,85,90,95,100,105,110,115,120,125,130,135,140,145,150,155,160,165,170,175,180,185,190,195,200,205,210,215,220,225,230,235,240,245,250,255,260,265,270,275,280,280,280,280,280,280,280,280,280,280,{"$f":"IF(BP7<>\"\",BP7+BO9,BO9)","v":280},280,280,280,280,280,280,280,280,280,280,280,280,280,280,280,280,280,280,280,280,280,280,280,280,280,280,280,280,280,280,280,280,280,280,280,280,280,280,280,280,280,280,280,280,280,280,280,280,280,280,280,280,280,280,280,280,280,280,280,280,280,280,280,{"$f":"IF(EB7<>\"\",EB7+EA9,EA9)","v":280},280,280,280,280,280,280,280,280,280,280,280,280,280,280,280,280,280,280,280,280,280,280,280,280,280,280,280,280,280,280,280,280,280,280,280,280,280,280,280,280,280,280,280,280,280,280,280,280,280,280,280,280,280,280,280,280,280,280,280,280,280,280,280,{"$f":"IF(GN7<>\"\",GN7+GM9,GM9)","v":280},280,280,280,280,280,280,280,280,280,280,280,280,280,280,280,280,280,280,280,280,280,280,280,280,280,280,280,280,280,280,280,280,280,280,280,280,280,280,280,280,280,280,280,280,280,280,280,280,280,280,280,280,280,280,280,280,280,280,280,280,280,280,280,{"$f":"IF(IZ7<>\"\",IZ7+IY9,IY9)","v":280},280,280]
[null,"Cumulative Rec",{"$f":"IF(C8<>\"\",C8,0)","v":5},10,15,20,25,30,35,40,45,50,55,60,65,70,75,80,85,90,95,100,105,110,115,120,125,130,135,140,145,150,155,160,165,170,175,180,185,190,195,200,205,210,215,220,225,230,235,240,245,250,255,260,265,270,275,280,280,280,280,280,280,280,280,280,280,280,280,280,280,280,280,280,280,280,280,280,280,280,280,280,280,280,280,280,280,280,280,280,280,280,280,280,280,280,280,280,280,280,280,280,280,280,280,280,280,280,280,280,280,280,280,280,280,280,280,280,280,280,280,280,280,280,280,280,280,280,280,280,280,280,280,280,280,280,280,280,280,280,280,280,280,280,280,280,280,280,280,280,280,280,280,280,280,280,280,280,280,280,280,280,280,280,280,280,280,280,280,280,280,280,280,280,280,280,280,280,280,280,280,280,280,280,280,280,280,280,280,280,280,280,280,280,280,280,280,280,280,280,280,280,280,280,280,280,280,280,280,280,280,280,280,280,280,280,280,280,280,280,280,280,280,280,280,280,280,280,280,280,280,280,280,280,280,280,280,280,280,280,280,280,280,280,280,280,280,280,280,280,280,280,280,280,280,280,280,280,280,280,280,280]
[null,"TOTAL Screening Duration",{"$f":"C7*$C$54","v":5.2083333333333329E-2},{"$f":"D7*$C$54","v":5.2083333333333329E-2},5.2083333333333329E-2,5.2083333333333329E-2,5.2083333333333329E-2,5.2083333333333329E-2,5.2083333333333329E-2,5.2083333333333329E-2,5.2083333333333329E-2,5.2083333333333329E-2,5.2083333333333329E-2,5.2083333333333329E-2,5.2083333333333329E-2,5.2083333333333329E-2,5.2083333333333329E-2,5.2083333333333329E-2,5.2083333333333329E-2,5.2083333333333329E-2,5.2083333333333329E-2,5.2083333333333329E-2,5.2083333333333329E-2,5.2083333333333329E-2,5.2083333333333329E-2,5.2083333333333329E-2,5.2083333333333329E-2,5.2083333333333329E-2,5.2083333333333329E-2,5.2083333333333329E-2,5.2083333333333329E-2,5.2083333333333329E-2,5.2083333333333329E-2,5.2083333333333329E-2,5.2083333333333329E-2,5.2083333333333329E-2,5.2083333333333329E-2,5.2083333333333329E-2,5.2083333333333329E-2,5.2083333333333329E-2,5.2083333333333329E-2,5.2083333333333329E-2,5.2083333333333329E-2,5.2083333333333329E-2,5.2083333333333329E-2,5.2083333333333329E-2,5.2083333333333329E-2,5.2083333333333329E-2,5.2083333333333329E-2,5.2083333333333329E-2,5.2083333333333329E-2,5.2083333333333329E-2,5.2083333333333329E-2,5.2083333333333329E-2,5.2083333333333329E-2,5.2083333333333329E-2,5.2083333333333329E-2,5.2083333333333329E-2,0,0,0,0,0,0,0,0,0,{"$f":"BP7*$C$54","v":0},0,0,0,0,0,0,0,0,0,0,0,0,0,0,0,0,0,0,0,0,0,0,0,0,0,0,0,0,0,0,0,0,0,0,0,0,0,0,0,0,0,0,0,0,0,0,0,0,0,0,0,0,0,0,0,0,0,0,0,0,0,0,0,{"$f":"EB7*$C$54","v":0},0,0,0,0,0,0,0,0,0,0,0,0,0,0,0,0,0,0,0,0,0,0,0,0,0,0,0,0,0,0,0,0,0,0,0,0,0,0,0,0,0,0,0,0,0,0,0,0,0,0,0,0,0,0,0,0,0,0,0,0,0,0,0,{"$f":"GN7*$C$54","v":0},0,0,0,0,0,0,0,0,0,0,0,0,0,0,0,0,0,0,0,0,0,0,0,0,0,0,0,0,0,0,0,0,0,0,0,0,0,0,0,0,0,0,0,0,0,0,0,0,0,0,0,0,0,0,0,0,0,0,0,0,0,0,0,{"$f":"IZ7*$C$54","v":0},{"$f":"JA7*$C$54","v":0},{"$f":"JB7*$C$54","v":0}]
[null,"TOTAL Rec Duration",0.41666666666666663,0.41666666666666663,0.41666666666666663,0.41666666666666663,0.41666666666666663,0.41666666666666663,0.41666666666666663,0.41666666666666663,0.41666666666666663,0.41666666666666663,0.41666666666666663,0.41666666666666663,0.41666666666666663,0.41666666666666663,0.41666666666666663,0.41666666666666663,0.41666666666666663,0.41666666666666663,0.41666666666666663,0.41666666666666663,0.41666666666666663,0.41666666666666663,0.41666666666666663,0.41666666666666663,0.41666666666666663,0.41666666666666663,0.41666666666666663,0.41666666666666663,0.41666666666666663,0.41666666666666663,0.41666666666666663,0.41666666666666663,0.41666666666666663,0.41666666666666663,0.41666666666666663,0.41666666666666663,0.41666666666666663,0.41666666666666663,0.41666666666666663,0.41666666666666663,0.41666666666666663,0.41666666666666663,0.41666666666666663,0.41666666666666663,0.41666666666666663,0.41666666666666663,0.41666666666666663,0.41666666666666663,0.41666666666666663,0.41666666666666663,0.41666666666666663,0.41666666666666663,0.41666666666666663,0.41666666666666663,0.41666666666666663,0.41666666666666663,0,0,0,0,0,0,0,0,0,0,0,0,0,0,0,0,0,0,0,0,0,0,0,0,0,0,0,0,0,0,0,0,0,0,0,0,0,0,0,0,0,0,0,0,0,0,0,0,0,0,0,0,0,0,0,0,0,0,0,0,0,0,0,0,0,0,0,0,0,0,0,0,0,0,0,0,0,0,0,0,0,0,0,0,0,0,0,0,0,0,0,0,0,0,0,0,0,0,0,0,0,0,0,0,0,0,0,0,0,0,0,0,0,0,0,0,0,0,0,0,0,0,0,0,0,0,0,0,0,0,0,0,0,0,0,0,0,0,0,0,0,0,0,0,0,0,0,0,0,0,0,0,0,0,0,0,0,0,0,0,0,0,0,0,0,0,0,0,0,0,0,0,0,0,0,0,0,0,0,0,0,0,0,0,0,0,0,0,0,0,0,0,0,0,0,0,0,0,0,0,0,0,0,0]
[null,"TOTAL F/U Duration",null,5.2083333333333329E-2,5.2083333333333329E-2,5.2083333333333329E-2,5.2083333333333329E-2,5.2083333333333329E-2,5.2083333333333329E-2,5.2083333333333329E-2,5.2083333333333329E-2,5.2083333333333329E-2,5.2083333333333329E-2,5.2083333333333329E-2,5.2083333333333329E-2,5.2083333333333329E-2,5.2083333333333329E-2,5.2083333333333329E-2,5.2083333333333329E-2,5.2083333333333329E-2,5.2083333333333329E-2,5.2083333333333329E-2,5.2083333333333329E-2,5.2083333333333329E-2,5.2083333333333329E-2,5.2083333333333329E-2,5.2083333333333329E-2,5.2083333333333329E-2,5.2083333333333329E-2,5.2083333333333329E-2,5.2083333333333329E-2,5.2083333333333329E-2,5.2083333333333329E-2,5.2083333333333329E-2,5.2083333333333329E-2,5.2083333333333329E-2,5.2083333333333329E-2,5.2083333333333329E-2,5.2083333333333329E-2,5.2083333333333329E-2,5.2083333333333329E-2,5.2083333333333329E-2,5.2083333333333329E-2,5.2083333333333329E-2,5.2083333333333329E-2,5.2083333333333329E-2,5.2083333333333329E-2,5.2083333333333329E-2,5.2083333333333329E-2,5.2083333333333329E-2,5.2083333333333329E-2,5.2083333333333329E-2,5.2083333333333329E-2,5.2083333333333329E-2,5.2083333333333329E-2,0.10416666666666666,0.10416666666666666,0.10416666666666666,0.10416666666666666,5.2083333333333329E-2,5.2083333333333329E-2,5.2083333333333329E-2,5.2083333333333329E-2,5.2083333333333329E-2,5.2083333333333329E-2,5.2083333333333329E-2,5.2083333333333329E-2,5.2083333333333329E-2,5.2083333333333329E-2,5.2083333333333329E-2,5.2083333333333329E-2,5.2083333333333329E-2,5.2083333333333329E-2,5.2083333333333329E-2,5.2083333333333329E-2,5.2083333333333329E-2,5.2083333333333329E-2,5.2083333333333329E-2,5.2083333333333329E-2,5.2083333333333329E-2,5.2083333333333329E-2,5.2083333333333329E-2,5.2083333333333329E-2,5.2083333333333329E-2,5.2083333333333329E-2,5.2083333333333329E-2,5.2083333333333329E-2,5.2083333333333329E-2,5.2083333333333329E-2,5.2083333333333329E-2,5.2083333333333329E-2,5.2083333333333329E-2,5.2083333333333329E-2,5.2083333333333329E-2,5.2083333333333329E-2,5.2083333333333329E-2,5.2083333333333329E-2,5.2083333333333329E-2,5.2083333333333329E-2,5.2083333333333329E-2,5.2083333333333329E-2,5.2083333333333329E-2,5.2083333333333329E-2,5.2083333333333329E-2,5.2083333333333329E-2,5.2083333333333329E-2,5.2083333333333329E-2,5.2083333333333329E-2,5.2083333333333329E-2,5.2083333333333329E-2,5.2083333333333329E-2,0,0,0,0,0,0,0,0,0,0,0,0,0,0,0,0,0,0,0,0,0,0,0,0,0,0,0,0,0,0,0,0,0,0,0,0,0,0,0,0,0,0,0,0,0,0,0,0,0,0,0,0,0,0,0,0,0,0,0,0,0,0,0,0,0,0,0,0,0,0,0,0,0,0,0,0,0,0,0,0,0,0,0,0,0,0,0,0,0,0,0,0,0,0,0,0,0,0,0,0,0,0,0,0,0,0,0,0,0,0,0,0,0,0,0,0,0,0,0,0,0,0,0,0,0,0,0,0,0,0,0,0,0,0,0,0,0,0,0,0,0,0,0,0,0,0,0,0,0,0,0,0]
[null,"TOTAL Time Burden",{"$f":"SUM(C11:C13)","v":0.46874999999999994},{"$f":"SUM(D11:D13)","v":0.52083333333333326},0.52083333333333326,0.52083333333333326,0.52083333333333326,0.52083333333333326,0.52083333333333326,0.52083333333333326,0.52083333333333326,0.52083333333333326,0.52083333333333326,0.52083333333333326,0.52083333333333326,0.52083333333333326,0.52083333333333326,0.52083333333333326,0.52083333333333326,0.52083333333333326,0.52083333333333326,0.52083333333333326,0.52083333333333326,0.52083333333333326,0.52083333333333326,0.52083333333333326,0.52083333333333326,0.52083333333333326,0.52083333333333326,0.52083333333333326,0.52083333333333326,0.52083333333333326,0.52083333333333326,0.52083333333333326,0.52083333333333326,0.52083333333333326,0.52083333333333326,0.52083333333333326,0.52083333333333326,0.52083333333333326,0.52083333333333326,0.52083333333333326,0.52083333333333326,0.52083333333333326,0.52083333333333326,0.52083333333333326,0.52083333333333326,0.52083333333333326,0.52083333333333326,0.52083333333333326,0.52083333333333326,0.52083333333333326,0.52083333333333326,0.52083333333333326,0.52083333333333326,0.57291666666666663,0.57291666666666663,0.57291666666666663,0.10416666666666666,5.2083333333333329E-2,5.2083333333333329E-2,5.2083333333333329E-2,5.2083333333333329E-2,5.2083333333333329E-2,5.2083333333333329E-2,5.2083333333333329E-2,5.2083333333333329E-2,{"$f":"SUM(BP11:BP13)","v":5.2083333333333329E-2},5.2083333333333329E-2,5.2083333333333329E-2,5.2083333333333329E-2,5.2083333333333329E-2,5.2083333333333329E-2,5.2083333333333329E-2,5.2083333333333329E-2,5.2083333333333329E-2,5.2083333333333329E-2,5.2083333333333329E-2,5.2083333333333329E-2,5.2083333333333329E-2,5.2083333333333329E-2,5.2083333333333329E-2,5.2083333333333329E-2,5.2083333333333329E-2,5.2083333333333329E-2,5.2083333333333329E-2,5.2083333333333329E-2,5.2083333333333329E-2,5.2083333333333329E-2,5.2083333333333329E-2,5.2083333333333329E-2,5.2083333333333329E-2,5.2083333333333329E-2,5.2083333333333329E-2,5.2083333333333329E-2,5.2083333333333329E-2,5.2083333333333329E-2,5.2083333333333329E-2,5.2083333333333329E-2,5.2083333333333329E-2,5.2083333333333329E-2,5.2083333333333329E-2,5.2083333333333329E-2,5.2083333333333329E-2,5.2083333333333329E-2,5.2083333333333329E-2,5.2083333333333329E-2,5.2083333333333329E-2,5.2083333333333329E-2,5.2083333333333329E-2,5.2083333333333329E-2,0,0,0,0,0,0,0,0,0,0,0,0,0,0,0,0,0,0,0,0,{"$f":"SUM(EB11:EB13)","v":0},0,0,0,0,0,0,0,0,0,0,0,0,0,0,0,0,0,0,0,0,0,0,0,0,0,0,0,0,0,0,0,0,0,0,0,0,0,0,0,0,0,0,0,0,0,0,0,0,0,0,0,0,0,0,0,0,0,0,0,0,0,0,0,{"$f":"SUM(GN11:GN13)","v":0},0,0,0,0,0,0,0,0,0,0,0,0,0,0,0,0,0,0,0,0,0,0,0,0,0,0,0,0,0,0,0,0,0,0,0,0,0,0,0,0,0,0,0,0,0,0,0,0,0,0,0,0,0,0,0,0,0,0,0,0,0,0,0,{"$f":"SUM(IZ11:IZ13)","v":0},{"$f":"SUM(JA11:JA13)","v":0},{"$f":"SUM(JB11:JB13)","v":0}]
["Screening - Staff Grade Split",1,{"$f":"C7*$E$54","v":0},{"$f":"D7*$E$54","v":0},0,0,0,0,0,0,0,0,0,0,0,0,0,0,0,0,0,0,0,0,0,0,0,0,0,0,0,0,0,0,0,0,0,0,0,0,0,0,0,0,0,0,0,0,0,0,0,0,0,0,0,0,0,0,0,0,0,0,0,0,0,0,0,{"$f":"BP7*$E$54","v":0},0,0,0,0,0,0,0,0,0,0,0,0,0,0,0,0,0,0,0,0,0,0,0,0,0,0,0,0,0,0,0,0,0,0,0,0,0,0,0,0,0,0,0,0,0,0,0,0,0,0,0,0,0,0,0,0,0,0,0,0,0,0,0,{"$f":"EB7*$E$54","v":0},0,0,0,0,0,0,0,0,0,0,0,0,0,0,0,0,0,0,0,0,0,0,0,0,0,0,0,0,0,0,0,0,0,0,0,0,0,0,0,0,0,0,0,0,0,0,0,0,0,0,0,0,0,0,0,0,0,0,0,0,0,0,0,{"$f":"GN7*$E$54","v":0},0,0,0,0,0,0,0,0,0,0,0,0,0,0,0,0,0,0,0,0,0,0,0,0,0,0,0,0,0,0,0,0,0,0,0,0,0,0,0,0,0,0,0,0,0,0,0,0,0,0,0,0,0,0,0,0,0,0,0,0,0,0,0,{"$f":"IZ7*$E$54","v":0},{"$f":"JA7*$E$54","v":0},{"$f":"JB7*$E$54","v":0}]
[null,2,{"$f":"C7*$F$54","v":0},{"$f":"D7*$F$54","v":0},0,0,0,0,0,0,0,0,0,0,0,0,0,0,0,0,0,0,0,0,0,0,0,0,0,0,0,0,0,0,0,0,0,0,0,0,0,0,0,0,0,0,0,0,0,0,0,0,0,0,0,0,0,0,0,0,0,0,0,0,0,0,0,{"$f":"BP7*$F$54","v":0},0,0,0,0,0,0,0,0,0,0,0,0,0,0,0,0,0,0,0,0,0,0,0,0,0,0,0,0,0,0,0,0,0,0,0,0,0,0,0,0,0,0,0,0,0,0,0,0,0,0,0,0,0,0,0,0,0,0,0,0,0,0,0,{"$f":"EB7*$F$54","v":0},0,0,0,0,0,0,0,0,0,0,0,0,0,0,0,0,0,0,0,0,0,0,0,0,0,0,0,0,0,0,0,0,0,0,0,0,0,0,0,0,0,0,0,0,0,0,0,0,0,0,0,0,0,0,0,0,0,0,0,0,0,0,0,{"$f":"GN7*$F$54","v":0},0,0,0,0,0,0,0,0,0,0,0,0,0,0,0,0,0,0,0,0,0,0,0,0,0,0,0,0,0,0,0,0,0,0,0,0,0,0,0,0,0,0,0,0,0,0,0,0,0,0,0,0,0,0,0,0,0,0,0,0,0,0,0,{"$f":"IZ7*$F$54","v":0},{"$f":"JA7*$F$54","v":0},{"$f":"JB7*$F$54","v":0}]
[null,3,{"$f":"C$7*$G$54","v":0},{"$f":"D$7*$G$54","v":0},0,0,0,0,0,0,0,0,0,0,0,0,0,0,0,0,0,0,0,0,0,0,0,0,0,0,0,0,0,0,0,0,0,0,0,0,0,0,0,0,0,0,0,0,0,0,0,0,0,0,0,0,0,0,0,0,0,0,0,0,0,0,0,{"$f":"BP$7*$G$54","v":0},0,0,0,0,0,0,0,0,0,0,0,0,0,0,0,0,0,0,0,0,0,0,0,0,0,0,0,0,0,0,0,0,0,0,0,0,0,0,0,0,0,0,0,0,0,0,0,0,0,0,0,0,0,0,0,0,0,0,0,0,0,0,0,{"$f":"EB$7*$G$54","v":0},0,0,0,0,0,0,0,0,0,0,0,0,0,0,0,0,0,0,0,0,0,0,0,0,0,0,0,0,0,0,0,0,0,0,0,0,0,0,0,0,0,0,0,0,0,0,0,0,0,0,0,0,0,0,0,0,0,0,0,0,0,0,0,{"$f":"GN$7*$G$54","v":0},0,0,0,0,0,0,0,0,0,0,0,0,0,0,0,0,0,0,0,0,0,0,0,0,0,0,0,0,0,0,0,0,0,0,0,0,0,0,0,0,0,0,0,0,0,0,0,0,0,0,0,0,0,0,0,0,0,0,0,0,0,0,0,{"$f":"IZ$7*$G$54","v":0},{"$f":"JA$7*$G$54","v":0},{"$f":"JB$7*$G$54","v":0}]
[null,4,{"$f":"C$7*$H$54","v":5.2083333333333329E-2},{"$f":"D$7*$H$54","v":5.2083333333333329E-2},5.2083333333333329E-2,5.2083333333333329E-2,5.2083333333333329E-2,5.2083333333333329E-2,5.2083333333333329E-2,5.2083333333333329E-2,5.2083333333333329E-2,5.2083333333333329E-2,5.2083333333333329E-2,5.2083333333333329E-2,5.2083333333333329E-2,5.2083333333333329E-2,5.2083333333333329E-2,5.2083333333333329E-2,5.2083333333333329E-2,5.2083333333333329E-2,5.2083333333333329E-2,5.2083333333333329E-2,5.2083333333333329E-2,5.2083333333333329E-2,5.2083333333333329E-2,5.2083333333333329E-2,5.2083333333333329E-2,5.2083333333333329E-2,5.2083333333333329E-2,5.2083333333333329E-2,5.2083333333333329E-2,5.2083333333333329E-2,5.2083333333333329E-2,5.2083333333333329E-2,5.2083333333333329E-2,5.2083333333333329E-2,5.2083333333333329E-2,5.2083333333333329E-2,5.2083333333333329E-2,5.2083333333333329E-2,5.2083333333333329E-2,5.2083333333333329E-2,5.2083333333333329E-2,5.2083333333333329E-2,5.2083333333333329E-2,5.2083333333333329E-2,5.2083333333333329E-2,5.2083333333333329E-2,5.2083333333333329E-2,5.2083333333333329E-2,5.2083333333333329E-2,5.2083333333333329E-2,5.2083333333333329E-2,5.2083333333333329E-2,5.2083333333333329E-2,5.2083333333333329E-2,5.2083333333333329E-2,5.2083333333333329E-2,0,0,0,0,0,0,0,0,0,{"$f":"BP$7*$H$54","v":0},0,0,0,0,0,0,0,0,0,0,0,0,0,0,0,0,0,0,0,0,0,0,0,0,0,0,0,0,0,0,0,0,0,0,0,0,0,0,0,0,0,0,0,0,0,0,0,0,0,0,0,0,0,0,0,0,0,0,0,0,0,0,0,{"$f":"EB$7*$H$54","v":0},0,0,0,0,0,0,0,0,0,0,0,0,0,0,0,0,0,0,0,0,0,0,0,0,0,0,0,0,0,0,0,0,0,0,0,0,0,0,0,0,0,0,0,0,0,0,0,0,0,0,0,0,0,0,0,0,0,0,0,0,0,0,0,{"$f":"GN$7*$H$54","v":0},0,0,0,0,0,0,0,0,0,0,0,0,0,0,0,0,0,0,0,0,0,0,0,0,0,0,0,0,0,0,0,0,0,0,0,0,0,0,0,0,0,0,0,0,0,0,0,0,0,0,0,0,0,0,0,0,0,0,0,0,0,0,0,{"$f":"IZ$7*$H$54","v":0},{"$f":"JA$7*$H$54","v":0},{"$f":"JB$7*$H$54","v":0}]
[null,5,{"$f":"C$7*$I$54","v":0},{"$f":"D$7*$I$54","v":0},0,0,0,0,0,0,0,0,0,0,0,0,0,0,0,0,0,0,0,0,0,0,0,0,0,0,0,0,0,0,0,0,0,0,0,0,0,0,0,0,0,0,0,0,0,0,0,0,0,0,0,0,0,0,0,0,0,0,0,0,0,0,0,{"$f":"BP$7*$I$54","v":0},0,0,0,0,0,0,0,0,0,0,0,0,0,0,0,0,0,0,0,0,0,0,0,0,0,0,0,0,0,0,0,0,0,0,0,0,0,0,0,0,0,0,0,0,0,0,0,0,0,0,0,0,0,0,0,0,0,0,0,0,0,0,0,{"$f":"EB$7*$I$54","v":0},0,0,0,0,0,0,0,0,0,0,0,0,0,0,0,0,0,0,0,0,0,0,0,0,0,0,0,0,0,0,0,0,0,0,0,0,0,0,0,0,0,0,0,0,0,0,0,0,0,0,0,0,0,0,0,0,0,0,0,0,0,0,0,{"$f":"GN$7*$I$54","v":0},0,0,0,0,0,0,0,0,0,0,0,0,0,0,0,0,0,0,0,0,0,0,0,0,0,0,0,0,0,0,0,0,0,0,0,0,0,0,0,0,0,0,0,0,0,0,0,0,0,0,0,0,0,0,0,0,0,0,0,0,0,0,0,{"$f":"IZ$7*$I$54","v":0},{"$f":"JA$7*$I$54","v":0},{"$f":"JB$7*$I$54","v":0}]
[null,6,{"$f":"C$7*$J$54","v":0},{"$f":"D$7*$J$54","v":0},0,0,0,0,0,0,0,0,0,0,0,0,0,0,0,0,0,0,0,0,0,0,0,0,0,0,0,0,0,0,0,0,0,0,0,0,0,0,0,0,0,0,0,0,0,0,0,0,0,0,0,0,0,0,0,0,0,0,0,0,0,0,0,{"$f":"BP$7*$J$54","v":0},0,0,0,0,0,0,0,0,0,0,0,0,0,0,0,0,0,0,0,0,0,0,0,0,0,0,0,0,0,0,0,0,0,0,0,0,0,0,0,0,0,0,0,0,0,0,0,0,0,0,0,0,0,0,0,0,0,0,0,0,0,0,0,{"$f":"EB$7*$J$54","v":0},0,0,0,0,0,0,0,0,0,0,0,0,0,0,0,0,0,0,0,0,0,0,0,0,0,0,0,0,0,0,0,0,0,0,0,0,0,0,0,0,0,0,0,0,0,0,0,0,0,0,0,0,0,0,0,0,0,0,0,0,0,0,0,{"$f":"GN$7*$J$54","v":0},0,0,0,0,0,0,0,0,0,0,0,0,0,0,0,0,0,0,0,0,0,0,0,0,0,0,0,0,0,0,0,0,0,0,0,0,0,0,0,0,0,0,0,0,0,0,0,0,0,0,0,0,0,0,0,0,0,0,0,0,0,0,0,{"$f":"IZ$7*$J$54","v":0},{"$f":"JA$7*$J$54","v":0},{"$f":"JB$7*$J$54","v":0}]
[null,7,{"$f":"C$7*$K$54","v":0},{"$f":"D$7*$K$54","v":0},0,0,0,0,0,0,0,0,0,0,0,0,0,0,0,0,0,0,0,0,0,0,0,0,0,0,0,0,0,0,0,0,0,0,0,0,0,0,0,0,0,0,0,0,0,0,0,0,0,0,0,0,0,0,0,0,0,0,0,0,0,0,0,{"$f":"BP$7*$K$54","v":0},0,0,0,0,0,0,0,0,0,0,0,0,0,0,0,0,0,0,0,0,0,0,0,0,0,0,0,0,0,0,0,0,0,0,0,0,0,0,0,0,0,0,0,0,0,0,0,0,0,0,0,0,0,0,0,0,0,0,0,0,0,0,0,{"$f":"EB$7*$K$54","v":0},0,0,0,0,0,0,0,0,0,0,0,0,0,0,0,0,0,0,0,0,0,0,0,0,0,0,0,0,0,0,0,0,0,0,0,0,0,0,0,0,0,0,0,0,0,0,0,0,0,0,0,0,0,0,0,0,0,0,0,0,0,0,0,{"$f":"GN$7*$K$54","v":0},0,0,0,0,0,0,0,0,0,0,0,0,0,0,0,0,0,0,0,0,0,0,0,0,0,0,0,0,0,0,0,0,0,0,0,0,0,0,0,0,0,0,0,0,0,0,0,0,0,0,0,0,0,0,0,0,0,0,0,0,0,0,0,{"$f":"IZ$7*$K$54","v":0},{"$f":"JA$7*$K$54","v":0},{"$f":"JB$7*$K$54","v":0}]
[null,"8a",{"$f":"C$7*$L$54","v":0},{"$f":"D$7*$L$54","v":0},0,0,0,0,0,0,0,0,0,0,0,0,0,0,0,0,0,0,0,0,0,0,0,0,0,0,0,0,0,0,0,0,0,0,0,0,0,0,0,0,0,0,0,0,0,0,0,0,0,0,0,0,0,0,0,0,0,0,0,0,0,0,0,{"$f":"BP$7*$L$54","v":0},0,0,0,0,0,0,0,0,0,0,0,0,0,0,0,0,0,0,0,0,0,0,0,0,0,0,0,0,0,0,0,0,0,0,0,0,0,0,0,0,0,0,0,0,0,0,0,0,0,0,0,0,0,0,0,0,0,0,0,0,0,0,0,{"$f":"EB$7*$L$54","v":0},0,0,0,0,0,0,0,0,0,0,0,0,0,0,0,0,0,0,0,0,0,0,0,0,0,0,0,0,0,0,0,0,0,0,0,0,0,0,0,0,0,0,0,0,0,0,0,0,0,0,0,0,0,0,0,0,0,0,0,0,0,0,0,{"$f":"GN$7*$L$54","v":0},0,0,0,0,0,0,0,0,0,0,0,0,0,0,0,0,0,0,0,0,0,0,0,0,0,0,0,0,0,0,0,0,0,0,0,0,0,0,0,0,0,0,0,0,0,0,0,0,0,0,0,0,0,0,0,0,0,0,0,0,0,0,0,{"$f":"IZ$7*$L$54","v":0},{"$f":"JA$7*$L$54","v":0},{"$f":"JB$7*$L$54","v":0}]
[null,"8b",{"$f":"C$7*$M$54","v":0},{"$f":"D$7*$M$54","v":0},0,0,0,0,0,0,0,0,0,0,0,0,0,0,0,0,0,0,0,0,0,0,0,0,0,0,0,0,0,0,0,0,0,0,0,0,0,0,0,0,0,0,0,0,0,0,0,0,0,0,0,0,0,0,0,0,0,0,0,0,0,0,0,{"$f":"BP$7*$M$54","v":0},0,0,0,0,0,0,0,0,0,0,0,0,0,0,0,0,0,0,0,0,0,0,0,0,0,0,0,0,0,0,0,0,0,0,0,0,0,0,0,0,0,0,0,0,0,0,0,0,0,0,0,0,0,0,0,0,0,0,0,0,0,0,0,{"$f":"EB$7*$M$54","v":0},0,0,0,0,0,0,0,0,0,0,0,0,0,0,0,0,0,0,0,0,0,0,0,0,0,0,0,0,0,0,0,0,0,0,0,0,0,0,0,0,0,0,0,0,0,0,0,0,0,0,0,0,0,0,0,0,0,0,0,0,0,0,0,{"$f":"GN$7*$M$54","v":0},0,0,0,0,0,0,0,0,0,0,0,0,0,0,0,0,0,0,0,0,0,0,0,0,0,0,0,0,0,0,0,0,0,0,0,0,0,0,0,0,0,0,0,0,0,0,0,0,0,0,0,0,0,0,0,0,0,0,0,0,0,0,0,{"$f":"IZ$7*$M$54","v":0},{"$f":"JA$7*$M$54","v":0},{"$f":"JB$7*$M$54","v":0}]
[null,"8c",{"$f":"C$7*$N$54","v":0},{"$f":"D$7*$N$54","v":0},0,0,0,0,0,0,0,0,0,0,0,0,0,0,0,0,0,0,0,0,0,0,0,0,0,0,0,0,0,0,0,0,0,0,0,0,0,0,0,0,0,0,0,0,0,0,0,0,0,0,0,0,0,0,0,0,0,0,0,0,0,0,0,{"$f":"BP$7*$N$54","v":0},0,0,0,0,0,0,0,0,0,0,0,0,0,0,0,0,0,0,0,0,0,0,0,0,0,0,0,0,0,0,0,0,0,0,0,0,0,0,0,0,0,0,0,0,0,0,0,0,0,0,0,0,0,0,0,0,0,0,0,0,0,0,0,{"$f":"EB$7*$N$54","v":0},0,0,0,0,0,0,0,0,0,0,0,0,0,0,0,0,0,0,0,0,0,0,0,0,0,0,0,0,0,0,0,0,0,0,0,0,0,0,0,0,0,0,0,0,0,0,0,0,0,0,0,0,0,0,0,0,0,0,0,0,0,0,0,{"$f":"GN$7*$N$54","v":0},0,0,0,0,0,0,0,0,0,0,0,0,0,0,0,0,0,0,0,0,0,0,0,0,0,0,0,0,0,0,0,0,0,0,0,0,0,0,0,0,0,0,0,0,0,0,0,0,0,0,0,0,0,0,0,0,0,0,0,0,0,0,0,{"$f":"IZ$7*$N$54","v":0},{"$f":"JA$7*$N$54","v":0},{"$f":"JB$7*$N$54","v":0}]
[null,"8d",{"$f":"C$7*$O$54","v":0},{"$f":"D$7*$O$54","v":0},0,0,0,0,0,0,0,0,0,0,0,0,0,0,0,0,0,0,0,0,0,0,0,0,0,0,0,0,0,0,0,0,0,0,0,0,0,0,0,0,0,0,0,0,0,0,0,0,0,0,0,0,0,0,0,0,0,0,0,0,0,0,0,{"$f":"BP$7*$O$54","v":0},0,0,0,0,0,0,0,0,0,0,0,0,0,0,0,0,0,0,0,0,0,0,0,0,0,0,0,0,0,0,0,0,0,0,0,0,0,0,0,0,0,0,0,0,0,0,0,0,0,0,0,0,0,0,0,0,0,0,0,0,0,0,0,{"$f":"EB$7*$O$54","v":0},0,0,0,0,0,0,0,0,0,0,0,0,0,0,0,0,0,0,0,0,0,0,0,0,0,0,0,0,0,0,0,0,0,0,0,0,0,0,0,0,0,0,0,0,0,0,0,0,0,0,0,0,0,0,0,0,0,0,0,0,0,0,0,{"$f":"GN$7*$O$54","v":0},0,0,0,0,0,0,0,0,0,0,0,0,0,0,0,0,0,0,0,0,0,0,0,0,0,0,0,0,0,0,0,0,0,0,0,0,0,0,0,0,0,0,0,0,0,0,0,0,0,0,0,0,0,0,0,0,0,0,0,0,0,0,0,{"$f":"IZ$7*$O$54","v":0},{"$f":"JA$7*$O$54","v":0},{"$f":"JB$7*$O$54","v":0}]
[null,9,{"$f":"C$7*$P$54","v":0},{"$f":"D$7*$P$54","v":0},0,0,0,0,0,0,0,0,0,0,0,0,0,0,0,0,0,0,0,0,0,0,0,0,0,0,0,0,0,0,0,0,0,0,0,0,0,0,0,0,0,0,0,0,0,0,0,0,0,0,0,0,0,0,0,0,0,0,0,0,0,0,0,{"$f":"BP$7*$P$54","v":0},0,0,0,0,0,0,0,0,0,0,0,0,0,0,0,0,0,0,0,0,0,0,0,0,0,0,0,0,0,0,0,0,0,0,0,0,0,0,0,0,0,0,0,0,0,0,0,0,0,0,0,0,0,0,0,0,0,0,0,0,0,0,0,{"$f":"EB$7*$P$54","v":0},0,0,0,0,0,0,0,0,0,0,0,0,0,0,0,0,0,0,0,0,0,0,0,0,0,0,0,0,0,0,0,0,0,0,0,0,0,0,0,0,0,0,0,0,0,0,0,0,0,0,0,0,0,0,0,0,0,0,0,0,0,0,0,{"$f":"GN$7*$P$54","v":0},0,0,0,0,0,0,0,0,0,0,0,0,0,0,0,0,0,0,0,0,0,0,0,0,0,0,0,0,0,0,0,0,0,0,0,0,0,0,0,0,0,0,0,0,0,0,0,0,0,0,0,0,0,0,0,0,0,0,0,0,0,0,0,{"$f":"IZ$7*$P$54","v":0},{"$f":"JA$7*$P$54","v":0},{"$f":"JB$7*$P$54","v":0}]
["Recruitment - Staff Grade Split",1,0,0,0,0,0,0,0,0,0,0,0,0,0,0,0,0,0,0,0,0,0,0,0,0,0,0,0,0,0,0,0,0,0,0,0,0,0,0,0,0,0,0,0,0,0,0,0,0,0,0,0,0,0,0,0,0,0,0,0,0,0,0,0,0,0,0,0,0,0,0,0,0,0,0,0,0,0,0,0,0,0,0,0,0,0,0,0,0,0,0,0,0,0,0,0,0,0,0,0,0,0,0,0,0,0,0,0,0,0,0,0,0,0,0,0,0,0,0,0,0,0,0,0,0,0,0,0,0,0,0,0,0,0,0,0,0,0,0,0,0,0,0,0,0,0,0,0,0,0,0,0,0,0,0,0,0,0,0,0,0,0,0,0,0,0,0,0,0,0,0,0,0,0,0,0,0,0,0,0,0,0,0,0,0,0,0,0,0,0,0,0,0,0,0,0,0,0,0,0,0,0,0,0,0,0,0,0,0,0,0,0,0,0,0,0,0,0,0,0,0,0,0,0,0,0,0,0,0,0,0,0,0,0,0,0,0,0,0,0,0,0,0,0,0,0,0,0,0,0,0,0,0,0,0,0,0,0,0,0,0]
[null,2,0,0,0,0,0,0,0,0,0,0,0,0,0,0,0,0,0,0,0,0,0,0,0,0,0,0,0,0,0,0,0,0,0,0,0,0,0,0,0,0,0,0,0,0,0,0,0,0,0,0,0,0,0,0,0,0,0,0,0,0,0,0,0,0,0,0,0,0,0,0,0,0,0,0,0,0,0,0,0,0,0,0,0,0,0,0,0,0,0,0,0,0,0,0,0,0,0,0,0,0,0,0,0,0,0,0,0,0,0,0,0,0,0,0,0,0,0,0,0,0,0,0,0,0,0,0,0,0,0,0,0,0,0,0,0,0,0,0,0,0,0,0,0,0,0,0,0,0,0,0,0,0,0,0,0,0,0,0,0,0,0,0,0,0,0,0,0,0,0,0,0,0,0,0,0,0,0,0,0,0,0,0,0,0,0,0,0,0,0,0,0,0,0,0,0,0,0,0,0,0,0,0,0,0,0,0,0,0,0,0,0,0,0,0,0,0,0,0,0,0,0,0,0,0,0,0,0,0,0,0,0,0,0,0,0,0,0,0,0,0,0,0,0,0,0,0,0,0,0,0,0,0,0,0,0,0,0,0,0,0]
[null,3,0,0,0,0,0,0,0,0,0,0,0,0,0,0,0,0,0,0,0,0,0,0,0,0,0,0,0,0,0,0,0,0,0,0,0,0,0,0,0,0,0,0,0,0,0,0,0,0,0,0,0,0,0,0,0,0,0,0,0,0,0,0,0,0,0,0,0,0,0,0,0,0,0,0,0,0,0,0,0,0,0,0,0,0,0,0,0,0,0,0,0,0,0,0,0,0,0,0,0,0,0,0,0,0,0,0,0,0,0,0,0,0,0,0,0,0,0,0,0,0,0,0,0,0,0,0,0,0,0,0,0,0,0,0,0,0,0,0,0,0,0,0,0,0,0,0,0,0,0,0,0,0,0,0,0,0,0,0,0,0,0,0,0,0,0,0,0,0,0,0,0,0,0,0,0,0,0,0,0,0,0,0,0,0,0,0,0,0,0,0,0,0,0,0,0,0,0,0,0,0,0,0,0,0,0,0,0,0,0,0,0,0,0,0,0,0,0,0,0,0,0,0,0,0,0,0,0,0,0,0,0,0,0,0,0,0,0,0,0,0,0,0,0,0,0,0,0,0,0,0,0,0,0,0,0,0,0,0,0,0]
[null,4,0,0,0,0,0,0,0,0,0,0,0,0,0,0,0,0,0,0,0,0,0,0,0,0,0,0,0,0,0,0,0,0,0,0,0,0,0,0,0,0,0,0,0,0,0,0,0,0,0,0,0,0,0,0,0,0,0,0,0,0,0,0,0,0,0,0,0,0,0,0,0,0,0,0,0,0,0,0,0,0,0,0,0,0,0,0,0,0,0,0,0,0,0,0,0,0,0,0,0,0,0,0,0,0,0,0,0,0,0,0,0,0,0,0,0,0,0,0,0,0,0,0,0,0,0,0,0,0,0,0,0,0,0,0,0,0,0,0,0,0,0,0,0,0,0,0,0,0,0,0,0,0,0,0,0,0,0,0,0,0,0,0,0,0,0,0,0,0,0,0,0,0,0,0,0,0,0,0,0,0,0,0,0,0,0,0,0,0,0,0,0,0,0,0,0,0,0,0,0,0,0,0,0,0,0,0,0,0,0,0,0,0,0,0,0,0,0,0,0,0,0,0,0,0,0,0,0,0,0,0,0,0,0,0,0,0,0,0,0,0,0,0,0,0,0,0,0,0,0,0,0,0,0,0,0,0,0,0,0,0]
[null,5,0,0,0,0,0,0,0,0,0,0,0,0,0,0,0,0,0,0,0,0,0,0,0,0,0,0,0,0,0,0,0,0,0,0,0,0,0,0,0,0,0,0,0,0,0,0,0,0,0,0,0,0,0,0,0,0,0,0,0,0,0,0,0,0,0,0,0,0,0,0,0,0,0,0,0,0,0,0,0,0,0,0,0,0,0,0,0,0,0,0,0,0,0,0,0,0,0,0,0,0,0,0,0,0,0,0,0,0,0,0,0,0,0,0,0,0,0,0,0,0,0,0,0,0,0,0,0,0,0,0,0,0,0,0,0,0,0,0,0,0,0,0,0,0,0,0,0,0,0,0,0,0,0,0,0,0,0,0,0,0,0,0,0,0,0,0,0,0,0,0,0,0,0,0,0,0,0,0,0,0,0,0,0,0,0,0,0,0,0,0,0,0,0,0,0,0,0,0,0,0,0,0,0,0,0,0,0,0,0,0,0,0,0,0,0,0,0,0,0,0,0,0,0,0,0,0,0,0,0,0,0,0,0,0,0,0,0,0,0,0,0,0,0,0,0,0,0,0,0,0,0,0,0,0,0,0,0,0,0,0]
[null,6,0.41666666666666663,0.41666666666666663,0.41666666666666663,0.41666666666666663,0.41666666666666663,0.41666666666666663,0.41666666666666663,0.41666666666666663,0.41666666666666663,0.41666666666666663,0.41666666666666663,0.41666666666666663,0.41666666666666663,0.41666666666666663,0.41666666666666663,0.41666666666666663,0.41666666666666663,0.41666666666666663,0.41666666666666663,0.41666666666666663,0.41666666666666663,0.41666666666666663,0.41666666666666663,0.41666666666666663,0.41666666666666663,0.41666666666666663,0.41666666666666663,0.41666666666666663,0.41666666666666663,0.41666666666666663,0.41666666666666663,0.41666666666666663,0.41666666666666663,0.41666666666666663,0.41666666666666663,0.41666666666666663,0.41666666666666663,0.41666666666666663,0.41666666666666663,0.41666666666666663,0.41666666666666663,0.41666666666666663,0.41666666666666663,0.41666666666666663,0.41666666666666663,0.41666666666666663,0.41666666666666663,0.41666666666666663,0.41666666666666663,0.41666666666666663,0.41666666666666663,0.41666666666666663,0.41666666666666663,0.41666666666666663,0.41666666666666663,0.41666666666666663,0,0,0,0,0,0,0,0,0,0,0,0,0,0,0,0,0,0,0,0,0,0,0,0,0,0,0,0,0,0,0,0,0,0,0,0,0,0,0,0,0,0,0,0,0,0,0,0,0,0,0,0,0,0,0,0,0,0,0,0,0,0,0,0,0,0,0,0,0,0,0,0,0,0,0,0,0,0,0,0,0,0,0,0,0,0,0,0,0,0,0,0,0,0,0,0,0,0,0,0,0,0,0,0,0,0,0,0,0,0,0,0,0,0,0,0,0,0,0,0,0,0,0,0,0,0,0,0,0,0,0,0,0,0,0,0,0,0,0,0,0,0,0,0,0,0,0,0,0,0,0,0,0,0,0,0,0,0,0,0,0,0,0,0,0,0,0,0,0,0,0,0,0,0,0,0,0,0,0,0,0,0,0,0,0,0,0,0,0,0,0,0,0,0,0,0,0,0,0,0,0,0,0,0]
[null,7,0,0,0,0,0,0,0,0,0,0,0,0,0,0,0,0,0,0,0,0,0,0,0,0,0,0,0,0,0,0,0,0,0,0,0,0,0,0,0,0,0,0,0,0,0,0,0,0,0,0,0,0,0,0,0,0,0,0,0,0,0,0,0,0,0,0,0,0,0,0,0,0,0,0,0,0,0,0,0,0,0,0,0,0,0,0,0,0,0,0,0,0,0,0,0,0,0,0,0,0,0,0,0,0,0,0,0,0,0,0,0,0,0,0,0,0,0,0,0,0,0,0,0,0,0,0,0,0,0,0,0,0,0,0,0,0,0,0,0,0,0,0,0,0,0,0,0,0,0,0,0,0,0,0,0,0,0,0,0,0,0,0,0,0,0,0,0,0,0,0,0,0,0,0,0,0,0,0,0,0,0,0,0,0,0,0,0,0,0,0,0,0,0,0,0,0,0,0,0,0,0,0,0,0,0,0,0,0,0,0,0,0,0,0,0,0,0,0,0,0,0,0,0,0,0,0,0,0,0,0,0,0,0,0,0,0,0,0,0,0,0,0,0,0,0,0,0,0,0,0,0,0,0,0,0,0,0,0,0,0]
[null,"8a",0,0,0,0,0,0,0,0,0,0,0,0,0,0,0,0,0,0,0,0,0,0,0,0,0,0,0,0,0,0,0,0,0,0,0,0,0,0,0,0,0,0,0,0,0,0,0,0,0,0,0,0,0,0,0,0,0,0,0,0,0,0,0,0,0,0,0,0,0,0,0,0,0,0,0,0,0,0,0,0,0,0,0,0,0,0,0,0,0,0,0,0,0,0,0,0,0,0,0,0,0,0,0,0,0,0,0,0,0,0,0,0,0,0,0,0,0,0,0,0,0,0,0,0,0,0,0,0,0,0,0,0,0,0,0,0,0,0,0,0,0,0,0,0,0,0,0,0,0,0,0,0,0,0,0,0,0,0,0,0,0,0,0,0,0,0,0,0,0,0,0,0,0,0,0,0,0,0,0,0,0,0,0,0,0,0,0,0,0,0,0,0,0,0,0,0,0,0,0,0,0,0,0,0,0,0,0,0,0,0,0,0,0,0,0,0,0,0,0,0,0,0,0,0,0,0,0,0,0,0,0,0,0,0,0,0,0,0,0,0,0,0,0,0,0,0,0,0,0,0,0,0,0,0,0,0,0,0,0,0]
[null,"8b",0,0,0,0,0,0,0,0,0,0,0,0,0,0,0,0,0,0,0,0,0,0,0,0,0,0,0,0,0,0,0,0,0,0,0,0,0,0,0,0,0,0,0,0,0,0,0,0,0,0,0,0,0,0,0,0,0,0,0,0,0,0,0,0,0,0,0,0,0,0,0,0,0,0,0,0,0,0,0,0,0,0,0,0,0,0,0,0,0,0,0,0,0,0,0,0,0,0,0,0,0,0,0,0,0,0,0,0,0,0,0,0,0,0,0,0,0,0,0,0,0,0,0,0,0,0,0,0,0,0,0,0,0,0,0,0,0,0,0,0,0,0,0,0,0,0,0,0,0,0,0,0,0,0,0,0,0,0,0,0,0,0,0,0,0,0,0,0,0,0,0,0,0,0,0,0,0,0,0,0,0,0,0,0,0,0,0,0,0,0,0,0,0,0,0,0,0,0,0,0,0,0,0,0,0,0,0,0,0,0,0,0,0,0,0,0,0,0,0,0,0,0,0,0,0,0,0,0,0,0,0,0,0,0,0,0,0,0,0,0,0,0,0,0,0,0,0,0,0,0,0,0,0,0,0,0,0,0,0,0]
[null,"8c",0,0,0,0,0,0,0,0,0,0,0,0,0,0,0,0,0,0,0,0,0,0,0,0,0,0,0,0,0,0,0,0,0,0,0,0,0,0,0,0,0,0,0,0,0,0,0,0,0,0,0,0,0,0,0,0,0,0,0,0,0,0,0,0,0,0,0,0,0,0,0,0,0,0,0,0,0,0,0,0,0,0,0,0,0,0,0,0,0,0,0,0,0,0,0,0,0,0,0,0,0,0,0,0,0,0,0,0,0,0,0,0,0,0,0,0,0,0,0,0,0,0,0,0,0,0,0,0,0,0,0,0,0,0,0,0,0,0,0,0,0,0,0,0,0,0,0,0,0,0,0,0,0,0,0,0,0,0,0,0,0,0,0,0,0,0,0,0,0,0,0,0,0,0,0,0,0,0,0,0,0,0,0,0,0,0,0,0,0,0,0,0,0,0,0,0,0,0,0,0,0,0,0,0,0,0,0,0,0,0,0,0,0,0,0,0,0,0,0,0,0,0,0,0,0,0,0,0,0,0,0,0,0,0,0,0,0,0,0,0,0,0,0,0,0,0,0,0,0,0,0,0,0,0,0,0,0,0,0,0]
[null,"8d",0,0,0,0,0,0,0,0,0,0,0,0,0,0,0,0,0,0,0,0,0,0,0,0,0,0,0,0,0,0,0,0,0,0,0,0,0,0,0,0,0,0,0,0,0,0,0,0,0,0,0,0,0,0,0,0,0,0,0,0,0,0,0,0,0,0,0,0,0,0,0,0,0,0,0,0,0,0,0,0,0,0,0,0,0,0,0,0,0,0,0,0,0,0,0,0,0,0,0,0,0,0,0,0,0,0,0,0,0,0,0,0,0,0,0,0,0,0,0,0,0,0,0,0,0,0,0,0,0,0,0,0,0,0,0,0,0,0,0,0,0,0,0,0,0,0,0,0,0,0,0,0,0,0,0,0,0,0,0,0,0,0,0,0,0,0,0,0,0,0,0,0,0,0,0,0,0,0,0,0,0,0,0,0,0,0,0,0,0,0,0,0,0,0,0,0,0,0,0,0,0,0,0,0,0,0,0,0,0,0,0,0,0,0,0,0,0,0,0,0,0,0,0,0,0,0,0,0,0,0,0,0,0,0,0,0,0,0,0,0,0,0,0,0,0,0,0,0,0,0,0,0,0,0,0,0,0,0,0,0]
[null,9,0,0,0,0,0,0,0,0,0,0,0,0,0,0,0,0,0,0,0,0,0,0,0,0,0,0,0,0,0,0,0,0,0,0,0,0,0,0,0,0,0,0,0,0,0,0,0,0,0,0,0,0,0,0,0,0,0,0,0,0,0,0,0,0,0,0,0,0,0,0,0,0,0,0,0,0,0,0,0,0,0,0,0,0,0,0,0,0,0,0,0,0,0,0,0,0,0,0,0,0,0,0,0,0,0,0,0,0,0,0,0,0,0,0,0,0,0,0,0,0,0,0,0,0,0,0,0,0,0,0,0,0,0,0,0,0,0,0,0,0,0,0,0,0,0,0,0,0,0,0,0,0,0,0,0,0,0,0,0,0,0,0,0,0,0,0,0,0,0,0,0,0,0,0,0,0,0,0,0,0,0,0,0,0,0,0,0,0,0,0,0,0,0,0,0,0,0,0,0,0,0,0,0,0,0,0,0,0,0,0,0,0,0,0,0,0,0,0,0,0,0,0,0,0,0,0,0,0,0,0,0,0,0,0,0,0,0,0,0,0,0,0,0,0,0,0,0,0,0,0,0,0,0,0,0,0,0,0,0,0]
["Follow Up - Staff Grade Split",1,null,0,0,0,0,0,0,0,0,0,0,0,0,0,0,0,0,0,0,0,0,0,0,0,0,0,0,0,0,0,0,0,0,0,0,0,0,0,0,0,0,0,0,0,0,0,0,0,0,0,0,0,0,0,0,0,0,0,0,0,0,0,0,0,0,0,0,0,0,0,0,0,0,0,0,0,0,0,0,0,0,0,0,0,0,0,0,0,0,0,0,0,0,0,0,0,0,0,0,0,0,0,0,0,0,0,0,0,0,0,0,0,0,0,0,0,0,0,0,0,0,0,0,0,0,0,0,0,0,0,0,0,0,0,0,0,0,0,0,0,0,0,0,0,0,0,0,0,0,0,0,0,0,0,0,0,0,0,0,0,0,0,0,0,0,0,0,0,0,0,0,0,0,0,0,0,0,0,0,0,0,0,0,0,0,0,0,0,0,0,0,0,0,0,0,0,0,0,0,0,0,0,0,0,0,0,0,0,0,0,0,0,0,0,0,0,0,0,0,0,0,0,0,0,0,0,0,0,0,0,0,0,0,0,0,0,0,0,0,0,0,0,0,0,0,0,0,0,0,0,0,0,0,0,0,0,0,0,0,0,0]
[null,2,null,0,0,0,0,0,0,0,0,0,0,0,0,0,0,0,0,0,0,0,0,0,0,0,0,0,0,0,0,0,0,0,0,0,0,0,0,0,0,0,0,0,0,0,0,0,0,0,0,0,0,0,0,0,0,0,0,0,0,0,0,0,0,0,0,0,0,0,0,0,0,0,0,0,0,0,0,0,0,0,0,0,0,0,0,0,0,0,0,0,0,0,0,0,0,0,0,0,0,0,0,0,0,0,0,0,0,0,0,0,0,0,0,0,0,0,0,0,0,0,0,0,0,0,0,0,0,0,0,0,0,0,0,0,0,0,0,0,0,0,0,0,0,0,0,0,0,0,0,0,0,0,0,0,0,0,0,0,0,0,0,0,0,0,0,0,0,0,0,0,0,0,0,0,0,0,0,0,0,0,0,0,0,0,0,0,0,0,0,0,0,0,0,0,0,0,0,0,0,0,0,0,0,0,0,0,0,0,0,0,0,0,0,0,0,0,0,0,0,0,0,0,0,0,0,0,0,0,0,0,0,0,0,0,0,0,0,0,0,0,0,0,0,0,0,0,0,0,0,0,0,0,0,0,0,0,0,0,0,0,0]
[null,3,null,0,0,0,0,0,0,0,0,0,0,0,0,0,0,0,0,0,0,0,0,0,0,0,0,0,0,0,0,0,0,0,0,0,0,0,0,0,0,0,0,0,0,0,0,0,0,0,0,0,0,0,0,0,0,0,0,0,0,0,0,0,0,0,0,0,0,0,0,0,0,0,0,0,0,0,0,0,0,0,0,0,0,0,0,0,0,0,0,0,0,0,0,0,0,0,0,0,0,0,0,0,0,0,0,0,0,0,0,0,0,0,0,0,0,0,0,0,0,0,0,0,0,0,0,0,0,0,0,0,0,0,0,0,0,0,0,0,0,0,0,0,0,0,0,0,0,0,0,0,0,0,0,0,0,0,0,0,0,0,0,0,0,0,0,0,0,0,0,0,0,0,0,0,0,0,0,0,0,0,0,0,0,0,0,0,0,0,0,0,0,0,0,0,0,0,0,0,0,0,0,0,0,0,0,0,0,0,0,0,0,0,0,0,0,0,0,0,0,0,0,0,0,0,0,0,0,0,0,0,0,0,0,0,0,0,0,0,0,0,0,0,0,0,0,0,0,0,0,0,0,0,0,0,0,0,0,0,0,0,0]
[null,4,null,0,0,0,0,0,0,0,0,0,0,0,0,0,0,0,0,0,0,0,0,0,0,0,0,0,0,0,0,0,0,0,0,0,0,0,0,0,0,0,0,0,0,0,0,0,0,0,0,0,0,0,0,0,0,0,0,0,0,0,0,0,0,0,0,0,0,0,0,0,0,0,0,0,0,0,0,0,0,0,0,0,0,0,0,0,0,0,0,0,0,0,0,0,0,0,0,0,0,0,0,0,0,0,0,0,0,0,0,0,0,0,0,0,0,0,0,0,0,0,0,0,0,0,0,0,0,0,0,0,0,0,0,0,0,0,0,0,0,0,0,0,0,0,0,0,0,0,0,0,0,0,0,0,0,0,0,0,0,0,0,0,0,0,0,0,0,0,0,0,0,0,0,0,0,0,0,0,0,0,0,0,0,0,0,0,0,0,0,0,0,0,0,0,0,0,0,0,0,0,0,0,0,0,0,0,0,0,0,0,0,0,0,0,0,0,0,0,0,0,0,0,0,0,0,0,0,0,0,0,0,0,0,0,0,0,0,0,0,0,0,0,0,0,0,0,0,0,0,0,0,0,0,0,0,0,0,0,0,0,0]
[null,5,null,0,0,0,0,0,0,0,0,0,0,0,0,0,0,0,0,0,0,0,0,0,0,0,0,0,0,0,0,0,0,0,0,0,0,0,0,0,0,0,0,0,0,0,0,0,0,0,0,0,0,0,0,5.2083333333333329E-2,5.2083333333333329E-2,5.2083333333333329E-2,5.2083333333333329E-2,5.2083333333333329E-2,5.2083333333333329E-2,5.2083333333333329E-2,5.2083333333333329E-2,5.2083333333333329E-2,5.2083333333333329E-2,5.2083333333333329E-2,5.2083333333333329E-2,5.2083333333333329E-2,5.2083333333333329E-2,5.2083333333333329E-2,5.2083333333333329E-2,5.2083333333333329E-2,5.2083333333333329E-2,5.2083333333333329E-2,5.2083333333333329E-2,5.2083333333333329E-2,5.2083333333333329E-2,5.2083333333333329E-2,5.2083333333333329E-2,5.2083333333333329E-2,5.2083333333333329E-2,5.2083333333333329E-2,5.2083333333333329E-2,5.2083333333333329E-2,5.2083333333333329E-2,5.2083333333333329E-2,5.2083333333333329E-2,5.2083333333333329E-2,5.2083333333333329E-2,5.2083333333333329E-2,5.2083333333333329E-2,5.2083333333333329E-2,5.2083333333333329E-2,5.2083333333333329E-2,5.2083333333333329E-2,5.2083333333333329E-2,5.2083333333333329E-2,5.2083333333333329E-2,5.2083333333333329E-2,5.2083333333333329E-2,5.2083333333333329E-2,5.2083333333333329E-2,5.2083333333333329E-2,5.2083333333333329E-2,5.2083333333333329E-2,5.2083333333333329E-2,5.2083333333333329E-2,5.2083333333333329E-2,5.2083333333333329E-2,5.2083333333333329E-2,5.2083333333333329E-2,0,0,0,0,0,0,0,0,0,0,0,0,0,0,0,0,0,0,0,0,0,0,0,0,0,0,0,0,0,0,0,0,0,0,0,0,0,0,0,0,0,0,0,0,0,0,0,0,0,0,0,0,0,0,0,0,0,0,0,0,0,0,0,0,0,0,0,0,0,0,0,0,0,0,0,0,0,0,0,0,0,0,0,0,0,0,0,0,0,0,0,0,0,0,0,0,0,0,0,0,0,0,0,0,0,0,0,0,0,0,0,0,0,0,0,0,0,0,0,0,0,0,0,0,0,0,0,0,0,0,0,0,0,0,0,0,0,0,0,0,0,0,0,0,0,0,0,0,0,0,0,0]
[null,6,null,5.2083333333333329E-2,5.2083333333333329E-2,5.2083333333333329E-2,5.2083333333333329E-2,5.2083333333333329E-2,5.2083333333333329E-2,5.2083333333333329E-2,5.2083333333333329E-2,5.2083333333333329E-2,5.2083333333333329E-2,5.2083333333333329E-2,5.2083333333333329E-2,5.2083333333333329E-2,5.2083333333333329E-2,5.2083333333333329E-2,5.2083333333333329E-2,5.2083333333333329E-2,5.2083333333333329E-2,5.2083333333333329E-2,5.2083333333333329E-2,5.2083333333333329E-2,5.2083333333333329E-2,5.2083333333333329E-2,5.2083333333333329E-2,5.2083333333333329E-2,5.2083333333333329E-2,5.2083333333333329E-2,5.2083333333333329E-2,5.2083333333333329E-2,5.2083333333333329E-2,5.2083333333333329E-2,5.2083333333333329E-2,5.2083333333333329E-2,5.2083333333333329E-2,5.2083333333333329E-2,5.2083333333333329E-2,5.2083333333333329E-2,5.2083333333333329E-2,5.2083333333333329E-2,5.2083333333333329E-2,5.2083333333333329E-2,5.2083333333333329E-2,5.2083333333333329E-2,5.2083333333333329E-2,5.2083333333333329E-2,5.2083333333333329E-2,5.2083333333333329E-2,5.2083333333333329E-2,5.2083333333333329E-2,5.2083333333333329E-2,5.2083333333333329E-2,5.2083333333333329E-2,5.2083333333333329E-2,5.2083333333333329E-2,5.2083333333333329E-2,5.2083333333333329E-2,0,0,0,0,0,0,0,0,0,0,0,0,0,0,0,0,0,0,0,0,0,0,0,0,0,0,0,0,0,0,0,0,0,0,0,0,0,0,0,0,0,0,0,0,0,0,0,0,0,0,0,0,0,0,0,0,0,0,0,0,0,0,0,0,0,0,0,0,0,0,0,0,0,0,0,0,0,0,0,0,0,0,0,0,0,0,0,0,0,0,0,0,0,0,0,0,0,0,0,0,0,0,0,0,0,0,0,0,0,0,0,0,0,0,0,0,0,0,0,0,0,0,0,0,0,0,0,0,0,0,0,0,0,0,0,0,0,0,0,0,0,0,0,0,0,0,0,0,0,0,0,0,0,0,0,0,0,0,0,0,0,0,0,0,0,0,0,0,0,0,0,0,0,0,0,0,0,0,0,0,0,0,0,0,0,0,0,0,0,0,0,0,0,0,0,0,0,0,0,0,0,0,0,0]
[null,7,null,0,0,0,0,0,0,0,0,0,0,0,0,0,0,0,0,0,0,0,0,0,0,0,0,0,0,0,0,0,0,0,0,0,0,0,0,0,0,0,0,0,0,0,0,0,0,0,0,0,0,0,0,0,0,0,0,0,0,0,0,0,0,0,0,0,0,0,0,0,0,0,0,0,0,0,0,0,0,0,0,0,0,0,0,0,0,0,0,0,0,0,0,0,0,0,0,0,0,0,0,0,0,0,0,0,0,0,0,0,0,0,0,0,0,0,0,0,0,0,0,0,0,0,0,0,0,0,0,0,0,0,0,0,0,0,0,0,0,0,0,0,0,0,0,0,0,0,0,0,0,0,0,0,0,0,0,0,0,0,0,0,0,0,0,0,0,0,0,0,0,0,0,0,0,0,0,0,0,0,0,0,0,0,0,0,0,0,0,0,0,0,0,0,0,0,0,0,0,0,0,0,0,0,0,0,0,0,0,0,0,0,0,0,0,0,0,0,0,0,0,0,0,0,0,0,0,0,0,0,0,0,0,0,0,0,0,0,0,0,0,0,0,0,0,0,0,0,0,0,0,0,0,0,0,0,0,0,0,0,0]
[null,"8a",null,0,0,0,0,0,0,0,0,0,0,0,0,0,0,0,0,0,0,0,0,0,0,0,0,0,0,0,0,0,0,0,0,0,0,0,0,0,0,0,0,0,0,0,0,0,0,0,0,0,0,0,0,0,0,0,0,0,0,0,0,0,0,0,0,0,0,0,0,0,0,0,0,0,0,0,0,0,0,0,0,0,0,0,0,0,0,0,0,0,0,0,0,0,0,0,0,0,0,0,0,0,0,0,0,0,0,0,0,0,0,0,0,0,0,0,0,0,0,0,0,0,0,0,0,0,0,0,0,0,0,0,0,0,0,0,0,0,0,0,0,0,0,0,0,0,0,0,0,0,0,0,0,0,0,0,0,0,0,0,0,0,0,0,0,0,0,0,0,0,0,0,0,0,0,0,0,0,0,0,0,0,0,0,0,0,0,0,0,0,0,0,0,0,0,0,0,0,0,0,0,0,0,0,0,0,0,0,0,0,0,0,0,0,0,0,0,0,0,0,0,0,0,0,0,0,0,0,0,0,0,0,0,0,0,0,0,0,0,0,0,0,0,0,0,0,0,0,0,0,0,0,0,0,0,0,0,0,0,0,0]
[null,"8b",null,0,0,0,0,0,0,0,0,0,0,0,0,0,0,0,0,0,0,0,0,0,0,0,0,0,0,0,0,0,0,0,0,0,0,0,0,0,0,0,0,0,0,0,0,0,0,0,0,0,0,0,0,0,0,0,0,0,0,0,0,0,0,0,0,0,0,0,0,0,0,0,0,0,0,0,0,0,0,0,0,0,0,0,0,0,0,0,0,0,0,0,0,0,0,0,0,0,0,0,0,0,0,0,0,0,0,0,0,0,0,0,0,0,0,0,0,0,0,0,0,0,0,0,0,0,0,0,0,0,0,0,0,0,0,0,0,0,0,0,0,0,0,0,0,0,0,0,0,0,0,0,0,0,0,0,0,0,0,0,0,0,0,0,0,0,0,0,0,0,0,0,0,0,0,0,0,0,0,0,0,0,0,0,0,0,0,0,0,0,0,0,0,0,0,0,0,0,0,0,0,0,0,0,0,0,0,0,0,0,0,0,0,0,0,0,0,0,0,0,0,0,0,0,0,0,0,0,0,0,0,0,0,0,0,0,0,0,0,0,0,0,0,0,0,0,0,0,0,0,0,0,0,0,0,0,0,0,0,0,0]
[null,"8c",null,0,0,0,0,0,0,0,0,0,0,0,0,0,0,0,0,0,0,0,0,0,0,0,0,0,0,0,0,0,0,0,0,0,0,0,0,0,0,0,0,0,0,0,0,0,0,0,0,0,0,0,0,0,0,0,0,0,0,0,0,0,0,0,0,0,0,0,0,0,0,0,0,0,0,0,0,0,0,0,0,0,0,0,0,0,0,0,0,0,0,0,0,0,0,0,0,0,0,0,0,0,0,0,0,0,0,0,0,0,0,0,0,0,0,0,0,0,0,0,0,0,0,0,0,0,0,0,0,0,0,0,0,0,0,0,0,0,0,0,0,0,0,0,0,0,0,0,0,0,0,0,0,0,0,0,0,0,0,0,0,0,0,0,0,0,0,0,0,0,0,0,0,0,0,0,0,0,0,0,0,0,0,0,0,0,0,0,0,0,0,0,0,0,0,0,0,0,0,0,0,0,0,0,0,0,0,0,0,0,0,0,0,0,0,0,0,0,0,0,0,0,0,0,0,0,0,0,0,0,0,0,0,0,0,0,0,0,0,0,0,0,0,0,0,0,0,0,0,0,0,0,0,0,0,0,0,0,0,0,0]
[null,"8d",null,0,0,0,0,0,0,0,0,0,0,0,0,0,0,0,0,0,0,0,0,0,0,0,0,0,0,0,0,0,0,0,0,0,0,0,0,0,0,0,0,0,0,0,0,0,0,0,0,0,0,0,0,0,0,0,0,0,0,0,0,0,0,0,0,0,0,0,0,0,0,0,0,0,0,0,0,0,0,0,0,0,0,0,0,0,0,0,0,0,0,0,0,0,0,0,0,0,0,0,0,0,0,0,0,0,0,0,0,0,0,0,0,0,0,0,0,0,0,0,0,0,0,0,0,0,0,0,0,0,0,0,0,0,0,0,0,0,0,0,0,0,0,0,0,0,0,0,0,0,0,0,0,0,0,0,0,0,0,0,0,0,0,0,0,0,0,0,0,0,0,0,0,0,0,0,0,0,0,0,0,0,0,0,0,0,0,0,0,0,0,0,0,0,0,0,0,0,0,0,0,0,0,0,0,0,0,0,0,0,0,0,0,0,0,0,0,0,0,0,0,0,0,0,0,0,0,0,0,0,0,0,0,0,0,0,0,0,0,0,0,0,0,0,0,0,0,0,0,0,0,0,0,0,0,0,0,0,0,0,0]
[null,9,null,0,0,0,0,0,0,0,0,0,0,0,0,0,0,0,0,0,0,0,0,0,0,0,0,0,0,0,0,0,0,0,0,0,0,0,0,0,0,0,0,0,0,0,0,0,0,0,0,0,0,0,0,0,0,0,0,0,0,0,0,0,0,0,0,0,0,0,0,0,0,0,0,0,0,0,0,0,0,0,0,0,0,0,0,0,0,0,0,0,0,0,0,0,0,0,0,0,0,0,0,0,0,0,0,0,0,0,0,0,0,0,0,0,0,0,0,0,0,0,0,0,0,0,0,0,0,0,0,0,0,0,0,0,0,0,0,0,0,0,0,0,0,0,0,0,0,0,0,0,0,0,0,0,0,0,0,0,0,0,0,0,0,0,0,0,0,0,0,0,0,0,0,0,0,0,0,0,0,0,0,0,0,0,0,0,0,0,0,0,0,0,0,0,0,0,0,0,0,0,0,0,0,0,0,0,0,0,0,0,0,0,0,0,0,0,0,0,0,0,0,0,0,0,0,0,0,0,0,0,0,0,0,0,0,0,0,0,0,0,0,0,0,0,0,0,0,0,0,0,0,0,0,0,0,0,0,0,0,0,0]
[]
[null,null,null,null,"Staff grades"]
[null,null,null,null,1,2,3,4,5,6,7,"8a","8b","8c","8d",9]
[null,"Screening",1.0416666666666666E-2,"Screen",{"$f":"'EXAMPLE-Pro'!C24","v":0},{"$f":"'EXAMPLE-Pro'!C25","v":0},{"$f":"'EXAMPLE-Pro'!C26","v":0},{"$f":"'EXAMPLE-Pro'!C27","v":1.0416666666666666E-2},{"$f":"'EXAMPLE-Pro'!C28","v":0},{"$f":"'EXAMPLE-Pro'!C29","v":0},{"$f":"'EXAMPLE-Pro'!C30","v":0},{"$f":"'EXAMPLE-Pro'!C31","v":0},{"$f":"'EXAMPLE-Pro'!C32","v":0},{"$f":"'EXAMPLE-Pro'!C33","v":0},{"$f":"'EXAMPLE-Pro'!C34","v":0},{"$f":"'EXAMPLE-Pro'!C35","v":0}]
["week by week\n (sum of visits)",1,{"$f":"SUMIF('EXAMPLE-Pro'!D7:KQ7,1, 'EXAMPLE-Pro'!D15:KQ15)","v":8.3333333333333329E-2},"Rec",{"$f":"SUMIF('EXAMPLE-Pro'!D7:KQ7,1, 'EXAMPLE-Pro'!D38:KQ38)","v":0},{"$f":"SUMIF('EXAMPLE-Pro'!D7:KQ7,1, 'EXAMPLE-Pro'!D39:KQ39)","v":0},{"$f":"SUMIF('EXAMPLE-Pro'!D7:KQ7,1, 'EXAMPLE-Pro'!D40:KQ40)","v":0},{"$f":"SUMIF('EXAMPLE-Pro'!D7:KQ7,1, 'EXAMPLE-Pro'!D41:KQ41)","v":0},{"$f":"SUMIF('EXAMPLE-Pro'!D7:KQ7,1, 'EXAMPLE-Pro'!D42:KQ42)","v":0},{"$f":"SUMIF('EXAMPLE-Pro'!D7:KQ7,1, 'EXAMPLE-Pro'!D43:KQ43)","v":8.3333333333333329E-2},{"$f":"SUMIF('EXAMPLE-Pro'!D7:KQ7,1, 'EXAMPLE-Pro'!D44:KQ44)","v":0},{"$f":"SUMIF('EXAMPLE-Pro'!D7:KQ7,1, 'EXAMPLE-Pro'!D45:KQ45)","v":0},{"$f":"SUMIF('EXAMPLE-Pro'!D7:KQ7,1, 'EXAMPLE-Pro'!D46:KQ46)","v":0},{"$f":"SUMIF('EXAMPLE-Pro'!D7:KQ7,1, 'EXAMPLE-Pro'!D47:KQ47)","v":0},{"$f":"SUMIF('EXAMPLE-Pro'!D7:KQ7,1, 'EXAMPLE-Pro'!D48:KQ48)","v":0},{"$f":"SUMIF('EXAMPLE-Pro'!D7:KQ7,1, 'EXAMPLE-Pro'!D49:KQ49)","v":0}]
[null,2,{"$f":"SUMIF('EXAMPLE-Pro'!D7:KQ7,2, 'EXAMPLE-Pro'!D15:KQ15)","v":1.0416666666666666E-2},"FU",{"$f":"SUMIF('EXAMPLE-Pro'!D7:KQ7,2, 'EXAMPLE-Pro'!D38:KQ38)","v":0},{"$f":"SUMIF('EXAMPLE-Pro'!D7:KQ7,2, 'EXAMPLE-Pro'!D39:KQ39)","v":0},{"$f":"SUMIF('EXAMPLE-Pro'!D7:KQ7,2, 'EXAMPLE-Pro'!D40:KQ40)","v":0},{"$f":"SUMIF('EXAMPLE-Pro'!D7:KQ7,2, 'EXAMPLE-Pro'!D41:KQ41)","v":0},{"$f":"SUMIF('EXAMPLE-Pro'!D7:KQ7,2, 'EXAMPLE-Pro'!D42:KQ42)","v":0},{"$f":"SUMIF('EXAMPLE-Pro'!D7:KQ7,2, 'EXAMPLE-Pro'!D43:KQ43)","v":1.0416666666666666E-2},{"$f":"SUMIF('EXAMPLE-Pro'!D7:KQ7,2, 'EXAMPLE-Pro'!D44:KQ44)","v":0},{"$f":"SUMIF('EXAMPLE-Pro'!D7:KQ7,2, 'EXAMPLE-Pro'!D45:KQ45)","v":0},{"$f":"SUMIF('EXAMPLE-Pro'!D7:KQ7,2, 'EXAMPLE-Pro'!D46:KQ46)","v":0},{"$f":"SUMIF('EXAMPLE-Pro'!D7:KQ7,2, 'EXAMPLE-Pro'!D47:KQ47)","v":0},{"$f":"SUMIF('EXAMPLE-Pro'!D7:KQ7,2, 'EXAMPLE-Pro'!D48:KQ48)","v":0},{"$f":"SUMIF('EXAMPLE-Pro'!D7:KQ7,2, 'EXAMPLE-Pro'!D49:KQ49)","v":0}]
[null,3,{"$f":"SUMIF('EXAMPLE-Pro'!D7:KQ7,3, 'EXAMPLE-Pro'!D15:KQ15)","v":0},"FU",{"$f":"SUMIF('EXAMPLE-Pro'!D7:KQ7,3, 'EXAMPLE-Pro'!D38:KQ38)","v":0},{"$f":"SUMIF('EXAMPLE-Pro'!D7:KQ7,3, 'EXAMPLE-Pro'!D39:KQ39)","v":0},{"$f":"SUMIF('EXAMPLE-Pro'!D7:KQ7,3, 'EXAMPLE-Pro'!D40:KQ40)","v":0},{"$f":"SUMIF('EXAMPLE-Pro'!D7:KQ7,3, 'EXAMPLE-Pro'!D41:KQ41)","v":0},{"$f":"SUMIF('EXAMPLE-Pro'!D7:KQ7,3, 'EXAMPLE-Pro'!D42:KQ42)","v":0},{"$f":"SUMIF('EXAMPLE-Pro'!D7:KQ7,3, 'EXAMPLE-Pro'!D43:KQ43)","v":0},{"$f":"SUMIF('EXAMPLE-Pro'!D7:KQ7,3, 'EXAMPLE-Pro'!D44:KQ44)","v":0},{"$f":"SUMIF('EXAMPLE-Pro'!D7:KQ7,3, 'EXAMPLE-Pro'!D45:KQ45)","v":0},{"$f":"SUMIF('EXAMPLE-Pro'!D7:KQ7,3, 'EXAMPLE-Pro'!D46:KQ46)","v":0},{"$f":"SUMIF('EXAMPLE-Pro'!D7:KQ7,3, 'EXAMPLE-Pro'!D47:KQ47)","v":0},{"$f":"SUMIF('EXAMPLE-Pro'!D7:KQ7,3, 'EXAMPLE-Pro'!D48:KQ48)","v":0},{"$f":"SUMIF('EXAMPLE-Pro'!D7:KQ7,3, 'EXAMPLE-Pro'!D49:KQ49)","v":0}]
[null,4,{"$f":"SUMIF('EXAMPLE-Pro'!D7:KQ7,4, 'EXAMPLE-Pro'!D15:KQ15)","v":0},"FU",{"$f":"SUMIF('EXAMPLE-Pro'!D7:KQ7,4, 'EXAMPLE-Pro'!D38:KQ38)","v":0},{"$f":"SUMIF('EXAMPLE-Pro'!D7:KQ7,4, 'EXAMPLE-Pro'!D39:KQ39)","v":0},{"$f":"SUMIF('EXAMPLE-Pro'!D7:KQ7,4, 'EXAMPLE-Pro'!D40:KQ40)","v":0},{"$f":"SUMIF('EXAMPLE-Pro'!D7:KQ7,4, 'EXAMPLE-Pro'!D41:KQ41)","v":0},{"$f":"SUMIF('EXAMPLE-Pro'!D7:KQ7,4, 'EXAMPLE-Pro'!D42:KQ42)","v":0},{"$f":"SUMIF('EXAMPLE-Pro'!D7:KQ7,4, 'EXAMPLE-Pro'!D43:KQ43)","v":0},{"$f":"SUMIF('EXAMPLE-Pro'!D7:KQ7,4, 'EXAMPLE-Pro'!D44:KQ44)","v":0},{"$f":"SUMIF('EXAMPLE-Pro'!D7:KQ7,4, 'EXAMPLE-Pro'!D45:KQ45)","v":0},{"$f":"SUMIF('EXAMPLE-Pro'!D7:KQ7,4, 'EXAMPLE-Pro'!D46:KQ46)","v":0},{"$f":"SUMIF('EXAMPLE-Pro'!D7:KQ7,4, 'EXAMPLE-Pro'!D47:KQ47)","v":0},{"$f":"SUMIF('EXAMPLE-Pro'!D7:KQ7,4, 'EXAMPLE-Pro'!D48:KQ48)","v":0},{"$f":"SUMIF('EXAMPLE-Pro'!D7:KQ7,4, 'EXAMPLE-Pro'!D49:KQ49)","v":0}]
[null,5,{"$f":"SUMIF('EXAMPLE-Pro'!D7:KQ7,5, 'EXAMPLE-Pro'!D15:KQ15)","v":0},"FU",{"$f":"SUMIF('EXAMPLE-Pro'!D7:KQ7,5, 'EXAMPLE-Pro'!D38:KQ38)","v":0},{"$f":"SUMIF('EXAMPLE-Pro'!D7:KQ7,5, 'EXAMPLE-Pro'!D39:KQ39)","v":0},{"$f":"SUMIF('EXAMPLE-Pro'!D7:KQ7,5, 'EXAMPLE-Pro'!D40:KQ40)","v":0},{"$f":"SUMIF('EXAMPLE-Pro'!D7:KQ7,5, 'EXAMPLE-Pro'!D41:KQ41)","v":0},{"$f":"SUMIF('EXAMPLE-Pro'!D7:KQ7,5, 'EXAMPLE-Pro'!D42:KQ42)","v":0},{"$f":"SUMIF('EXAMPLE-Pro'!D7:KQ7,5, 'EXAMPLE-Pro'!D43:KQ43)","v":0},{"$f":"SUMIF('EXAMPLE-Pro'!D7:KQ7,5, 'EXAMPLE-Pro'!D44:KQ44)","v":0},{"$f":"SUMIF('EXAMPLE-Pro'!D7:KQ7,5, 'EXAMPLE-Pro'!D45:KQ45)","v":0},{"$f":"SUMIF('EXAMPLE-Pro'!D7:KQ7,5, 'EXAMPLE-Pro'!D46:KQ46)","v":0},{"$f":"SUMIF('EXAMPLE-Pro'!D7:KQ7,5, 'EXAMPLE-Pro'!D47:KQ47)","v":0},{"$f":"SUMIF('EXAMPLE-Pro'!D7:KQ7,5, 'EXAMPLE-Pro'!D48:KQ48)","v":0},{"$f":"SUMIF('EXAMPLE-Pro'!D7:KQ7,5, 'EXAMPLE-Pro'!D49:KQ49)","v":0}]
[null,6,{"$f":"SUMIF('EXAMPLE-Pro'!D7:KQ7,6, 'EXAMPLE-Pro'!D15:KQ15)","v":0},"FU",{"$f":"SUMIF('EXAMPLE-Pro'!D7:KQ7,6, 'EXAMPLE-Pro'!D38:KQ38)","v":0},{"$f":"SUMIF('EXAMPLE-Pro'!D7:KQ7,6, 'EXAMPLE-Pro'!D39:KQ39)","v":0},{"$f":"SUMIF('EXAMPLE-Pro'!D7:KQ7,6, 'EXAMPLE-Pro'!D40:KQ40)","v":0},{"$f":"SUMIF('EXAMPLE-Pro'!D7:KQ7,6, 'EXAMPLE-Pro'!D41:KQ41)","v":0},{"$f":"SUMIF('EXAMPLE-Pro'!D7:KQ7,6, 'EXAMPLE-Pro'!D42:KQ42)","v":0},{"$f":"SUMIF('EXAMPLE-Pro'!D7:KQ7,6, 'EXAMPLE-Pro'!D43:KQ43)","v":0},{"$f":"SUMIF('EXAMPLE-Pro'!D7:KQ7,6, 'EXAMPLE-Pro'!D44:KQ44)","v":0},{"$f":"SUMIF('EXAMPLE-Pro'!D7:KQ7,6, 'EXAMPLE-Pro'!D45:KQ45)","v":0},{"$f":"SUMIF('EXAMPLE-Pro'!D7:KQ7,6, 'EXAMPLE-Pro'!D46:KQ46)","v":0},{"$f":"SUMIF('EXAMPLE-Pro'!D7:KQ7,6, 'EXAMPLE-Pro'!D47:KQ47)","v":0},{"$f":"SUMIF('EXAMPLE-Pro'!D7:KQ7,6, 'EXAMPLE-Pro'!D48:KQ48)","v":0},{"$f":"SUMIF('EXAMPLE-Pro'!D7:KQ7,6, 'EXAMPLE-Pro'!D49:KQ49)","v":0}]
[null,7,{"$f":"SUMIF('EXAMPLE-Pro'!D7:KQ7,7, 'EXAMPLE-Pro'!D15:KQ15)","v":0},"FU",{"$f":"SUMIF('EXAMPLE-Pro'!D7:KQ7,7, 'EXAMPLE-Pro'!D38:KQ38)","v":0},{"$f":"SUMIF('EXAMPLE-Pro'!D7:KQ7,7, 'EXAMPLE-Pro'!D39:KQ39)","v":0},{"$f":"SUMIF('EXAMPLE-Pro'!D7:KQ7,7, 'EXAMPLE-Pro'!D40:KQ40)","v":0},{"$f":"SUMIF('EXAMPLE-Pro'!D7:KQ7,7, 'EXAMPLE-Pro'!D41:KQ41)","v":0},{"$f":"SUMIF('EXAMPLE-Pro'!D7:KQ7,7, 'EXAMPLE-Pro'!D42:KQ42)","v":0},{"$f":"SUMIF('EXAMPLE-Pro'!D7:KQ7,7, 'EXAMPLE-Pro'!D43:KQ43)","v":0},{"$f":"SUMIF('EXAMPLE-Pro'!D7:KQ7,7, 'EXAMPLE-Pro'!D44:KQ44)","v":0},{"$f":"SUMIF('EXAMPLE-Pro'!D7:KQ7,7, 'EXAMPLE-Pro'!D45:KQ45)","v":0},{"$f":"SUMIF('EXAMPLE-Pro'!D7:KQ7,7, 'EXAMPLE-Pro'!D46:KQ46)","v":0},{"$f":"SUMIF('EXAMPLE-Pro'!D7:KQ7,7, 'EXAMPLE-Pro'!D47:KQ47)","v":0},{"$f":"SUMIF('EXAMPLE-Pro'!D7:KQ7,7, 'EXAMPLE-Pro'!D48:KQ48)","v":0},{"$f":"SUMIF('EXAMPLE-Pro'!D7:KQ7,7, 'EXAMPLE-Pro'!D49:KQ49)","v":0}]
[null,8,{"$f":"SUMIF('EXAMPLE-Pro'!D7:KQ7,8, 'EXAMPLE-Pro'!D15:KQ15)","v":0},"FU",{"$f":"SUMIF('EXAMPLE-Pro'!D7:KQ7,8, 'EXAMPLE-Pro'!D38:KQ38)","v":0},{"$f":"SUMIF('EXAMPLE-Pro'!D7:KQ7,8, 'EXAMPLE-Pro'!D39:KQ39)","v":0},{"$f":"SUMIF('EXAMPLE-Pro'!D7:KQ7,8, 'EXAMPLE-Pro'!D40:KQ40)","v":0},{"$f":"SUMIF('EXAMPLE-Pro'!D7:KQ7,8, 'EXAMPLE-Pro'!D41:KQ41)","v":0},{"$f":"SUMIF('EXAMPLE-Pro'!D7:KQ7,8, 'EXAMPLE-Pro'!D42:KQ42)","v":0},{"$f":"SUMIF('EXAMPLE-Pro'!D7:KQ7,8, 'EXAMPLE-Pro'!D43:KQ43)","v":0},{"$f":"SUMIF('EXAMPLE-Pro'!D7:KQ7,8, 'EXAMPLE-Pro'!D44:KQ44)","v":0},{"$f":"SUMIF('EXAMPLE-Pro'!D7:KQ7,8, 'EXAMPLE-Pro'!D45:KQ45)","v":0},{"$f":"SUMIF('EXAMPLE-Pro'!D7:KQ7,8, 'EXAMPLE-Pro'!D46:KQ46)","v":0},{"$f":"SUMIF('EXAMPLE-Pro'!D7:KQ7,8, 'EXAMPLE-Pro'!D47:KQ47)","v":0},{"$f":"SUMIF('EXAMPLE-Pro'!D7:KQ7,8, 'EXAMPLE-Pro'!D48:KQ48)","v":0},{"$f":"SUMIF('EXAMPLE-Pro'!D7:KQ7,8, 'EXAMPLE-Pro'!D49:KQ49)","v":0}]
[null,9,{"$f":"SUMIF('EXAMPLE-Pro'!D7:KQ7,9, 'EXAMPLE-Pro'!D15:KQ15)","v":0},"FU",{"$f":"SUMIF('EXAMPLE-Pro'!D7:KQ7,9, 'EXAMPLE-Pro'!D38:KQ38)","v":0},{"$f":"SUMIF('EXAMPLE-Pro'!D7:KQ7,9, 'EXAMPLE-Pro'!D39:KQ39)","v":0},{"$f":"SUMIF('EXAMPLE-Pro'!D7:KQ7,9, 'EXAMPLE-Pro'!D40:KQ40)","v":0},{"$f":"SUMIF('EXAMPLE-Pro'!D7:KQ7,9, 'EXAMPLE-Pro'!D41:KQ41)","v":0},{"$f":"SUMIF('EXAMPLE-Pro'!D7:KQ7,9, 'EXAMPLE-Pro'!D42:KQ42)","v":0},{"$f":"SUMIF('EXAMPLE-Pro'!D7:KQ7,9, 'EXAMPLE-Pro'!D43:KQ43)","v":0},{"$f":"SUMIF('EXAMPLE-Pro'!D7:KQ7,9, 'EXAMPLE-Pro'!D44:KQ44)","v":0},{"$f":"SUMIF('EXAMPLE-Pro'!D7:KQ7,9, 'EXAMPLE-Pro'!D45:KQ45)","v":0},{"$f":"SUMIF('EXAMPLE-Pro'!D7:KQ7,9, 'EXAMPLE-Pro'!D46:KQ46)","v":0},{"$f":"SUMIF('EXAMPLE-Pro'!D7:KQ7,9, 'EXAMPLE-Pro'!D47:KQ47)","v":0},{"$f":"SUMIF('EXAMPLE-Pro'!D7:KQ7,9, 'EXAMPLE-Pro'!D48:KQ48)","v":0},{"$f":"SUMIF('EXAMPLE-Pro'!D7:KQ7,9, 'EXAMPLE-Pro'!D49:KQ49)","v":0}]
[null,10,{"$f":"SUMIF('EXAMPLE-Pro'!D7:KQ7,10, 'EXAMPLE-Pro'!D15:KQ15)","v":0},"FU",{"$f":"SUMIF('EXAMPLE-Pro'!D7:KQ7,10, 'EXAMPLE-Pro'!D38:KQ38)","v":0},{"$f":"SUMIF('EXAMPLE-Pro'!D7:KQ7,10, 'EXAMPLE-Pro'!D39:KQ39)","v":0},{"$f":"SUMIF('EXAMPLE-Pro'!D7:KQ7,10, 'EXAMPLE-Pro'!D40:KQ40)","v":0},{"$f":"SUMIF('EXAMPLE-Pro'!D7:KQ7,10, 'EXAMPLE-Pro'!D41:KQ41)","v":0},{"$f":"SUMIF('EXAMPLE-Pro'!D7:KQ7,10, 'EXAMPLE-Pro'!D42:KQ42)","v":0},{"$f":"SUMIF('EXAMPLE-Pro'!D7:KQ7,10, 'EXAMPLE-Pro'!D43:KQ43)","v":0},{"$f":"SUMIF('EXAMPLE-Pro'!D7:KQ7,10, 'EXAMPLE-Pro'!D44:KQ44)","v":0},{"$f":"SUMIF('EXAMPLE-Pro'!D7:KQ7,10, 'EXAMPLE-Pro'!D45:KQ45)","v":0},{"$f":"SUMIF('EXAMPLE-Pro'!D7:KQ7,10, 'EXAMPLE-Pro'!D46:KQ46)","v":0},{"$f":"SUMIF('EXAMPLE-Pro'!D7:KQ7,10, 'EXAMPLE-Pro'!D47:KQ47)","v":0},{"$f":"SUMIF('EXAMPLE-Pro'!D7:KQ7,10, 'EXAMPLE-Pro'!D48:KQ48)","v":0},{"$f":"SUMIF('EXAMPLE-Pro'!D7:KQ7,10, 'EXAMPLE-Pro'!D49:KQ49)","v":0}]
[null,11,{"$f":"SUMIF('EXAMPLE-Pro'!D7:KQ7,11, 'EXAMPLE-Pro'!D15:KQ15)","v":0},"FU",{"$f":"SUMIF('EXAMPLE-Pro'!D7:KQ7,11, 'EXAMPLE-Pro'!D38:KQ38)","v":0},{"$f":"SUMIF('EXAMPLE-Pro'!D7:KQ7,11, 'EXAMPLE-Pro'!D39:KQ39)","v":0},{"$f":"SUMIF('EXAMPLE-Pro'!D7:KQ7,11, 'EXAMPLE-Pro'!D40:KQ40)","v":0},{"$f":"SUMIF('EXAMPLE-Pro'!D7:KQ7,11, 'EXAMPLE-Pro'!D41:KQ41)","v":0},{"$f":"SUMIF('EXAMPLE-Pro'!D7:KQ7,11, 'EXAMPLE-Pro'!D42:KQ42)","v":0},{"$f":"SUMIF('EXAMPLE-Pro'!D7:KQ7,11, 'EXAMPLE-Pro'!D43:KQ43)","v":0},{"$f":"SUMIF('EXAMPLE-Pro'!D7:KQ7,11, 'EXAMPLE-Pro'!D44:KQ44)","v":0},{"$f":"SUMIF('EXAMPLE-Pro'!D7:KQ7,11, 'EXAMPLE-Pro'!D45:KQ45)","v":0},{"$f":"SUMIF('EXAMPLE-Pro'!D7:KQ7,11, 'EXAMPLE-Pro'!D46:KQ46)","v":0},{"$f":"SUMIF('EXAMPLE-Pro'!D7:KQ7,11, 'EXAMPLE-Pro'!D47:KQ47)","v":0},{"$f":"SUMIF('EXAMPLE-Pro'!D7:KQ7,11, 'EXAMPLE-Pro'!D48:KQ48)","v":0},{"$f":"SUMIF('EXAMPLE-Pro'!D7:KQ7,11, 'EXAMPLE-Pro'!D49:KQ49)","v":0}]
[null,12,{"$f":"SUMIF('EXAMPLE-Pro'!D7:KQ7,12, 'EXAMPLE-Pro'!D15:KQ15)","v":0},"FU",{"$f":"SUMIF('EXAMPLE-Pro'!D7:KQ7,12, 'EXAMPLE-Pro'!D38:KQ38)","v":0},{"$f":"SUMIF('EXAMPLE-Pro'!D7:KQ7,12, 'EXAMPLE-Pro'!D39:KQ39)","v":0},{"$f":"SUMIF('EXAMPLE-Pro'!D7:KQ7,12, 'EXAMPLE-Pro'!D40:KQ40)","v":0},{"$f":"SUMIF('EXAMPLE-Pro'!D7:KQ7,12, 'EXAMPLE-Pro'!D41:KQ41)","v":0},{"$f":"SUMIF('EXAMPLE-Pro'!D7:KQ7,12, 'EXAMPLE-Pro'!D42:KQ42)","v":0},{"$f":"SUMIF('EXAMPLE-Pro'!D7:KQ7,12, 'EXAMPLE-Pro'!D43:KQ43)","v":0},{"$f":"SUMIF('EXAMPLE-Pro'!D7:KQ7,12, 'EXAMPLE-Pro'!D44:KQ44)","v":0},{"$f":"SUMIF('EXAMPLE-Pro'!D7:KQ7,12, 'EXAMPLE-Pro'!D45:KQ45)","v":0},{"$f":"SUMIF('EXAMPLE-Pro'!D7:KQ7,12, 'EXAMPLE-Pro'!D46:KQ46)","v":0},{"$f":"SUMIF('EXAMPLE-Pro'!D7:KQ7,12, 'EXAMPLE-Pro'!D47:KQ47)","v":0},{"$f":"SUMIF('EXAMPLE-Pro'!D7:KQ7,12, 'EXAMPLE-Pro'!D48:KQ48)","v":0},{"$f":"SUMIF('EXAMPLE-Pro'!D7:KQ7,12, 'EXAMPLE-Pro'!D49:KQ49)","v":0}]
[null,13,{"$f":"SUMIF('EXAMPLE-Pro'!D7:KQ7,13, 'EXAMPLE-Pro'!D15:KQ15)","v":0},"FU",{"$f":"SUMIF('EXAMPLE-Pro'!D7:KQ7,13, 'EXAMPLE-Pro'!D38:KQ38)","v":0},{"$f":"SUMIF('EXAMPLE-Pro'!D7:KQ7,13, 'EXAMPLE-Pro'!D39:KQ39)","v":0},{"$f":"SUMIF('EXAMPLE-Pro'!D7:KQ7,13, 'EXAMPLE-Pro'!D40:KQ40)","v":0},{"$f":"SUMIF('EXAMPLE-Pro'!D7:KQ7,13, 'EXAMPLE-Pro'!D41:KQ41)","v":0},{"$f":"SUMIF('EXAMPLE-Pro'!D7:KQ7,13, 'EXAMPLE-Pro'!D42:KQ42)","v":0},{"$f":"SUMIF('EXAMPLE-Pro'!D7:KQ7,13, 'EXAMPLE-Pro'!D43:KQ43)","v":0},{"$f":"SUMIF('EXAMPLE-Pro'!D7:KQ7,13, 'EXAMPLE-Pro'!D44:KQ44)","v":0},{"$f":"SUMIF('EXAMPLE-Pro'!D7:KQ7,13, 'EXAMPLE-Pro'!D45:KQ45)","v":0},{"$f":"SUMIF('EXAMPLE-Pro'!D7:KQ7,13, 'EXAMPLE-Pro'!D46:KQ46)","v":0},{"$f":"SUMIF('EXAMPLE-Pro'!D7:KQ7,13, 'EXAMPLE-Pro'!D47:KQ47)","v":0},{"$f":"SUMIF('EXAMPLE-Pro'!D7:KQ7,13, 'EXAMPLE-Pro'!D48:KQ48)","v":0},{"$f":"SUMIF('EXAMPLE-Pro'!D7:KQ7,13, 'EXAMPLE-Pro'!D49:KQ49)","v":0}]
[null,14,{"$f":"SUMIF('EXAMPLE-Pro'!D7:KQ7,14, 'EXAMPLE-Pro'!D15:KQ15)","v":0},"FU",{"$f":"SUMIF('EXAMPLE-Pro'!D7:KQ7,14, 'EXAMPLE-Pro'!D38:KQ38)","v":0},{"$f":"SUMIF('EXAMPLE-Pro'!D7:KQ7,14, 'EXAMPLE-Pro'!D39:KQ39)","v":0},{"$f":"SUMIF('EXAMPLE-Pro'!D7:KQ7,14, 'EXAMPLE-Pro'!D40:KQ40)","v":0},{"$f":"SUMIF('EXAMPLE-Pro'!D7:KQ7,14, 'EXAMPLE-Pro'!D41:KQ41)","v":0},{"$f":"SUMIF('EXAMPLE-Pro'!D7:KQ7,14, 'EXAMPLE-Pro'!D42:KQ42)","v":0},{"$f":"SUMIF('EXAMPLE-Pro'!D7:KQ7,14, 'EXAMPLE-Pro'!D43:KQ43)","v":0},{"$f":"SUMIF('EXAMPLE-Pro'!D7:KQ7,14, 'EXAMPLE-Pro'!D44:KQ44)","v":0},{"$f":"SUMIF('EXAMPLE-Pro'!D7:KQ7,14, 'EXAMPLE-Pro'!D45:KQ45)","v":0},{"$f":"SUMIF('EXAMPLE-Pro'!D7:KQ7,14, 'EXAMPLE-Pro'!D46:KQ46)","v":0},{"$f":"SUMIF('EXAMPLE-Pro'!D7:KQ7,14, 'EXAMPLE-Pro'!D47:KQ47)","v":0},{"$f":"SUMIF('EXAMPLE-Pro'!D7:KQ7,14, 'EXAMPLE-Pro'!D48:KQ48)","v":0},{"$f":"SUMIF('EXAMPLE-Pro'!D7:KQ7,14, 'EXAMPLE-Pro'!D49:KQ49)","v":0}]
[null,15,{"$f":"SUMIF('EXAMPLE-Pro'!D7:KQ7,15, 'EXAMPLE-Pro'!D15:KQ15)","v":0},"FU",{"$f":"SUMIF('EXAMPLE-Pro'!D7:KQ7,15, 'EXAMPLE-Pro'!D38:KQ38)","v":0},{"$f":"SUMIF('EXAMPLE-Pro'!D7:KQ7,15, 'EXAMPLE-Pro'!D39:KQ39)","v":0},{"$f":"SUMIF('EXAMPLE-Pro'!D7:KQ7,15, 'EXAMPLE-Pro'!D40:KQ40)","v":0},{"$f":"SUMIF('EXAMPLE-Pro'!D7:KQ7,15, 'EXAMPLE-Pro'!D41:KQ41)","v":0},{"$f":"SUMIF('EXAMPLE-Pro'!D7:KQ7,15, 'EXAMPLE-Pro'!D42:KQ42)","v":0},{"$f":"SUMIF('EXAMPLE-Pro'!D7:KQ7,15, 'EXAMPLE-Pro'!D43:KQ43)","v":0},{"$f":"SUMIF('EXAMPLE-Pro'!D7:KQ7,15, 'EXAMPLE-Pro'!D44:KQ44)","v":0},{"$f":"SUMIF('EXAMPLE-Pro'!D7:KQ7,15, 'EXAMPLE-Pro'!D45:KQ45)","v":0},{"$f":"SUMIF('EXAMPLE-Pro'!D7:KQ7,15, 'EXAMPLE-Pro'!D46:KQ46)","v":0},{"$f":"SUMIF('EXAMPLE-Pro'!D7:KQ7,15, 'EXAMPLE-Pro'!D47:KQ47)","v":0},{"$f":"SUMIF('EXAMPLE-Pro'!D7:KQ7,15, 'EXAMPLE-Pro'!D48:KQ48)","v":0},{"$f":"SUMIF('EXAMPLE-Pro'!D7:KQ7,15, 'EXAMPLE-Pro'!D49:KQ49)","v":0}]
[null,16,{"$f":"SUMIF('EXAMPLE-Pro'!D7:KQ7,16, 'EXAMPLE-Pro'!D15:KQ15)","v":0},"FU",{"$f":"SUMIF('EXAMPLE-Pro'!D7:KQ7,16, 'EXAMPLE-Pro'!D38:KQ38)","v":0},{"$f":"SUMIF('EXAMPLE-Pro'!D7:KQ7,16, 'EXAMPLE-Pro'!D39:KQ39)","v":0},{"$f":"SUMIF('EXAMPLE-Pro'!D7:KQ7,16, 'EXAMPLE-Pro'!D40:KQ40)","v":0},{"$f":"SUMIF('EXAMPLE-Pro'!D7:KQ7,16, 'EXAMPLE-Pro'!D41:KQ41)","v":0},{"$f":"SUMIF('EXAMPLE-Pro'!D7:KQ7,16, 'EXAMPLE-Pro'!D42:KQ42)","v":0},{"$f":"SUMIF('EXAMPLE-Pro'!D7:KQ7,16, 'EXAMPLE-Pro'!D43:KQ43)","v":0},{"$f":"SUMIF('EXAMPLE-Pro'!D7:KQ7,16, 'EXAMPLE-Pro'!D44:KQ44)","v":0},{"$f":"SUMIF('EXAMPLE-Pro'!D7:KQ7,16, 'EXAMPLE-Pro'!D45:KQ45)","v":0},{"$f":"SUMIF('EXAMPLE-Pro'!D7:KQ7,16, 'EXAMPLE-Pro'!D46:KQ46)","v":0},{"$f":"SUMIF('EXAMPLE-Pro'!D7:KQ7,16, 'EXAMPLE-Pro'!D47:KQ47)","v":0},{"$f":"SUMIF('EXAMPLE-Pro'!D7:KQ7,16, 'EXAMPLE-Pro'!D48:KQ48)","v":0},{"$f":"SUMIF('EXAMPLE-Pro'!D7:KQ7,16, 'EXAMPLE-Pro'!D49:KQ49)","v":0}]
[null,17,{"$f":"SUMIF('EXAMPLE-Pro'!D7:KQ7,17, 'EXAMPLE-Pro'!D15:KQ15)","v":0},"FU",{"$f":"SUMIF('EXAMPLE-Pro'!D7:KQ7,17, 'EXAMPLE-Pro'!D38:KQ38)","v":0},{"$f":"SUMIF('EXAMPLE-Pro'!D7:KQ7,17, 'EXAMPLE-Pro'!D39:KQ39)","v":0},{"$f":"SUMIF('EXAMPLE-Pro'!D7:KQ7,17, 'EXAMPLE-Pro'!D40:KQ40)","v":0},{"$f":"SUMIF('EXAMPLE-Pro'!D7:KQ7,17, 'EXAMPLE-Pro'!D41:KQ41)","v":0},{"$f":"SUMIF('EXAMPLE-Pro'!D7:KQ7,17, 'EXAMPLE-Pro'!D42:KQ42)","v":0},{"$f":"SUMIF('EXAMPLE-Pro'!D7:KQ7,17, 'EXAMPLE-Pro'!D43:KQ43)","v":0},{"$f":"SUMIF('EXAMPLE-Pro'!D7:KQ7,17, 'EXAMPLE-Pro'!D44:KQ44)","v":0},{"$f":"SUMIF('EXAMPLE-Pro'!D7:KQ7,17, 'EXAMPLE-Pro'!D45:KQ45)","v":0},{"$f":"SUMIF('EXAMPLE-Pro'!D7:KQ7,17, 'EXAMPLE-Pro'!D46:KQ46)","v":0},{"$f":"SUMIF('EXAMPLE-Pro'!D7:KQ7,17, 'EXAMPLE-Pro'!D47:KQ47)","v":0},{"$f":"SUMIF('EXAMPLE-Pro'!D7:KQ7,17, 'EXAMPLE-Pro'!D48:KQ48)","v":0},{"$f":"SUMIF('EXAMPLE-Pro'!D7:KQ7,17, 'EXAMPLE-Pro'!D49:KQ49)","v":0}]
[null,18,{"$f":"SUMIF('EXAMPLE-Pro'!D7:KQ7,18, 'EXAMPLE-Pro'!D15:KQ15)","v":0},"FU",{"$f":"SUMIF('EXAMPLE-Pro'!D7:KQ7,18, 'EXAMPLE-Pro'!D38:KQ38)","v":0},{"$f":"SUMIF('EXAMPLE-Pro'!D7:KQ7,18, 'EXAMPLE-Pro'!D39:KQ39)","v":0},{"$f":"SUMIF('EXAMPLE-Pro'!D7:KQ7,18, 'EXAMPLE-Pro'!D40:KQ40)","v":0},{"$f":"SUMIF('EXAMPLE-Pro'!D7:KQ7,18, 'EXAMPLE-Pro'!D41:KQ41)","v":0},{"$f":"SUMIF('EXAMPLE-Pro'!D7:KQ7,18, 'EXAMPLE-Pro'!D42:KQ42)","v":0},{"$f":"SUMIF('EXAMPLE-Pro'!D7:KQ7,18, 'EXAMPLE-Pro'!D43:KQ43)","v":0},{"$f":"SUMIF('EXAMPLE-Pro'!D7:KQ7,18, 'EXAMPLE-Pro'!D44:KQ44)","v":0},{"$f":"SUMIF('EXAMPLE-Pro'!D7:KQ7,18, 'EXAMPLE-Pro'!D45:KQ45)","v":0},{"$f":"SUMIF('EXAMPLE-Pro'!D7:KQ7,18, 'EXAMPLE-Pro'!D46:KQ46)","v":0},{"$f":"SUMIF('EXAMPLE-Pro'!D7:KQ7,18, 'EXAMPLE-Pro'!D47:KQ47)","v":0},{"$f":"SUMIF('EXAMPLE-Pro'!D7:KQ7,18, 'EXAMPLE-Pro'!D48:KQ48)","v":0},{"$f":"SUMIF('EXAMPLE-Pro'!D7:KQ7,18, 'EXAMPLE-Pro'!D49:KQ49)","v":0}]
[null,19,{"$f":"SUMIF('EXAMPLE-Pro'!D7:KQ7,19, 'EXAMPLE-Pro'!D15:KQ15)","v":0},"FU",{"$f":"SUMIF('EXAMPLE-Pro'!D7:KQ7,19, 'EXAMPLE-Pro'!D38:KQ38)","v":0},{"$f":"SUMIF('EXAMPLE-Pro'!D7:KQ7,19, 'EXAMPLE-Pro'!D39:KQ39)","v":0},{"$f":"SUMIF('EXAMPLE-Pro'!D7:KQ7,19, 'EXAMPLE-Pro'!D40:KQ40)","v":0},{"$f":"SUMIF('EXAMPLE-Pro'!D7:KQ7,19, 'EXAMPLE-Pro'!D41:KQ41)","v":0},{"$f":"SUMIF('EXAMPLE-Pro'!D7:KQ7,19, 'EXAMPLE-Pro'!D42:KQ42)","v":0},{"$f":"SUMIF('EXAMPLE-Pro'!D7:KQ7,19, 'EXAMPLE-Pro'!D43:KQ43)","v":0},{"$f":"SUMIF('EXAMPLE-Pro'!D7:KQ7,19, 'EXAMPLE-Pro'!D44:KQ44)","v":0},{"$f":"SUMIF('EXAMPLE-Pro'!D7:KQ7,19, 'EXAMPLE-Pro'!D45:KQ45)","v":0},{"$f":"SUMIF('EXAMPLE-Pro'!D7:KQ7,19, 'EXAMPLE-Pro'!D46:KQ46)","v":0},{"$f":"SUMIF('EXAMPLE-Pro'!D7:KQ7,19, 'EXAMPLE-Pro'!D47:KQ47)","v":0},{"$f":"SUMIF('EXAMPLE-Pro'!D7:KQ7,19, 'EXAMPLE-Pro'!D48:KQ48)","v":0},{"$f":"SUMIF('EXAMPLE-Pro'!D7:KQ7,19, 'EXAMPLE-Pro'!D49:KQ49)","v":0}]
[null,20,{"$f":"SUMIF('EXAMPLE-Pro'!D7:KQ7,20, 'EXAMPLE-Pro'!D15:KQ15)","v":0},"FU",{"$f":"SUMIF('EXAMPLE-Pro'!D7:KQ7,20, 'EXAMPLE-Pro'!D38:KQ38)","v":0},{"$f":"SUMIF('EXAMPLE-Pro'!D7:KQ7,20, 'EXAMPLE-Pro'!D39:KQ39)","v":0},{"$f":"SUMIF('EXAMPLE-Pro'!D7:KQ7,20, 'EXAMPLE-Pro'!D40:KQ40)","v":0},{"$f":"SUMIF('EXAMPLE-Pro'!D7:KQ7,20, 'EXAMPLE-Pro'!D41:KQ41)","v":0},{"$f":"SUMIF('EXAMPLE-Pro'!D7:KQ7,20, 'EXAMPLE-Pro'!D42:KQ42)","v":0},{"$f":"SUMIF('EXAMPLE-Pro'!D7:KQ7,20, 'EXAMPLE-Pro'!D43:KQ43)","v":0},{"$f":"SUMIF('EXAMPLE-Pro'!D7:KQ7,20, 'EXAMPLE-Pro'!D44:KQ44)","v":0},{"$f":"SUMIF('EXAMPLE-Pro'!D7:KQ7,20, 'EXAMPLE-Pro'!D45:KQ45)","v":0},{"$f":"SUMIF('EXAMPLE-Pro'!D7:KQ7,20, 'EXAMPLE-Pro'!D46:KQ46)","v":0},{"$f":"SUMIF('EXAMPLE-Pro'!D7:KQ7,20, 'EXAMPLE-Pro'!D47:KQ47)","v":0},{"$f":"SUMIF('EXAMPLE-Pro'!D7:KQ7,20, 'EXAMPLE-Pro'!D48:KQ48)","v":0},{"$f":"SUMIF('EXAMPLE-Pro'!D7:KQ7,20, 'EXAMPLE-Pro'!D49:KQ49)","v":0}]
[null,21,{"$f":"SUMIF('EXAMPLE-Pro'!D7:KQ7,21, 'EXAMPLE-Pro'!D15:KQ15)","v":0},"FU",{"$f":"SUMIF('EXAMPLE-Pro'!D7:KQ7,21, 'EXAMPLE-Pro'!D38:KQ38)","v":0},{"$f":"SUMIF('EXAMPLE-Pro'!D7:KQ7,21, 'EXAMPLE-Pro'!D39:KQ39)","v":0},{"$f":"SUMIF('EXAMPLE-Pro'!D7:KQ7,21, 'EXAMPLE-Pro'!D40:KQ40)","v":0},{"$f":"SUMIF('EXAMPLE-Pro'!D7:KQ7,21, 'EXAMPLE-Pro'!D41:KQ41)","v":0},{"$f":"SUMIF('EXAMPLE-Pro'!D7:KQ7,21, 'EXAMPLE-Pro'!D42:KQ42)","v":0},{"$f":"SUMIF('EXAMPLE-Pro'!D7:KQ7,21, 'EXAMPLE-Pro'!D43:KQ43)","v":0},{"$f":"SUMIF('EXAMPLE-Pro'!D7:KQ7,21, 'EXAMPLE-Pro'!D44:KQ44)","v":0},{"$f":"SUMIF('EXAMPLE-Pro'!D7:KQ7,21, 'EXAMPLE-Pro'!D45:KQ45)","v":0},{"$f":"SUMIF('EXAMPLE-Pro'!D7:KQ7,21, 'EXAMPLE-Pro'!D46:KQ46)","v":0},{"$f":"SUMIF('EXAMPLE-Pro'!D7:KQ7,21, 'EXAMPLE-Pro'!D47:KQ47)","v":0},{"$f":"SUMIF('EXAMPLE-Pro'!D7:KQ7,21, 'EXAMPLE-Pro'!D48:KQ48)","v":0},{"$f":"SUMIF('EXAMPLE-Pro'!D7:KQ7,21, 'EXAMPLE-Pro'!D49:KQ49)","v":0}]
[null,22,{"$f":"SUMIF('EXAMPLE-Pro'!D7:KQ7,22, 'EXAMPLE-Pro'!D15:KQ15)","v":0},"FU",{"$f":"SUMIF('EXAMPLE-Pro'!D7:KQ7,22, 'EXAMPLE-Pro'!D38:KQ38)","v":0},{"$f":"SUMIF('EXAMPLE-Pro'!D7:KQ7,22, 'EXAMPLE-Pro'!D39:KQ39)","v":0},{"$f":"SUMIF('EXAMPLE-Pro'!D7:KQ7,22, 'EXAMPLE-Pro'!D40:KQ40)","v":0},{"$f":"SUMIF('EXAMPLE-Pro'!D7:KQ7,22, 'EXAMPLE-Pro'!D41:KQ41)","v":0},{"$f":"SUMIF('EXAMPLE-Pro'!D7:KQ7,22, 'EXAMPLE-Pro'!D42:KQ42)","v":0},{"$f":"SUMIF('EXAMPLE-Pro'!D7:KQ7,22, 'EXAMPLE-Pro'!D43:KQ43)","v":0},{"$f":"SUMIF('EXAMPLE-Pro'!D7:KQ7,22, 'EXAMPLE-Pro'!D44:KQ44)","v":0},{"$f":"SUMIF('EXAMPLE-Pro'!D7:KQ7,22, 'EXAMPLE-Pro'!D45:KQ45)","v":0},{"$f":"SUMIF('EXAMPLE-Pro'!D7:KQ7,22, 'EXAMPLE-Pro'!D46:KQ46)","v":0},{"$f":"SUMIF('EXAMPLE-Pro'!D7:KQ7,22, 'EXAMPLE-Pro'!D47:KQ47)","v":0},{"$f":"SUMIF('EXAMPLE-Pro'!D7:KQ7,22, 'EXAMPLE-Pro'!D48:KQ48)","v":0},{"$f":"SUMIF('EXAMPLE-Pro'!D7:KQ7,22, 'EXAMPLE-Pro'!D49:KQ49)","v":0}]
[null,23,{"$f":"SUMIF('EXAMPLE-Pro'!D7:KQ7,23, 'EXAMPLE-Pro'!D15:KQ15)","v":0},"FU",{"$f":"SUMIF('EXAMPLE-Pro'!D7:KQ7,23, 'EXAMPLE-Pro'!D38:KQ38)","v":0},{"$f":"SUMIF('EXAMPLE-Pro'!D7:KQ7,23, 'EXAMPLE-Pro'!D39:KQ39)","v":0},{"$f":"SUMIF('EXAMPLE-Pro'!D7:KQ7,23, 'EXAMPLE-Pro'!D40:KQ40)","v":0},{"$f":"SUMIF('EXAMPLE-Pro'!D7:KQ7,23, 'EXAMPLE-Pro'!D41:KQ41)","v":0},{"$f":"SUMIF('EXAMPLE-Pro'!D7:KQ7,23, 'EXAMPLE-Pro'!D42:KQ42)","v":0},{"$f":"SUMIF('EXAMPLE-Pro'!D7:KQ7,23, 'EXAMPLE-Pro'!D43:KQ43)","v":0},{"$f":"SUMIF('EXAMPLE-Pro'!D7:KQ7,23, 'EXAMPLE-Pro'!D44:KQ44)","v":0},{"$f":"SUMIF('EXAMPLE-Pro'!D7:KQ7,23, 'EXAMPLE-Pro'!D45:KQ45)","v":0},{"$f":"SUMIF('EXAMPLE-Pro'!D7:KQ7,23, 'EXAMPLE-Pro'!D46:KQ46)","v":0},{"$f":"SUMIF('EXAMPLE-Pro'!D7:KQ7,23, 'EXAMPLE-Pro'!D47:KQ47)","v":0},{"$f":"SUMIF('EXAMPLE-Pro'!D7:KQ7,23, 'EXAMPLE-Pro'!D48:KQ48)","v":0},{"$f":"SUMIF('EXAMPLE-Pro'!D7:KQ7,23, 'EXAMPLE-Pro'!D49:KQ49)","v":0}]
[null,24,{"$f":"SUMIF('EXAMPLE-Pro'!D7:KQ7,24, 'EXAMPLE-Pro'!D15:KQ15)","v":0},"FU",{"$f":"SUMIF('EXAMPLE-Pro'!D7:KQ7,24, 'EXAMPLE-Pro'!D38:KQ38)","v":0},{"$f":"SUMIF('EXAMPLE-Pro'!D7:KQ7,24, 'EXAMPLE-Pro'!D39:KQ39)","v":0},{"$f":"SUMIF('EXAMPLE-Pro'!D7:KQ7,24, 'EXAMPLE-Pro'!D40:KQ40)","v":0},{"$f":"SUMIF('EXAMPLE-Pro'!D7:KQ7,24, 'EXAMPLE-Pro'!D41:KQ41)","v":0},{"$f":"SUMIF('EXAMPLE-Pro'!D7:KQ7,24, 'EXAMPLE-Pro'!D42:KQ42)","v":0},{"$f":"SUMIF('EXAMPLE-Pro'!D7:KQ7,24, 'EXAMPLE-Pro'!D43:KQ43)","v":0},{"$f":"SUMIF('EXAMPLE-Pro'!D7:KQ7,24, 'EXAMPLE-Pro'!D44:KQ44)","v":0},{"$f":"SUMIF('EXAMPLE-Pro'!D7:KQ7,24, 'EXAMPLE-Pro'!D45:KQ45)","v":0},{"$f":"SUMIF('EXAMPLE-Pro'!D7:KQ7,24, 'EXAMPLE-Pro'!D46:KQ46)","v":0},{"$f":"SUMIF('EXAMPLE-Pro'!D7:KQ7,24, 'EXAMPLE-Pro'!D47:KQ47)","v":0},{"$f":"SUMIF('EXAMPLE-Pro'!D7:KQ7,24, 'EXAMPLE-Pro'!D48:KQ48)","v":0},{"$f":"SUMIF('EXAMPLE-Pro'!D7:KQ7,24, 'EXAMPLE-Pro'!D49:KQ49)","v":0}]
[null,25,{"$f":"SUMIF('EXAMPLE-Pro'!D7:KQ7,25, 'EXAMPLE-Pro'!D15:KQ15)","v":0},"FU",{"$f":"SUMIF('EXAMPLE-Pro'!D7:KQ7,25, 'EXAMPLE-Pro'!D38:KQ38)","v":0},{"$f":"SUMIF('EXAMPLE-Pro'!D7:KQ7,25, 'EXAMPLE-Pro'!D39:KQ39)","v":0},{"$f":"SUMIF('EXAMPLE-Pro'!D7:KQ7,25, 'EXAMPLE-Pro'!D40:KQ40)","v":0},{"$f":"SUMIF('EXAMPLE-Pro'!D7:KQ7,25, 'EXAMPLE-Pro'!D41:KQ41)","v":0},{"$f":"SUMIF('EXAMPLE-Pro'!D7:KQ7,25, 'EXAMPLE-Pro'!D42:KQ42)","v":0},{"$f":"SUMIF('EXAMPLE-Pro'!D7:KQ7,25, 'EXAMPLE-Pro'!D43:KQ43)","v":0},{"$f":"SUMIF('EXAMPLE-Pro'!D7:KQ7,25, 'EXAMPLE-Pro'!D44:KQ44)","v":0},{"$f":"SUMIF('EXAMPLE-Pro'!D7:KQ7,25, 'EXAMPLE-Pro'!D45:KQ45)","v":0},{"$f":"SUMIF('EXAMPLE-Pro'!D7:KQ7,25, 'EXAMPLE-Pro'!D46:KQ46)","v":0},{"$f":"SUMIF('EXAMPLE-Pro'!D7:KQ7,25, 'EXAMPLE-Pro'!D47:KQ47)","v":0},{"$f":"SUMIF('EXAMPLE-Pro'!D7:KQ7,25, 'EXAMPLE-Pro'!D48:KQ48)","v":0},{"$f":"SUMIF('EXAMPLE-Pro'!D7:KQ7,25, 'EXAMPLE-Pro'!D49:KQ49)","v":0}]
[null,26,{"$f":"SUMIF('EXAMPLE-Pro'!D7:KQ7,26, 'EXAMPLE-Pro'!D15:KQ15)","v":0},"FU",{"$f":"SUMIF('EXAMPLE-Pro'!D7:KQ7,26, 'EXAMPLE-Pro'!D38:KQ38)","v":0},{"$f":"SUMIF('EXAMPLE-Pro'!D7:KQ7,26, 'EXAMPLE-Pro'!D39:KQ39)","v":0},{"$f":"SUMIF('EXAMPLE-Pro'!D7:KQ7,26, 'EXAMPLE-Pro'!D40:KQ40)","v":0},{"$f":"SUMIF('EXAMPLE-Pro'!D7:KQ7,26, 'EXAMPLE-Pro'!D41:KQ41)","v":0},{"$f":"SUMIF('EXAMPLE-Pro'!D7:KQ7,26, 'EXAMPLE-Pro'!D42:KQ42)","v":0},{"$f":"SUMIF('EXAMPLE-Pro'!D7:KQ7,26, 'EXAMPLE-Pro'!D43:KQ43)","v":0},{"$f":"SUMIF('EXAMPLE-Pro'!D7:KQ7,26, 'EXAMPLE-Pro'!D44:KQ44)","v":0},{"$f":"SUMIF('EXAMPLE-Pro'!D7:KQ7,26, 'EXAMPLE-Pro'!D45:KQ45)","v":0},{"$f":"SUMIF('EXAMPLE-Pro'!D7:KQ7,26, 'EXAMPLE-Pro'!D46:KQ46)","v":0},{"$f":"SUMIF('EXAMPLE-Pro'!D7:KQ7,26, 'EXAMPLE-Pro'!D47:KQ47)","v":0},{"$f":"SUMIF('EXAMPLE-Pro'!D7:KQ7,26, 'EXAMPLE-Pro'!D48:KQ48)","v":0},{"$f":"SUMIF('EXAMPLE-Pro'!D7:KQ7,26, 'EXAMPLE-Pro'!D49:KQ49)","v":0}]
[null,27,{"$f":"SUMIF('EXAMPLE-Pro'!D7:KQ7,27, 'EXAMPLE-Pro'!D15:KQ15)","v":0},"FU",{"$f":"SUMIF('EXAMPLE-Pro'!D7:KQ7,27, 'EXAMPLE-Pro'!D38:KQ38)","v":0},{"$f":"SUMIF('EXAMPLE-Pro'!D7:KQ7,27, 'EXAMPLE-Pro'!D39:KQ39)","v":0},{"$f":"SUMIF('EXAMPLE-Pro'!D7:KQ7,27, 'EXAMPLE-Pro'!D40:KQ40)","v":0},{"$f":"SUMIF('EXAMPLE-Pro'!D7:KQ7,27, 'EXAMPLE-Pro'!D41:KQ41)","v":0},{"$f":"SUMIF('EXAMPLE-Pro'!D7:KQ7,27, 'EXAMPLE-Pro'!D42:KQ42)","v":0},{"$f":"SUMIF('EXAMPLE-Pro'!D7:KQ7,27, 'EXAMPLE-Pro'!D43:KQ43)","v":0},{"$f":"SUMIF('EXAMPLE-Pro'!D7:KQ7,27, 'EXAMPLE-Pro'!D44:KQ44)","v":0},{"$f":"SUMIF('EXAMPLE-Pro'!D7:KQ7,27, 'EXAMPLE-Pro'!D45:KQ45)","v":0},{"$f":"SUMIF('EXAMPLE-Pro'!D7:KQ7,27, 'EXAMPLE-Pro'!D46:KQ46)","v":0},{"$f":"SUMIF('EXAMPLE-Pro'!D7:KQ7,27, 'EXAMPLE-Pro'!D47:KQ47)","v":0},{"$f":"SUMIF('EXAMPLE-Pro'!D7:KQ7,27, 'EXAMPLE-Pro'!D48:KQ48)","v":0},{"$f":"SUMIF('EXAMPLE-Pro'!D7:KQ7,27, 'EXAMPLE-Pro'!D49:KQ49)","v":0}]
[null,28,{"$f":"SUMIF('EXAMPLE-Pro'!D7:KQ7,28, 'EXAMPLE-Pro'!D15:KQ15)","v":0},"FU",{"$f":"SUMIF('EXAMPLE-Pro'!D7:KQ7,28, 'EXAMPLE-Pro'!D38:KQ38)","v":0},{"$f":"SUMIF('EXAMPLE-Pro'!D7:KQ7,28, 'EXAMPLE-Pro'!D39:KQ39)","v":0},{"$f":"SUMIF('EXAMPLE-Pro'!D7:KQ7,28, 'EXAMPLE-Pro'!D40:KQ40)","v":0},{"$f":"SUMIF('EXAMPLE-Pro'!D7:KQ7,28, 'EXAMPLE-Pro'!D41:KQ41)","v":0},{"$f":"SUMIF('EXAMPLE-Pro'!D7:KQ7,28, 'EXAMPLE-Pro'!D42:KQ42)","v":0},{"$f":"SUMIF('EXAMPLE-Pro'!D7:KQ7,28, 'EXAMPLE-Pro'!D43:KQ43)","v":0},{"$f":"SUMIF('EXAMPLE-Pro'!D7:KQ7,28, 'EXAMPLE-Pro'!D44:KQ44)","v":0},{"$f":"SUMIF('EXAMPLE-Pro'!D7:KQ7,28, 'EXAMPLE-Pro'!D45:KQ45)","v":0},{"$f":"SUMIF('EXAMPLE-Pro'!D7:KQ7,28, 'EXAMPLE-Pro'!D46:KQ46)","v":0},{"$f":"SUMIF('EXAMPLE-Pro'!D7:KQ7,28, 'EXAMPLE-Pro'!D47:KQ47)","v":0},{"$f":"SUMIF('EXAMPLE-Pro'!D7:KQ7,28, 'EXAMPLE-Pro'!D48:KQ48)","v":0},{"$f":"SUMIF('EXAMPLE-Pro'!D7:KQ7,28, 'EXAMPLE-Pro'!D49:KQ49)","v":0}]
[null,29,{"$f":"SUMIF('EXAMPLE-Pro'!D7:KQ7,29, 'EXAMPLE-Pro'!D15:KQ15)","v":0},"FU",{"$f":"SUMIF('EXAMPLE-Pro'!D7:KQ7,29, 'EXAMPLE-Pro'!D38:KQ38)","v":0},{"$f":"SUMIF('EXAMPLE-Pro'!D7:KQ7,29, 'EXAMPLE-Pro'!D39:KQ39)","v":0},{"$f":"SUMIF('EXAMPLE-Pro'!D7:KQ7,29, 'EXAMPLE-Pro'!D40:KQ40)","v":0},{"$f":"SUMIF('EXAMPLE-Pro'!D7:KQ7,29, 'EXAMPLE-Pro'!D41:KQ41)","v":0},{"$f":"SUMIF('EXAMPLE-Pro'!D7:KQ7,29, 'EXAMPLE-Pro'!D42:KQ42)","v":0},{"$f":"SUMIF('EXAMPLE-Pro'!D7:KQ7,29, 'EXAMPLE-Pro'!D43:KQ43)","v":0},{"$f":"SUMIF('EXAMPLE-Pro'!D7:KQ7,29, 'EXAMPLE-Pro'!D44:KQ44)","v":0},{"$f":"SUMIF('EXAMPLE-Pro'!D7:KQ7,29, 'EXAMPLE-Pro'!D45:KQ45)","v":0},{"$f":"SUMIF('EXAMPLE-Pro'!D7:KQ7,29, 'EXAMPLE-Pro'!D46:KQ46)","v":0},{"$f":"SUMIF('EXAMPLE-Pro'!D7:KQ7,29, 'EXAMPLE-Pro'!D47:KQ47)","v":0},{"$f":"SUMIF('EXAMPLE-Pro'!D7:KQ7,29, 'EXAMPLE-Pro'!D48:KQ48)","v":0},{"$f":"SUMIF('EXAMPLE-Pro'!D7:KQ7,29, 'EXAMPLE-Pro'!D49:KQ49)","v":0}]
[null,30,{"$f":"SUMIF('EXAMPLE-Pro'!D7:KQ7,30, 'EXAMPLE-Pro'!D15:KQ15)","v":0},"FU",{"$f":"SUMIF('EXAMPLE-Pro'!D7:KQ7,30, 'EXAMPLE-Pro'!D38:KQ38)","v":0},{"$f":"SUMIF('EXAMPLE-Pro'!D7:KQ7,30, 'EXAMPLE-Pro'!D39:KQ39)","v":0},{"$f":"SUMIF('EXAMPLE-Pro'!D7:KQ7,30, 'EXAMPLE-Pro'!D40:KQ40)","v":0},{"$f":"SUMIF('EXAMPLE-Pro'!D7:KQ7,30, 'EXAMPLE-Pro'!D41:KQ41)","v":0},{"$f":"SUMIF('EXAMPLE-Pro'!D7:KQ7,30, 'EXAMPLE-Pro'!D42:KQ42)","v":0},{"$f":"SUMIF('EXAMPLE-Pro'!D7:KQ7,30, 'EXAMPLE-Pro'!D43:KQ43)","v":0},{"$f":"SUMIF('EXAMPLE-Pro'!D7:KQ7,30, 'EXAMPLE-Pro'!D44:KQ44)","v":0},{"$f":"SUMIF('EXAMPLE-Pro'!D7:KQ7,30, 'EXAMPLE-Pro'!D45:KQ45)","v":0},{"$f":"SUMIF('EXAMPLE-Pro'!D7:KQ7,30, 'EXAMPLE-Pro'!D46:KQ46)","v":0},{"$f":"SUMIF('EXAMPLE-Pro'!D7:KQ7,30, 'EXAMPLE-Pro'!D47:KQ47)","v":0},{"$f":"SUMIF('EXAMPLE-Pro'!D7:KQ7,30, 'EXAMPLE-Pro'!D48:KQ48)","v":0},{"$f":"SUMIF('EXAMPLE-Pro'!D7:KQ7,30, 'EXAMPLE-Pro'!D49:KQ49)","v":0}]
[null,31,{"$f":"SUMIF('EXAMPLE-Pro'!D7:KQ7,31, 'EXAMPLE-Pro'!D15:KQ15)","v":0},"FU",{"$f":"SUMIF('EXAMPLE-Pro'!D7:KQ7,31, 'EXAMPLE-Pro'!D38:KQ38)","v":0},{"$f":"SUMIF('EXAMPLE-Pro'!D7:KQ7,31, 'EXAMPLE-Pro'!D39:KQ39)","v":0},{"$f":"SUMIF('EXAMPLE-Pro'!D7:KQ7,31, 'EXAMPLE-Pro'!D40:KQ40)","v":0},{"$f":"SUMIF('EXAMPLE-Pro'!D7:KQ7,31, 'EXAMPLE-Pro'!D41:KQ41)","v":0},{"$f":"SUMIF('EXAMPLE-Pro'!D7:KQ7,31, 'EXAMPLE-Pro'!D42:KQ42)","v":0},{"$f":"SUMIF('EXAMPLE-Pro'!D7:KQ7,31, 'EXAMPLE-Pro'!D43:KQ43)","v":0},{"$f":"SUMIF('EXAMPLE-Pro'!D7:KQ7,31, 'EXAMPLE-Pro'!D44:KQ44)","v":0},{"$f":"SUMIF('EXAMPLE-Pro'!D7:KQ7,31, 'EXAMPLE-Pro'!D45:KQ45)","v":0},{"$f":"SUMIF('EXAMPLE-Pro'!D7:KQ7,31, 'EXAMPLE-Pro'!D46:KQ46)","v":0},{"$f":"SUMIF('EXAMPLE-Pro'!D7:KQ7,31, 'EXAMPLE-Pro'!D47:KQ47)","v":0},{"$f":"SUMIF('EXAMPLE-Pro'!D7:KQ7,31, 'EXAMPLE-Pro'!D48:KQ48)","v":0},{"$f":"SUMIF('EXAMPLE-Pro'!D7:KQ7,31, 'EXAMPLE-Pro'!D49:KQ49)","v":0}]
[null,32,{"$f":"SUMIF('EXAMPLE-Pro'!D7:KQ7,32, 'EXAMPLE-Pro'!D15:KQ15)","v":0},"FU",{"$f":"SUMIF('EXAMPLE-Pro'!D7:KQ7,32, 'EXAMPLE-Pro'!D38:KQ38)","v":0},{"$f":"SUMIF('EXAMPLE-Pro'!D7:KQ7,32, 'EXAMPLE-Pro'!D39:KQ39)","v":0},{"$f":"SUMIF('EXAMPLE-Pro'!D7:KQ7,32, 'EXAMPLE-Pro'!D40:KQ40)","v":0},{"$f":"SUMIF('EXAMPLE-Pro'!D7:KQ7,32, 'EXAMPLE-Pro'!D41:KQ41)","v":0},{"$f":"SUMIF('EXAMPLE-Pro'!D7:KQ7,32, 'EXAMPLE-Pro'!D42:KQ42)","v":0},{"$f":"SUMIF('EXAMPLE-Pro'!D7:KQ7,32, 'EXAMPLE-Pro'!D43:KQ43)","v":0},{"$f":"SUMIF('EXAMPLE-Pro'!D7:KQ7,32, 'EXAMPLE-Pro'!D44:KQ44)","v":0},{"$f":"SUMIF('EXAMPLE-Pro'!D7:KQ7,32, 'EXAMPLE-Pro'!D45:KQ45)","v":0},{"$f":"SUMIF('EXAMPLE-Pro'!D7:KQ7,32, 'EXAMPLE-Pro'!D46:KQ46)","v":0},{"$f":"SUMIF('EXAMPLE-Pro'!D7:KQ7,32, 'EXAMPLE-Pro'!D47:KQ47)","v":0},{"$f":"SUMIF('EXAMPLE-Pro'!D7:KQ7,32, 'EXAMPLE-Pro'!D48:KQ48)","v":0},{"$f":"SUMIF('EXAMPLE-Pro'!D7:KQ7,32, 'EXAMPLE-Pro'!D49:KQ49)","v":0}]
[null,33,{"$f":"SUMIF('EXAMPLE-Pro'!D7:KQ7,33, 'EXAMPLE-Pro'!D15:KQ15)","v":0},"FU",{"$f":"SUMIF('EXAMPLE-Pro'!D7:KQ7,33, 'EXAMPLE-Pro'!D38:KQ38)","v":0},{"$f":"SUMIF('EXAMPLE-Pro'!D7:KQ7,33, 'EXAMPLE-Pro'!D39:KQ39)","v":0},{"$f":"SUMIF('EXAMPLE-Pro'!D7:KQ7,33, 'EXAMPLE-Pro'!D40:KQ40)","v":0},{"$f":"SUMIF('EXAMPLE-Pro'!D7:KQ7,33, 'EXAMPLE-Pro'!D41:KQ41)","v":0},{"$f":"SUMIF('EXAMPLE-Pro'!D7:KQ7,33, 'EXAMPLE-Pro'!D42:KQ42)","v":0},{"$f":"SUMIF('EXAMPLE-Pro'!D7:KQ7,33, 'EXAMPLE-Pro'!D43:KQ43)","v":0},{"$f":"SUMIF('EXAMPLE-Pro'!D7:KQ7,33, 'EXAMPLE-Pro'!D44:KQ44)","v":0},{"$f":"SUMIF('EXAMPLE-Pro'!D7:KQ7,33, 'EXAMPLE-Pro'!D45:KQ45)","v":0},{"$f":"SUMIF('EXAMPLE-Pro'!D7:KQ7,33, 'EXAMPLE-Pro'!D46:KQ46)","v":0},{"$f":"SUMIF('EXAMPLE-Pro'!D7:KQ7,33, 'EXAMPLE-Pro'!D47:KQ47)","v":0},{"$f":"SUMIF('EXAMPLE-Pro'!D7:KQ7,33, 'EXAMPLE-Pro'!D48:KQ48)","v":0},{"$f":"SUMIF('EXAMPLE-Pro'!D7:KQ7,33, 'EXAMPLE-Pro'!D49:KQ49)","v":0}]
[null,34,{"$f":"SUMIF('EXAMPLE-Pro'!D7:KQ7,34, 'EXAMPLE-Pro'!D15:KQ15)","v":0},"FU",{"$f":"SUMIF('EXAMPLE-Pro'!D7:KQ7,34, 'EXAMPLE-Pro'!D38:KQ38)","v":0},{"$f":"SUMIF('EXAMPLE-Pro'!D7:KQ7,34, 'EXAMPLE-Pro'!D39:KQ39)","v":0},{"$f":"SUMIF('EXAMPLE-Pro'!D7:KQ7,34, 'EXAMPLE-Pro'!D40:KQ40)","v":0},{"$f":"SUMIF('EXAMPLE-Pro'!D7:KQ7,34, 'EXAMPLE-Pro'!D41:KQ41)","v":0},{"$f":"SUMIF('EXAMPLE-Pro'!D7:KQ7,34, 'EXAMPLE-Pro'!D42:KQ42)","v":0},{"$f":"SUMIF('EXAMPLE-Pro'!D7:KQ7,34, 'EXAMPLE-Pro'!D43:KQ43)","v":0},{"$f":"SUMIF('EXAMPLE-Pro'!D7:KQ7,34, 'EXAMPLE-Pro'!D44:KQ44)","v":0},{"$f":"SUMIF('EXAMPLE-Pro'!D7:KQ7,34, 'EXAMPLE-Pro'!D45:KQ45)","v":0},{"$f":"SUMIF('EXAMPLE-Pro'!D7:KQ7,34, 'EXAMPLE-Pro'!D46:KQ46)","v":0},{"$f":"SUMIF('EXAMPLE-Pro'!D7:KQ7,34, 'EXAMPLE-Pro'!D47:KQ47)","v":0},{"$f":"SUMIF('EXAMPLE-Pro'!D7:KQ7,34, 'EXAMPLE-Pro'!D48:KQ48)","v":0},{"$f":"SUMIF('EXAMPLE-Pro'!D7:KQ7,34, 'EXAMPLE-Pro'!D49:KQ49)","v":0}]
[null,35,{"$f":"SUMIF('EXAMPLE-Pro'!D7:KQ7,35, 'EXAMPLE-Pro'!D15:KQ15)","v":0},"FU",{"$f":"SUMIF('EXAMPLE-Pro'!D7:KQ7,35, 'EXAMPLE-Pro'!D38:KQ38)","v":0},{"$f":"SUMIF('EXAMPLE-Pro'!D7:KQ7,35, 'EXAMPLE-Pro'!D39:KQ39)","v":0},{"$f":"SUMIF('EXAMPLE-Pro'!D7:KQ7,35, 'EXAMPLE-Pro'!D40:KQ40)","v":0},{"$f":"SUMIF('EXAMPLE-Pro'!D7:KQ7,35, 'EXAMPLE-Pro'!D41:KQ41)","v":0},{"$f":"SUMIF('EXAMPLE-Pro'!D7:KQ7,35, 'EXAMPLE-Pro'!D42:KQ42)","v":0},{"$f":"SUMIF('EXAMPLE-Pro'!D7:KQ7,35, 'EXAMPLE-Pro'!D43:KQ43)","v":0},{"$f":"SUMIF('EXAMPLE-Pro'!D7:KQ7,35, 'EXAMPLE-Pro'!D44:KQ44)","v":0},{"$f":"SUMIF('EXAMPLE-Pro'!D7:KQ7,35, 'EXAMPLE-Pro'!D45:KQ45)","v":0},{"$f":"SUMIF('EXAMPLE-Pro'!D7:KQ7,35, 'EXAMPLE-Pro'!D46:KQ46)","v":0},{"$f":"SUMIF('EXAMPLE-Pro'!D7:KQ7,35, 'EXAMPLE-Pro'!D47:KQ47)","v":0},{"$f":"SUMIF('EXAMPLE-Pro'!D7:KQ7,35, 'EXAMPLE-Pro'!D48:KQ48)","v":0},{"$f":"SUMIF('EXAMPLE-Pro'!D7:KQ7,35, 'EXAMPLE-Pro'!D49:KQ49)","v":0}]
[null,36,{"$f":"SUMIF('EXAMPLE-Pro'!D7:KQ7,36, 'EXAMPLE-Pro'!D15:KQ15)","v":0},"FU",{"$f":"SUMIF('EXAMPLE-Pro'!D7:KQ7,36, 'EXAMPLE-Pro'!D38:KQ38)","v":0},{"$f":"SUMIF('EXAMPLE-Pro'!D7:KQ7,36, 'EXAMPLE-Pro'!D39:KQ39)","v":0},{"$f":"SUMIF('EXAMPLE-Pro'!D7:KQ7,36, 'EXAMPLE-Pro'!D40:KQ40)","v":0},{"$f":"SUMIF('EXAMPLE-Pro'!D7:KQ7,36, 'EXAMPLE-Pro'!D41:KQ41)","v":0},{"$f":"SUMIF('EXAMPLE-Pro'!D7:KQ7,36, 'EXAMPLE-Pro'!D42:KQ42)","v":0},{"$f":"SUMIF('EXAMPLE-Pro'!D7:KQ7,36, 'EXAMPLE-Pro'!D43:KQ43)","v":0},{"$f":"SUMIF('EXAMPLE-Pro'!D7:KQ7,36, 'EXAMPLE-Pro'!D44:KQ44)","v":0},{"$f":"SUMIF('EXAMPLE-Pro'!D7:KQ7,36, 'EXAMPLE-Pro'!D45:KQ45)","v":0},{"$f":"SUMIF('EXAMPLE-Pro'!D7:KQ7,36, 'EXAMPLE-Pro'!D46:KQ46)","v":0},{"$f":"SUMIF('EXAMPLE-Pro'!D7:KQ7,36, 'EXAMPLE-Pro'!D47:KQ47)","v":0},{"$f":"SUMIF('EXAMPLE-Pro'!D7:KQ7,36, 'EXAMPLE-Pro'!D48:KQ48)","v":0},{"$f":"SUMIF('EXAMPLE-Pro'!D7:KQ7,36, 'EXAMPLE-Pro'!D49:KQ49)","v":0}]
[null,37,{"$f":"SUMIF('EXAMPLE-Pro'!D7:KQ7,37, 'EXAMPLE-Pro'!D15:KQ15)","v":0},"FU",{"$f":"SUMIF('EXAMPLE-Pro'!D7:KQ7,37, 'EXAMPLE-Pro'!D38:KQ38)","v":0},{"$f":"SUMIF('EXAMPLE-Pro'!D7:KQ7,37, 'EXAMPLE-Pro'!D39:KQ39)","v":0},{"$f":"SUMIF('EXAMPLE-Pro'!D7:KQ7,37, 'EXAMPLE-Pro'!D40:KQ40)","v":0},{"$f":"SUMIF('EXAMPLE-Pro'!D7:KQ7,37, 'EXAMPLE-Pro'!D41:KQ41)","v":0},{"$f":"SUMIF('EXAMPLE-Pro'!D7:KQ7,37, 'EXAMPLE-Pro'!D42:KQ42)","v":0},{"$f":"SUMIF('EXAMPLE-Pro'!D7:KQ7,37, 'EXAMPLE-Pro'!D43:KQ43)","v":0},{"$f":"SUMIF('EXAMPLE-Pro'!D7:KQ7,37, 'EXAMPLE-Pro'!D44:KQ44)","v":0},{"$f":"SUMIF('EXAMPLE-Pro'!D7:KQ7,37, 'EXAMPLE-Pro'!D45:KQ45)","v":0},{"$f":"SUMIF('EXAMPLE-Pro'!D7:KQ7,37, 'EXAMPLE-Pro'!D46:KQ46)","v":0},{"$f":"SUMIF('EXAMPLE-Pro'!D7:KQ7,37, 'EXAMPLE-Pro'!D47:KQ47)","v":0},{"$f":"SUMIF('EXAMPLE-Pro'!D7:KQ7,37, 'EXAMPLE-Pro'!D48:KQ48)","v":0},{"$f":"SUMIF('EXAMPLE-Pro'!D7:KQ7,37, 'EXAMPLE-Pro'!D49:KQ49)","v":0}]
[null,38,{"$f":"SUMIF('EXAMPLE-Pro'!D7:KQ7,38, 'EXAMPLE-Pro'!D15:KQ15)","v":0},"FU",{"$f":"SUMIF('EXAMPLE-Pro'!D7:KQ7,38, 'EXAMPLE-Pro'!D38:KQ38)","v":0},{"$f":"SUMIF('EXAMPLE-Pro'!D7:KQ7,38, 'EXAMPLE-Pro'!D39:KQ39)","v":0},{"$f":"SUMIF('EXAMPLE-Pro'!D7:KQ7,38, 'EXAMPLE-Pro'!D40:KQ40)","v":0},{"$f":"SUMIF('EXAMPLE-Pro'!D7:KQ7,38, 'EXAMPLE-Pro'!D41:KQ41)","v":0},{"$f":"SUMIF('EXAMPLE-Pro'!D7:KQ7,38, 'EXAMPLE-Pro'!D42:KQ42)","v":0},{"$f":"SUMIF('EXAMPLE-Pro'!D7:KQ7,38, 'EXAMPLE-Pro'!D43:KQ43)","v":0},{"$f":"SUMIF('EXAMPLE-Pro'!D7:KQ7,38, 'EXAMPLE-Pro'!D44:KQ44)","v":0},{"$f":"SUMIF('EXAMPLE-Pro'!D7:KQ7,38, 'EXAMPLE-Pro'!D45:KQ45)","v":0},{"$f":"SUMIF('EXAMPLE-Pro'!D7:KQ7,38, 'EXAMPLE-Pro'!D46:KQ46)","v":0},{"$f":"SUMIF('EXAMPLE-Pro'!D7:KQ7,38, 'EXAMPLE-Pro'!D47:KQ47)","v":0},{"$f":"SUMIF('EXAMPLE-Pro'!D7:KQ7,38, 'EXAMPLE-Pro'!D48:KQ48)","v":0},{"$f":"SUMIF('EXAMPLE-Pro'!D7:KQ7,38, 'EXAMPLE-Pro'!D49:KQ49)","v":0}]
[null,39,{"$f":"SUMIF('EXAMPLE-Pro'!D7:KQ7,39, 'EXAMPLE-Pro'!D15:KQ15)","v":0},"FU",{"$f":"SUMIF('EXAMPLE-Pro'!D7:KQ7,39, 'EXAMPLE-Pro'!D38:KQ38)","v":0},{"$f":"SUMIF('EXAMPLE-Pro'!D7:KQ7,39, 'EXAMPLE-Pro'!D39:KQ39)","v":0},{"$f":"SUMIF('EXAMPLE-Pro'!D7:KQ7,39, 'EXAMPLE-Pro'!D40:KQ40)","v":0},{"$f":"SUMIF('EXAMPLE-Pro'!D7:KQ7,39, 'EXAMPLE-Pro'!D41:KQ41)","v":0},{"$f":"SUMIF('EXAMPLE-Pro'!D7:KQ7,39, 'EXAMPLE-Pro'!D42:KQ42)","v":0},{"$f":"SUMIF('EXAMPLE-Pro'!D7:KQ7,39, 'EXAMPLE-Pro'!D43:KQ43)","v":0},{"$f":"SUMIF('EXAMPLE-Pro'!D7:KQ7,39, 'EXAMPLE-Pro'!D44:KQ44)","v":0},{"$f":"SUMIF('EXAMPLE-Pro'!D7:KQ7,39, 'EXAMPLE-Pro'!D45:KQ45)","v":0},{"$f":"SUMIF('EXAMPLE-Pro'!D7:KQ7,39, 'EXAMPLE-Pro'!D46:KQ46)","v":0},{"$f":"SUMIF('EXAMPLE-Pro'!D7:KQ7,39, 'EXAMPLE-Pro'!D47:KQ47)","v":0},{"$f":"SUMIF('EXAMPLE-Pro'!D7:KQ7,39, 'EXAMPLE-Pro'!D48:KQ48)","v":0},{"$f":"SUMIF('EXAMPLE-Pro'!D7:KQ7,39, 'EXAMPLE-Pro'!D49:KQ49)","v":0}]
[null,40,{"$f":"SUMIF('EXAMPLE-Pro'!D7:KQ7,40, 'EXAMPLE-Pro'!D15:KQ15)","v":0},"FU",{"$f":"SUMIF('EXAMPLE-Pro'!D7:KQ7,40, 'EXAMPLE-Pro'!D38:KQ38)","v":0},{"$f":"SUMIF('EXAMPLE-Pro'!D7:KQ7,40, 'EXAMPLE-Pro'!D39:KQ39)","v":0},{"$f":"SUMIF('EXAMPLE-Pro'!D7:KQ7,40, 'EXAMPLE-Pro'!D40:KQ40)","v":0},{"$f":"SUMIF('EXAMPLE-Pro'!D7:KQ7,40, 'EXAMPLE-Pro'!D41:KQ41)","v":0},{"$f":"SUMIF('EXAMPLE-Pro'!D7:KQ7,40, 'EXAMPLE-Pro'!D42:KQ42)","v":0},{"$f":"SUMIF('EXAMPLE-Pro'!D7:KQ7,40, 'EXAMPLE-Pro'!D43:KQ43)","v":0},{"$f":"SUMIF('EXAMPLE-Pro'!D7:KQ7,40, 'EXAMPLE-Pro'!D44:KQ44)","v":0},{"$f":"SUMIF('EXAMPLE-Pro'!D7:KQ7,40, 'EXAMPLE-Pro'!D45:KQ45)","v":0},{"$f":"SUMIF('EXAMPLE-Pro'!D7:KQ7,40, 'EXAMPLE-Pro'!D46:KQ46)","v":0},{"$f":"SUMIF('EXAMPLE-Pro'!D7:KQ7,40, 'EXAMPLE-Pro'!D47:KQ47)","v":0},{"$f":"SUMIF('EXAMPLE-Pro'!D7:KQ7,40, 'EXAMPLE-Pro'!D48:KQ48)","v":0},{"$f":"SUMIF('EXAMPLE-Pro'!D7:KQ7,40, 'EXAMPLE-Pro'!D49:KQ49)","v":0}]
[null,41,{"$f":"SUMIF('EXAMPLE-Pro'!D7:KQ7,41, 'EXAMPLE-Pro'!D15:KQ15)","v":0},"FU",{"$f":"SUMIF('EXAMPLE-Pro'!D7:KQ7,41, 'EXAMPLE-Pro'!D38:KQ38)","v":0},{"$f":"SUMIF('EXAMPLE-Pro'!D7:KQ7,41, 'EXAMPLE-Pro'!D39:KQ39)","v":0},{"$f":"SUMIF('EXAMPLE-Pro'!D7:KQ7,41, 'EXAMPLE-Pro'!D40:KQ40)","v":0},{"$f":"SUMIF('EXAMPLE-Pro'!D7:KQ7,41, 'EXAMPLE-Pro'!D41:KQ41)","v":0},{"$f":"SUMIF('EXAMPLE-Pro'!D7:KQ7,41, 'EXAMPLE-Pro'!D42:KQ42)","v":0},{"$f":"SUMIF('EXAMPLE-Pro'!D7:KQ7,41, 'EXAMPLE-Pro'!D43:KQ43)","v":0},{"$f":"SUMIF('EXAMPLE-Pro'!D7:KQ7,41, 'EXAMPLE-Pro'!D44:KQ44)","v":0},{"$f":"SUMIF('EXAMPLE-Pro'!D7:KQ7,41, 'EXAMPLE-Pro'!D45:KQ45)","v":0},{"$f":"SUMIF('EXAMPLE-Pro'!D7:KQ7,41, 'EXAMPLE-Pro'!D46:KQ46)","v":0},{"$f":"SUMIF('EXAMPLE-Pro'!D7:KQ7,41, 'EXAMPLE-Pro'!D47:KQ47)","v":0},{"$f":"SUMIF('EXAMPLE-Pro'!D7:KQ7,41, 'EXAMPLE-Pro'!D48:KQ48)","v":0},{"$f":"SUMIF('EXAMPLE-Pro'!D7:KQ7,41, 'EXAMPLE-Pro'!D49:KQ49)","v":0}]
[null,42,{"$f":"SUMIF('EXAMPLE-Pro'!D7:KQ7,42, 'EXAMPLE-Pro'!D15:KQ15)","v":0},"FU",{"$f":"SUMIF('EXAMPLE-Pro'!D7:KQ7,42, 'EXAMPLE-Pro'!D38:KQ38)","v":0},{"$f":"SUMIF('EXAMPLE-Pro'!D7:KQ7,42, 'EXAMPLE-Pro'!D39:KQ39)","v":0},{"$f":"SUMIF('EXAMPLE-Pro'!D7:KQ7,42, 'EXAMPLE-Pro'!D40:KQ40)","v":0},{"$f":"SUMIF('EXAMPLE-Pro'!D7:KQ7,42, 'EXAMPLE-Pro'!D41:KQ41)","v":0},{"$f":"SUMIF('EXAMPLE-Pro'!D7:KQ7,42, 'EXAMPLE-Pro'!D42:KQ42)","v":0},{"$f":"SUMIF('EXAMPLE-Pro'!D7:KQ7,42, 'EXAMPLE-Pro'!D43:KQ43)","v":0},{"$f":"SUMIF('EXAMPLE-Pro'!D7:KQ7,42, 'EXAMPLE-Pro'!D44:KQ44)","v":0},{"$f":"SUMIF('EXAMPLE-Pro'!D7:KQ7,42, 'EXAMPLE-Pro'!D45:KQ45)","v":0},{"$f":"SUMIF('EXAMPLE-Pro'!D7:KQ7,42, 'EXAMPLE-Pro'!D46:KQ46)","v":0},{"$f":"SUMIF('EXAMPLE-Pro'!D7:KQ7,42, 'EXAMPLE-Pro'!D47:KQ47)","v":0},{"$f":"SUMIF('EXAMPLE-Pro'!D7:KQ7,42, 'EXAMPLE-Pro'!D48:KQ48)","v":0},{"$f":"SUMIF('EXAMPLE-Pro'!D7:KQ7,42, 'EXAMPLE-Pro'!D49:KQ49)","v":0}]
[null,43,{"$f":"SUMIF('EXAMPLE-Pro'!D7:KQ7,43, 'EXAMPLE-Pro'!D15:KQ15)","v":0},"FU",{"$f":"SUMIF('EXAMPLE-Pro'!D7:KQ7,43, 'EXAMPLE-Pro'!D38:KQ38)","v":0},{"$f":"SUMIF('EXAMPLE-Pro'!D7:KQ7,43, 'EXAMPLE-Pro'!D39:KQ39)","v":0},{"$f":"SUMIF('EXAMPLE-Pro'!D7:KQ7,43, 'EXAMPLE-Pro'!D40:KQ40)","v":0},{"$f":"SUMIF('EXAMPLE-Pro'!D7:KQ7,43, 'EXAMPLE-Pro'!D41:KQ41)","v":0},{"$f":"SUMIF('EXAMPLE-Pro'!D7:KQ7,43, 'EXAMPLE-Pro'!D42:KQ42)","v":0},{"$f":"SUMIF('EXAMPLE-Pro'!D7:KQ7,43, 'EXAMPLE-Pro'!D43:KQ43)","v":0},{"$f":"SUMIF('EXAMPLE-Pro'!D7:KQ7,43, 'EXAMPLE-Pro'!D44:KQ44)","v":0},{"$f":"SUMIF('EXAMPLE-Pro'!D7:KQ7,43, 'EXAMPLE-Pro'!D45:KQ45)","v":0},{"$f":"SUMIF('EXAMPLE-Pro'!D7:KQ7,43, 'EXAMPLE-Pro'!D46:KQ46)","v":0},{"$f":"SUMIF('EXAMPLE-Pro'!D7:KQ7,43, 'EXAMPLE-Pro'!D47:KQ47)","v":0},{"$f":"SUMIF('EXAMPLE-Pro'!D7:KQ7,43, 'EXAMPLE-Pro'!D48:KQ48)","v":0},{"$f":"SUMIF('EXAMPLE-Pro'!D7:KQ7,43, 'EXAMPLE-Pro'!D49:KQ49)","v":0}]
[null,44,{"$f":"SUMIF('EXAMPLE-Pro'!D7:KQ7,44, 'EXAMPLE-Pro'!D15:KQ15)","v":0},"FU",{"$f":"SUMIF('EXAMPLE-Pro'!D7:KQ7,44, 'EXAMPLE-Pro'!D38:KQ38)","v":0},{"$f":"SUMIF('EXAMPLE-Pro'!D7:KQ7,44, 'EXAMPLE-Pro'!D39:KQ39)","v":0},{"$f":"SUMIF('EXAMPLE-Pro'!D7:KQ7,44, 'EXAMPLE-Pro'!D40:KQ40)","v":0},{"$f":"SUMIF('EXAMPLE-Pro'!D7:KQ7,44, 'EXAMPLE-Pro'!D41:KQ41)","v":0},{"$f":"SUMIF('EXAMPLE-Pro'!D7:KQ7,44, 'EXAMPLE-Pro'!D42:KQ42)","v":0},{"$f":"SUMIF('EXAMPLE-Pro'!D7:KQ7,44, 'EXAMPLE-Pro'!D43:KQ43)","v":0},{"$f":"SUMIF('EXAMPLE-Pro'!D7:KQ7,44, 'EXAMPLE-Pro'!D44:KQ44)","v":0},{"$f":"SUMIF('EXAMPLE-Pro'!D7:KQ7,44, 'EXAMPLE-Pro'!D45:KQ45)","v":0},{"$f":"SUMIF('EXAMPLE-Pro'!D7:KQ7,44, 'EXAMPLE-Pro'!D46:KQ46)","v":0},{"$f":"SUMIF('EXAMPLE-Pro'!D7:KQ7,44, 'EXAMPLE-Pro'!D47:KQ47)","v":0},{"$f":"SUMIF('EXAMPLE-Pro'!D7:KQ7,44, 'EXAMPLE-Pro'!D48:KQ48)","v":0},{"$f":"SUMIF('EXAMPLE-Pro'!D7:KQ7,44, 'EXAMPLE-Pro'!D49:KQ49)","v":0}]
[null,45,{"$f":"SUMIF('EXAMPLE-Pro'!D7:KQ7,45, 'EXAMPLE-Pro'!D15:KQ15)","v":0},"FU",{"$f":"SUMIF('EXAMPLE-Pro'!D7:KQ7,45, 'EXAMPLE-Pro'!D38:KQ38)","v":0},{"$f":"SUMIF('EXAMPLE-Pro'!D7:KQ7,45, 'EXAMPLE-Pro'!D39:KQ39)","v":0},{"$f":"SUMIF('EXAMPLE-Pro'!D7:KQ7,45, 'EXAMPLE-Pro'!D40:KQ40)","v":0},{"$f":"SUMIF('EXAMPLE-Pro'!D7:KQ7,45, 'EXAMPLE-Pro'!D41:KQ41)","v":0},{"$f":"SUMIF('EXAMPLE-Pro'!D7:KQ7,45, 'EXAMPLE-Pro'!D42:KQ42)","v":0},{"$f":"SUMIF('EXAMPLE-Pro'!D7:KQ7,45, 'EXAMPLE-Pro'!D43:KQ43)","v":0},{"$f":"SUMIF('EXAMPLE-Pro'!D7:KQ7,45, 'EXAMPLE-Pro'!D44:KQ44)","v":0},{"$f":"SUMIF('EXAMPLE-Pro'!D7:KQ7,45, 'EXAMPLE-Pro'!D45:KQ45)","v":0},{"$f":"SUMIF('EXAMPLE-Pro'!D7:KQ7,45, 'EXAMPLE-Pro'!D46:KQ46)","v":0},{"$f":"SUMIF('EXAMPLE-Pro'!D7:KQ7,45, 'EXAMPLE-Pro'!D47:KQ47)","v":0},{"$f":"SUMIF('EXAMPLE-Pro'!D7:KQ7,45, 'EXAMPLE-Pro'!D48:KQ48)","v":0},{"$f":"SUMIF('EXAMPLE-Pro'!D7:KQ7,45, 'EXAMPLE-Pro'!D49:KQ49)","v":0}]
[null,46,{"$f":"SUMIF('EXAMPLE-Pro'!D7:KQ7,46, 'EXAMPLE-Pro'!D15:KQ15)","v":0},"FU",{"$f":"SUMIF('EXAMPLE-Pro'!D7:KQ7,46, 'EXAMPLE-Pro'!D38:KQ38)","v":0},{"$f":"SUMIF('EXAMPLE-Pro'!D7:KQ7,46, 'EXAMPLE-Pro'!D39:KQ39)","v":0},{"$f":"SUMIF('EXAMPLE-Pro'!D7:KQ7,46, 'EXAMPLE-Pro'!D40:KQ40)","v":0},{"$f":"SUMIF('EXAMPLE-Pro'!D7:KQ7,46, 'EXAMPLE-Pro'!D41:KQ41)","v":0},{"$f":"SUMIF('EXAMPLE-Pro'!D7:KQ7,46, 'EXAMPLE-Pro'!D42:KQ42)","v":0},{"$f":"SUMIF('EXAMPLE-Pro'!D7:KQ7,46, 'EXAMPLE-Pro'!D43:KQ43)","v":0},{"$f":"SUMIF('EXAMPLE-Pro'!D7:KQ7,46, 'EXAMPLE-Pro'!D44:KQ44)","v":0},{"$f":"SUMIF('EXAMPLE-Pro'!D7:KQ7,46, 'EXAMPLE-Pro'!D45:KQ45)","v":0},{"$f":"SUMIF('EXAMPLE-Pro'!D7:KQ7,46, 'EXAMPLE-Pro'!D46:KQ46)","v":0},{"$f":"SUMIF('EXAMPLE-Pro'!D7:KQ7,46, 'EXAMPLE-Pro'!D47:KQ47)","v":0},{"$f":"SUMIF('EXAMPLE-Pro'!D7:KQ7,46, 'EXAMPLE-Pro'!D48:KQ48)","v":0},{"$f":"SUMIF('EXAMPLE-Pro'!D7:KQ7,46, 'EXAMPLE-Pro'!D49:KQ49)","v":0}]
[null,47,{"$f":"SUMIF('EXAMPLE-Pro'!D7:KQ7,47, 'EXAMPLE-Pro'!D15:KQ15)","v":0},"FU",{"$f":"SUMIF('EXAMPLE-Pro'!D7:KQ7,47, 'EXAMPLE-Pro'!D38:KQ38)","v":0},{"$f":"SUMIF('EXAMPLE-Pro'!D7:KQ7,47, 'EXAMPLE-Pro'!D39:KQ39)","v":0},{"$f":"SUMIF('EXAMPLE-Pro'!D7:KQ7,47, 'EXAMPLE-Pro'!D40:KQ40)","v":0},{"$f":"SUMIF('EXAMPLE-Pro'!D7:KQ7,47, 'EXAMPLE-Pro'!D41:KQ41)","v":0},{"$f":"SUMIF('EXAMPLE-Pro'!D7:KQ7,47, 'EXAMPLE-Pro'!D42:KQ42)","v":0},{"$f":"SUMIF('EXAMPLE-Pro'!D7:KQ7,47, 'EXAMPLE-Pro'!D43:KQ43)","v":0},{"$f":"SUMIF('EXAMPLE-Pro'!D7:KQ7,47, 'EXAMPLE-Pro'!D44:KQ44)","v":0},{"$f":"SUMIF('EXAMPLE-Pro'!D7:KQ7,47, 'EXAMPLE-Pro'!D45:KQ45)","v":0},{"$f":"SUMIF('EXAMPLE-Pro'!D7:KQ7,47, 'EXAMPLE-Pro'!D46:KQ46)","v":0},{"$f":"SUMIF('EXAMPLE-Pro'!D7:KQ7,47, 'EXAMPLE-Pro'!D47:KQ47)","v":0},{"$f":"SUMIF('EXAMPLE-Pro'!D7:KQ7,47, 'EXAMPLE-Pro'!D48:KQ48)","v":0},{"$f":"SUMIF('EXAMPLE-Pro'!D7:KQ7,47, 'EXAMPLE-Pro'!D49:KQ49)","v":0}]
[null,48,{"$f":"SUMIF('EXAMPLE-Pro'!D7:KQ7,48, 'EXAMPLE-Pro'!D15:KQ15)","v":0},"FU",{"$f":"SUMIF('EXAMPLE-Pro'!D7:KQ7,48, 'EXAMPLE-Pro'!D38:KQ38)","v":0},{"$f":"SUMIF('EXAMPLE-Pro'!D7:KQ7,48, 'EXAMPLE-Pro'!D39:KQ39)","v":0},{"$f":"SUMIF('EXAMPLE-Pro'!D7:KQ7,48, 'EXAMPLE-Pro'!D40:KQ40)","v":0},{"$f":"SUMIF('EXAMPLE-Pro'!D7:KQ7,48, 'EXAMPLE-Pro'!D41:KQ41)","v":0},{"$f":"SUMIF('EXAMPLE-Pro'!D7:KQ7,48, 'EXAMPLE-Pro'!D42:KQ42)","v":0},{"$f":"SUMIF('EXAMPLE-Pro'!D7:KQ7,48, 'EXAMPLE-Pro'!D43:KQ43)","v":0},{"$f":"SUMIF('EXAMPLE-Pro'!D7:KQ7,48, 'EXAMPLE-Pro'!D44:KQ44)","v":0},{"$f":"SUMIF('EXAMPLE-Pro'!D7:KQ7,48, 'EXAMPLE-Pro'!D45:KQ45)","v":0},{"$f":"SUMIF('EXAMPLE-Pro'!D7:KQ7,48, 'EXAMPLE-Pro'!D46:KQ46)","v":0},{"$f":"SUMIF('EXAMPLE-Pro'!D7:KQ7,48, 'EXAMPLE-Pro'!D47:KQ47)","v":0},{"$f":"SUMIF('EXAMPLE-Pro'!D7:KQ7,48, 'EXAMPLE-Pro'!D48:KQ48)","v":0},{"$f":"SUMIF('EXAMPLE-Pro'!D7:KQ7,48, 'EXAMPLE-Pro'!D49:KQ49)","v":0}]
[null,49,{"$f":"SUMIF('EXAMPLE-Pro'!D7:KQ7,49, 'EXAMPLE-Pro'!D15:KQ15)","v":0},"FU",{"$f":"SUMIF('EXAMPLE-Pro'!D7:KQ7,49, 'EXAMPLE-Pro'!D38:KQ38)","v":0},{"$f":"SUMIF('EXAMPLE-Pro'!D7:KQ7,49, 'EXAMPLE-Pro'!D39:KQ39)","v":0},{"$f":"SUMIF('EXAMPLE-Pro'!D7:KQ7,49, 'EXAMPLE-Pro'!D40:KQ40)","v":0},{"$f":"SUMIF('EXAMPLE-Pro'!D7:KQ7,49, 'EXAMPLE-Pro'!D41:KQ41)","v":0},{"$f":"SUMIF('EXAMPLE-Pro'!D7:KQ7,49, 'EXAMPLE-Pro'!D42:KQ42)","v":0},{"$f":"SUMIF('EXAMPLE-Pro'!D7:KQ7,49, 'EXAMPLE-Pro'!D43:KQ43)","v":0},{"$f":"SUMIF('EXAMPLE-Pro'!D7:KQ7,49, 'EXAMPLE-Pro'!D44:KQ44)","v":0},{"$f":"SUMIF('EXAMPLE-Pro'!D7:KQ7,49, 'EXAMPLE-Pro'!D45:KQ45)","v":0},{"$f":"SUMIF('EXAMPLE-Pro'!D7:KQ7,49, 'EXAMPLE-Pro'!D46:KQ46)","v":0},{"$f":"SUMIF('EXAMPLE-Pro'!D7:KQ7,49, 'EXAMPLE-Pro'!D47:KQ47)","v":0},{"$f":"SUMIF('EXAMPLE-Pro'!D7:KQ7,49, 'EXAMPLE-Pro'!D48:KQ48)","v":0},{"$f":"SUMIF('EXAMPLE-Pro'!D7:KQ7,49, 'EXAMPLE-Pro'!D49:KQ49)","v":0}]
[null,50,{"$f":"SUMIF('EXAMPLE-Pro'!D7:KQ7,50, 'EXAMPLE-Pro'!D15:KQ15)","v":0},"FU",{"$f":"SUMIF('EXAMPLE-Pro'!D7:KQ7,50, 'EXAMPLE-Pro'!D38:KQ38)","v":0},{"$f":"SUMIF('EXAMPLE-Pro'!D7:KQ7,50, 'EXAMPLE-Pro'!D39:KQ39)","v":0},{"$f":"SUMIF('EXAMPLE-Pro'!D7:KQ7,50, 'EXAMPLE-Pro'!D40:KQ40)","v":0},{"$f":"SUMIF('EXAMPLE-Pro'!D7:KQ7,50, 'EXAMPLE-Pro'!D41:KQ41)","v":0},{"$f":"SUMIF('EXAMPLE-Pro'!D7:KQ7,50, 'EXAMPLE-Pro'!D42:KQ42)","v":0},{"$f":"SUMIF('EXAMPLE-Pro'!D7:KQ7,50, 'EXAMPLE-Pro'!D43:KQ43)","v":0},{"$f":"SUMIF('EXAMPLE-Pro'!D7:KQ7,50, 'EXAMPLE-Pro'!D44:KQ44)","v":0},{"$f":"SUMIF('EXAMPLE-Pro'!D7:KQ7,50, 'EXAMPLE-Pro'!D45:KQ45)","v":0},{"$f":"SUMIF('EXAMPLE-Pro'!D7:KQ7,50, 'EXAMPLE-Pro'!D46:KQ46)","v":0},{"$f":"SUMIF('EXAMPLE-Pro'!D7:KQ7,50, 'EXAMPLE-Pro'!D47:KQ47)","v":0},{"$f":"SUMIF('EXAMPLE-Pro'!D7:KQ7,50, 'EXAMPLE-Pro'!D48:KQ48)","v":0},{"$f":"SUMIF('EXAMPLE-Pro'!D7:KQ7,50, 'EXAMPLE-Pro'!D49:KQ49)","v":0}]
[null,51,{"$f":"SUMIF('EXAMPLE-Pro'!D7:KQ7,51, 'EXAMPLE-Pro'!D15:KQ15)","v":0},"FU",{"$f":"SUMIF('EXAMPLE-Pro'!D7:KQ7,51, 'EXAMPLE-Pro'!D38:KQ38)","v":0},{"$f":"SUMIF('EXAMPLE-Pro'!D7:KQ7,51, 'EXAMPLE-Pro'!D39:KQ39)","v":0},{"$f":"SUMIF('EXAMPLE-Pro'!D7:KQ7,51, 'EXAMPLE-Pro'!D40:KQ40)","v":0},{"$f":"SUMIF('EXAMPLE-Pro'!D7:KQ7,51, 'EXAMPLE-Pro'!D41:KQ41)","v":0},{"$f":"SUMIF('EXAMPLE-Pro'!D7:KQ7,51, 'EXAMPLE-Pro'!D42:KQ42)","v":0},{"$f":"SUMIF('EXAMPLE-Pro'!D7:KQ7,51, 'EXAMPLE-Pro'!D43:KQ43)","v":0},{"$f":"SUMIF('EXAMPLE-Pro'!D7:KQ7,51, 'EXAMPLE-Pro'!D44:KQ44)","v":0},{"$f":"SUMIF('EXAMPLE-Pro'!D7:KQ7,51, 'EXAMPLE-Pro'!D45:KQ45)","v":0},{"$f":"SUMIF('EXAMPLE-Pro'!D7:KQ7,51, 'EXAMPLE-Pro'!D46:KQ46)","v":0},{"$f":"SUMIF('EXAMPLE-Pro'!D7:KQ7,51, 'EXAMPLE-Pro'!D47:KQ47)","v":0},{"$f":"SUMIF('EXAMPLE-Pro'!D7:KQ7,51, 'EXAMPLE-Pro'!D48:KQ48)","v":0},{"$f":"SUMIF('EXAMPLE-Pro'!D7:KQ7,51, 'EXAMPLE-Pro'!D49:KQ49)","v":0}]
[null,52,{"$f":"SUMIF('EXAMPLE-Pro'!D7:KQ7,52, 'EXAMPLE-Pro'!D15:KQ15)","v":0},"FU",{"$f":"SUMIF('EXAMPLE-Pro'!D7:KQ7,52, 'EXAMPLE-Pro'!D38:KQ38)","v":0},{"$f":"SUMIF('EXAMPLE-Pro'!D7:KQ7,52, 'EXAMPLE-Pro'!D39:KQ39)","v":0},{"$f":"SUMIF('EXAMPLE-Pro'!D7:KQ7,52, 'EXAMPLE-Pro'!D40:KQ40)","v":0},{"$f":"SUMIF('EXAMPLE-Pro'!D7:KQ7,52, 'EXAMPLE-Pro'!D41:KQ41)","v":0},{"$f":"SUMIF('EXAMPLE-Pro'!D7:KQ7,52, 'EXAMPLE-Pro'!D42:KQ42)","v":0},{"$f":"SUMIF('EXAMPLE-Pro'!D7:KQ7,52, 'EXAMPLE-Pro'!D43:KQ43)","v":0},{"$f":"SUMIF('EXAMPLE-Pro'!D7:KQ7,52, 'EXAMPLE-Pro'!D44:KQ44)","v":0},{"$f":"SUMIF('EXAMPLE-Pro'!D7:KQ7,52, 'EXAMPLE-Pro'!D45:KQ45)","v":0},{"$f":"SUMIF('EXAMPLE-Pro'!D7:KQ7,52, 'EXAMPLE-Pro'!D46:KQ46)","v":0},{"$f":"SUMIF('EXAMPLE-Pro'!D7:KQ7,52, 'EXAMPLE-Pro'!D47:KQ47)","v":0},{"$f":"SUMIF('EXAMPLE-Pro'!D7:KQ7,52, 'EXAMPLE-Pro'!D48:KQ48)","v":0},{"$f":"SUMIF('EXAMPLE-Pro'!D7:KQ7,52, 'EXAMPLE-Pro'!D49:KQ49)","v":0}]
[null,53,{"$f":"SUMIF('EXAMPLE-Pro'!D7:KQ7,53, 'EXAMPLE-Pro'!D15:KQ15)","v":0},"FU",{"$f":"SUMIF('EXAMPLE-Pro'!D7:KQ7,53, 'EXAMPLE-Pro'!D38:KQ38)","v":0},{"$f":"SUMIF('EXAMPLE-Pro'!D7:KQ7,53, 'EXAMPLE-Pro'!D39:KQ39)","v":0},{"$f":"SUMIF('EXAMPLE-Pro'!D7:KQ7,53, 'EXAMPLE-Pro'!D40:KQ40)","v":0},{"$f":"SUMIF('EXAMPLE-Pro'!D7:KQ7,53, 'EXAMPLE-Pro'!D41:KQ41)","v":0},{"$f":"SUMIF('EXAMPLE-Pro'!D7:KQ7,53, 'EXAMPLE-Pro'!D42:KQ42)","v":0},{"$f":"SUMIF('EXAMPLE-Pro'!D7:KQ7,53, 'EXAMPLE-Pro'!D43:KQ43)","v":0},{"$f":"SUMIF('EXAMPLE-Pro'!D7:KQ7,53, 'EXAMPLE-Pro'!D44:KQ44)","v":0},{"$f":"SUMIF('EXAMPLE-Pro'!D7:KQ7,53, 'EXAMPLE-Pro'!D45:KQ45)","v":0},{"$f":"SUMIF('EXAMPLE-Pro'!D7:KQ7,53, 'EXAMPLE-Pro'!D46:KQ46)","v":0},{"$f":"SUMIF('EXAMPLE-Pro'!D7:KQ7,53, 'EXAMPLE-Pro'!D47:KQ47)","v":0},{"$f":"SUMIF('EXAMPLE-Pro'!D7:KQ7,53, 'EXAMPLE-Pro'!D48:KQ48)","v":0},{"$f":"SUMIF('EXAMPLE-Pro'!D7:KQ7,53, 'EXAMPLE-Pro'!D49:KQ49)","v":0}]
[null,54,{"$f":"SUMIF('EXAMPLE-Pro'!D7:KQ7,54, 'EXAMPLE-Pro'!D15:KQ15)","v":1.0416666666666666E-2},"FU",{"$f":"SUMIF('EXAMPLE-Pro'!D7:KQ7,54, 'EXAMPLE-Pro'!D38:KQ38)","v":0},{"$f":"SUMIF('EXAMPLE-Pro'!D7:KQ7,54, 'EXAMPLE-Pro'!D39:KQ39)","v":0},{"$f":"SUMIF('EXAMPLE-Pro'!D7:KQ7,54, 'EXAMPLE-Pro'!D40:KQ40)","v":0},{"$f":"SUMIF('EXAMPLE-Pro'!D7:KQ7,54, 'EXAMPLE-Pro'!D41:KQ41)","v":0},{"$f":"SUMIF('EXAMPLE-Pro'!D7:KQ7,54, 'EXAMPLE-Pro'!D42:KQ42)","v":1.0416666666666666E-2},{"$f":"SUMIF('EXAMPLE-Pro'!D7:KQ7,54, 'EXAMPLE-Pro'!D43:KQ43)","v":0},{"$f":"SUMIF('EXAMPLE-Pro'!D7:KQ7,54, 'EXAMPLE-Pro'!D44:KQ44)","v":0},{"$f":"SUMIF('EXAMPLE-Pro'!D7:KQ7,54, 'EXAMPLE-Pro'!D45:KQ45)","v":0},{"$f":"SUMIF('EXAMPLE-Pro'!D7:KQ7,54, 'EXAMPLE-Pro'!D46:KQ46)","v":0},{"$f":"SUMIF('EXAMPLE-Pro'!D7:KQ7,54, 'EXAMPLE-Pro'!D47:KQ47)","v":0},{"$f":"SUMIF('EXAMPLE-Pro'!D7:KQ7,54, 'EXAMPLE-Pro'!D48:KQ48)","v":0},{"$f":"SUMIF('EXAMPLE-Pro'!D7:KQ7,54, 'EXAMPLE-Pro'!D49:KQ49)","v":0}]
[null,55,{"$f":"SUMIF('EXAMPLE-Pro'!D7:KQ7,55, 'EXAMPLE-Pro'!D15:KQ15)","v":0},"FU",{"$f":"SUMIF('EXAMPLE-Pro'!D7:KQ7,55, 'EXAMPLE-Pro'!D38:KQ38)","v":0},{"$f":"SUMIF('EXAMPLE-Pro'!D7:KQ7,55, 'EXAMPLE-Pro'!D39:KQ39)","v":0},{"$f":"SUMIF('EXAMPLE-Pro'!D7:KQ7,55, 'EXAMPLE-Pro'!D40:KQ40)","v":0},{"$f":"SUMIF('EXAMPLE-Pro'!D7:KQ7,55, 'EXAMPLE-Pro'!D41:KQ41)","v":0},{"$f":"SUMIF('EXAMPLE-Pro'!D7:KQ7,55, 'EXAMPLE-Pro'!D42:KQ42)","v":0},{"$f":"SUMIF('EXAMPLE-Pro'!D7:KQ7,55, 'EXAMPLE-Pro'!D43:KQ43)","v":0},{"$f":"SUMIF('EXAMPLE-Pro'!D7:KQ7,55, 'EXAMPLE-Pro'!D44:KQ44)","v":0},{"$f":"SUMIF('EXAMPLE-Pro'!D7:KQ7,55, 'EXAMPLE-Pro'!D45:KQ45)","v":0},{"$f":"SUMIF('EXAMPLE-Pro'!D7:KQ7,55, 'EXAMPLE-Pro'!D46:KQ46)","v":0},{"$f":"SUMIF('EXAMPLE-Pro'!D7:KQ7,55, 'EXAMPLE-Pro'!D47:KQ47)","v":0},{"$f":"SUMIF('EXAMPLE-Pro'!D7:KQ7,55, 'EXAMPLE-Pro'!D48:KQ48)","v":0},{"$f":"SUMIF('EXAMPLE-Pro'!D7:KQ7,55, 'EXAMPLE-Pro'!D49:KQ49)","v":0}]
[null,56,{"$f":"SUMIF('EXAMPLE-Pro'!D7:KQ7,56, 'EXAMPLE-Pro'!D15:KQ15)","v":0},"FU",{"$f":"SUMIF('EXAMPLE-Pro'!D7:KQ7,56, 'EXAMPLE-Pro'!D38:KQ38)","v":0},{"$f":"SUMIF('EXAMPLE-Pro'!D7:KQ7,56, 'EXAMPLE-Pro'!D39:KQ39)","v":0},{"$f":"SUMIF('EXAMPLE-Pro'!D7:KQ7,56, 'EXAMPLE-Pro'!D40:KQ40)","v":0},{"$f":"SUMIF('EXAMPLE-Pro'!D7:KQ7,56, 'EXAMPLE-Pro'!D41:KQ41)","v":0},{"$f":"SUMIF('EXAMPLE-Pro'!D7:KQ7,56, 'EXAMPLE-Pro'!D42:KQ42)","v":0},{"$f":"SUMIF('EXAMPLE-Pro'!D7:KQ7,56, 'EXAMPLE-Pro'!D43:KQ43)","v":0},{"$f":"SUMIF('EXAMPLE-Pro'!D7:KQ7,56, 'EXAMPLE-Pro'!D44:KQ44)","v":0},{"$f":"SUMIF('EXAMPLE-Pro'!D7:KQ7,56, 'EXAMPLE-Pro'!D45:KQ45)","v":0},{"$f":"SUMIF('EXAMPLE-Pro'!D7:KQ7,56, 'EXAMPLE-Pro'!D46:KQ46)","v":0},{"$f":"SUMIF('EXAMPLE-Pro'!D7:KQ7,56, 'EXAMPLE-Pro'!D47:KQ47)","v":0},{"$f":"SUMIF('EXAMPLE-Pro'!D7:KQ7,56, 'EXAMPLE-Pro'!D48:KQ48)","v":0},{"$f":"SUMIF('EXAMPLE-Pro'!D7:KQ7,56, 'EXAMPLE-Pro'!D49:KQ49)","v":0}]
[null,57,{"$f":"SUMIF('EXAMPLE-Pro'!D7:KQ7,57, 'EXAMPLE-Pro'!D15:KQ15)","v":0},"FU",{"$f":"SUMIF('EXAMPLE-Pro'!D7:KQ7,57, 'EXAMPLE-Pro'!D38:KQ38)","v":0},{"$f":"SUMIF('EXAMPLE-Pro'!D7:KQ7,57, 'EXAMPLE-Pro'!D39:KQ39)","v":0},{"$f":"SUMIF('EXAMPLE-Pro'!D7:KQ7,57, 'EXAMPLE-Pro'!D40:KQ40)","v":0},{"$f":"SUMIF('EXAMPLE-Pro'!D7:KQ7,57, 'EXAMPLE-Pro'!D41:KQ41)","v":0},{"$f":"SUMIF('EXAMPLE-Pro'!D7:KQ7,57, 'EXAMPLE-Pro'!D42:KQ42)","v":0},{"$f":"SUMIF('EXAMPLE-Pro'!D7:KQ7,57, 'EXAMPLE-Pro'!D43:KQ43)","v":0},{"$f":"SUMIF('EXAMPLE-Pro'!D7:KQ7,57, 'EXAMPLE-Pro'!D44:KQ44)","v":0},{"$f":"SUMIF('EXAMPLE-Pro'!D7:KQ7,57, 'EXAMPLE-Pro'!D45:KQ45)","v":0},{"$f":"SUMIF('EXAMPLE-Pro'!D7:KQ7,57, 'EXAMPLE-Pro'!D46:KQ46)","v":0},{"$f":"SUMIF('EXAMPLE-Pro'!D7:KQ7,57, 'EXAMPLE-Pro'!D47:KQ47)","v":0},{"$f":"SUMIF('EXAMPLE-Pro'!D7:KQ7,57, 'EXAMPLE-Pro'!D48:KQ48)","v":0},{"$f":"SUMIF('EXAMPLE-Pro'!D7:KQ7,57, 'EXAMPLE-Pro'!D49:KQ49)","v":0}]
[null,58,{"$f":"SUMIF('EXAMPLE-Pro'!D7:KQ7,58, 'EXAMPLE-Pro'!D15:KQ15)","v":0},"FU",{"$f":"SUMIF('EXAMPLE-Pro'!D7:KQ7,58, 'EXAMPLE-Pro'!D38:KQ38)","v":0},{"$f":"SUMIF('EXAMPLE-Pro'!D7:KQ7,58, 'EXAMPLE-Pro'!D39:KQ39)","v":0},{"$f":"SUMIF('EXAMPLE-Pro'!D7:KQ7,58, 'EXAMPLE-Pro'!D40:KQ40)","v":0},{"$f":"SUMIF('EXAMPLE-Pro'!D7:KQ7,58, 'EXAMPLE-Pro'!D41:KQ41)","v":0},{"$f":"SUMIF('EXAMPLE-Pro'!D7:KQ7,58, 'EXAMPLE-Pro'!D42:KQ42)","v":0},{"$f":"SUMIF('EXAMPLE-Pro'!D7:KQ7,58, 'EXAMPLE-Pro'!D43:KQ43)","v":0},{"$f":"SUMIF('EXAMPLE-Pro'!D7:KQ7,58, 'EXAMPLE-Pro'!D44:KQ44)","v":0},{"$f":"SUMIF('EXAMPLE-Pro'!D7:KQ7,58, 'EXAMPLE-Pro'!D45:KQ45)","v":0},{"$f":"SUMIF('EXAMPLE-Pro'!D7:KQ7,58, 'EXAMPLE-Pro'!D46:KQ46)","v":0},{"$f":"SUMIF('EXAMPLE-Pro'!D7:KQ7,58, 'EXAMPLE-Pro'!D47:KQ47)","v":0},{"$f":"SUMIF('EXAMPLE-Pro'!D7:KQ7,58, 'EXAMPLE-Pro'!D48:KQ48)","v":0},{"$f":"SUMIF('EXAMPLE-Pro'!D7:KQ7,58, 'EXAMPLE-Pro'!D49:KQ49)","v":0}]
[null,59,{"$f":"SUMIF('EXAMPLE-Pro'!D7:KQ7,59, 'EXAMPLE-Pro'!D15:KQ15)","v":0},"FU",{"$f":"SUMIF('EXAMPLE-Pro'!D7:KQ7,59, 'EXAMPLE-Pro'!D38:KQ38)","v":0},{"$f":"SUMIF('EXAMPLE-Pro'!D7:KQ7,59, 'EXAMPLE-Pro'!D39:KQ39)","v":0},{"$f":"SUMIF('EXAMPLE-Pro'!D7:KQ7,59, 'EXAMPLE-Pro'!D40:KQ40)","v":0},{"$f":"SUMIF('EXAMPLE-Pro'!D7:KQ7,59, 'EXAMPLE-Pro'!D41:KQ41)","v":0},{"$f":"SUMIF('EXAMPLE-Pro'!D7:KQ7,59, 'EXAMPLE-Pro'!D42:KQ42)","v":0},{"$f":"SUMIF('EXAMPLE-Pro'!D7:KQ7,59, 'EXAMPLE-Pro'!D43:KQ43)","v":0},{"$f":"SUMIF('EXAMPLE-Pro'!D7:KQ7,59, 'EXAMPLE-Pro'!D44:KQ44)","v":0},{"$f":"SUMIF('EXAMPLE-Pro'!D7:KQ7,59, 'EXAMPLE-Pro'!D45:KQ45)","v":0},{"$f":"SUMIF('EXAMPLE-Pro'!D7:KQ7,59, 'EXAMPLE-Pro'!D46:KQ46)","v":0},{"$f":"SUMIF('EXAMPLE-Pro'!D7:KQ7,59, 'EXAMPLE-Pro'!D47:KQ47)","v":0},{"$f":"SUMIF('EXAMPLE-Pro'!D7:KQ7,59, 'EXAMPLE-Pro'!D48:KQ48)","v":0},{"$f":"SUMIF('EXAMPLE-Pro'!D7:KQ7,59, 'EXAMPLE-Pro'!D49:KQ49)","v":0}]
[null,60,{"$f":"SUMIF('EXAMPLE-Pro'!D7:KQ7,60, 'EXAMPLE-Pro'!D15:KQ15)","v":0},"FU",{"$f":"SUMIF('EXAMPLE-Pro'!D7:KQ7,60, 'EXAMPLE-Pro'!D38:KQ38)","v":0},{"$f":"SUMIF('EXAMPLE-Pro'!D7:KQ7,60, 'EXAMPLE-Pro'!D39:KQ39)","v":0},{"$f":"SUMIF('EXAMPLE-Pro'!D7:KQ7,60, 'EXAMPLE-Pro'!D40:KQ40)","v":0},{"$f":"SUMIF('EXAMPLE-Pro'!D7:KQ7,60, 'EXAMPLE-Pro'!D41:KQ41)","v":0},{"$f":"SUMIF('EXAMPLE-Pro'!D7:KQ7,60, 'EXAMPLE-Pro'!D42:KQ42)","v":0},{"$f":"SUMIF('EXAMPLE-Pro'!D7:KQ7,60, 'EXAMPLE-Pro'!D43:KQ43)","v":0},{"$f":"SUMIF('EXAMPLE-Pro'!D7:KQ7,60, 'EXAMPLE-Pro'!D44:KQ44)","v":0},{"$f":"SUMIF('EXAMPLE-Pro'!D7:KQ7,60, 'EXAMPLE-Pro'!D45:KQ45)","v":0},{"$f":"SUMIF('EXAMPLE-Pro'!D7:KQ7,60, 'EXAMPLE-Pro'!D46:KQ46)","v":0},{"$f":"SUMIF('EXAMPLE-Pro'!D7:KQ7,60, 'EXAMPLE-Pro'!D47:KQ47)","v":0},{"$f":"SUMIF('EXAMPLE-Pro'!D7:KQ7,60, 'EXAMPLE-Pro'!D48:KQ48)","v":0},{"$f":"SUMIF('EXAMPLE-Pro'!D7:KQ7,60, 'EXAMPLE-Pro'!D49:KQ49)","v":0}]
[null,61,{"$f":"SUMIF('EXAMPLE-Pro'!D7:KQ7,61, 'EXAMPLE-Pro'!D15:KQ15)","v":0},"FU",{"$f":"SUMIF('EXAMPLE-Pro'!D7:KQ7,61, 'EXAMPLE-Pro'!D38:KQ38)","v":0},{"$f":"SUMIF('EXAMPLE-Pro'!D7:KQ7,61, 'EXAMPLE-Pro'!D39:KQ39)","v":0},{"$f":"SUMIF('EXAMPLE-Pro'!D7:KQ7,61, 'EXAMPLE-Pro'!D40:KQ40)","v":0},{"$f":"SUMIF('EXAMPLE-Pro'!D7:KQ7,61, 'EXAMPLE-Pro'!D41:KQ41)","v":0},{"$f":"SUMIF('EXAMPLE-Pro'!D7:KQ7,61, 'EXAMPLE-Pro'!D42:KQ42)","v":0},{"$f":"SUMIF('EXAMPLE-Pro'!D7:KQ7,61, 'EXAMPLE-Pro'!D43:KQ43)","v":0},{"$f":"SUMIF('EXAMPLE-Pro'!D7:KQ7,61, 'EXAMPLE-Pro'!D44:KQ44)","v":0},{"$f":"SUMIF('EXAMPLE-Pro'!D7:KQ7,61, 'EXAMPLE-Pro'!D45:KQ45)","v":0},{"$f":"SUMIF('EXAMPLE-Pro'!D7:KQ7,61, 'EXAMPLE-Pro'!D46:KQ46)","v":0},{"$f":"SUMIF('EXAMPLE-Pro'!D7:KQ7,61, 'EXAMPLE-Pro'!D47:KQ47)","v":0},{"$f":"SUMIF('EXAMPLE-Pro'!D7:KQ7,61, 'EXAMPLE-Pro'!D48:KQ48)","v":0},{"$f":"SUMIF('EXAMPLE-Pro'!D7:KQ7,61, 'EXAMPLE-Pro'!D49:KQ49)","v":0}]
[null,62,{"$f":"SUMIF('EXAMPLE-Pro'!D7:KQ7,62, 'EXAMPLE-Pro'!D15:KQ15)","v":0},"FU",{"$f":"SUMIF('EXAMPLE-Pro'!D7:KQ7,62, 'EXAMPLE-Pro'!D38:KQ38)","v":0},{"$f":"SUMIF('EXAMPLE-Pro'!D7:KQ7,62, 'EXAMPLE-Pro'!D39:KQ39)","v":0},{"$f":"SUMIF('EXAMPLE-Pro'!D7:KQ7,62, 'EXAMPLE-Pro'!D40:KQ40)","v":0},{"$f":"SUMIF('EXAMPLE-Pro'!D7:KQ7,62, 'EXAMPLE-Pro'!D41:KQ41)","v":0},{"$f":"SUMIF('EXAMPLE-Pro'!D7:KQ7,62, 'EXAMPLE-Pro'!D42:KQ42)","v":0},{"$f":"SUMIF('EXAMPLE-Pro'!D7:KQ7,62, 'EXAMPLE-Pro'!D43:KQ43)","v":0},{"$f":"SUMIF('EXAMPLE-Pro'!D7:KQ7,62, 'EXAMPLE-Pro'!D44:KQ44)","v":0},{"$f":"SUMIF('EXAMPLE-Pro'!D7:KQ7,62, 'EXAMPLE-Pro'!D45:KQ45)","v":0},{"$f":"SUMIF('EXAMPLE-Pro'!D7:KQ7,62, 'EXAMPLE-Pro'!D46:KQ46)","v":0},{"$f":"SUMIF('EXAMPLE-Pro'!D7:KQ7,62, 'EXAMPLE-Pro'!D47:KQ47)","v":0},{"$f":"SUMIF('EXAMPLE-Pro'!D7:KQ7,62, 'EXAMPLE-Pro'!D48:KQ48)","v":0},{"$f":"SUMIF('EXAMPLE-Pro'!D7:KQ7,62, 'EXAMPLE-Pro'!D49:KQ49)","v":0}]
[null,63,{"$f":"SUMIF('EXAMPLE-Pro'!D7:KQ7,63, 'EXAMPLE-Pro'!D15:KQ15)","v":0},"FU",{"$f":"SUMIF('EXAMPLE-Pro'!D7:KQ7,63, 'EXAMPLE-Pro'!D38:KQ38)","v":0},{"$f":"SUMIF('EXAMPLE-Pro'!D7:KQ7,63, 'EXAMPLE-Pro'!D39:KQ39)","v":0},{"$f":"SUMIF('EXAMPLE-Pro'!D7:KQ7,63, 'EXAMPLE-Pro'!D40:KQ40)","v":0},{"$f":"SUMIF('EXAMPLE-Pro'!D7:KQ7,63, 'EXAMPLE-Pro'!D41:KQ41)","v":0},{"$f":"SUMIF('EXAMPLE-Pro'!D7:KQ7,63, 'EXAMPLE-Pro'!D42:KQ42)","v":0},{"$f":"SUMIF('EXAMPLE-Pro'!D7:KQ7,63, 'EXAMPLE-Pro'!D43:KQ43)","v":0},{"$f":"SUMIF('EXAMPLE-Pro'!D7:KQ7,63, 'EXAMPLE-Pro'!D44:KQ44)","v":0},{"$f":"SUMIF('EXAMPLE-Pro'!D7:KQ7,63, 'EXAMPLE-Pro'!D45:KQ45)","v":0},{"$f":"SUMIF('EXAMPLE-Pro'!D7:KQ7,63, 'EXAMPLE-Pro'!D46:KQ46)","v":0},{"$f":"SUMIF('EXAMPLE-Pro'!D7:KQ7,63, 'EXAMPLE-Pro'!D47:KQ47)","v":0},{"$f":"SUMIF('EXAMPLE-Pro'!D7:KQ7,63, 'EXAMPLE-Pro'!D48:KQ48)","v":0},{"$f":"SUMIF('EXAMPLE-Pro'!D7:KQ7,63, 'EXAMPLE-Pro'!D49:KQ49)","v":0}]
[null,64,{"$f":"SUMIF('EXAMPLE-Pro'!D7:KQ7,64, 'EXAMPLE-Pro'!D15:KQ15)","v":0},"FU",{"$f":"SUMIF('EXAMPLE-Pro'!D7:KQ7,64, 'EXAMPLE-Pro'!D38:KQ38)","v":0},{"$f":"SUMIF('EXAMPLE-Pro'!D7:KQ7,64, 'EXAMPLE-Pro'!D39:KQ39)","v":0},{"$f":"SUMIF('EXAMPLE-Pro'!D7:KQ7,64, 'EXAMPLE-Pro'!D40:KQ40)","v":0},{"$f":"SUMIF('EXAMPLE-Pro'!D7:KQ7,64, 'EXAMPLE-Pro'!D41:KQ41)","v":0},{"$f":"SUMIF('EXAMPLE-Pro'!D7:KQ7,64, 'EXAMPLE-Pro'!D42:KQ42)","v":0},{"$f":"SUMIF('EXAMPLE-Pro'!D7:KQ7,64, 'EXAMPLE-Pro'!D43:KQ43)","v":0},{"$f":"SUMIF('EXAMPLE-Pro'!D7:KQ7,64, 'EXAMPLE-Pro'!D44:KQ44)","v":0},{"$f":"SUMIF('EXAMPLE-Pro'!D7:KQ7,64, 'EXAMPLE-Pro'!D45:KQ45)","v":0},{"$f":"SUMIF('EXAMPLE-Pro'!D7:KQ7,64, 'EXAMPLE-Pro'!D46:KQ46)","v":0},{"$f":"SUMIF('EXAMPLE-Pro'!D7:KQ7,64, 'EXAMPLE-Pro'!D47:KQ47)","v":0},{"$f":"SUMIF('EXAMPLE-Pro'!D7:KQ7,64, 'EXAMPLE-Pro'!D48:KQ48)","v":0},{"$f":"SUMIF('EXAMPLE-Pro'!D7:KQ7,64, 'EXAMPLE-Pro'!D49:KQ49)","v":0}]
[null,65,{"$f":"SUMIF('EXAMPLE-Pro'!D7:KQ7,65, 'EXAMPLE-Pro'!D15:KQ15)","v":0},"FU",{"$f":"SUMIF('EXAMPLE-Pro'!D7:KQ7,65, 'EXAMPLE-Pro'!D38:KQ38)","v":0},{"$f":"SUMIF('EXAMPLE-Pro'!D7:KQ7,65, 'EXAMPLE-Pro'!D39:KQ39)","v":0},{"$f":"SUMIF('EXAMPLE-Pro'!D7:KQ7,65, 'EXAMPLE-Pro'!D40:KQ40)","v":0},{"$f":"SUMIF('EXAMPLE-Pro'!D7:KQ7,65, 'EXAMPLE-Pro'!D41:KQ41)","v":0},{"$f":"SUMIF('EXAMPLE-Pro'!D7:KQ7,65, 'EXAMPLE-Pro'!D42:KQ42)","v":0},{"$f":"SUMIF('EXAMPLE-Pro'!D7:KQ7,65, 'EXAMPLE-Pro'!D43:KQ43)","v":0},{"$f":"SUMIF('EXAMPLE-Pro'!D7:KQ7,65, 'EXAMPLE-Pro'!D44:KQ44)","v":0},{"$f":"SUMIF('EXAMPLE-Pro'!D7:KQ7,65, 'EXAMPLE-Pro'!D45:KQ45)","v":0},{"$f":"SUMIF('EXAMPLE-Pro'!D7:KQ7,65, 'EXAMPLE-Pro'!D46:KQ46)","v":0},{"$f":"SUMIF('EXAMPLE-Pro'!D7:KQ7,65, 'EXAMPLE-Pro'!D47:KQ47)","v":0},{"$f":"SUMIF('EXAMPLE-Pro'!D7:KQ7,65, 'EXAMPLE-Pro'!D48:KQ48)","v":0},{"$f":"SUMIF('EXAMPLE-Pro'!D7:KQ7,65, 'EXAMPLE-Pro'!D49:KQ49)","v":0}]
[null,66,{"$f":"SUMIF('EXAMPLE-Pro'!D7:KQ7,66, 'EXAMPLE-Pro'!D15:KQ15)","v":0},"FU",{"$f":"SUMIF('EXAMPLE-Pro'!D7:KQ7,66, 'EXAMPLE-Pro'!D38:KQ38)","v":0},{"$f":"SUMIF('EXAMPLE-Pro'!D7:KQ7,66, 'EXAMPLE-Pro'!D39:KQ39)","v":0},{"$f":"SUMIF('EXAMPLE-Pro'!D7:KQ7,66, 'EXAMPLE-Pro'!D40:KQ40)","v":0},{"$f":"SUMIF('EXAMPLE-Pro'!D7:KQ7,66, 'EXAMPLE-Pro'!D41:KQ41)","v":0},{"$f":"SUMIF('EXAMPLE-Pro'!D7:KQ7,66, 'EXAMPLE-Pro'!D42:KQ42)","v":0},{"$f":"SUMIF('EXAMPLE-Pro'!D7:KQ7,66, 'EXAMPLE-Pro'!D43:KQ43)","v":0},{"$f":"SUMIF('EXAMPLE-Pro'!D7:KQ7,66, 'EXAMPLE-Pro'!D44:KQ44)","v":0},{"$f":"SUMIF('EXAMPLE-Pro'!D7:KQ7,66, 'EXAMPLE-Pro'!D45:KQ45)","v":0},{"$f":"SUMIF('EXAMPLE-Pro'!D7:KQ7,66, 'EXAMPLE-Pro'!D46:KQ46)","v":0},{"$f":"SUMIF('EXAMPLE-Pro'!D7:KQ7,66, 'EXAMPLE-Pro'!D47:KQ47)","v":0},{"$f":"SUMIF('EXAMPLE-Pro'!D7:KQ7,66, 'EXAMPLE-Pro'!D48:KQ48)","v":0},{"$f":"SUMIF('EXAMPLE-Pro'!D7:KQ7,66, 'EXAMPLE-Pro'!D49:KQ49)","v":0}]
[null,67,{"$f":"SUMIF('EXAMPLE-Pro'!D7:KQ7,67, 'EXAMPLE-Pro'!D15:KQ15)","v":0},"FU",{"$f":"SUMIF('EXAMPLE-Pro'!D7:KQ7,67, 'EXAMPLE-Pro'!D38:KQ38)","v":0},{"$f":"SUMIF('EXAMPLE-Pro'!D7:KQ7,67, 'EXAMPLE-Pro'!D39:KQ39)","v":0},{"$f":"SUMIF('EXAMPLE-Pro'!D7:KQ7,67, 'EXAMPLE-Pro'!D40:KQ40)","v":0},{"$f":"SUMIF('EXAMPLE-Pro'!D7:KQ7,67, 'EXAMPLE-Pro'!D41:KQ41)","v":0},{"$f":"SUMIF('EXAMPLE-Pro'!D7:KQ7,67, 'EXAMPLE-Pro'!D42:KQ42)","v":0},{"$f":"SUMIF('EXAMPLE-Pro'!D7:KQ7,67, 'EXAMPLE-Pro'!D43:KQ43)","v":0},{"$f":"SUMIF('EXAMPLE-Pro'!D7:KQ7,67, 'EXAMPLE-Pro'!D44:KQ44)","v":0},{"$f":"SUMIF('EXAMPLE-Pro'!D7:KQ7,67, 'EXAMPLE-Pro'!D45:KQ45)","v":0},{"$f":"SUMIF('EXAMPLE-Pro'!D7:KQ7,67, 'EXAMPLE-Pro'!D46:KQ46)","v":0},{"$f":"SUMIF('EXAMPLE-Pro'!D7:KQ7,67, 'EXAMPLE-Pro'!D47:KQ47)","v":0},{"$f":"SUMIF('EXAMPLE-Pro'!D7:KQ7,67, 'EXAMPLE-Pro'!D48:KQ48)","v":0},{"$f":"SUMIF('EXAMPLE-Pro'!D7:KQ7,67, 'EXAMPLE-Pro'!D49:KQ49)","v":0}]
[null,68,{"$f":"SUMIF('EXAMPLE-Pro'!D7:KQ7,68, 'EXAMPLE-Pro'!D15:KQ15)","v":0},"FU",{"$f":"SUMIF('EXAMPLE-Pro'!D7:KQ7,68, 'EXAMPLE-Pro'!D38:KQ38)","v":0},{"$f":"SUMIF('EXAMPLE-Pro'!D7:KQ7,68, 'EXAMPLE-Pro'!D39:KQ39)","v":0},{"$f":"SUMIF('EXAMPLE-Pro'!D7:KQ7,68, 'EXAMPLE-Pro'!D40:KQ40)","v":0},{"$f":"SUMIF('EXAMPLE-Pro'!D7:KQ7,68, 'EXAMPLE-Pro'!D41:KQ41)","v":0},{"$f":"SUMIF('EXAMPLE-Pro'!D7:KQ7,68, 'EXAMPLE-Pro'!D42:KQ42)","v":0},{"$f":"SUMIF('EXAMPLE-Pro'!D7:KQ7,68, 'EXAMPLE-Pro'!D43:KQ43)","v":0},{"$f":"SUMIF('EXAMPLE-Pro'!D7:KQ7,68, 'EXAMPLE-Pro'!D44:KQ44)","v":0},{"$f":"SUMIF('EXAMPLE-Pro'!D7:KQ7,68, 'EXAMPLE-Pro'!D45:KQ45)","v":0},{"$f":"SUMIF('EXAMPLE-Pro'!D7:KQ7,68, 'EXAMPLE-Pro'!D46:KQ46)","v":0},{"$f":"SUMIF('EXAMPLE-Pro'!D7:KQ7,68, 'EXAMPLE-Pro'!D47:KQ47)","v":0},{"$f":"SUMIF('EXAMPLE-Pro'!D7:KQ7,68, 'EXAMPLE-Pro'!D48:KQ48)","v":0},{"$f":"SUMIF('EXAMPLE-Pro'!D7:KQ7,68, 'EXAMPLE-Pro'!D49:KQ49)","v":0}]
[null,69,{"$f":"SUMIF('EXAMPLE-Pro'!D7:KQ7,69, 'EXAMPLE-Pro'!D15:KQ15)","v":0},"FU",{"$f":"SUMIF('EXAMPLE-Pro'!D7:KQ7,69, 'EXAMPLE-Pro'!D38:KQ38)","v":0},{"$f":"SUMIF('EXAMPLE-Pro'!D7:KQ7,69, 'EXAMPLE-Pro'!D39:KQ39)","v":0},{"$f":"SUMIF('EXAMPLE-Pro'!D7:KQ7,69, 'EXAMPLE-Pro'!D40:KQ40)","v":0},{"$f":"SUMIF('EXAMPLE-Pro'!D7:KQ7,69, 'EXAMPLE-Pro'!D41:KQ41)","v":0},{"$f":"SUMIF('EXAMPLE-Pro'!D7:KQ7,69, 'EXAMPLE-Pro'!D42:KQ42)","v":0},{"$f":"SUMIF('EXAMPLE-Pro'!D7:KQ7,69, 'EXAMPLE-Pro'!D43:KQ43)","v":0},{"$f":"SUMIF('EXAMPLE-Pro'!D7:KQ7,69, 'EXAMPLE-Pro'!D44:KQ44)","v":0},{"$f":"SUMIF('EXAMPLE-Pro'!D7:KQ7,69, 'EXAMPLE-Pro'!D45:KQ45)","v":0},{"$f":"SUMIF('EXAMPLE-Pro'!D7:KQ7,69, 'EXAMPLE-Pro'!D46:KQ46)","v":0},{"$f":"SUMIF('EXAMPLE-Pro'!D7:KQ7,69, 'EXAMPLE-Pro'!D47:KQ47)","v":0},{"$f":"SUMIF('EXAMPLE-Pro'!D7:KQ7,69, 'EXAMPLE-Pro'!D48:KQ48)","v":0},{"$f":"SUMIF('EXAMPLE-Pro'!D7:KQ7,69, 'EXAMPLE-Pro'!D49:KQ49)","v":0}]
[null,70,{"$f":"SUMIF('EXAMPLE-Pro'!D7:KQ7,70, 'EXAMPLE-Pro'!D15:KQ15)","v":0},"FU",{"$f":"SUMIF('EXAMPLE-Pro'!D7:KQ7,70, 'EXAMPLE-Pro'!D38:KQ38)","v":0},{"$f":"SUMIF('EXAMPLE-Pro'!D7:KQ7,70, 'EXAMPLE-Pro'!D39:KQ39)","v":0},{"$f":"SUMIF('EXAMPLE-Pro'!D7:KQ7,70, 'EXAMPLE-Pro'!D40:KQ40)","v":0},{"$f":"SUMIF('EXAMPLE-Pro'!D7:KQ7,70, 'EXAMPLE-Pro'!D41:KQ41)","v":0},{"$f":"SUMIF('EXAMPLE-Pro'!D7:KQ7,70, 'EXAMPLE-Pro'!D42:KQ42)","v":0},{"$f":"SUMIF('EXAMPLE-Pro'!D7:KQ7,70, 'EXAMPLE-Pro'!D43:KQ43)","v":0},{"$f":"SUMIF('EXAMPLE-Pro'!D7:KQ7,70, 'EXAMPLE-Pro'!D44:KQ44)","v":0},{"$f":"SUMIF('EXAMPLE-Pro'!D7:KQ7,70, 'EXAMPLE-Pro'!D45:KQ45)","v":0},{"$f":"SUMIF('EXAMPLE-Pro'!D7:KQ7,70, 'EXAMPLE-Pro'!D46:KQ46)","v":0},{"$f":"SUMIF('EXAMPLE-Pro'!D7:KQ7,70, 'EXAMPLE-Pro'!D47:KQ47)","v":0},{"$f":"SUMIF('EXAMPLE-Pro'!D7:KQ7,70, 'EXAMPLE-Pro'!D48:KQ48)","v":0},{"$f":"SUMIF('EXAMPLE-Pro'!D7:KQ7,70, 'EXAMPLE-Pro'!D49:KQ49)","v":0}]
[null,71,{"$f":"SUMIF('EXAMPLE-Pro'!D7:KQ7,71, 'EXAMPLE-Pro'!D15:KQ15)","v":0},"FU",{"$f":"SUMIF('EXAMPLE-Pro'!D7:KQ7,71, 'EXAMPLE-Pro'!D38:KQ38)","v":0},{"$f":"SUMIF('EXAMPLE-Pro'!D7:KQ7,71, 'EXAMPLE-Pro'!D39:KQ39)","v":0},{"$f":"SUMIF('EXAMPLE-Pro'!D7:KQ7,71, 'EXAMPLE-Pro'!D40:KQ40)","v":0},{"$f":"SUMIF('EXAMPLE-Pro'!D7:KQ7,71, 'EXAMPLE-Pro'!D41:KQ41)","v":0},{"$f":"SUMIF('EXAMPLE-Pro'!D7:KQ7,71, 'EXAMPLE-Pro'!D42:KQ42)","v":0},{"$f":"SUMIF('EXAMPLE-Pro'!D7:KQ7,71, 'EXAMPLE-Pro'!D43:KQ43)","v":0},{"$f":"SUMIF('EXAMPLE-Pro'!D7:KQ7,71, 'EXAMPLE-Pro'!D44:KQ44)","v":0},{"$f":"SUMIF('EXAMPLE-Pro'!D7:KQ7,71, 'EXAMPLE-Pro'!D45:KQ45)","v":0},{"$f":"SUMIF('EXAMPLE-Pro'!D7:KQ7,71, 'EXAMPLE-Pro'!D46:KQ46)","v":0},{"$f":"SUMIF('EXAMPLE-Pro'!D7:KQ7,71, 'EXAMPLE-Pro'!D47:KQ47)","v":0},{"$f":"SUMIF('EXAMPLE-Pro'!D7:KQ7,71, 'EXAMPLE-Pro'!D48:KQ48)","v":0},{"$f":"SUMIF('EXAMPLE-Pro'!D7:KQ7,71, 'EXAMPLE-Pro'!D49:KQ49)","v":0}]
[null,72,{"$f":"SUMIF('EXAMPLE-Pro'!D7:KQ7,72, 'EXAMPLE-Pro'!D15:KQ15)","v":0},"FU",{"$f":"SUMIF('EXAMPLE-Pro'!D7:KQ7,72, 'EXAMPLE-Pro'!D38:KQ38)","v":0},{"$f":"SUMIF('EXAMPLE-Pro'!D7:KQ7,72, 'EXAMPLE-Pro'!D39:KQ39)","v":0},{"$f":"SUMIF('EXAMPLE-Pro'!D7:KQ7,72, 'EXAMPLE-Pro'!D40:KQ40)","v":0},{"$f":"SUMIF('EXAMPLE-Pro'!D7:KQ7,72, 'EXAMPLE-Pro'!D41:KQ41)","v":0},{"$f":"SUMIF('EXAMPLE-Pro'!D7:KQ7,72, 'EXAMPLE-Pro'!D42:KQ42)","v":0},{"$f":"SUMIF('EXAMPLE-Pro'!D7:KQ7,72, 'EXAMPLE-Pro'!D43:KQ43)","v":0},{"$f":"SUMIF('EXAMPLE-Pro'!D7:KQ7,72, 'EXAMPLE-Pro'!D44:KQ44)","v":0},{"$f":"SUMIF('EXAMPLE-Pro'!D7:KQ7,72, 'EXAMPLE-Pro'!D45:KQ45)","v":0},{"$f":"SUMIF('EXAMPLE-Pro'!D7:KQ7,72, 'EXAMPLE-Pro'!D46:KQ46)","v":0},{"$f":"SUMIF('EXAMPLE-Pro'!D7:KQ7,72, 'EXAMPLE-Pro'!D47:KQ47)","v":0},{"$f":"SUMIF('EXAMPLE-Pro'!D7:KQ7,72, 'EXAMPLE-Pro'!D48:KQ48)","v":0},{"$f":"SUMIF('EXAMPLE-Pro'!D7:KQ7,72, 'EXAMPLE-Pro'!D49:KQ49)","v":0}]
[null,73,{"$f":"SUMIF('EXAMPLE-Pro'!D7:KQ7,73, 'EXAMPLE-Pro'!D15:KQ15)","v":0},"FU",{"$f":"SUMIF('EXAMPLE-Pro'!D7:KQ7,73, 'EXAMPLE-Pro'!D38:KQ38)","v":0},{"$f":"SUMIF('EXAMPLE-Pro'!D7:KQ7,73, 'EXAMPLE-Pro'!D39:KQ39)","v":0},{"$f":"SUMIF('EXAMPLE-Pro'!D7:KQ7,73, 'EXAMPLE-Pro'!D40:KQ40)","v":0},{"$f":"SUMIF('EXAMPLE-Pro'!D7:KQ7,73, 'EXAMPLE-Pro'!D41:KQ41)","v":0},{"$f":"SUMIF('EXAMPLE-Pro'!D7:KQ7,73, 'EXAMPLE-Pro'!D42:KQ42)","v":0},{"$f":"SUMIF('EXAMPLE-Pro'!D7:KQ7,73, 'EXAMPLE-Pro'!D43:KQ43)","v":0},{"$f":"SUMIF('EXAMPLE-Pro'!D7:KQ7,73, 'EXAMPLE-Pro'!D44:KQ44)","v":0},{"$f":"SUMIF('EXAMPLE-Pro'!D7:KQ7,73, 'EXAMPLE-Pro'!D45:KQ45)","v":0},{"$f":"SUMIF('EXAMPLE-Pro'!D7:KQ7,73, 'EXAMPLE-Pro'!D46:KQ46)","v":0},{"$f":"SUMIF('EXAMPLE-Pro'!D7:KQ7,73, 'EXAMPLE-Pro'!D47:KQ47)","v":0},{"$f":"SUMIF('EXAMPLE-Pro'!D7:KQ7,73, 'EXAMPLE-Pro'!D48:KQ48)","v":0},{"$f":"SUMIF('EXAMPLE-Pro'!D7:KQ7,73, 'EXAMPLE-Pro'!D49:KQ49)","v":0}]
[null,74,{"$f":"SUMIF('EXAMPLE-Pro'!D7:KQ7,74, 'EXAMPLE-Pro'!D15:KQ15)","v":0},"FU",{"$f":"SUMIF('EXAMPLE-Pro'!D7:KQ7,74, 'EXAMPLE-Pro'!D38:KQ38)","v":0},{"$f":"SUMIF('EXAMPLE-Pro'!D7:KQ7,74, 'EXAMPLE-Pro'!D39:KQ39)","v":0},{"$f":"SUMIF('EXAMPLE-Pro'!D7:KQ7,74, 'EXAMPLE-Pro'!D40:KQ40)","v":0},{"$f":"SUMIF('EXAMPLE-Pro'!D7:KQ7,74, 'EXAMPLE-Pro'!D41:KQ41)","v":0},{"$f":"SUMIF('EXAMPLE-Pro'!D7:KQ7,74, 'EXAMPLE-Pro'!D42:KQ42)","v":0},{"$f":"SUMIF('EXAMPLE-Pro'!D7:KQ7,74, 'EXAMPLE-Pro'!D43:KQ43)","v":0},{"$f":"SUMIF('EXAMPLE-Pro'!D7:KQ7,74, 'EXAMPLE-Pro'!D44:KQ44)","v":0},{"$f":"SUMIF('EXAMPLE-Pro'!D7:KQ7,74, 'EXAMPLE-Pro'!D45:KQ45)","v":0},{"$f":"SUMIF('EXAMPLE-Pro'!D7:KQ7,74, 'EXAMPLE-Pro'!D46:KQ46)","v":0},{"$f":"SUMIF('EXAMPLE-Pro'!D7:KQ7,74, 'EXAMPLE-Pro'!D47:KQ47)","v":0},{"$f":"SUMIF('EXAMPLE-Pro'!D7:KQ7,74, 'EXAMPLE-Pro'!D48:KQ48)","v":0},{"$f":"SUMIF('EXAMPLE-Pro'!D7:KQ7,74, 'EXAMPLE-Pro'!D49:KQ49)","v":0}]
[null,75,{"$f":"SUMIF('EXAMPLE-Pro'!D7:KQ7,75, 'EXAMPLE-Pro'!D15:KQ15)","v":0},"FU",{"$f":"SUMIF('EXAMPLE-Pro'!D7:KQ7,75, 'EXAMPLE-Pro'!D38:KQ38)","v":0},{"$f":"SUMIF('EXAMPLE-Pro'!D7:KQ7,75, 'EXAMPLE-Pro'!D39:KQ39)","v":0},{"$f":"SUMIF('EXAMPLE-Pro'!D7:KQ7,75, 'EXAMPLE-Pro'!D40:KQ40)","v":0},{"$f":"SUMIF('EXAMPLE-Pro'!D7:KQ7,75, 'EXAMPLE-Pro'!D41:KQ41)","v":0},{"$f":"SUMIF('EXAMPLE-Pro'!D7:KQ7,75, 'EXAMPLE-Pro'!D42:KQ42)","v":0},{"$f":"SUMIF('EXAMPLE-Pro'!D7:KQ7,75, 'EXAMPLE-Pro'!D43:KQ43)","v":0},{"$f":"SUMIF('EXAMPLE-Pro'!D7:KQ7,75, 'EXAMPLE-Pro'!D44:KQ44)","v":0},{"$f":"SUMIF('EXAMPLE-Pro'!D7:KQ7,75, 'EXAMPLE-Pro'!D45:KQ45)","v":0},{"$f":"SUMIF('EXAMPLE-Pro'!D7:KQ7,75, 'EXAMPLE-Pro'!D46:KQ46)","v":0},{"$f":"SUMIF('EXAMPLE-Pro'!D7:KQ7,75, 'EXAMPLE-Pro'!D47:KQ47)","v":0},{"$f":"SUMIF('EXAMPLE-Pro'!D7:KQ7,75, 'EXAMPLE-Pro'!D48:KQ48)","v":0},{"$f":"SUMIF('EXAMPLE-Pro'!D7:KQ7,75, 'EXAMPLE-Pro'!D49:KQ49)","v":0}]
[null,76,{"$f":"SUMIF('EXAMPLE-Pro'!D7:KQ7,76, 'EXAMPLE-Pro'!D15:KQ15)","v":0},"FU",{"$f":"SUMIF('EXAMPLE-Pro'!D7:KQ7,76, 'EXAMPLE-Pro'!D38:KQ38)","v":0},{"$f":"SUMIF('EXAMPLE-Pro'!D7:KQ7,76, 'EXAMPLE-Pro'!D39:KQ39)","v":0},{"$f":"SUMIF('EXAMPLE-Pro'!D7:KQ7,76, 'EXAMPLE-Pro'!D40:KQ40)","v":0},{"$f":"SUMIF('EXAMPLE-Pro'!D7:KQ7,76, 'EXAMPLE-Pro'!D41:KQ41)","v":0},{"$f":"SUMIF('EXAMPLE-Pro'!D7:KQ7,76, 'EXAMPLE-Pro'!D42:KQ42)","v":0},{"$f":"SUMIF('EXAMPLE-Pro'!D7:KQ7,76, 'EXAMPLE-Pro'!D43:KQ43)","v":0},{"$f":"SUMIF('EXAMPLE-Pro'!D7:KQ7,76, 'EXAMPLE-Pro'!D44:KQ44)","v":0},{"$f":"SUMIF('EXAMPLE-Pro'!D7:KQ7,76, 'EXAMPLE-Pro'!D45:KQ45)","v":0},{"$f":"SUMIF('EXAMPLE-Pro'!D7:KQ7,76, 'EXAMPLE-Pro'!D46:KQ46)","v":0},{"$f":"SUMIF('EXAMPLE-Pro'!D7:KQ7,76, 'EXAMPLE-Pro'!D47:KQ47)","v":0},{"$f":"SUMIF('EXAMPLE-Pro'!D7:KQ7,76, 'EXAMPLE-Pro'!D48:KQ48)","v":0},{"$f":"SUMIF('EXAMPLE-Pro'!D7:KQ7,76, 'EXAMPLE-Pro'!D49:KQ49)","v":0}]
[null,77,{"$f":"SUMIF('EXAMPLE-Pro'!D7:KQ7,77, 'EXAMPLE-Pro'!D15:KQ15)","v":0},"FU",{"$f":"SUMIF('EXAMPLE-Pro'!D7:KQ7,77, 'EXAMPLE-Pro'!D38:KQ38)","v":0},{"$f":"SUMIF('EXAMPLE-Pro'!D7:KQ7,77, 'EXAMPLE-Pro'!D39:KQ39)","v":0},{"$f":"SUMIF('EXAMPLE-Pro'!D7:KQ7,77, 'EXAMPLE-Pro'!D40:KQ40)","v":0},{"$f":"SUMIF('EXAMPLE-Pro'!D7:KQ7,77, 'EXAMPLE-Pro'!D41:KQ41)","v":0},{"$f":"SUMIF('EXAMPLE-Pro'!D7:KQ7,77, 'EXAMPLE-Pro'!D42:KQ42)","v":0},{"$f":"SUMIF('EXAMPLE-Pro'!D7:KQ7,77, 'EXAMPLE-Pro'!D43:KQ43)","v":0},{"$f":"SUMIF('EXAMPLE-Pro'!D7:KQ7,77, 'EXAMPLE-Pro'!D44:KQ44)","v":0},{"$f":"SUMIF('EXAMPLE-Pro'!D7:KQ7,77, 'EXAMPLE-Pro'!D45:KQ45)","v":0},{"$f":"SUMIF('EXAMPLE-Pro'!D7:KQ7,77, 'EXAMPLE-Pro'!D46:KQ46)","v":0},{"$f":"SUMIF('EXAMPLE-Pro'!D7:KQ7,77, 'EXAMPLE-Pro'!D47:KQ47)","v":0},{"$f":"SUMIF('EXAMPLE-Pro'!D7:KQ7,77, 'EXAMPLE-Pro'!D48:KQ48)","v":0},{"$f":"SUMIF('EXAMPLE-Pro'!D7:KQ7,77, 'EXAMPLE-Pro'!D49:KQ49)","v":0}]
[null,78,{"$f":"SUMIF('EXAMPLE-Pro'!D7:KQ7,78, 'EXAMPLE-Pro'!D15:KQ15)","v":0},"FU",{"$f":"SUMIF('EXAMPLE-Pro'!D7:KQ7,78, 'EXAMPLE-Pro'!D38:KQ38)","v":0},{"$f":"SUMIF('EXAMPLE-Pro'!D7:KQ7,78, 'EXAMPLE-Pro'!D39:KQ39)","v":0},{"$f":"SUMIF('EXAMPLE-Pro'!D7:KQ7,78, 'EXAMPLE-Pro'!D40:KQ40)","v":0},{"$f":"SUMIF('EXAMPLE-Pro'!D7:KQ7,78, 'EXAMPLE-Pro'!D41:KQ41)","v":0},{"$f":"SUMIF('EXAMPLE-Pro'!D7:KQ7,78, 'EXAMPLE-Pro'!D42:KQ42)","v":0},{"$f":"SUMIF('EXAMPLE-Pro'!D7:KQ7,78, 'EXAMPLE-Pro'!D43:KQ43)","v":0},{"$f":"SUMIF('EXAMPLE-Pro'!D7:KQ7,78, 'EXAMPLE-Pro'!D44:KQ44)","v":0},{"$f":"SUMIF('EXAMPLE-Pro'!D7:KQ7,78, 'EXAMPLE-Pro'!D45:KQ45)","v":0},{"$f":"SUMIF('EXAMPLE-Pro'!D7:KQ7,78, 'EXAMPLE-Pro'!D46:KQ46)","v":0},{"$f":"SUMIF('EXAMPLE-Pro'!D7:KQ7,78, 'EXAMPLE-Pro'!D47:KQ47)","v":0},{"$f":"SUMIF('EXAMPLE-Pro'!D7:KQ7,78, 'EXAMPLE-Pro'!D48:KQ48)","v":0},{"$f":"SUMIF('EXAMPLE-Pro'!D7:KQ7,78, 'EXAMPLE-Pro'!D49:KQ49)","v":0}]
[null,79,{"$f":"SUMIF('EXAMPLE-Pro'!D7:KQ7,79, 'EXAMPLE-Pro'!D15:KQ15)","v":0},"FU",{"$f":"SUMIF('EXAMPLE-Pro'!D7:KQ7,79, 'EXAMPLE-Pro'!D38:KQ38)","v":0},{"$f":"SUMIF('EXAMPLE-Pro'!D7:KQ7,79, 'EXAMPLE-Pro'!D39:KQ39)","v":0},{"$f":"SUMIF('EXAMPLE-Pro'!D7:KQ7,79, 'EXAMPLE-Pro'!D40:KQ40)","v":0},{"$f":"SUMIF('EXAMPLE-Pro'!D7:KQ7,79, 'EXAMPLE-Pro'!D41:KQ41)","v":0},{"$f":"SUMIF('EXAMPLE-Pro'!D7:KQ7,79, 'EXAMPLE-Pro'!D42:KQ42)","v":0},{"$f":"SUMIF('EXAMPLE-Pro'!D7:KQ7,79, 'EXAMPLE-Pro'!D43:KQ43)","v":0},{"$f":"SUMIF('EXAMPLE-Pro'!D7:KQ7,79, 'EXAMPLE-Pro'!D44:KQ44)","v":0},{"$f":"SUMIF('EXAMPLE-Pro'!D7:KQ7,79, 'EXAMPLE-Pro'!D45:KQ45)","v":0},{"$f":"SUMIF('EXAMPLE-Pro'!D7:KQ7,79, 'EXAMPLE-Pro'!D46:KQ46)","v":0},{"$f":"SUMIF('EXAMPLE-Pro'!D7:KQ7,79, 'EXAMPLE-Pro'!D47:KQ47)","v":0},{"$f":"SUMIF('EXAMPLE-Pro'!D7:KQ7,79, 'EXAMPLE-Pro'!D48:KQ48)","v":0},{"$f":"SUMIF('EXAMPLE-Pro'!D7:KQ7,79, 'EXAMPLE-Pro'!D49:KQ49)","v":0}]
[null,80,{"$f":"SUMIF('EXAMPLE-Pro'!D7:KQ7,80, 'EXAMPLE-Pro'!D15:KQ15)","v":0},"FU",{"$f":"SUMIF('EXAMPLE-Pro'!D7:KQ7,80, 'EXAMPLE-Pro'!D38:KQ38)","v":0},{"$f":"SUMIF('EXAMPLE-Pro'!D7:KQ7,80, 'EXAMPLE-Pro'!D39:KQ39)","v":0},{"$f":"SUMIF('EXAMPLE-Pro'!D7:KQ7,80, 'EXAMPLE-Pro'!D40:KQ40)","v":0},{"$f":"SUMIF('EXAMPLE-Pro'!D7:KQ7,80, 'EXAMPLE-Pro'!D41:KQ41)","v":0},{"$f":"SUMIF('EXAMPLE-Pro'!D7:KQ7,80, 'EXAMPLE-Pro'!D42:KQ42)","v":0},{"$f":"SUMIF('EXAMPLE-Pro'!D7:KQ7,80, 'EXAMPLE-Pro'!D43:KQ43)","v":0},{"$f":"SUMIF('EXAMPLE-Pro'!D7:KQ7,80, 'EXAMPLE-Pro'!D44:KQ44)","v":0},{"$f":"SUMIF('EXAMPLE-Pro'!D7:KQ7,80, 'EXAMPLE-Pro'!D45:KQ45)","v":0},{"$f":"SUMIF('EXAMPLE-Pro'!D7:KQ7,80, 'EXAMPLE-Pro'!D46:KQ46)","v":0},{"$f":"SUMIF('EXAMPLE-Pro'!D7:KQ7,80, 'EXAMPLE-Pro'!D47:KQ47)","v":0},{"$f":"SUMIF('EXAMPLE-Pro'!D7:KQ7,80, 'EXAMPLE-Pro'!D48:KQ48)","v":0},{"$f":"SUMIF('EXAMPLE-Pro'!D7:KQ7,80, 'EXAMPLE-Pro'!D49:KQ49)","v":0}]
[null,81,{"$f":"SUMIF('EXAMPLE-Pro'!D7:KQ7,81, 'EXAMPLE-Pro'!D15:KQ15)","v":0},"FU",{"$f":"SUMIF('EXAMPLE-Pro'!D7:KQ7,81, 'EXAMPLE-Pro'!D38:KQ38)","v":0},{"$f":"SUMIF('EXAMPLE-Pro'!D7:KQ7,81, 'EXAMPLE-Pro'!D39:KQ39)","v":0},{"$f":"SUMIF('EXAMPLE-Pro'!D7:KQ7,81, 'EXAMPLE-Pro'!D40:KQ40)","v":0},{"$f":"SUMIF('EXAMPLE-Pro'!D7:KQ7,81, 'EXAMPLE-Pro'!D41:KQ41)","v":0},{"$f":"SUMIF('EXAMPLE-Pro'!D7:KQ7,81, 'EXAMPLE-Pro'!D42:KQ42)","v":0},{"$f":"SUMIF('EXAMPLE-Pro'!D7:KQ7,81, 'EXAMPLE-Pro'!D43:KQ43)","v":0},{"$f":"SUMIF('EXAMPLE-Pro'!D7:KQ7,81, 'EXAMPLE-Pro'!D44:KQ44)","v":0},{"$f":"SUMIF('EXAMPLE-Pro'!D7:KQ7,81, 'EXAMPLE-Pro'!D45:KQ45)","v":0},{"$f":"SUMIF('EXAMPLE-Pro'!D7:KQ7,81, 'EXAMPLE-Pro'!D46:KQ46)","v":0},{"$f":"SUMIF('EXAMPLE-Pro'!D7:KQ7,81, 'EXAMPLE-Pro'!D47:KQ47)","v":0},{"$f":"SUMIF('EXAMPLE-Pro'!D7:KQ7,81, 'EXAMPLE-Pro'!D48:KQ48)","v":0},{"$f":"SUMIF('EXAMPLE-Pro'!D7:KQ7,81, 'EXAMPLE-Pro'!D49:KQ49)","v":0}]
[null,82,{"$f":"SUMIF('EXAMPLE-Pro'!D7:KQ7,82, 'EXAMPLE-Pro'!D15:KQ15)","v":0},"FU",{"$f":"SUMIF('EXAMPLE-Pro'!D7:KQ7,82, 'EXAMPLE-Pro'!D38:KQ38)","v":0},{"$f":"SUMIF('EXAMPLE-Pro'!D7:KQ7,82, 'EXAMPLE-Pro'!D39:KQ39)","v":0},{"$f":"SUMIF('EXAMPLE-Pro'!D7:KQ7,82, 'EXAMPLE-Pro'!D40:KQ40)","v":0},{"$f":"SUMIF('EXAMPLE-Pro'!D7:KQ7,82, 'EXAMPLE-Pro'!D41:KQ41)","v":0},{"$f":"SUMIF('EXAMPLE-Pro'!D7:KQ7,82, 'EXAMPLE-Pro'!D42:KQ42)","v":0},{"$f":"SUMIF('EXAMPLE-Pro'!D7:KQ7,82, 'EXAMPLE-Pro'!D43:KQ43)","v":0},{"$f":"SUMIF('EXAMPLE-Pro'!D7:KQ7,82, 'EXAMPLE-Pro'!D44:KQ44)","v":0},{"$f":"SUMIF('EXAMPLE-Pro'!D7:KQ7,82, 'EXAMPLE-Pro'!D45:KQ45)","v":0},{"$f":"SUMIF('EXAMPLE-Pro'!D7:KQ7,82, 'EXAMPLE-Pro'!D46:KQ46)","v":0},{"$f":"SUMIF('EXAMPLE-Pro'!D7:KQ7,82, 'EXAMPLE-Pro'!D47:KQ47)","v":0},{"$f":"SUMIF('EXAMPLE-Pro'!D7:KQ7,82, 'EXAMPLE-Pro'!D48:KQ48)","v":0},{"$f":"SUMIF('EXAMPLE-Pro'!D7:KQ7,82, 'EXAMPLE-Pro'!D49:KQ49)","v":0}]
[null,83,{"$f":"SUMIF('EXAMPLE-Pro'!D7:KQ7,83, 'EXAMPLE-Pro'!D15:KQ15)","v":0},"FU",{"$f":"SUMIF('EXAMPLE-Pro'!D7:KQ7,83, 'EXAMPLE-Pro'!D38:KQ38)","v":0},{"$f":"SUMIF('EXAMPLE-Pro'!D7:KQ7,83, 'EXAMPLE-Pro'!D39:KQ39)","v":0},{"$f":"SUMIF('EXAMPLE-Pro'!D7:KQ7,83, 'EXAMPLE-Pro'!D40:KQ40)","v":0},{"$f":"SUMIF('EXAMPLE-Pro'!D7:KQ7,83, 'EXAMPLE-Pro'!D41:KQ41)","v":0},{"$f":"SUMIF('EXAMPLE-Pro'!D7:KQ7,83, 'EXAMPLE-Pro'!D42:KQ42)","v":0},{"$f":"SUMIF('EXAMPLE-Pro'!D7:KQ7,83, 'EXAMPLE-Pro'!D43:KQ43)","v":0},{"$f":"SUMIF('EXAMPLE-Pro'!D7:KQ7,83, 'EXAMPLE-Pro'!D44:KQ44)","v":0},{"$f":"SUMIF('EXAMPLE-Pro'!D7:KQ7,83, 'EXAMPLE-Pro'!D45:KQ45)","v":0},{"$f":"SUMIF('EXAMPLE-Pro'!D7:KQ7,83, 'EXAMPLE-Pro'!D46:KQ46)","v":0},{"$f":"SUMIF('EXAMPLE-Pro'!D7:KQ7,83, 'EXAMPLE-Pro'!D47:KQ47)","v":0},{"$f":"SUMIF('EXAMPLE-Pro'!D7:KQ7,83, 'EXAMPLE-Pro'!D48:KQ48)","v":0},{"$f":"SUMIF('EXAMPLE-Pro'!D7:KQ7,83, 'EXAMPLE-Pro'!D49:KQ49)","v":0}]
[null,84,{"$f":"SUMIF('EXAMPLE-Pro'!D7:KQ7,84, 'EXAMPLE-Pro'!D15:KQ15)","v":0},"FU",{"$f":"SUMIF('EXAMPLE-Pro'!D7:KQ7,84, 'EXAMPLE-Pro'!D38:KQ38)","v":0},{"$f":"SUMIF('EXAMPLE-Pro'!D7:KQ7,84, 'EXAMPLE-Pro'!D39:KQ39)","v":0},{"$f":"SUMIF('EXAMPLE-Pro'!D7:KQ7,84, 'EXAMPLE-Pro'!D40:KQ40)","v":0},{"$f":"SUMIF('EXAMPLE-Pro'!D7:KQ7,84, 'EXAMPLE-Pro'!D41:KQ41)","v":0},{"$f":"SUMIF('EXAMPLE-Pro'!D7:KQ7,84, 'EXAMPLE-Pro'!D42:KQ42)","v":0},{"$f":"SUMIF('EXAMPLE-Pro'!D7:KQ7,84, 'EXAMPLE-Pro'!D43:KQ43)","v":0},{"$f":"SUMIF('EXAMPLE-Pro'!D7:KQ7,84, 'EXAMPLE-Pro'!D44:KQ44)","v":0},{"$f":"SUMIF('EXAMPLE-Pro'!D7:KQ7,84, 'EXAMPLE-Pro'!D45:KQ45)","v":0},{"$f":"SUMIF('EXAMPLE-Pro'!D7:KQ7,84, 'EXAMPLE-Pro'!D46:KQ46)","v":0},{"$f":"SUMIF('EXAMPLE-Pro'!D7:KQ7,84, 'EXAMPLE-Pro'!D47:KQ47)","v":0},{"$f":"SUMIF('EXAMPLE-Pro'!D7:KQ7,84, 'EXAMPLE-Pro'!D48:KQ48)","v":0},{"$f":"SUMIF('EXAMPLE-Pro'!D7:KQ7,84, 'EXAMPLE-Pro'!D49:KQ49)","v":0}]
[null,85,{"$f":"SUMIF('EXAMPLE-Pro'!D7:KQ7,85, 'EXAMPLE-Pro'!D15:KQ15)","v":0},"FU",{"$f":"SUMIF('EXAMPLE-Pro'!D7:KQ7,85, 'EXAMPLE-Pro'!D38:KQ38)","v":0},{"$f":"SUMIF('EXAMPLE-Pro'!D7:KQ7,85, 'EXAMPLE-Pro'!D39:KQ39)","v":0},{"$f":"SUMIF('EXAMPLE-Pro'!D7:KQ7,85, 'EXAMPLE-Pro'!D40:KQ40)","v":0},{"$f":"SUMIF('EXAMPLE-Pro'!D7:KQ7,85, 'EXAMPLE-Pro'!D41:KQ41)","v":0},{"$f":"SUMIF('EXAMPLE-Pro'!D7:KQ7,85, 'EXAMPLE-Pro'!D42:KQ42)","v":0},{"$f":"SUMIF('EXAMPLE-Pro'!D7:KQ7,85, 'EXAMPLE-Pro'!D43:KQ43)","v":0},{"$f":"SUMIF('EXAMPLE-Pro'!D7:KQ7,85, 'EXAMPLE-Pro'!D44:KQ44)","v":0},{"$f":"SUMIF('EXAMPLE-Pro'!D7:KQ7,85, 'EXAMPLE-Pro'!D45:KQ45)","v":0},{"$f":"SUMIF('EXAMPLE-Pro'!D7:KQ7,85, 'EXAMPLE-Pro'!D46:KQ46)","v":0},{"$f":"SUMIF('EXAMPLE-Pro'!D7:KQ7,85, 'EXAMPLE-Pro'!D47:KQ47)","v":0},{"$f":"SUMIF('EXAMPLE-Pro'!D7:KQ7,85, 'EXAMPLE-Pro'!D48:KQ48)","v":0},{"$f":"SUMIF('EXAMPLE-Pro'!D7:KQ7,85, 'EXAMPLE-Pro'!D49:KQ49)","v":0}]
[null,86,{"$f":"SUMIF('EXAMPLE-Pro'!D7:KQ7,86, 'EXAMPLE-Pro'!D15:KQ15)","v":0},"FU",{"$f":"SUMIF('EXAMPLE-Pro'!D7:KQ7,86, 'EXAMPLE-Pro'!D38:KQ38)","v":0},{"$f":"SUMIF('EXAMPLE-Pro'!D7:KQ7,86, 'EXAMPLE-Pro'!D39:KQ39)","v":0},{"$f":"SUMIF('EXAMPLE-Pro'!D7:KQ7,86, 'EXAMPLE-Pro'!D40:KQ40)","v":0},{"$f":"SUMIF('EXAMPLE-Pro'!D7:KQ7,86, 'EXAMPLE-Pro'!D41:KQ41)","v":0},{"$f":"SUMIF('EXAMPLE-Pro'!D7:KQ7,86, 'EXAMPLE-Pro'!D42:KQ42)","v":0},{"$f":"SUMIF('EXAMPLE-Pro'!D7:KQ7,86, 'EXAMPLE-Pro'!D43:KQ43)","v":0},{"$f":"SUMIF('EXAMPLE-Pro'!D7:KQ7,86, 'EXAMPLE-Pro'!D44:KQ44)","v":0},{"$f":"SUMIF('EXAMPLE-Pro'!D7:KQ7,86, 'EXAMPLE-Pro'!D45:KQ45)","v":0},{"$f":"SUMIF('EXAMPLE-Pro'!D7:KQ7,86, 'EXAMPLE-Pro'!D46:KQ46)","v":0},{"$f":"SUMIF('EXAMPLE-Pro'!D7:KQ7,86, 'EXAMPLE-Pro'!D47:KQ47)","v":0},{"$f":"SUMIF('EXAMPLE-Pro'!D7:KQ7,86, 'EXAMPLE-Pro'!D48:KQ48)","v":0},{"$f":"SUMIF('EXAMPLE-Pro'!D7:KQ7,86, 'EXAMPLE-Pro'!D49:KQ49)","v":0}]
[null,87,{"$f":"SUMIF('EXAMPLE-Pro'!D7:KQ7,87, 'EXAMPLE-Pro'!D15:KQ15)","v":0},"FU",{"$f":"SUMIF('EXAMPLE-Pro'!D7:KQ7,87, 'EXAMPLE-Pro'!D38:KQ38)","v":0},{"$f":"SUMIF('EXAMPLE-Pro'!D7:KQ7,87, 'EXAMPLE-Pro'!D39:KQ39)","v":0},{"$f":"SUMIF('EXAMPLE-Pro'!D7:KQ7,87, 'EXAMPLE-Pro'!D40:KQ40)","v":0},{"$f":"SUMIF('EXAMPLE-Pro'!D7:KQ7,87, 'EXAMPLE-Pro'!D41:KQ41)","v":0},{"$f":"SUMIF('EXAMPLE-Pro'!D7:KQ7,87, 'EXAMPLE-Pro'!D42:KQ42)","v":0},{"$f":"SUMIF('EXAMPLE-Pro'!D7:KQ7,87, 'EXAMPLE-Pro'!D43:KQ43)","v":0},{"$f":"SUMIF('EXAMPLE-Pro'!D7:KQ7,87, 'EXAMPLE-Pro'!D44:KQ44)","v":0},{"$f":"SUMIF('EXAMPLE-Pro'!D7:KQ7,87, 'EXAMPLE-Pro'!D45:KQ45)","v":0},{"$f":"SUMIF('EXAMPLE-Pro'!D7:KQ7,87, 'EXAMPLE-Pro'!D46:KQ46)","v":0},{"$f":"SUMIF('EXAMPLE-Pro'!D7:KQ7,87, 'EXAMPLE-Pro'!D47:KQ47)","v":0},{"$f":"SUMIF('EXAMPLE-Pro'!D7:KQ7,87, 'EXAMPLE-Pro'!D48:KQ48)","v":0},{"$f":"SUMIF('EXAMPLE-Pro'!D7:KQ7,87, 'EXAMPLE-Pro'!D49:KQ49)","v":0}]
[null,88,{"$f":"SUMIF('EXAMPLE-Pro'!D7:KQ7,88, 'EXAMPLE-Pro'!D15:KQ15)","v":0},"FU",{"$f":"SUMIF('EXAMPLE-Pro'!D7:KQ7,88, 'EXAMPLE-Pro'!D38:KQ38)","v":0},{"$f":"SUMIF('EXAMPLE-Pro'!D7:KQ7,88, 'EXAMPLE-Pro'!D39:KQ39)","v":0},{"$f":"SUMIF('EXAMPLE-Pro'!D7:KQ7,88, 'EXAMPLE-Pro'!D40:KQ40)","v":0},{"$f":"SUMIF('EXAMPLE-Pro'!D7:KQ7,88, 'EXAMPLE-Pro'!D41:KQ41)","v":0},{"$f":"SUMIF('EXAMPLE-Pro'!D7:KQ7,88, 'EXAMPLE-Pro'!D42:KQ42)","v":0},{"$f":"SUMIF('EXAMPLE-Pro'!D7:KQ7,88, 'EXAMPLE-Pro'!D43:KQ43)","v":0},{"$f":"SUMIF('EXAMPLE-Pro'!D7:KQ7,88, 'EXAMPLE-Pro'!D44:KQ44)","v":0},{"$f":"SUMIF('EXAMPLE-Pro'!D7:KQ7,88, 'EXAMPLE-Pro'!D45:KQ45)","v":0},{"$f":"SUMIF('EXAMPLE-Pro'!D7:KQ7,88, 'EXAMPLE-Pro'!D46:KQ46)","v":0},{"$f":"SUMIF('EXAMPLE-Pro'!D7:KQ7,88, 'EXAMPLE-Pro'!D47:KQ47)","v":0},{"$f":"SUMIF('EXAMPLE-Pro'!D7:KQ7,88, 'EXAMPLE-Pro'!D48:KQ48)","v":0},{"$f":"SUMIF('EXAMPLE-Pro'!D7:KQ7,88, 'EXAMPLE-Pro'!D49:KQ49)","v":0}]
[null,89,{"$f":"SUMIF('EXAMPLE-Pro'!D7:KQ7,89, 'EXAMPLE-Pro'!D15:KQ15)","v":0},"FU",{"$f":"SUMIF('EXAMPLE-Pro'!D7:KQ7,89, 'EXAMPLE-Pro'!D38:KQ38)","v":0},{"$f":"SUMIF('EXAMPLE-Pro'!D7:KQ7,89, 'EXAMPLE-Pro'!D39:KQ39)","v":0},{"$f":"SUMIF('EXAMPLE-Pro'!D7:KQ7,89, 'EXAMPLE-Pro'!D40:KQ40)","v":0},{"$f":"SUMIF('EXAMPLE-Pro'!D7:KQ7,89, 'EXAMPLE-Pro'!D41:KQ41)","v":0},{"$f":"SUMIF('EXAMPLE-Pro'!D7:KQ7,89, 'EXAMPLE-Pro'!D42:KQ42)","v":0},{"$f":"SUMIF('EXAMPLE-Pro'!D7:KQ7,89, 'EXAMPLE-Pro'!D43:KQ43)","v":0},{"$f":"SUMIF('EXAMPLE-Pro'!D7:KQ7,89, 'EXAMPLE-Pro'!D44:KQ44)","v":0},{"$f":"SUMIF('EXAMPLE-Pro'!D7:KQ7,89, 'EXAMPLE-Pro'!D45:KQ45)","v":0},{"$f":"SUMIF('EXAMPLE-Pro'!D7:KQ7,89, 'EXAMPLE-Pro'!D46:KQ46)","v":0},{"$f":"SUMIF('EXAMPLE-Pro'!D7:KQ7,89, 'EXAMPLE-Pro'!D47:KQ47)","v":0},{"$f":"SUMIF('EXAMPLE-Pro'!D7:KQ7,89, 'EXAMPLE-Pro'!D48:KQ48)","v":0},{"$f":"SUMIF('EXAMPLE-Pro'!D7:KQ7,89, 'EXAMPLE-Pro'!D49:KQ49)","v":0}]
[null,90,{"$f":"SUMIF('EXAMPLE-Pro'!D7:KQ7,90, 'EXAMPLE-Pro'!D15:KQ15)","v":0},"FU",{"$f":"SUMIF('EXAMPLE-Pro'!D7:KQ7,90, 'EXAMPLE-Pro'!D38:KQ38)","v":0},{"$f":"SUMIF('EXAMPLE-Pro'!D7:KQ7,90, 'EXAMPLE-Pro'!D39:KQ39)","v":0},{"$f":"SUMIF('EXAMPLE-Pro'!D7:KQ7,90, 'EXAMPLE-Pro'!D40:KQ40)","v":0},{"$f":"SUMIF('EXAMPLE-Pro'!D7:KQ7,90, 'EXAMPLE-Pro'!D41:KQ41)","v":0},{"$f":"SUMIF('EXAMPLE-Pro'!D7:KQ7,90, 'EXAMPLE-Pro'!D42:KQ42)","v":0},{"$f":"SUMIF('EXAMPLE-Pro'!D7:KQ7,90, 'EXAMPLE-Pro'!D43:KQ43)","v":0},{"$f":"SUMIF('EXAMPLE-Pro'!D7:KQ7,90, 'EXAMPLE-Pro'!D44:KQ44)","v":0},{"$f":"SUMIF('EXAMPLE-Pro'!D7:KQ7,90, 'EXAMPLE-Pro'!D45:KQ45)","v":0},{"$f":"SUMIF('EXAMPLE-Pro'!D7:KQ7,90, 'EXAMPLE-Pro'!D46:KQ46)","v":0},{"$f":"SUMIF('EXAMPLE-Pro'!D7:KQ7,90, 'EXAMPLE-Pro'!D47:KQ47)","v":0},{"$f":"SUMIF('EXAMPLE-Pro'!D7:KQ7,90, 'EXAMPLE-Pro'!D48:KQ48)","v":0},{"$f":"SUMIF('EXAMPLE-Pro'!D7:KQ7,90, 'EXAMPLE-Pro'!D49:KQ49)","v":0}]
[null,91,{"$f":"SUMIF('EXAMPLE-Pro'!D7:KQ7,91, 'EXAMPLE-Pro'!D15:KQ15)","v":0},"FU",{"$f":"SUMIF('EXAMPLE-Pro'!D7:KQ7,91, 'EXAMPLE-Pro'!D38:KQ38)","v":0},{"$f":"SUMIF('EXAMPLE-Pro'!D7:KQ7,91, 'EXAMPLE-Pro'!D39:KQ39)","v":0},{"$f":"SUMIF('EXAMPLE-Pro'!D7:KQ7,91, 'EXAMPLE-Pro'!D40:KQ40)","v":0},{"$f":"SUMIF('EXAMPLE-Pro'!D7:KQ7,91, 'EXAMPLE-Pro'!D41:KQ41)","v":0},{"$f":"SUMIF('EXAMPLE-Pro'!D7:KQ7,91, 'EXAMPLE-Pro'!D42:KQ42)","v":0},{"$f":"SUMIF('EXAMPLE-Pro'!D7:KQ7,91, 'EXAMPLE-Pro'!D43:KQ43)","v":0},{"$f":"SUMIF('EXAMPLE-Pro'!D7:KQ7,91, 'EXAMPLE-Pro'!D44:KQ44)","v":0},{"$f":"SUMIF('EXAMPLE-Pro'!D7:KQ7,91, 'EXAMPLE-Pro'!D45:KQ45)","v":0},{"$f":"SUMIF('EXAMPLE-Pro'!D7:KQ7,91, 'EXAMPLE-Pro'!D46:KQ46)","v":0},{"$f":"SUMIF('EXAMPLE-Pro'!D7:KQ7,91, 'EXAMPLE-Pro'!D47:KQ47)","v":0},{"$f":"SUMIF('EXAMPLE-Pro'!D7:KQ7,91, 'EXAMPLE-Pro'!D48:KQ48)","v":0},{"$f":"SUMIF('EXAMPLE-Pro'!D7:KQ7,91, 'EXAMPLE-Pro'!D49:KQ49)","v":0}]
[null,92,{"$f":"SUMIF('EXAMPLE-Pro'!D7:KQ7,92, 'EXAMPLE-Pro'!D15:KQ15)","v":0},"FU",{"$f":"SUMIF('EXAMPLE-Pro'!D7:KQ7,92, 'EXAMPLE-Pro'!D38:KQ38)","v":0},{"$f":"SUMIF('EXAMPLE-Pro'!D7:KQ7,92, 'EXAMPLE-Pro'!D39:KQ39)","v":0},{"$f":"SUMIF('EXAMPLE-Pro'!D7:KQ7,92, 'EXAMPLE-Pro'!D40:KQ40)","v":0},{"$f":"SUMIF('EXAMPLE-Pro'!D7:KQ7,92, 'EXAMPLE-Pro'!D41:KQ41)","v":0},{"$f":"SUMIF('EXAMPLE-Pro'!D7:KQ7,92, 'EXAMPLE-Pro'!D42:KQ42)","v":0},{"$f":"SUMIF('EXAMPLE-Pro'!D7:KQ7,92, 'EXAMPLE-Pro'!D43:KQ43)","v":0},{"$f":"SUMIF('EXAMPLE-Pro'!D7:KQ7,92, 'EXAMPLE-Pro'!D44:KQ44)","v":0},{"$f":"SUMIF('EXAMPLE-Pro'!D7:KQ7,92, 'EXAMPLE-Pro'!D45:KQ45)","v":0},{"$f":"SUMIF('EXAMPLE-Pro'!D7:KQ7,92, 'EXAMPLE-Pro'!D46:KQ46)","v":0},{"$f":"SUMIF('EXAMPLE-Pro'!D7:KQ7,92, 'EXAMPLE-Pro'!D47:KQ47)","v":0},{"$f":"SUMIF('EXAMPLE-Pro'!D7:KQ7,92, 'EXAMPLE-Pro'!D48:KQ48)","v":0},{"$f":"SUMIF('EXAMPLE-Pro'!D7:KQ7,92, 'EXAMPLE-Pro'!D49:KQ49)","v":0}]
[null,93,{"$f":"SUMIF('EXAMPLE-Pro'!D7:KQ7,93, 'EXAMPLE-Pro'!D15:KQ15)","v":0},"FU",{"$f":"SUMIF('EXAMPLE-Pro'!D7:KQ7,93, 'EXAMPLE-Pro'!D38:KQ38)","v":0},{"$f":"SUMIF('EXAMPLE-Pro'!D7:KQ7,93, 'EXAMPLE-Pro'!D39:KQ39)","v":0},{"$f":"SUMIF('EXAMPLE-Pro'!D7:KQ7,93, 'EXAMPLE-Pro'!D40:KQ40)","v":0},{"$f":"SUMIF('EXAMPLE-Pro'!D7:KQ7,93, 'EXAMPLE-Pro'!D41:KQ41)","v":0},{"$f":"SUMIF('EXAMPLE-Pro'!D7:KQ7,93, 'EXAMPLE-Pro'!D42:KQ42)","v":0},{"$f":"SUMIF('EXAMPLE-Pro'!D7:KQ7,93, 'EXAMPLE-Pro'!D43:KQ43)","v":0},{"$f":"SUMIF('EXAMPLE-Pro'!D7:KQ7,93, 'EXAMPLE-Pro'!D44:KQ44)","v":0},{"$f":"SUMIF('EXAMPLE-Pro'!D7:KQ7,93, 'EXAMPLE-Pro'!D45:KQ45)","v":0},{"$f":"SUMIF('EXAMPLE-Pro'!D7:KQ7,93, 'EXAMPLE-Pro'!D46:KQ46)","v":0},{"$f":"SUMIF('EXAMPLE-Pro'!D7:KQ7,93, 'EXAMPLE-Pro'!D47:KQ47)","v":0},{"$f":"SUMIF('EXAMPLE-Pro'!D7:KQ7,93, 'EXAMPLE-Pro'!D48:KQ48)","v":0},{"$f":"SUMIF('EXAMPLE-Pro'!D7:KQ7,93, 'EXAMPLE-Pro'!D49:KQ49)","v":0}]
[null,94,{"$f":"SUMIF('EXAMPLE-Pro'!D7:KQ7,94, 'EXAMPLE-Pro'!D15:KQ15)","v":0},"FU",{"$f":"SUMIF('EXAMPLE-Pro'!D7:KQ7,94, 'EXAMPLE-Pro'!D38:KQ38)","v":0},{"$f":"SUMIF('EXAMPLE-Pro'!D7:KQ7,94, 'EXAMPLE-Pro'!D39:KQ39)","v":0},{"$f":"SUMIF('EXAMPLE-Pro'!D7:KQ7,94, 'EXAMPLE-Pro'!D40:KQ40)","v":0},{"$f":"SUMIF('EXAMPLE-Pro'!D7:KQ7,94, 'EXAMPLE-Pro'!D41:KQ41)","v":0},{"$f":"SUMIF('EXAMPLE-Pro'!D7:KQ7,94, 'EXAMPLE-Pro'!D42:KQ42)","v":0},{"$f":"SUMIF('EXAMPLE-Pro'!D7:KQ7,94, 'EXAMPLE-Pro'!D43:KQ43)","v":0},{"$f":"SUMIF('EXAMPLE-Pro'!D7:KQ7,94, 'EXAMPLE-Pro'!D44:KQ44)","v":0},{"$f":"SUMIF('EXAMPLE-Pro'!D7:KQ7,94, 'EXAMPLE-Pro'!D45:KQ45)","v":0},{"$f":"SUMIF('EXAMPLE-Pro'!D7:KQ7,94, 'EXAMPLE-Pro'!D46:KQ46)","v":0},{"$f":"SUMIF('EXAMPLE-Pro'!D7:KQ7,94, 'EXAMPLE-Pro'!D47:KQ47)","v":0},{"$f":"SUMIF('EXAMPLE-Pro'!D7:KQ7,94, 'EXAMPLE-Pro'!D48:KQ48)","v":0},{"$f":"SUMIF('EXAMPLE-Pro'!D7:KQ7,94, 'EXAMPLE-Pro'!D49:KQ49)","v":0}]
[null,95,{"$f":"SUMIF('EXAMPLE-Pro'!D7:KQ7,95, 'EXAMPLE-Pro'!D15:KQ15)","v":0},"FU",{"$f":"SUMIF('EXAMPLE-Pro'!D7:KQ7,95, 'EXAMPLE-Pro'!D38:KQ38)","v":0},{"$f":"SUMIF('EXAMPLE-Pro'!D7:KQ7,95, 'EXAMPLE-Pro'!D39:KQ39)","v":0},{"$f":"SUMIF('EXAMPLE-Pro'!D7:KQ7,95, 'EXAMPLE-Pro'!D40:KQ40)","v":0},{"$f":"SUMIF('EXAMPLE-Pro'!D7:KQ7,95, 'EXAMPLE-Pro'!D41:KQ41)","v":0},{"$f":"SUMIF('EXAMPLE-Pro'!D7:KQ7,95, 'EXAMPLE-Pro'!D42:KQ42)","v":0},{"$f":"SUMIF('EXAMPLE-Pro'!D7:KQ7,95, 'EXAMPLE-Pro'!D43:KQ43)","v":0},{"$f":"SUMIF('EXAMPLE-Pro'!D7:KQ7,95, 'EXAMPLE-Pro'!D44:KQ44)","v":0},{"$f":"SUMIF('EXAMPLE-Pro'!D7:KQ7,95, 'EXAMPLE-Pro'!D45:KQ45)","v":0},{"$f":"SUMIF('EXAMPLE-Pro'!D7:KQ7,95, 'EXAMPLE-Pro'!D46:KQ46)","v":0},{"$f":"SUMIF('EXAMPLE-Pro'!D7:KQ7,95, 'EXAMPLE-Pro'!D47:KQ47)","v":0},{"$f":"SUMIF('EXAMPLE-Pro'!D7:KQ7,95, 'EXAMPLE-Pro'!D48:KQ48)","v":0},{"$f":"SUMIF('EXAMPLE-Pro'!D7:KQ7,95, 'EXAMPLE-Pro'!D49:KQ49)","v":0}]
[null,96,{"$f":"SUMIF('EXAMPLE-Pro'!D7:KQ7,96, 'EXAMPLE-Pro'!D15:KQ15)","v":0},"FU",{"$f":"SUMIF('EXAMPLE-Pro'!D7:KQ7,96, 'EXAMPLE-Pro'!D38:KQ38)","v":0},{"$f":"SUMIF('EXAMPLE-Pro'!D7:KQ7,96, 'EXAMPLE-Pro'!D39:KQ39)","v":0},{"$f":"SUMIF('EXAMPLE-Pro'!D7:KQ7,96, 'EXAMPLE-Pro'!D40:KQ40)","v":0},{"$f":"SUMIF('EXAMPLE-Pro'!D7:KQ7,96, 'EXAMPLE-Pro'!D41:KQ41)","v":0},{"$f":"SUMIF('EXAMPLE-Pro'!D7:KQ7,96, 'EXAMPLE-Pro'!D42:KQ42)","v":0},{"$f":"SUMIF('EXAMPLE-Pro'!D7:KQ7,96, 'EXAMPLE-Pro'!D43:KQ43)","v":0},{"$f":"SUMIF('EXAMPLE-Pro'!D7:KQ7,96, 'EXAMPLE-Pro'!D44:KQ44)","v":0},{"$f":"SUMIF('EXAMPLE-Pro'!D7:KQ7,96, 'EXAMPLE-Pro'!D45:KQ45)","v":0},{"$f":"SUMIF('EXAMPLE-Pro'!D7:KQ7,96, 'EXAMPLE-Pro'!D46:KQ46)","v":0},{"$f":"SUMIF('EXAMPLE-Pro'!D7:KQ7,96, 'EXAMPLE-Pro'!D47:KQ47)","v":0},{"$f":"SUMIF('EXAMPLE-Pro'!D7:KQ7,96, 'EXAMPLE-Pro'!D48:KQ48)","v":0},{"$f":"SUMIF('EXAMPLE-Pro'!D7:KQ7,96, 'EXAMPLE-Pro'!D49:KQ49)","v":0}]
[null,97,{"$f":"SUMIF('EXAMPLE-Pro'!D7:KQ7,97, 'EXAMPLE-Pro'!D15:KQ15)","v":0},"FU",{"$f":"SUMIF('EXAMPLE-Pro'!D7:KQ7,97, 'EXAMPLE-Pro'!D38:KQ38)","v":0},{"$f":"SUMIF('EXAMPLE-Pro'!D7:KQ7,97, 'EXAMPLE-Pro'!D39:KQ39)","v":0},{"$f":"SUMIF('EXAMPLE-Pro'!D7:KQ7,97, 'EXAMPLE-Pro'!D40:KQ40)","v":0},{"$f":"SUMIF('EXAMPLE-Pro'!D7:KQ7,97, 'EXAMPLE-Pro'!D41:KQ41)","v":0},{"$f":"SUMIF('EXAMPLE-Pro'!D7:KQ7,97, 'EXAMPLE-Pro'!D42:KQ42)","v":0},{"$f":"SUMIF('EXAMPLE-Pro'!D7:KQ7,97, 'EXAMPLE-Pro'!D43:KQ43)","v":0},{"$f":"SUMIF('EXAMPLE-Pro'!D7:KQ7,97, 'EXAMPLE-Pro'!D44:KQ44)","v":0},{"$f":"SUMIF('EXAMPLE-Pro'!D7:KQ7,97, 'EXAMPLE-Pro'!D45:KQ45)","v":0},{"$f":"SUMIF('EXAMPLE-Pro'!D7:KQ7,97, 'EXAMPLE-Pro'!D46:KQ46)","v":0},{"$f":"SUMIF('EXAMPLE-Pro'!D7:KQ7,97, 'EXAMPLE-Pro'!D47:KQ47)","v":0},{"$f":"SUMIF('EXAMPLE-Pro'!D7:KQ7,97, 'EXAMPLE-Pro'!D48:KQ48)","v":0},{"$f":"SUMIF('EXAMPLE-Pro'!D7:KQ7,97, 'EXAMPLE-Pro'!D49:KQ49)","v":0}]
[null,98,{"$f":"SUMIF('EXAMPLE-Pro'!D7:KQ7,98, 'EXAMPLE-Pro'!D15:KQ15)","v":0},"FU",{"$f":"SUMIF('EXAMPLE-Pro'!D7:KQ7,98, 'EXAMPLE-Pro'!D38:KQ38)","v":0},{"$f":"SUMIF('EXAMPLE-Pro'!D7:KQ7,98, 'EXAMPLE-Pro'!D39:KQ39)","v":0},{"$f":"SUMIF('EXAMPLE-Pro'!D7:KQ7,98, 'EXAMPLE-Pro'!D40:KQ40)","v":0},{"$f":"SUMIF('EXAMPLE-Pro'!D7:KQ7,98, 'EXAMPLE-Pro'!D41:KQ41)","v":0},{"$f":"SUMIF('EXAMPLE-Pro'!D7:KQ7,98, 'EXAMPLE-Pro'!D42:KQ42)","v":0},{"$f":"SUMIF('EXAMPLE-Pro'!D7:KQ7,98, 'EXAMPLE-Pro'!D43:KQ43)","v":0},{"$f":"SUMIF('EXAMPLE-Pro'!D7:KQ7,98, 'EXAMPLE-Pro'!D44:KQ44)","v":0},{"$f":"SUMIF('EXAMPLE-Pro'!D7:KQ7,98, 'EXAMPLE-Pro'!D45:KQ45)","v":0},{"$f":"SUMIF('EXAMPLE-Pro'!D7:KQ7,98, 'EXAMPLE-Pro'!D46:KQ46)","v":0},{"$f":"SUMIF('EXAMPLE-Pro'!D7:KQ7,98, 'EXAMPLE-Pro'!D47:KQ47)","v":0},{"$f":"SUMIF('EXAMPLE-Pro'!D7:KQ7,98, 'EXAMPLE-Pro'!D48:KQ48)","v":0},{"$f":"SUMIF('EXAMPLE-Pro'!D7:KQ7,98, 'EXAMPLE-Pro'!D49:KQ49)","v":0}]
[null,99,{"$f":"SUMIF('EXAMPLE-Pro'!D7:KQ7,99, 'EXAMPLE-Pro'!D15:KQ15)","v":0},"FU",{"$f":"SUMIF('EXAMPLE-Pro'!D7:KQ7,99, 'EXAMPLE-Pro'!D38:KQ38)","v":0},{"$f":"SUMIF('EXAMPLE-Pro'!D7:KQ7,99, 'EXAMPLE-Pro'!D39:KQ39)","v":0},{"$f":"SUMIF('EXAMPLE-Pro'!D7:KQ7,99, 'EXAMPLE-Pro'!D40:KQ40)","v":0},{"$f":"SUMIF('EXAMPLE-Pro'!D7:KQ7,99, 'EXAMPLE-Pro'!D41:KQ41)","v":0},{"$f":"SUMIF('EXAMPLE-Pro'!D7:KQ7,99, 'EXAMPLE-Pro'!D42:KQ42)","v":0},{"$f":"SUMIF('EXAMPLE-Pro'!D7:KQ7,99, 'EXAMPLE-Pro'!D43:KQ43)","v":0},{"$f":"SUMIF('EXAMPLE-Pro'!D7:KQ7,99, 'EXAMPLE-Pro'!D44:KQ44)","v":0},{"$f":"SUMIF('EXAMPLE-Pro'!D7:KQ7,99, 'EXAMPLE-Pro'!D45:KQ45)","v":0},{"$f":"SUMIF('EXAMPLE-Pro'!D7:KQ7,99, 'EXAMPLE-Pro'!D46:KQ46)","v":0},{"$f":"SUMIF('EXAMPLE-Pro'!D7:KQ7,99, 'EXAMPLE-Pro'!D47:KQ47)","v":0},{"$f":"SUMIF('EXAMPLE-Pro'!D7:KQ7,99, 'EXAMPLE-Pro'!D48:KQ48)","v":0},{"$f":"SUMIF('EXAMPLE-Pro'!D7:KQ7,99, 'EXAMPLE-Pro'!D49:KQ49)","v":0}]
[null,100,{"$f":"SUMIF('EXAMPLE-Pro'!D7:KQ7,100, 'EXAMPLE-Pro'!D15:KQ15)","v":0},"FU",{"$f":"SUMIF('EXAMPLE-Pro'!D7:KQ7,100, 'EXAMPLE-Pro'!D38:KQ38)","v":0},{"$f":"SUMIF('EXAMPLE-Pro'!D7:KQ7,100, 'EXAMPLE-Pro'!D39:KQ39)","v":0},{"$f":"SUMIF('EXAMPLE-Pro'!D7:KQ7,100, 'EXAMPLE-Pro'!D40:KQ40)","v":0},{"$f":"SUMIF('EXAMPLE-Pro'!D7:KQ7,100, 'EXAMPLE-Pro'!D41:KQ41)","v":0},{"$f":"SUMIF('EXAMPLE-Pro'!D7:KQ7,100, 'EXAMPLE-Pro'!D42:KQ42)","v":0},{"$f":"SUMIF('EXAMPLE-Pro'!D7:KQ7,100, 'EXAMPLE-Pro'!D43:KQ43)","v":0},{"$f":"SUMIF('EXAMPLE-Pro'!D7:KQ7,100, 'EXAMPLE-Pro'!D44:KQ44)","v":0},{"$f":"SUMIF('EXAMPLE-Pro'!D7:KQ7,100, 'EXAMPLE-Pro'!D45:KQ45)","v":0},{"$f":"SUMIF('EXAMPLE-Pro'!D7:KQ7,100, 'EXAMPLE-Pro'!D46:KQ46)","v":0},{"$f":"SUMIF('EXAMPLE-Pro'!D7:KQ7,100, 'EXAMPLE-Pro'!D47:KQ47)","v":0},{"$f":"SUMIF('EXAMPLE-Pro'!D7:KQ7,100, 'EXAMPLE-Pro'!D48:KQ48)","v":0},{"$f":"SUMIF('EXAMPLE-Pro'!D7:KQ7,100, 'EXAMPLE-Pro'!D49:KQ49)","v":0}]
[null,101,{"$f":"SUMIF('EXAMPLE-Pro'!D7:KQ7,101, 'EXAMPLE-Pro'!D15:KQ15)","v":0},"FU",{"$f":"SUMIF('EXAMPLE-Pro'!D7:KQ7,101, 'EXAMPLE-Pro'!D38:KQ38)","v":0},{"$f":"SUMIF('EXAMPLE-Pro'!D7:KQ7,101, 'EXAMPLE-Pro'!D39:KQ39)","v":0},{"$f":"SUMIF('EXAMPLE-Pro'!D7:KQ7,101, 'EXAMPLE-Pro'!D40:KQ40)","v":0},{"$f":"SUMIF('EXAMPLE-Pro'!D7:KQ7,101, 'EXAMPLE-Pro'!D41:KQ41)","v":0},{"$f":"SUMIF('EXAMPLE-Pro'!D7:KQ7,101, 'EXAMPLE-Pro'!D42:KQ42)","v":0},{"$f":"SUMIF('EXAMPLE-Pro'!D7:KQ7,101, 'EXAMPLE-Pro'!D43:KQ43)","v":0},{"$f":"SUMIF('EXAMPLE-Pro'!D7:KQ7,101, 'EXAMPLE-Pro'!D44:KQ44)","v":0},{"$f":"SUMIF('EXAMPLE-Pro'!D7:KQ7,101, 'EXAMPLE-Pro'!D45:KQ45)","v":0},{"$f":"SUMIF('EXAMPLE-Pro'!D7:KQ7,101, 'EXAMPLE-Pro'!D46:KQ46)","v":0},{"$f":"SUMIF('EXAMPLE-Pro'!D7:KQ7,101, 'EXAMPLE-Pro'!D47:KQ47)","v":0},{"$f":"SUMIF('EXAMPLE-Pro'!D7:KQ7,101, 'EXAMPLE-Pro'!D48:KQ48)","v":0},{"$f":"SUMIF('EXAMPLE-Pro'!D7:KQ7,101, 'EXAMPLE-Pro'!D49:KQ49)","v":0}]
[null,102,{"$f":"SUMIF('EXAMPLE-Pro'!D7:KQ7,102, 'EXAMPLE-Pro'!D15:KQ15)","v":0},"FU",{"$f":"SUMIF('EXAMPLE-Pro'!D7:KQ7,102, 'EXAMPLE-Pro'!D38:KQ38)","v":0},{"$f":"SUMIF('EXAMPLE-Pro'!D7:KQ7,102, 'EXAMPLE-Pro'!D39:KQ39)","v":0},{"$f":"SUMIF('EXAMPLE-Pro'!D7:KQ7,102, 'EXAMPLE-Pro'!D40:KQ40)","v":0},{"$f":"SUMIF('EXAMPLE-Pro'!D7:KQ7,102, 'EXAMPLE-Pro'!D41:KQ41)","v":0},{"$f":"SUMIF('EXAMPLE-Pro'!D7:KQ7,102, 'EXAMPLE-Pro'!D42:KQ42)","v":0},{"$f":"SUMIF('EXAMPLE-Pro'!D7:KQ7,102, 'EXAMPLE-Pro'!D43:KQ43)","v":0},{"$f":"SUMIF('EXAMPLE-Pro'!D7:KQ7,102, 'EXAMPLE-Pro'!D44:KQ44)","v":0},{"$f":"SUMIF('EXAMPLE-Pro'!D7:KQ7,102, 'EXAMPLE-Pro'!D45:KQ45)","v":0},{"$f":"SUMIF('EXAMPLE-Pro'!D7:KQ7,102, 'EXAMPLE-Pro'!D46:KQ46)","v":0},{"$f":"SUMIF('EXAMPLE-Pro'!D7:KQ7,102, 'EXAMPLE-Pro'!D47:KQ47)","v":0},{"$f":"SUMIF('EXAMPLE-Pro'!D7:KQ7,102, 'EXAMPLE-Pro'!D48:KQ48)","v":0},{"$f":"SUMIF('EXAMPLE-Pro'!D7:KQ7,102, 'EXAMPLE-Pro'!D49:KQ49)","v":0}]
[null,103,{"$f":"SUMIF('EXAMPLE-Pro'!D7:KQ7,103, 'EXAMPLE-Pro'!D15:KQ15)","v":0},"FU",{"$f":"SUMIF('EXAMPLE-Pro'!D7:KQ7,103, 'EXAMPLE-Pro'!D38:KQ38)","v":0},{"$f":"SUMIF('EXAMPLE-Pro'!D7:KQ7,103, 'EXAMPLE-Pro'!D39:KQ39)","v":0},{"$f":"SUMIF('EXAMPLE-Pro'!D7:KQ7,103, 'EXAMPLE-Pro'!D40:KQ40)","v":0},{"$f":"SUMIF('EXAMPLE-Pro'!D7:KQ7,103, 'EXAMPLE-Pro'!D41:KQ41)","v":0},{"$f":"SUMIF('EXAMPLE-Pro'!D7:KQ7,103, 'EXAMPLE-Pro'!D42:KQ42)","v":0},{"$f":"SUMIF('EXAMPLE-Pro'!D7:KQ7,103, 'EXAMPLE-Pro'!D43:KQ43)","v":0},{"$f":"SUMIF('EXAMPLE-Pro'!D7:KQ7,103, 'EXAMPLE-Pro'!D44:KQ44)","v":0},{"$f":"SUMIF('EXAMPLE-Pro'!D7:KQ7,103, 'EXAMPLE-Pro'!D45:KQ45)","v":0},{"$f":"SUMIF('EXAMPLE-Pro'!D7:KQ7,103, 'EXAMPLE-Pro'!D46:KQ46)","v":0},{"$f":"SUMIF('EXAMPLE-Pro'!D7:KQ7,103, 'EXAMPLE-Pro'!D47:KQ47)","v":0},{"$f":"SUMIF('EXAMPLE-Pro'!D7:KQ7,103, 'EXAMPLE-Pro'!D48:KQ48)","v":0},{"$f":"SUMIF('EXAMPLE-Pro'!D7:KQ7,103, 'EXAMPLE-Pro'!D49:KQ49)","v":0}]
[null,104,{"$f":"SUMIF('EXAMPLE-Pro'!D7:KQ7,104, 'EXAMPLE-Pro'!D15:KQ15)","v":0},"FU",{"$f":"SUMIF('EXAMPLE-Pro'!D7:KQ7,104, 'EXAMPLE-Pro'!D38:KQ38)","v":0},{"$f":"SUMIF('EXAMPLE-Pro'!D7:KQ7,104, 'EXAMPLE-Pro'!D39:KQ39)","v":0},{"$f":"SUMIF('EXAMPLE-Pro'!D7:KQ7,104, 'EXAMPLE-Pro'!D40:KQ40)","v":0},{"$f":"SUMIF('EXAMPLE-Pro'!D7:KQ7,104, 'EXAMPLE-Pro'!D41:KQ41)","v":0},{"$f":"SUMIF('EXAMPLE-Pro'!D7:KQ7,104, 'EXAMPLE-Pro'!D42:KQ42)","v":0},{"$f":"SUMIF('EXAMPLE-Pro'!D7:KQ7,104, 'EXAMPLE-Pro'!D43:KQ43)","v":0},{"$f":"SUMIF('EXAMPLE-Pro'!D7:KQ7,104, 'EXAMPLE-Pro'!D44:KQ44)","v":0},{"$f":"SUMIF('EXAMPLE-Pro'!D7:KQ7,104, 'EXAMPLE-Pro'!D45:KQ45)","v":0},{"$f":"SUMIF('EXAMPLE-Pro'!D7:KQ7,104, 'EXAMPLE-Pro'!D46:KQ46)","v":0},{"$f":"SUMIF('EXAMPLE-Pro'!D7:KQ7,104, 'EXAMPLE-Pro'!D47:KQ47)","v":0},{"$f":"SUMIF('EXAMPLE-Pro'!D7:KQ7,104, 'EXAMPLE-Pro'!D48:KQ48)","v":0},{"$f":"SUMIF('EXAMPLE-Pro'!D7:KQ7,104, 'EXAMPLE-Pro'!D49:KQ49)","v":0}]
[null,105,{"$f":"SUMIF('EXAMPLE-Pro'!D7:KQ7,105, 'EXAMPLE-Pro'!D15:KQ15)","v":0},"FU",{"$f":"SUMIF('EXAMPLE-Pro'!D7:KQ7,105, 'EXAMPLE-Pro'!D38:KQ38)","v":0},{"$f":"SUMIF('EXAMPLE-Pro'!D7:KQ7,105, 'EXAMPLE-Pro'!D39:KQ39)","v":0},{"$f":"SUMIF('EXAMPLE-Pro'!D7:KQ7,105, 'EXAMPLE-Pro'!D40:KQ40)","v":0},{"$f":"SUMIF('EXAMPLE-Pro'!D7:KQ7,105, 'EXAMPLE-Pro'!D41:KQ41)","v":0},{"$f":"SUMIF('EXAMPLE-Pro'!D7:KQ7,105, 'EXAMPLE-Pro'!D42:KQ42)","v":0},{"$f":"SUMIF('EXAMPLE-Pro'!D7:KQ7,105, 'EXAMPLE-Pro'!D43:KQ43)","v":0},{"$f":"SUMIF('EXAMPLE-Pro'!D7:KQ7,105, 'EXAMPLE-Pro'!D44:KQ44)","v":0},{"$f":"SUMIF('EXAMPLE-Pro'!D7:KQ7,105, 'EXAMPLE-Pro'!D45:KQ45)","v":0},{"$f":"SUMIF('EXAMPLE-Pro'!D7:KQ7,105, 'EXAMPLE-Pro'!D46:KQ46)","v":0},{"$f":"SUMIF('EXAMPLE-Pro'!D7:KQ7,105, 'EXAMPLE-Pro'!D47:KQ47)","v":0},{"$f":"SUMIF('EXAMPLE-Pro'!D7:KQ7,105, 'EXAMPLE-Pro'!D48:KQ48)","v":0},{"$f":"SUMIF('EXAMPLE-Pro'!D7:KQ7,105, 'EXAMPLE-Pro'!D49:KQ49)","v":0}]
[null,106,{"$f":"SUMIF('EXAMPLE-Pro'!D7:KQ7,106, 'EXAMPLE-Pro'!D15:KQ15)","v":0},"FU",{"$f":"SUMIF('EXAMPLE-Pro'!D7:KQ7,106, 'EXAMPLE-Pro'!D38:KQ38)","v":0},{"$f":"SUMIF('EXAMPLE-Pro'!D7:KQ7,106, 'EXAMPLE-Pro'!D39:KQ39)","v":0},{"$f":"SUMIF('EXAMPLE-Pro'!D7:KQ7,106, 'EXAMPLE-Pro'!D40:KQ40)","v":0},{"$f":"SUMIF('EXAMPLE-Pro'!D7:KQ7,106, 'EXAMPLE-Pro'!D41:KQ41)","v":0},{"$f":"SUMIF('EXAMPLE-Pro'!D7:KQ7,106, 'EXAMPLE-Pro'!D42:KQ42)","v":0},{"$f":"SUMIF('EXAMPLE-Pro'!D7:KQ7,106, 'EXAMPLE-Pro'!D43:KQ43)","v":0},{"$f":"SUMIF('EXAMPLE-Pro'!D7:KQ7,106, 'EXAMPLE-Pro'!D44:KQ44)","v":0},{"$f":"SUMIF('EXAMPLE-Pro'!D7:KQ7,106, 'EXAMPLE-Pro'!D45:KQ45)","v":0},{"$f":"SUMIF('EXAMPLE-Pro'!D7:KQ7,106, 'EXAMPLE-Pro'!D46:KQ46)","v":0},{"$f":"SUMIF('EXAMPLE-Pro'!D7:KQ7,106, 'EXAMPLE-Pro'!D47:KQ47)","v":0},{"$f":"SUMIF('EXAMPLE-Pro'!D7:KQ7,106, 'EXAMPLE-Pro'!D48:KQ48)","v":0},{"$f":"SUMIF('EXAMPLE-Pro'!D7:KQ7,106, 'EXAMPLE-Pro'!D49:KQ49)","v":0}]
[null,107,{"$f":"SUMIF('EXAMPLE-Pro'!D7:KQ7,107, 'EXAMPLE-Pro'!D15:KQ15)","v":0},"FU",{"$f":"SUMIF('EXAMPLE-Pro'!D7:KQ7,107, 'EXAMPLE-Pro'!D38:KQ38)","v":0},{"$f":"SUMIF('EXAMPLE-Pro'!D7:KQ7,107, 'EXAMPLE-Pro'!D39:KQ39)","v":0},{"$f":"SUMIF('EXAMPLE-Pro'!D7:KQ7,107, 'EXAMPLE-Pro'!D40:KQ40)","v":0},{"$f":"SUMIF('EXAMPLE-Pro'!D7:KQ7,107, 'EXAMPLE-Pro'!D41:KQ41)","v":0},{"$f":"SUMIF('EXAMPLE-Pro'!D7:KQ7,107, 'EXAMPLE-Pro'!D42:KQ42)","v":0},{"$f":"SUMIF('EXAMPLE-Pro'!D7:KQ7,107, 'EXAMPLE-Pro'!D43:KQ43)","v":0},{"$f":"SUMIF('EXAMPLE-Pro'!D7:KQ7,107, 'EXAMPLE-Pro'!D44:KQ44)","v":0},{"$f":"SUMIF('EXAMPLE-Pro'!D7:KQ7,107, 'EXAMPLE-Pro'!D45:KQ45)","v":0},{"$f":"SUMIF('EXAMPLE-Pro'!D7:KQ7,107, 'EXAMPLE-Pro'!D46:KQ46)","v":0},{"$f":"SUMIF('EXAMPLE-Pro'!D7:KQ7,107, 'EXAMPLE-Pro'!D47:KQ47)","v":0},{"$f":"SUMIF('EXAMPLE-Pro'!D7:KQ7,107, 'EXAMPLE-Pro'!D48:KQ48)","v":0},{"$f":"SUMIF('EXAMPLE-Pro'!D7:KQ7,107, 'EXAMPLE-Pro'!D49:KQ49)","v":0}]
[null,108,{"$f":"SUMIF('EXAMPLE-Pro'!D7:KQ7,108, 'EXAMPLE-Pro'!D15:KQ15)","v":0},"FU",{"$f":"SUMIF('EXAMPLE-Pro'!D7:KQ7,108, 'EXAMPLE-Pro'!D38:KQ38)","v":0},{"$f":"SUMIF('EXAMPLE-Pro'!D7:KQ7,108, 'EXAMPLE-Pro'!D39:KQ39)","v":0},{"$f":"SUMIF('EXAMPLE-Pro'!D7:KQ7,108, 'EXAMPLE-Pro'!D40:KQ40)","v":0},{"$f":"SUMIF('EXAMPLE-Pro'!D7:KQ7,108, 'EXAMPLE-Pro'!D41:KQ41)","v":0},{"$f":"SUMIF('EXAMPLE-Pro'!D7:KQ7,108, 'EXAMPLE-Pro'!D42:KQ42)","v":0},{"$f":"SUMIF('EXAMPLE-Pro'!D7:KQ7,108, 'EXAMPLE-Pro'!D43:KQ43)","v":0},{"$f":"SUMIF('EXAMPLE-Pro'!D7:KQ7,108, 'EXAMPLE-Pro'!D44:KQ44)","v":0},{"$f":"SUMIF('EXAMPLE-Pro'!D7:KQ7,108, 'EXAMPLE-Pro'!D45:KQ45)","v":0},{"$f":"SUMIF('EXAMPLE-Pro'!D7:KQ7,108, 'EXAMPLE-Pro'!D46:KQ46)","v":0},{"$f":"SUMIF('EXAMPLE-Pro'!D7:KQ7,108, 'EXAMPLE-Pro'!D47:KQ47)","v":0},{"$f":"SUMIF('EXAMPLE-Pro'!D7:KQ7,108, 'EXAMPLE-Pro'!D48:KQ48)","v":0},{"$f":"SUMIF('EXAMPLE-Pro'!D7:KQ7,108, 'EXAMPLE-Pro'!D49:KQ49)","v":0}]
[null,109]
[null,110]
[null,111]
[null,112]
[null,113]
[null,114]
[null,115]
[null,116]
[null,117]
[null,118]
[null,119]
[null,120]
[null,121]
[null,122]
[null,123]
[null,124]
[null,125]
[null,126]
[null,127]
[null,128]
[null,129]
[null,130]
[null,131]
[null,132]
[null,133]
[null,134]
[null,135]
[null,136]
[null,137]
[null,138]
[null,139]
[null,140]
[null,141]
[null,142]
[null,143]
[null,144]
[null,145]
[null,146]
[null,147]
[null,148]
[null,149]
[null,150]
[null,151]
[null,152]
[null,153]
[null,154]
[null,155]
[null,156]
[null,157]
[null,158]
[null,159]
[null,160]
[null,161]
[null,162]
[null,163]
[null,164]
[null,165]
[null,166]
[null,167]
[null,168]
[null,169]
[null,170]
[null,171]
[null,172]
[null,173]
[null,174]
[null,175]
[null,176]
[null,177]
[null,178]
[null,179]
[null,180]
[null,181]
[null,182]
[null,183]
[null,184]
[null,185]
[null,186]
[null,187]
[null,188]
[null,189]
[null,190]
[null,191]
[null,192]
[null,193]
[null,194]
[null,195]
[null,196]
[null,197]
[null,198]
[null,199]
[null,200]
[null,201]
[null,202]
[null,203]
[null,204]
[null,205]
[null,206]
[null,207]
[null,208]
[null,209]
[null,210]
[null,211]
[null,212]
[null,213]
[null,214]
[null,215]
[null,216]
[null,217]
[null,218]
[null,219]
[null,220]
[null,221]
[null,222]
[null,223]
[null,224]
[null,225]
[null,226]
[null,227]
[null,228]
[null,229]
[null,230]
[null,231]
[null,232]
[null,233]
[null,234]
[null,235]
[null,236]
[null,237]
[null,238]
[null,239]
[null,240]
[null,241]
[null,242]
[null,243]
[null,244]
[null,245]
[null,246]
[null,247]
[null,248]
[null,249]
[null,250]
[null,251]
[null,252]
[null,253]
[null,254]
[null,255]
[null,256]
[null,257]
[null,258]
[null,259]
[null,260]
[null,261]
[null,262]
[null,263]
[null,264]
[null,265]
[null,266]
[null,267]
[null,268]
[null,269]
[null,270]
[null,271]
[null,272]
[null,273]
[null,274]
[null,275]
[null,276]
[null,277]
[null,278]
[null,279]
[null,280]
[null,281]
[null,282]
[null,283]
[null,284]
[null,285]
[null,286]
[null,287]
[null,288]
[null,289]
[null,290]
[null,291]
[null,292]
[null,293]
[null,294]
[null,295]
[null,296]
[null,297]
[null,298]
[null,299]
[null,300]

{"sheet":"EXAMPLE-Pro","index":9,"n_rows":100,"n_cols":303,"rows_kept":100,"cut":false,"hidden":true,"merged":[[1,1,1,4],[2,0,2,5]]}
[]
[null,"Protocol Schedule"]
["Please read this help guide to complete the sheet correctly",null,null,null,null,null,"F/U start date:",{"$f":"IFERROR(INDEX(D18:DS18,MATCH(\"F/U start\",D16:DS16)),H4)","v":"2016-04-11"}]
[null,null,null,null,null,null,"Rec start date:","2016-04-04"]
[null,"Visit Number","Screening",1,2,3,4,5,6,7,8,9,10,11,12,13,14,15,16,17,18,19,20,21,22,23,24,25,26,27,28,29,30,31,32,33,34,35,36,37,38,39,40,41,42,43,44,45,46,47,48,49,50,51,52,53,54,55,56,57,58,59,60,61,62,63,64,65,66,67,68,69,70,71,72,73,74,75,76,77,78,79,80,81,82,83,84,85,86,87,88,89,90,91,92,93,94,95,96,97,98,99,100,101,102,103,104,105,106,107,108,109,110,111,112,113,114,115,116,117,118,119,120,121,122,123,124,125,126,127,128,129,130,131,132,133,134,135,136,137,138,139,140,141,142,143,144,145,146,147,148,149,150,151,152,153,154,155,156,157,158,159,160,161,162,163,164,165,166,167,168,169,170,171,172,173,174,175,176,177,178,179,180,181,182,183,184,185,186,187,188,189,190,191,192,193,194,195,196,197,198,199,200,201,202,203,204,205,206,207,208,209,210,211,212,213,214,215,216,217,218,219,220,221,222,223,224,225,226,227,228,229,230,231,232,233,234,235,236,237,238,239,240,241,242,243,244,245,246,247,248,249,250,251,252,253,254,255,256,257,258,259,260,261,262,263,264,265,266,267,268,269,270,271,272,273,274,275,276,277,278,279,280,281,282,283,284,285,286,287,288,289,290,291,292,293,294,295,296,297,298,299,300]
["Enter in hrs & mins, e.g. 2 hrs as 2:00, 15 mins as 0:15","Visit Duration for Below Staff Grade",1.0416666666666666E-2,8.3333333333333329E-2,1.0416666666666666E-2,1.0416666666666666E-2]
["Enter 1 number","Week No. Start","N/A",1,2,54]
[null,"Staff Grade",4,6,6,5]
[]
["Enter in hrs & mins, e.g. 2 hrs as 2:00, 15 mins as 0:15","Visit Duration for Below Staff Grade"]
[null,"Staff Grade"]
[]
["Enter in hrs & mins, e.g. 2 hrs as 2:00, 15 mins as 0:15","Visit Duration for Below Staff Grade"]
[null,"Staff Grade"]
[null,"TOTAL Duration",{"$f":"SUM(C6+C10+C13)","v":1.0416666666666666E-2},{"$f":"SUM(D6+D10+D13)","v":8.3333333333333329E-2},{"$f":"SUM(E6+E10+E13)","v":1.0416666666666666E-2},1.0416666666666666E-2,0,0,0,0,0,0,0,0,0,0,0,0,0,0,0,0,0,0,0,0,0,0,0,0,0,0,0,0,0,0,0,0,0,0,0,0,0,0,0,0,0,0,0,0,0,0,0,0,0,0,0,0,0,0,0,0,0,0,0,0,0,0,{"$f":"SUM(BQ6+BQ10+BQ13)","v":0},0,0,0,0,0,0,0,0,0,0,0,0,0,0,0,0,0,0,0,0,0,0,0,0,0,0,0,0,0,0,0,0,0,0,0,0,0,0,0,0,0,0,0,0,0,0,0,0,0,0,0,0,0,0,0,0,0,0,0,0,0,0,0,{"$f":"SUM(EC6+EC10+EC13)","v":0},0,0,0,0,0,0,0,0,0,0,0,0,0,0,0,0,0,0,0,0,0,0,0,0,0,0,0,0,0,0,0,0,0,0,0,0,0,0,0,0,0,0,0,0,0,0,0,0,0,0,0,0,0,0,0,0,0,0,0,0,0,0,0,{"$f":"SUM(GO6+GO10+GO13)","v":0},0,0,0,0,0,0,0,0,0,0,0,0,0,0,0,0,0,0,0,0,0,0,0,0,0,0,0,0,0,0,0,0,0,0,0,0,0,0,0,0,0,0,0,0,0,0,0,0,0,0,0,0,0,0,0,0,0,0,0,0,0,0,0,{"$f":"SUM(JA6+JA10+JA13)","v":0},0,0,0,0,0,0,0,0,0,0,0,0,0,0,0,0,0,0,0,0,0,0,0,0,0,0,{"$f":"SUM(KB6+KB10+KB13)","v":0},{"$f":"SUM(KC6+KC10+KC13)","v":0},{"$f":"SUM(KD6+KD10+KD13)","v":0},{"$f":"SUM(KE6+KE10+KE13)","v":0},0,0,0,0,0,0,0,0,0,0,0,0]
[null,null,null,null,"F/U Start"]
[]
[null,null,null,{"$f":"IF(D7<>\"\",$H$4+(D7*7)-7,\"\")","v":"2016-04-04"},{"$f":"IF(E7<>\"\",$H$4+(E7*7)-7,\"\")","v":"2016-04-11"},{"$f":"IF(F7<>\"\",$H$4+(F7*7)-7,\"\")","v":"2017-04-10"},{"$f":"IF(G7<>\"\",$H$4+(G7*7)-7,\"\")","v":""},{"$f":"IF(H7<>\"\",$H$4+(H7*7)-7,\"\")","v":""},{"$f":"IF(I7<>\"\",$H$4+(I7*7)-7,\"\")","v":""},"","","","","","","","","","","","","","","","","","","","","","","","","","","","","","","","","","","","","","","","","","","","","","","","","","","","","","","","","","","","","","","",{"$f":"IF(BU7<>\"\",$H$4+(BU7*7)-7,\"\")","v":""},"","","","","","","","","","","","","","","","","","","","","","","","","","","","","","","","","","","","","","","","","","","","","","","","","",""]
[null,"Screen TOTAL",{"$f":"C14","v":0},null,null,null,null,null,{"$f":"IF(F19<>\"\",$H$4+(F19*7)-7,\"\")","v":""}]
[null,"Rec TOTAL",null,{"$f":"SUMIF(D16,\"<\"&$H$3,D14)","v":0},0,0,0,0,0,0,0,0,0,0,0,0,0,0,0,0,0,0,0,0,0,0,0,0,0,0,0,0,0,0,0,0,0,0,0,0,0,0,0,0,0,0,0,0,0,0,0,0,0,0,0,0,0,0,0,0,0,0,0,0,0,0,0,{"$f":"SUMIF(BP16,\"<\"&$H$3,BP14)","v":0},0,0,0,0,0,0,0,0,0,0,0,0,0,0,0,0,0,0,0,0,0,0,0,0,0,0,0,0,0,0,0,0,0,0,0,0,0,0,0,0,0,0,0,0,0,0,0,0,0,0,0,0,0,0,0,0,0,0,0,0,0,0,0,{"$f":"SUMIF(EB16,\"<\"&$H$3,EB14)","v":0},0,0,0,0,0,0,0,0,0,0,0,0,0,0,0,0,0,0,0,0,0,0,0,0,0,0,0,0,0,0,0,0,0,0,0,0,0,0,0,0,0,0,0,0,0,0,0,0,0,0,0,0,0,0,0,0,0,0,0,0,0,0,0,{"$f":"SUMIF(GN16,\"<\"&$H$3,GN14)","v":0},0,0,0,0,0,0,0,0,0,0,0,0,0,0,0,0,0,0,0,0,0,0,0,0,0,0,0,0,0,0,0,0,0,0,0,0,0,0,0,0,0,0,0,0,0,0,0,0,0,0,0,0,0,0,0,0,0,0,0,0,0,0,0,{"$f":"SUMIF(IZ16,\"<\"&$H$3,IZ14)","v":0},0,0,0,0,0,0,0,0,0,0,0,0,0,0,0,0,0,0,0,0,0,0,0,0,0,0,0,0,0,0,0,0,0,0,0,0,0,0,0,0,0,0,0]
[null,"F/U TOTAL",null,{"$f":"SUMIF(D16,\">\"&$H$3,D14)","v":0},{"$f":"SUMIF(E16,\">\"&$H$3,E14)","v":0},0,0,0,0,0,0,0,0,0,0,0,0,0,0,0,0,0,0,0,0,0,0,0,0,0,0,0,0,0,0,0,0,0,0,0,0,0,0,0,0,0,0,0,0,0,0,0,0,0,0,0,0,0,0,0,0,0,0,0,0,0,0,0,{"$f":"SUMIF(BQ16,\">\"&$H$3,BQ14)","v":0},0,0,0,0,0,0,0,0,0,0,0,0,0,0,0,0,0,0,0,0,0,0,0,0,0,0,0,0,0,0,0,0,0,0,0,0,0,0,0,0,0,0,0,0,0,0,0,0,0,0,0,0,0,0,0,0,0,0,0,0,0,0,0,{"$f":"SUMIF(EC16,\">\"&$H$3,EC14)","v":0},0,0,0,0,0,0,0,0,0,0,0,0,0,0,0,0,0,0,0,0,0,0,0,0,0,0,0,0,0,0,0,0,0,0,0,0,0,0,0,0,0,0,0,0,0,0,0,0,0,0,0,0,0,0,0,0,0,0,0,0,0,0,0,{"$f":"SUMIF(GO16,\">\"&$H$3,GO14)","v":0},0,0,0,0,0,0,0,0,0,0,0,0,0,0,0,0,0,0,0,0,0,0,0,0,0,0,0,0,0,0,0,0,0,0,0,0,0,0,0,0,0,0,0,0,0,0,0,0,0,0,0,0,0,0,0,0,0,0,0,0,0,0,0,{"$f":"SUMIF(JA16,\">\"&$H$3,JA14)","v":0},0,0,0,0,0,0,0,0,0,0,0,0,0,0,0,0,0,0,0,0,0,0,0,0,0,0,0,0,0,0,0,0,0,0,0,0,0,0,0,0,0,0]
[]
["Grade Count","Staff grade Screen totals"]
[{"$f":"COUNTIFS($C$8:$KQ$8,\"1\")+COUNTIFS($C$11:$KQ$11,\"1\")+COUNTIFS($C$14:$KQ$14,\"1\")","v":0},1,{"$f":"SUMIFS(C$6,C$8,\"1\")+SUMIFS(C$10,C$11,\"1\")+SUMIFS(C$13,C$14,\"1\")","v":0}]
[{"$f":"COUNTIFS($C$8:$KQ$8,\"2\")+COUNTIFS($C$11:$KQ$11,\"2\")+COUNTIFS($C$14:$KQ$14,\"2\")","v":0},2,{"$f":"SUMIFS(C$6,C$8,\"2\")+SUMIFS(C$10,C$11,\"2\")+SUMIFS(C$13,C$14,\"2\")","v":0}]
[{"$f":"COUNTIFS($C$8:$KQ$8,\"3\")+COUNTIFS($C$11:$KQ$11,\"3\")+COUNTIFS($C$14:$KQ$14,\"3\")","v":0},3,{"$f":"SUMIFS(C$6,C$8,\"3\")+SUMIFS(C$10,C$11,\"3\")+SUMIFS(C$13,C$14,\"3\")","v":0}]
[{"$f":"COUNTIFS($C$8:$KQ$8,\"4\")+COUNTIFS($C$11:$KQ$11,\"4\")+COUNTIFS($C$14:$KQ$14,\"4\")","v":1},4,{"$f":"SUMIFS(C$6,C$8,\"4\")+SUMIFS(C$10,C$11,\"4\")+SUMIFS(C$13,C$14,\"4\")","v":1.0416666666666666E-2}]
[{"$f":"COUNTIFS($C$8:$KQ$8,\"5\")+COUNTIFS($C$11:$KQ$11,\"5\")+COUNTIFS($C$14:$KQ$14,\"5\")","v":1},5,{"$f":"SUMIFS(C$6,C$8,5)+SUMIFS(C$10,C$11,5)+SUMIFS(C$13,C$14,5)","v":0}]
[{"$f":"COUNTIFS($C$8:$KQ$8,\"6\")+COUNTIFS($C$11:$KQ$11,\"6\")+COUNTIFS($C$14:$KQ$14,\"6\")","v":2},6,{"$f":"SUMIFS(C$6,C$8,\"6\")+SUMIFS(C$10,C$11,\"6\")+SUMIFS(C$13,C$14,\"6\")","v":0}]
[{"$f":"COUNTIFS($C$8:$KQ$8,\"7\")+COUNTIFS($C$11:$KQ$11,\"7\")+COUNTIFS($C$14:$KQ$14,\"7\")","v":0},7,{"$f":"SUMIFS(C$6,C$8,\"7\")+SUMIFS(C$10,C$11,\"7\")+SUMIFS(C$13,C$14,\"7\")","v":0}]
[{"$f":"COUNTIFS($C$8:$KQ$8,\"8a\")+COUNTIFS($C$11:$KQ$11,\"8a\")+COUNTIFS($C$14:$KQ$14,\"8a\")","v":0},"8a",{"$f":"SUMIFS(C$6,C$8,\"8a\")+SUMIFS(C$10,C$11,\"8a\")+SUMIFS(C$13,C$14,\"8a\")","v":0}]
[{"$f":"COUNTIFS($C$8:$KQ$8,\"8b\")+COUNTIFS($C$11:$KQ$11,\"8b\")+COUNTIFS($C$14:$KQ$14,\"8b\")","v":0},"8b",{"$f":"SUMIFS(C$6,C$8,\"8b\")+SUMIFS(C$10,C$11,\"8b\")+SUMIFS(C$13,C$14,\"8b\")","v":0}]
[{"$f":"COUNTIFS($C$8:$KQ$8,\"8c\")+COUNTIFS($C$11:$KQ$11,\"8c\")+COUNTIFS($C$14:$KQ$14,\"8c\")","v":0},"8c",{"$f":"SUMIFS(C$6,C$8,\"8c\")+SUMIFS(C$10,C$11,\"8c\")+SUMIFS(C$13,C$14,\"8c\")","v":0}]
[{"$f":"COUNTIFS($C$8:$KQ$8,\"8d\")+COUNTIFS($C$11:$KQ$11,\"8d\")+COUNTIFS($C$14:$KQ$14,\"8d\")","v":0},"8d",{"$f":"SUMIFS(C$6,C$8,\"8d\")+SUMIFS(C$10,C$11,\"8d\")+SUMIFS(C$13,C$14,\"8d\")","v":0}]
[{"$f":"COUNTIFS($C$8:$KQ$8,\"9\")+COUNTIFS($C$11:$KQ$11,\"9\")+COUNTIFS($C$14:$KQ$14,\"9\")","v":0},9,{"$f":"SUMIFS(C$6,C$8,\"9\")+SUMIFS(C$10,C$11,\"9\")+SUMIFS(C$13,C$14,\"9\")","v":0}]
[]
[null,"Staff grade totals",null,null,null,null,null,{"$f":"IF(E37<>\"\",$H$4+(E37*7)-7,\"\")","v":""}]
[null,1,null,{"$f":"SUMIFS(D$6,D$8,\"1\")+SUMIFS(D$10,D$11,\"1\")+SUMIFS(D$13,D$14,\"1\")","v":0},{"$f":"SUMIFS(E$6,E$8,\"1\")+SUMIFS(E$10,E$11,\"1\")+SUMIFS(E$13,E$14,\"1\")","v":0},0,0,0,0,0,0,0,0,0,0,0,0,0,0,0,0,0,0,0,0,0,0,0,0,0,0,0,0,0,0,0,0,0,0,0,0,0,0,0,0,0,0,0,0,0,0,0,0,0,0,0,0,0,0,0,0,0,0,0,0,0,0,0,{"$f":"SUMIFS(BQ$6,BQ$8,\"1\")+SUMIFS(BQ$10,BQ$11,\"1\")+SUMIFS(BQ$13,BQ$14,\"1\")","v":0},0,0,0,0,0,0,0,0,0,0,0,0,0,0,0,0,0,0,0,0,0,0,0,0,0,0,0,0,0,0,0,0,0,0,0,0,0,0,0,0,0,0,0,0,0,0,0,0,0,0,0,0,0,0,0,0,0,0,0,0,0,0,0,{"$f":"SUMIFS(EC$6,EC$8,\"1\")+SUMIFS(EC$10,EC$11,\"1\")+SUMIFS(EC$13,EC$14,\"1\")","v":0},0,0,0,0,0,0,0,0,0,0,0,0,0,0,0,0,0,0,0,0,0,0,0,0,0,0,0,0,0,0,0,0,0,0,0,0,0,0,0,0,0,0,0,0,0,0,0,0,0,0,0,0,0,0,0,0,0,0,0,0,0,0,0,{"$f":"SUMIFS(GO$6,GO$8,\"1\")+SUMIFS(GO$10,GO$11,\"1\")+SUMIFS(GO$13,GO$14,\"1\")","v":0},0,0,0,0,0,0,0,0,0,0,0,0,0,0,0,0,0,0,0,0,0,0,0,0,0,0,0,0,0,0,0,0,0,0,0,0,0,0,0,0,0,0,0,0,0,0,0,0,0,0,0,0,0,0,0,0,0,0,0,0,0,0,0,{"$f":"SUMIFS(JA$6,JA$8,\"1\")+SUMIFS(JA$10,JA$11,\"1\")+SUMIFS(JA$13,JA$14,\"1\")","v":0},0,0,0,0,0,0,0,0,0,0,0,0,0,0,0,0,0,0,0,0,0,0,0,0,0,0,0,0,0,0,0,0,0,0,0,0,0,0,0,0,0,0]
[null,2,null,{"$f":"SUMIFS(D$6,D$8,\"2\")+SUMIFS(D$10,D$11,\"2\")+SUMIFS(D$13,D$14,\"2\")","v":0},{"$f":"SUMIFS(E$6,E$8,\"2\")+SUMIFS(E$10,E$11,\"2\")+SUMIFS(E$13,E$14,\"2\")","v":0},0,0,0,0,0,0,0,0,0,0,0,0,0,0,0,0,0,0,0,0,0,0,0,0,0,0,0,0,0,0,0,0,0,0,0,0,0,0,0,0,0,0,0,0,0,0,0,0,0,0,0,0,0,0,0,0,0,0,0,0,0,0,0,{"$f":"SUMIFS(BQ$6,BQ$8,\"2\")+SUMIFS(BQ$10,BQ$11,\"2\")+SUMIFS(BQ$13,BQ$14,\"2\")","v":0},0,0,0,0,0,0,0,0,0,0,0,0,0,0,0,0,0,0,0,0,0,0,0,0,0,0,0,0,0,0,0,0,0,0,0,0,0,0,0,0,0,0,0,0,0,0,0,0,0,0,0,0,0,0,0,0,0,0,0,0,0,0,0,{"$f":"SUMIFS(EC$6,EC$8,\"2\")+SUMIFS(EC$10,EC$11,\"2\")+SUMIFS(EC$13,EC$14,\"2\")","v":0},0,0,0,0,0,0,0,0,0,0,0,0,0,0,0,0,0,0,0,0,0,0,0,0,0,0,0,0,0,0,0,0,0,0,0,0,0,0,0,0,0,0,0,0,0,0,0,0,0,0,0,0,0,0,0,0,0,0,0,0,0,0,0,{"$f":"SUMIFS(GO$6,GO$8,\"2\")+SUMIFS(GO$10,GO$11,\"2\")+SUMIFS(GO$13,GO$14,\"2\")","v":0},0,0,0,0,0,0,0,0,0,0,0,0,0,0,0,0,0,0,0,0,0,0,0,0,0,0,0,0,0,0,0,0,0,0,0,0,0,0,0,0,0,0,0,0,0,0,0,0,0,0,0,0,0,0,0,0,0,0,0,0,0,0,0,{"$f":"SUMIFS(JA$6,JA$8,\"2\")+SUMIFS(JA$10,JA$11,\"2\")+SUMIFS(JA$13,JA$14,\"2\")","v":0},0,0,0,0,0,0,0,0,0,0,0,0,0,0,0,0,0,0,0,0,0,0,0,0,0,0,0,0,0,0,0,0,0,0,0,0,0,0,0,0,0,0]
[null,3,null,{"$f":"SUMIFS(D$6,D$8,\"3\")+SUMIFS(D$10,D$11,\"3\")+SUMIFS(D$13,D$14,\"3\")","v":0},{"$f":"SUMIFS(E$6,E$8,\"3\")+SUMIFS(E$10,E$11,\"3\")+SUMIFS(E$13,E$14,\"3\")","v":0},0,0,0,0,0,0,0,0,0,0,0,0,0,0,0,0,0,0,0,0,0,0,0,0,0,0,0,0,0,0,0,0,0,0,0,0,0,0,0,0,0,0,0,0,0,0,0,0,0,0,0,0,0,0,0,0,0,0,0,0,0,0,0,{"$f":"SUMIFS(BQ$6,BQ$8,\"3\")+SUMIFS(BQ$10,BQ$11,\"3\")+SUMIFS(BQ$13,BQ$14,\"3\")","v":0},0,0,0,0,0,0,0,0,0,0,0,0,0,0,0,0,0,0,0,0,0,0,0,0,0,0,0,0,0,0,0,0,0,0,0,0,0,0,0,0,0,0,0,0,0,0,0,0,0,0,0,0,0,0,0,0,0,0,0,0,0,0,0,{"$f":"SUMIFS(EC$6,EC$8,\"3\")+SUMIFS(EC$10,EC$11,\"3\")+SUMIFS(EC$13,EC$14,\"3\")","v":0},0,0,0,0,0,0,0,0,0,0,0,0,0,0,0,0,0,0,0,0,0,0,0,0,0,0,0,0,0,0,0,0,0,0,0,0,0,0,0,0,0,0,0,0,0,0,0,0,0,0,0,0,0,0,0,0,0,0,0,0,0,0,0,{"$f":"SUMIFS(GO$6,GO$8,\"3\")+SUMIFS(GO$10,GO$11,\"3\")+SUMIFS(GO$13,GO$14,\"3\")","v":0},0,0,0,0,0,0,0,0,0,0,0,0,0,0,0,0,0,0,0,0,0,0,0,0,0,0,0,0,0,0,0,0,0,0,0,0,0,0,0,0,0,0,0,0,0,0,0,0,0,0,0,0,0,0,0,0,0,0,0,0,0,0,0,{"$f":"SUMIFS(JA$6,JA$8,\"3\")+SUMIFS(JA$10,JA$11,\"3\")+SUMIFS(JA$13,JA$14,\"3\")","v":0},0,0,0,0,0,0,0,0,0,0,0,0,0,0,0,0,0,0,0,0,0,0,0,0,0,0,0,0,0,0,0,0,0,0,0,0,0,0,0,0,0,0]
[null,4,null,{"$f":"SUMIFS(D$6,D$8,\"4\")+SUMIFS(D$10,D$11,\"4\")+SUMIFS(D$13,D$14,\"4\")","v":0},{"$f":"SUMIFS(E$6,E$8,\"4\")+SUMIFS(E$10,E$11,\"4\")+SUMIFS(E$13,E$14,\"4\")","v":0},0,0,0,0,0,0,0,0,0,0,0,0,0,0,0,0,0,0,0,0,0,0,0,0,0,0,0,0,0,0,0,0,0,0,0,0,0,0,0,0,0,0,0,0,0,0,0,0,0,0,0,0,0,0,0,0,0,0,0,0,0,0,0,{"$f":"SUMIFS(BQ$6,BQ$8,\"4\")+SUMIFS(BQ$10,BQ$11,\"4\")+SUMIFS(BQ$13,BQ$14,\"4\")","v":0},0,0,0,0,0,0,0,0,0,0,0,0,0,0,0,0,0,0,0,0,0,0,0,0,0,0,0,0,0,0,0,0,0,0,0,0,0,0,0,0,0,0,0,0,0,0,0,0,0,0,0,0,0,0,0,0,0,0,0,0,0,0,0,{"$f":"SUMIFS(EC$6,EC$8,\"4\")+SUMIFS(EC$10,EC$11,\"4\")+SUMIFS(EC$13,EC$14,\"4\")","v":0},0,0,0,0,0,0,0,0,0,0,0,0,0,0,0,0,0,0,0,0,0,0,0,0,0,0,0,0,0,0,0,0,0,0,0,0,0,0,0,0,0,0,0,0,0,0,0,0,0,0,0,0,0,0,0,0,0,0,0,0,0,0,0,{"$f":"SUMIFS(GO$6,GO$8,\"4\")+SUMIFS(GO$10,GO$11,\"4\")+SUMIFS(GO$13,GO$14,\"4\")","v":0},0,0,0,0,0,0,0,0,0,0,0,0,0,0,0,0,0,0,0,0,0,0,0,0,0,0,0,0,0,0,0,0,0,0,0,0,0,0,0,0,0,0,0,0,0,0,0,0,0,0,0,0,0,0,0,0,0,0,0,0,0,0,0,{"$f":"SUMIFS(JA$6,JA$8,\"4\")+SUMIFS(JA$10,JA$11,\"4\")+SUMIFS(JA$13,JA$14,\"4\")","v":0},0,0,0,0,0,0,0,0,0,0,0,0,0,0,0,0,0,0,0,0,0,0,0,0,0,0,0,0,0,0,0,0,0,0,0,0,0,0,0,0,0,0]
[null,5,null,{"$f":"SUMIFS(D$6,D$8,\"5\")+SUMIFS(D$10,D$11,\"5\")+SUMIFS(D$13,D$14,\"5\")","v":0},{"$f":"SUMIFS(E$6,E$8,\"5\")+SUMIFS(E$10,E$11,\"5\")+SUMIFS(E$13,E$14,\"5\")","v":0},1.0416666666666666E-2,0,0,0,0,0,0,0,0,0,0,0,0,0,0,0,0,0,0,0,0,0,0,0,0,0,0,0,0,0,0,0,0,0,0,0,0,0,0,0,0,0,0,0,0,0,0,0,0,0,0,0,0,0,0,0,0,0,0,0,0,0,0,{"$f":"SUMIFS(BQ$6,BQ$8,\"5\")+SUMIFS(BQ$10,BQ$11,\"5\")+SUMIFS(BQ$13,BQ$14,\"5\")","v":0},0,0,0,0,0,0,0,0,0,0,0,0,0,0,0,0,0,0,0,0,0,0,0,0,0,0,0,0,0,0,0,0,0,0,0,0,0,0,0,0,0,0,0,0,0,0,0,0,0,0,0,0,0,0,0,0,0,0,0,0,0,0,0,{"$f":"SUMIFS(EC$6,EC$8,\"5\")+SUMIFS(EC$10,EC$11,\"5\")+SUMIFS(EC$13,EC$14,\"5\")","v":0},0,0,0,0,0,0,0,0,0,0,0,0,0,0,0,0,0,0,0,0,0,0,0,0,0,0,0,0,0,0,0,0,0,0,0,0,0,0,0,0,0,0,0,0,0,0,0,0,0,0,0,0,0,0,0,0,0,0,0,0,0,0,0,{"$f":"SUMIFS(GO$6,GO$8,\"5\")+SUMIFS(GO$10,GO$11,\"5\")+SUMIFS(GO$13,GO$14,\"5\")","v":0},0,0,0,0,0,0,0,0,0,0,0,0,0,0,0,0,0,0,0,0,0,0,0,0,0,0,0,0,0,0,0,0,0,0,0,0,0,0,0,0,0,0,0,0,0,0,0,0,0,0,0,0,0,0,0,0,0,0,0,0,0,0,0,{"$f":"SUMIFS(JA$6,JA$8,\"5\")+SUMIFS(JA$10,JA$11,\"5\")+SUMIFS(JA$13,JA$14,\"5\")","v":0},0,0,0,0,0,0,0,0,0,0,0,0,0,0,0,0,0,0,0,0,0,0,0,0,0,0,0,0,0,0,0,0,0,0,0,0,0,0,0,0,0,0]
[null,6,null,{"$f":"SUMIFS(D$6,D$8,\"6\")+SUMIFS(D$10,D$11,\"6\")+SUMIFS(D$13,D$14,\"6\")","v":8.3333333333333329E-2},{"$f":"SUMIFS(E$6,E$8,\"6\")+SUMIFS(E$10,E$11,\"6\")+SUMIFS(E$13,E$14,\"6\")","v":1.0416666666666666E-2},0,0,0,0,0,0,0,0,0,0,0,0,0,0,0,0,0,0,0,0,0,0,0,0,0,0,0,0,0,0,0,0,0,0,0,0,0,0,0,0,0,0,0,0,0,0,0,0,0,0,0,0,0,0,0,0,0,0,0,0,0,0,0,{"$f":"SUMIFS(BQ$6,BQ$8,\"6\")+SUMIFS(BQ$10,BQ$11,\"6\")+SUMIFS(BQ$13,BQ$14,\"6\")","v":0},0,0,0,0,0,0,0,0,0,0,0,0,0,0,0,0,0,0,0,0,0,0,0,0,0,0,0,0,0,0,0,0,0,0,0,0,0,0,0,0,0,0,0,0,0,0,0,0,0,0,0,0,0,0,0,0,0,0,0,0,0,0,0,{"$f":"SUMIFS(EC$6,EC$8,\"6\")+SUMIFS(EC$10,EC$11,\"6\")+SUMIFS(EC$13,EC$14,\"6\")","v":0},0,0,0,0,0,0,0,0,0,0,0,0,0,0,0,0,0,0,0,0,0,0,0,0,0,0,0,0,0,0,0,0,0,0,0,0,0,0,0,0,0,0,0,0,0,0,0,0,0,0,0,0,0,0,0,0,0,0,0,0,0,0,0,{"$f":"SUMIFS(GO$6,GO$8,\"6\")+SUMIFS(GO$10,GO$11,\"6\")+SUMIFS(GO$13,GO$14,\"6\")","v":0},0,0,0,0,0,0,0,0,0,0,0,0,0,0,0,0,0,0,0,0,0,0,0,0,0,0,0,0,0,0,0,0,0,0,0,0,0,0,0,0,0,0,0,0,0,0,0,0,0,0,0,0,0,0,0,0,0,0,0,0,0,0,0,{"$f":"SUMIFS(JA$6,JA$8,\"6\")+SUMIFS(JA$10,JA$11,\"6\")+SUMIFS(JA$13,JA$14,\"6\")","v":0},0,0,0,0,0,0,0,0,0,0,0,0,0,0,0,0,0,0,0,0,0,0,0,0,0,0,0,0,0,0,0,0,0,0,0,0,0,0,0,0,0,0]
[null,7,null,{"$f":"SUMIFS(D$6,D$8,\"7\")+SUMIFS(D$10,D$11,\"7\")+SUMIFS(D$13,D$14,\"7\")","v":0},{"$f":"SUMIFS(E$6,E$8,\"7\")+SUMIFS(E$10,E$11,\"7\")+SUMIFS(E$13,E$14,\"7\")","v":0},0,0,0,0,0,0,0,0,0,0,0,0,0,0,0,0,0,0,0,0,0,0,0,0,0,0,0,0,0,0,0,0,0,0,0,0,0,0,0,0,0,0,0,0,0,0,0,0,0,0,0,0,0,0,0,0,0,0,0,0,0,0,0,{"$f":"SUMIFS(BQ$6,BQ$8,\"7\")+SUMIFS(BQ$10,BQ$11,\"7\")+SUMIFS(BQ$13,BQ$14,\"7\")","v":0},0,0,0,0,0,0,0,0,0,0,0,0,0,0,0,0,0,0,0,0,0,0,0,0,0,0,0,0,0,0,0,0,0,0,0,0,0,0,0,0,0,0,0,0,0,0,0,0,0,0,0,0,0,0,0,0,0,0,0,0,0,0,0,{"$f":"SUMIFS(EC$6,EC$8,\"7\")+SUMIFS(EC$10,EC$11,\"7\")+SUMIFS(EC$13,EC$14,\"7\")","v":0},0,0,0,0,0,0,0,0,0,0,0,0,0,0,0,0,0,0,0,0,0,0,0,0,0,0,0,0,0,0,0,0,0,0,0,0,0,0,0,0,0,0,0,0,0,0,0,0,0,0,0,0,0,0,0,0,0,0,0,0,0,0,0,{"$f":"SUMIFS(GO$6,GO$8,\"7\")+SUMIFS(GO$10,GO$11,\"7\")+SUMIFS(GO$13,GO$14,\"7\")","v":0},0,0,0,0,0,0,0,0,0,0,0,0,0,0,0,0,0,0,0,0,0,0,0,0,0,0,0,0,0,0,0,0,0,0,0,0,0,0,0,0,0,0,0,0,0,0,0,0,0,0,0,0,0,0,0,0,0,0,0,0,0,0,0,{"$f":"SUMIFS(JA$6,JA$8,\"7\")+SUMIFS(JA$10,JA$11,\"7\")+SUMIFS(JA$13,JA$14,\"7\")","v":0},0,0,0,0,0,0,0,0,0,0,0,0,0,0,0,0,0,0,0,0,0,0,0,0,0,0,0,0,0,0,0,0,0,0,0,0,0,0,0,0,0,0]
[null,"8a",null,{"$f":"SUMIFS(D$6,D$8,\"8a\")+SUMIFS(D$10,D$11,\"8a\")+SUMIFS(D$13,D$14,\"8a\")","v":0},{"$f":"SUMIFS(E$6,E$8,\"8a\")+SUMIFS(E$10,E$11,\"8a\")+SUMIFS(E$13,E$14,\"8a\")","v":0},0,0,0,0,0,0,0,0,0,0,0,0,0,0,0,0,0,0,0,0,0,0,0,0,0,0,0,0,0,0,0,0,0,0,0,0,0,0,0,0,0,0,0,0,0,0,0,0,0,0,0,0,0,0,0,0,0,0,0,0,0,0,0,{"$f":"SUMIFS(BQ$6,BQ$8,\"8a\")+SUMIFS(BQ$10,BQ$11,\"8a\")+SUMIFS(BQ$13,BQ$14,\"8a\")","v":0},0,0,0,0,0,0,0,0,0,0,0,0,0,0,0,0,0,0,0,0,0,0,0,0,0,0,0,0,0,0,0,0,0,0,0,0,0,0,0,0,0,0,0,0,0,0,0,0,0,0,0,0,0,0,0,0,0,0,0,0,0,0,0,{"$f":"SUMIFS(EC$6,EC$8,\"8a\")+SUMIFS(EC$10,EC$11,\"8a\")+SUMIFS(EC$13,EC$14,\"8a\")","v":0},0,0,0,0,0,0,0,0,0,0,0,0,0,0,0,0,0,0,0,0,0,0,0,0,0,0,0,0,0,0,0,0,0,0,0,0,0,0,0,0,0,0,0,0,0,0,0,0,0,0,0,0,0,0,0,0,0,0,0,0,0,0,0,{"$f":"SUMIFS(GO$6,GO$8,\"8a\")+SUMIFS(GO$10,GO$11,\"8a\")+SUMIFS(GO$13,GO$14,\"8a\")","v":0},0,0,0,0,0,0,0,0,0,0,0,0,0,0,0,0,0,0,0,0,0,0,0,0,0,0,0,0,0,0,0,0,0,0,0,0,0,0,0,0,0,0,0,0,0,0,0,0,0,0,0,0,0,0,0,0,0,0,0,0,0,0,0,{"$f":"SUMIFS(JA$6,JA$8,\"8a\")+SUMIFS(JA$10,JA$11,\"8a\")+SUMIFS(JA$13,JA$14,\"8a\")","v":0},0,0,0,0,0,0,0,0,0,0,0,0,0,0,0,0,0,0,0,0,0,0,0,0,0,0,0,0,0,0,0,0,0,0,0,0,0,0,0,0,0,0]
[null,"8b",null,{"$f":"SUMIFS(D$6,D$8,\"8b\")+SUMIFS(D$10,D$11,\"8b\")+SUMIFS(D$13,D$14,\"8b\")","v":0},{"$f":"SUMIFS(E$6,E$8,\"8b\")+SUMIFS(E$10,E$11,\"8b\")+SUMIFS(E$13,E$14,\"8b\")","v":0},0,0,0,0,0,0,0,0,0,0,0,0,0,0,0,0,0,0,0,0,0,0,0,0,0,0,0,0,0,0,0,0,0,0,0,0,0,0,0,0,0,0,0,0,0,0,0,0,0,0,0,0,0,0,0,0,0,0,0,0,0,0,0,{"$f":"SUMIFS(BQ$6,BQ$8,\"8b\")+SUMIFS(BQ$10,BQ$11,\"8b\")+SUMIFS(BQ$13,BQ$14,\"8b\")","v":0},0,0,0,0,0,0,0,0,0,0,0,0,0,0,0,0,0,0,0,0,0,0,0,0,0,0,0,0,0,0,0,0,0,0,0,0,0,0,0,0,0,0,0,0,0,0,0,0,0,0,0,0,0,0,0,0,0,0,0,0,0,0,0,{"$f":"SUMIFS(EC$6,EC$8,\"8b\")+SUMIFS(EC$10,EC$11,\"8b\")+SUMIFS(EC$13,EC$14,\"8b\")","v":0},0,0,0,0,0,0,0,0,0,0,0,0,0,0,0,0,0,0,0,0,0,0,0,0,0,0,0,0,0,0,0,0,0,0,0,0,0,0,0,0,0,0,0,0,0,0,0,0,0,0,0,0,0,0,0,0,0,0,0,0,0,0,0,{"$f":"SUMIFS(GO$6,GO$8,\"8b\")+SUMIFS(GO$10,GO$11,\"8b\")+SUMIFS(GO$13,GO$14,\"8b\")","v":0},0,0,0,0,0,0,0,0,0,0,0,0,0,0,0,0,0,0,0,0,0,0,0,0,0,0,0,0,0,0,0,0,0,0,0,0,0,0,0,0,0,0,0,0,0,0,0,0,0,0,0,0,0,0,0,0,0,0,0,0,0,0,0,{"$f":"SUMIFS(JA$6,JA$8,\"8b\")+SUMIFS(JA$10,JA$11,\"8b\")+SUMIFS(JA$13,JA$14,\"8b\")","v":0},0,0,0,0,0,0,0,0,0,0,0,0,0,0,0,0,0,0,0,0,0,0,0,0,0,0,0,0,0,0,0,0,0,0,0,0,0,0,0,0,0,0]
[null,"8c",null,{"$f":"SUMIFS(D$6,D$8,\"8c\")+SUMIFS(D$10,D$11,\"8c\")+SUMIFS(D$13,D$14,\"8c\")","v":0},{"$f":"SUMIFS(E$6,E$8,\"8c\")+SUMIFS(E$10,E$11,\"8c\")+SUMIFS(E$13,E$14,\"8c\")","v":0},0,0,0,0,0,0,0,0,0,0,0,0,0,0,0,0,0,0,0,0,0,0,0,0,0,0,0,0,0,0,0,0,0,0,0,0,0,0,0,0,0,0,0,0,0,0,0,0,0,0,0,0,0,0,0,0,0,0,0,0,0,0,0,{"$f":"SUMIFS(BQ$6,BQ$8,\"8c\")+SUMIFS(BQ$10,BQ$11,\"8c\")+SUMIFS(BQ$13,BQ$14,\"8c\")","v":0},0,0,0,0,0,0,0,0,0,0,0,0,0,0,0,0,0,0,0,0,0,0,0,0,0,0,0,0,0,0,0,0,0,0,0,0,0,0,0,0,0,0,0,0,0,0,0,0,0,0,0,0,0,0,0,0,0,0,0,0,0,0,0,{"$f":"SUMIFS(EC$6,EC$8,\"8c\")+SUMIFS(EC$10,EC$11,\"8c\")+SUMIFS(EC$13,EC$14,\"8c\")","v":0},0,0,0,0,0,0,0,0,0,0,0,0,0,0,0,0,0,0,0,0,0,0,0,0,0,0,0,0,0,0,0,0,0,0,0,0,0,0,0,0,0,0,0,0,0,0,0,0,0,0,0,0,0,0,0,0,0,0,0,0,0,0,0,{"$f":"SUMIFS(GO$6,GO$8,\"8c\")+SUMIFS(GO$10,GO$11,\"8c\")+SUMIFS(GO$13,GO$14,\"8c\")","v":0},0,0,0,0,0,0,0,0,0,0,0,0,0,0,0,0,0,0,0,0,0,0,0,0,0,0,0,0,0,0,0,0,0,0,0,0,0,0,0,0,0,0,0,0,0,0,0,0,0,0,0,0,0,0,0,0,0,0,0,0,0,0,0,{"$f":"SUMIFS(JA$6,JA$8,\"8c\")+SUMIFS(JA$10,JA$11,\"8c\")+SUMIFS(JA$13,JA$14,\"8c\")","v":0},0,0,0,0,0,0,0,0,0,0,0,0,0,0,0,0,0,0,0,0,0,0,0,0,0,0,0,0,0,0,0,0,0,0,0,0,0,0,0,0,0,0]
[null,"8d",null,{"$f":"SUMIFS(D$6,D$8,\"8d\")+SUMIFS(D$10,D$11,\"8d\")+SUMIFS(D$13,D$14,\"8d\")","v":0},{"$f":"SUMIFS(E$6,E$8,\"8d\")+SUMIFS(E$10,E$11,\"8d\")+SUMIFS(E$13,E$14,\"8d\")","v":0},0,0,0,0,0,0,0,0,0,0,0,0,0,0,0,0,0,0,0,0,0,0,0,0,0,0,0,0,0,0,0,0,0,0,0,0,0,0,0,0,0,0,0,0,0,0,0,0,0,0,0,0,0,0,0,0,0,0,0,0,0,0,0,{"$f":"SUMIFS(BQ$6,BQ$8,\"8d\")+SUMIFS(BQ$10,BQ$11,\"8d\")+SUMIFS(BQ$13,BQ$14,\"8d\")","v":0},0,0,0,0,0,0,0,0,0,0,0,0,0,0,0,0,0,0,0,0,0,0,0,0,0,0,0,0,0,0,0,0,0,0,0,0,0,0,0,0,0,0,0,0,0,0,0,0,0,0,0,0,0,0,0,0,0,0,0,0,0,0,0,{"$f":"SUMIFS(EC$6,EC$8,\"8d\")+SUMIFS(EC$10,EC$11,\"8d\")+SUMIFS(EC$13,EC$14,\"8d\")","v":0},0,0,0,0,0,0,0,0,0,0,0,0,0,0,0,0,0,0,0,0,0,0,0,0,0,0,0,0,0,0,0,0,0,0,0,0,0,0,0,0,0,0,0,0,0,0,0,0,0,0,0,0,0,0,0,0,0,0,0,0,0,0,0,{"$f":"SUMIFS(GO$6,GO$8,\"8d\")+SUMIFS(GO$10,GO$11,\"8d\")+SUMIFS(GO$13,GO$14,\"8d\")","v":0},0,0,0,0,0,0,0,0,0,0,0,0,0,0,0,0,0,0,0,0,0,0,0,0,0,0,0,0,0,0,0,0,0,0,0,0,0,0,0,0,0,0,0,0,0,0,0,0,0,0,0,0,0,0,0,0,0,0,0,0,0,0,0,{"$f":"SUMIFS(JA$6,JA$8,\"8d\")+SUMIFS(JA$10,JA$11,\"8d\")+SUMIFS(JA$13,JA$14,\"8d\")","v":0},0,0,0,0,0,0,0,0,0,0,0,0,0,0,0,0,0,0,0,0,0,0,0,0,0,0,0,0,0,0,0,0,0,0,0,0,0,0,0,0,0,0]
[null,9,null,{"$f":"SUMIFS(D$6,D$8,\"9\")+SUMIFS(D$10,D$11,\"9\")+SUMIFS(D$13,D$14,\"9\")","v":0},{"$f":"SUMIFS(E$6,E$8,\"9\")+SUMIFS(E$10,E$11,\"9\")+SUMIFS(E$13,E$14,\"9\")","v":0},0,0,0,0,0,0,0,0,0,0,0,0,0,0,0,0,0,0,0,0,0,0,0,0,0,0,0,0,0,0,0,0,0,0,0,0,0,0,0,0,0,0,0,0,0,0,0,0,0,0,0,0,0,0,0,0,0,0,0,0,0,0,0,{"$f":"SUMIFS(BQ$6,BQ$8,\"9\")+SUMIFS(BQ$10,BQ$11,\"9\")+SUMIFS(BQ$13,BQ$14,\"9\")","v":0},0,0,0,0,0,0,0,0,0,0,0,0,0,0,0,0,0,0,0,0,0,0,0,0,0,0,0,0,0,0,0,0,0,0,0,0,0,0,0,0,0,0,0,0,0,0,0,0,0,0,0,0,0,0,0,0,0,0,0,0,0,0,0,{"$f":"SUMIFS(EC$6,EC$8,\"9\")+SUMIFS(EC$10,EC$11,\"9\")+SUMIFS(EC$13,EC$14,\"9\")","v":0},0,0,0,0,0,0,0,0,0,0,0,0,0,0,0,0,0,0,0,0,0,0,0,0,0,0,0,0,0,0,0,0,0,0,0,0,0,0,0,0,0,0,0,0,0,0,0,0,0,0,0,0,0,0,0,0,0,0,0,0,0,0,0,{"$f":"SUMIFS(GO$6,GO$8,\"9\")+SUMIFS(GO$10,GO$11,\"9\")+SUMIFS(GO$13,GO$14,\"9\")","v":0},0,0,0,0,0,0,0,0,0,0,0,0,0,0,0,0,0,0,0,0,0,0,0,0,0,0,0,0,0,0,0,0,0,0,0,0,0,0,0,0,0,0,0,0,0,0,0,0,0,0,0,0,0,0,0,0,0,0,0,0,0,0,0,{"$f":"SUMIFS(JA$6,JA$8,\"9\")+SUMIFS(JA$10,JA$11,\"9\")+SUMIFS(JA$13,JA$14,\"9\")","v":0},0,0,0,0,0,0,0,0,0,0,0,0,0,0,0,0,0,0,0,0,0,0,0,0,0,0,0,0,0,0,0,0,0,0,0,0,0,0,0,0,0,0]
[null,null,null,null,null,null,null,{"$f":"IF(E50<>\"\",$H$4+(E50*7)-7,\"\")","v":""}]
[null,null,null,null,null,null,null,{"$f":"IF(E51<>\"\",$H$4+(E51*7)-7,\"\")","v":""}]
[null,null,null,null,null,null,null,{"$f":"IF(E52<>\"\",$H$4+(E52*7)-7,\"\")","v":""}]
[null,null,null,null,null,null,null,""]
[null,null,null,null,null,null,null,""]
[null,null,null,null,null,null,null,""]
[null,null,null,null,null,null,null,""]
[null,null,null,null,null,null,null,""]
[null,null,null,null,null,null,null,""]
[null,null,null,null,null,null,null,""]
[null,null,null,null,null,null,null,""]
[null,null,null,null,null,null,null,""]
[null,null,null,null,null,null,null,""]
[null,null,null,null,null,null,null,""]
[null,null,null,null,null,null,null,""]
[null,null,null,null,null,null,null,""]
[null,null,null,null,null,null,null,""]
[null,null,null,null,null,null,null,""]
[null,null,null,null,null,null,null,""]
[null,null,null,null,null,null,null,""]
[null,null,null,null,null,null,null,""]
[null,null,null,null,null,null,null,""]
[null,null,null,null,null,null,null,""]
[null,null,null,null,null,null,null,""]
[null,null,null,null,null,null,null,""]
[null,null,null,null,null,null,null,""]
[null,null,null,null,null,null,null,""]
[null,null,null,null,null,null,null,""]
[null,null,null,null,null,null,null,""]
[null,null,null,null,null,null,null,""]
[null,null,null,null,null,null,null,""]
[null,null,null,null,null,null,null,""]
[null,null,null,null,null,null,null,""]
[null,null,null,null,null,null,null,""]
[null,null,null,null,null,null,null,""]
[null,null,null,null,null,null,null,""]
[null,null,null,null,null,null,null,""]
[null,null,null,null,null,null,null,""]
[null,null,null,null,null,null,null,""]
[null,null,null,null,null,null,null,""]
[null,null,null,null,null,null,null,""]
[null,null,null,null,null,null,null,""]
[null,null,null,null,null,null,null,""]
[null,null,null,null,null,null,null,""]
[null,null,null,null,null,null,null,""]
[null,null,null,null,null,null,null,""]
[null,null,null,null,null,null,null,""]
[null,null,null,null,null,null,null,""]
[null,null,null,null,null,null,null,""]
[null,null,null,null,null,null,null,""]
[null,null,null,null,null,null,null,""]